{"text_format":"1","workbook":"xlsx","n_sheets":12,"sheets":["Menu","CAD_AREA","PPRA","CRONOGRAMA","PCMSO","C-A","C-E","RC_ACID","RC_EXAM","GRAF_ACID","GRAF_EXAM","Instruções"],"not_rendered":{"charts":6,"images":14,"macros":1,"external_links":1,"defined_names":9,"comments":0,"pivot_tables":0},"unopened":[],"bounds":{"document_bytes":16777216,"sheet_cells":100000,"rows_first":2000,"rows_last":500,"rows_between":2000,"halvings":0,"cell_chars":16384,"cell_head_chars":4096},"cells_cut":0,"cells_raw":0,"read":"whole","date_system":"1900"}

{"sheet":"Menu","index":0,"n_rows":26,"n_cols":7,"rows_kept":26,"cut":false,"hidden":false,"merged":[[25,4,25,5],[25,6,25,14]]}
[]
[]
[]
[]
[]
[]
[]
[]
[]
[]
[]
[]
[]
[]
[]
[]
[]
[]
[]
[]
[]
[]
[]
[]
[]
[null,null,null,null,"Empresa:",null,"Empresa ABCDE"]

{"sheet":"CAD_AREA","index":1,"n_rows":114,"n_cols":86,"rows_kept":114,"cut":false,"hidden":false,"merged":[]}
[]
[]
[]
[]
[]
[]
[]
[]
[]
[]
[]
[null,"Áreas da Empresa","Meta de acidente mensal","desempate","Total","Biológico","Físico","Químico","Outro","perigo","área","funcionários da área",null,null,"acidentes","área","Ferida levemente","Ferida","Ferida Gravemente","Óbito","total","% total",null,"repet","area","desempate","exames","O exame não apontou complicações","O exame apontou complicações","Todas",null,null,null,null,null,null,null,null,null,null,null,null,null,null,null,null,null,null,null,null,null,null,"Cargos","Todos",null,null,null,null,null,null,null,null,null,null,null,null,null,null,null,null,null,null,null,null,null,null,null,null,null,"Colaboradores","Cargo","Área da Empresa",null,"desempate","O exame não apontou complicações","O exame apontou complicações"]
[{"$f":"SUM(D13:E13)","v":1.0000009999999999},"ADM",1,9.9999999999999995E-7,{"$f":"COUNTIFS(PPRA!$C$13:$C$614,CAD_AREA!B13)","v":1},{"$f":"COUNTIFS(PPRA!$C$13:$C$614,CAD_AREA!$B13,PPRA!$D$13:$D$614,CAD_AREA!F$12)","v":0},{"$f":"COUNTIFS(PPRA!$C$13:$C$614,CAD_AREA!$B13,PPRA!$D$13:$D$614,CAD_AREA!G$12)","v":1},{"$f":"COUNTIFS(PPRA!$C$13:$C$614,CAD_AREA!$B13,PPRA!$D$13:$D$614,CAD_AREA!H$12)","v":0},{"$f":"COUNTIFS(PPRA!$C$13:$C$614,CAD_AREA!$B13,PPRA!$D$13:$D$614,CAD_AREA!I$12)","v":0},{"$f":"SUMIFS(PPRA!$A$13:$A$614,PPRA!$C$13:$C$614,CAD_AREA!B13)","v":16.000001000000001},{"$f":"B13","v":"ADM"},{"$f":"COUNTIFS(CAD_AREA!$CD$13:$CD$113,CAD_AREA!$B$13:$B$113)","v":1},null,{"$f":"SUM(O13+D13)","v":9.9999999999999995E-7},{"$f":"COUNTIFS('C-A'!$E$13:$E$1013,CAD_AREA!$B$13:$B$1013)","v":0},{"$f":"B13","v":"ADM"},{"$f":"COUNTIFS('C-A'!$E$13:$E$1013,CAD_AREA!$P$13:$P$1013,'C-A'!$G$13:$G$1013,CAD_AREA!Q$12)","v":0},{"$f":"COUNTIFS('C-A'!$E$13:$E$1013,CAD_AREA!$P$13:$P$1013,'C-A'!$G$13:$G$1013,CAD_AREA!R$12)","v":0},{"$f":"COUNTIFS('C-A'!$E$13:$E$1013,CAD_AREA!$P$13:$P$1013,'C-A'!$G$13:$G$1013,CAD_AREA!S$12)","v":0},{"$f":"COUNTIFS('C-A'!$E$13:$E$1013,CAD_AREA!$P$13:$P$1013,'C-A'!$G$13:$G$1013,CAD_AREA!T$12)","v":0},{"$f":"SUM(Q13:T13)","v":0},{"$f":"U13/'C-A'!$P$13","v":0},null,{"$f":"SUM(Z13:AA13)","v":9.9999999999999995E-7},{"$f":"B13","v":"ADM"},{"$f":"D13","v":9.9999999999999995E-7},{"$f":"COUNTIFS('C-E'!$D$13:$D$1001,CAD_AREA!$B$13:$B$513)","v":0},{"$f":"COUNTIFS('C-E'!$D$13:$D$1001,CAD_AREA!$Y13,'C-E'!$H$13:$H$1001,CAD_AREA!AB$12)","v":0},{"$f":"COUNTIFS('C-E'!$D$13:$D$1001,CAD_AREA!$Y13,'C-E'!$H$13:$H$1001,CAD_AREA!AC$12)","v":0},{"$f":"IF(B13=\"\",\"\",B13)","v":"ADM"},null,null,null,null,null,null,null,null,null,null,null,null,null,null,null,null,null,null,null,null,null,null,"Auxiliar",{"$f":"IF(BA13=\"\",\"\",BA13)","v":"Auxiliar"},null,null,null,null,null,null,null,null,null,null,null,null,null,null,null,null,null,null,null,null,null,null,null,null,{"$f":"SUM(CF13,CH13)","v":9.9999999999999995E-7},"João Pedro","Auxiliar","PROD",{"$f":"CB13","v":"João Pedro"},9.9999999999999995E-7,{"$f":"COUNTIFS('C-E'!$B$13:$B$1001,CAD_AREA!$CB13,'C-E'!$H$13:$H$1001,CAD_AREA!CG$12)","v":1},{"$f":"COUNTIFS('C-E'!$B$13:$B$1001,CAD_AREA!$CB13,'C-E'!$H$13:$H$1001,CAD_AREA!CH$12)","v":0}]
[1.9999999999999999E-6,"PROD",1,{"$f":"D13+$D$13","v":1.9999999999999999E-6},{"$f":"COUNTIFS(PPRA!$C$13:$C$614,CAD_AREA!B14)","v":0},{"$f":"COUNTIFS(PPRA!$C$13:$C$614,CAD_AREA!$B14,PPRA!$D$13:$D$614,CAD_AREA!F$12)","v":0},{"$f":"COUNTIFS(PPRA!$C$13:$C$614,CAD_AREA!$B14,PPRA!$D$13:$D$614,CAD_AREA!G$12)","v":0},{"$f":"COUNTIFS(PPRA!$C$13:$C$614,CAD_AREA!$B14,PPRA!$D$13:$D$614,CAD_AREA!H$12)","v":0},{"$f":"COUNTIFS(PPRA!$C$13:$C$614,CAD_AREA!$B14,PPRA!$D$13:$D$614,CAD_AREA!I$12)","v":0},{"$f":"SUMIFS(PPRA!$A$13:$A$614,PPRA!$C$13:$C$614,CAD_AREA!B14)","v":0},{"$f":"B14","v":"PROD"},{"$f":"COUNTIFS(CAD_AREA!$CD$13:$CD$113,CAD_AREA!$B$13:$B$113)","v":1},null,{"$f":"SUM(O14+D14)","v":1.0000020000000001},{"$f":"COUNTIFS('C-A'!$E$13:$E$1013,CAD_AREA!$B$13:$B$1013)","v":1},{"$f":"B14","v":"PROD"},{"$f":"COUNTIFS('C-A'!$E$13:$E$1013,CAD_AREA!$P$13:$P$1013,'C-A'!$G$13:$G$1013,CAD_AREA!Q$12)","v":0},{"$f":"COUNTIFS('C-A'!$E$13:$E$1013,CAD_AREA!$P$13:$P$1013,'C-A'!$G$13:$G$1013,CAD_AREA!R$12)","v":1},{"$f":"COUNTIFS('C-A'!$E$13:$E$1013,CAD_AREA!$P$13:$P$1013,'C-A'!$G$13:$G$1013,CAD_AREA!S$12)","v":0},{"$f":"COUNTIFS('C-A'!$E$13:$E$1013,CAD_AREA!$P$13:$P$1013,'C-A'!$G$13:$G$1013,CAD_AREA!T$12)","v":0},{"$f":"SUM(Q14:T14)","v":1},{"$f":"U14/'C-A'!$P$13","v":1},null,1.0000020000000001,{"$f":"B14","v":"PROD"},{"$f":"D14","v":1.9999999999999999E-6},{"$f":"COUNTIFS('C-E'!$D$13:$D$1001,CAD_AREA!$B$13:$B$513)","v":1},{"$f":"COUNTIFS('C-E'!$D$13:$D$1001,CAD_AREA!$Y14,'C-E'!$H$13:$H$1001,CAD_AREA!AB$12)","v":1},{"$f":"COUNTIFS('C-E'!$D$13:$D$1001,CAD_AREA!$Y14,'C-E'!$H$13:$H$1001,CAD_AREA!AC$12)","v":0},{"$f":"IF(B14=\"\",\"\",B14)","v":"PROD"},null,null,null,null,null,null,null,null,null,null,null,null,null,null,null,null,null,null,null,null,null,null,"Analista","Analista",null,null,null,null,null,null,null,null,null,null,null,null,null,null,null,null,null,null,null,null,null,null,null,null,1.9999999999999999E-6,"José Alves","Analista","ADM","José Alves",{"$f":"CF13+$CF$13","v":1.9999999999999999E-6},{"$f":"COUNTIFS('C-E'!$B$13:$B$1001,CAD_AREA!$CB14,'C-E'!$H$13:$H$1001,CAD_AREA!CG$12)","v":0},{"$f":"COUNTIFS('C-E'!$B$13:$B$1001,CAD_AREA!$CB14,'C-E'!$H$13:$H$1001,CAD_AREA!CH$12)","v":0}]
[3.0000000000000001E-6,null,null,{"$f":"D14+$D$13","v":3.0000000000000001E-6},{"$f":"COUNTIFS(PPRA!$C$13:$C$614,CAD_AREA!B15)","v":0},{"$f":"COUNTIFS(PPRA!$C$13:$C$614,CAD_AREA!$B15,PPRA!$D$13:$D$614,CAD_AREA!F$12)","v":0},{"$f":"COUNTIFS(PPRA!$C$13:$C$614,CAD_AREA!$B15,PPRA!$D$13:$D$614,CAD_AREA!G$12)","v":0},{"$f":"COUNTIFS(PPRA!$C$13:$C$614,CAD_AREA!$B15,PPRA!$D$13:$D$614,CAD_AREA!H$12)","v":0},{"$f":"COUNTIFS(PPRA!$C$13:$C$614,CAD_AREA!$B15,PPRA!$D$13:$D$614,CAD_AREA!I$12)","v":0},{"$f":"SUMIFS(PPRA!$A$13:$A$614,PPRA!$C$13:$C$614,CAD_AREA!B15)","v":0},0,{"$f":"COUNTIFS(CAD_AREA!$CD$13:$CD$113,CAD_AREA!$B$13:$B$113)","v":0},null,3.0000000000000001E-6,{"$f":"COUNTIFS('C-A'!$E$13:$E$1013,CAD_AREA!$B$13:$B$1013)","v":0},0,{"$f":"COUNTIFS('C-A'!$E$13:$E$1013,CAD_AREA!$P$13:$P$1013,'C-A'!$G$13:$G$1013,CAD_AREA!Q$12)","v":0},{"$f":"COUNTIFS('C-A'!$E$13:$E$1013,CAD_AREA!$P$13:$P$1013,'C-A'!$G$13:$G$1013,CAD_AREA!R$12)","v":0},{"$f":"COUNTIFS('C-A'!$E$13:$E$1013,CAD_AREA!$P$13:$P$1013,'C-A'!$G$13:$G$1013,CAD_AREA!S$12)","v":0},{"$f":"COUNTIFS('C-A'!$E$13:$E$1013,CAD_AREA!$P$13:$P$1013,'C-A'!$G$13:$G$1013,CAD_AREA!T$12)","v":0},0,{"$f":"U15/'C-A'!$P$13","v":0},null,3.0000000000000001E-6,0,3.0000000000000001E-6,{"$f":"COUNTIFS('C-E'!$D$13:$D$1001,CAD_AREA!$B$13:$B$513)","v":0},{"$f":"COUNTIFS('C-E'!$D$13:$D$1001,CAD_AREA!$Y15,'C-E'!$H$13:$H$1001,CAD_AREA!AB$12)","v":0},{"$f":"COUNTIFS('C-E'!$D$13:$D$1001,CAD_AREA!$Y15,'C-E'!$H$13:$H$1001,CAD_AREA!AC$12)","v":0},"",null,null,null,null,null,null,null,null,null,null,null,null,null,null,null,null,null,null,null,null,null,null,null,"",null,null,null,null,null,null,null,null,null,null,null,null,null,null,null,null,null,null,null,null,null,null,null,null,3.0000000000000001E-6,null,null,null,0,3.0000000000000001E-6,{"$f":"COUNTIFS('C-E'!$B$13:$B$1001,CAD_AREA!$CB15,'C-E'!$H$13:$H$1001,CAD_AREA!CG$12)","v":0},{"$f":"COUNTIFS('C-E'!$B$13:$B$1001,CAD_AREA!$CB15,'C-E'!$H$13:$H$1001,CAD_AREA!CH$12)","v":0}]
[3.9999999999999998E-6,null,null,3.9999999999999998E-6,{"$f":"COUNTIFS(PPRA!$C$13:$C$614,CAD_AREA!B16)","v":0},{"$f":"COUNTIFS(PPRA!$C$13:$C$614,CAD_AREA!$B16,PPRA!$D$13:$D$614,CAD_AREA!F$12)","v":0},{"$f":"COUNTIFS(PPRA!$C$13:$C$614,CAD_AREA!$B16,PPRA!$D$13:$D$614,CAD_AREA!G$12)","v":0},{"$f":"COUNTIFS(PPRA!$C$13:$C$614,CAD_AREA!$B16,PPRA!$D$13:$D$614,CAD_AREA!H$12)","v":0},{"$f":"COUNTIFS(PPRA!$C$13:$C$614,CAD_AREA!$B16,PPRA!$D$13:$D$614,CAD_AREA!I$12)","v":0},{"$f":"SUMIFS(PPRA!$A$13:$A$614,PPRA!$C$13:$C$614,CAD_AREA!B16)","v":0},0,{"$f":"COUNTIFS(CAD_AREA!$CD$13:$CD$113,CAD_AREA!$B$13:$B$113)","v":0},null,3.9999999999999998E-6,{"$f":"COUNTIFS('C-A'!$E$13:$E$1013,CAD_AREA!$B$13:$B$1013)","v":0},0,{"$f":"COUNTIFS('C-A'!$E$13:$E$1013,CAD_AREA!$P$13:$P$1013,'C-A'!$G$13:$G$1013,CAD_AREA!Q$12)","v":0},{"$f":"COUNTIFS('C-A'!$E$13:$E$1013,CAD_AREA!$P$13:$P$1013,'C-A'!$G$13:$G$1013,CAD_AREA!R$12)","v":0},{"$f":"COUNTIFS('C-A'!$E$13:$E$1013,CAD_AREA!$P$13:$P$1013,'C-A'!$G$13:$G$1013,CAD_AREA!S$12)","v":0},{"$f":"COUNTIFS('C-A'!$E$13:$E$1013,CAD_AREA!$P$13:$P$1013,'C-A'!$G$13:$G$1013,CAD_AREA!T$12)","v":0},0,{"$f":"U16/'C-A'!$P$13","v":0},null,3.9999999999999998E-6,0,3.9999999999999998E-6,{"$f":"COUNTIFS('C-E'!$D$13:$D$1001,CAD_AREA!$B$13:$B$513)","v":0},{"$f":"COUNTIFS('C-E'!$D$13:$D$1001,CAD_AREA!$Y16,'C-E'!$H$13:$H$1001,CAD_AREA!AB$12)","v":0},{"$f":"COUNTIFS('C-E'!$D$13:$D$1001,CAD_AREA!$Y16,'C-E'!$H$13:$H$1001,CAD_AREA!AC$12)","v":0},"",null,null,null,null,null,null,null,null,null,null,null,null,null,null,null,null,null,null,null,null,null,null,null,"",null,null,null,null,null,null,null,null,null,null,null,null,null,null,null,null,null,null,null,null,null,null,null,null,3.9999999999999998E-6,null,null,null,0,3.9999999999999998E-6,{"$f":"COUNTIFS('C-E'!$B$13:$B$1001,CAD_AREA!$CB16,'C-E'!$H$13:$H$1001,CAD_AREA!CG$12)","v":0},{"$f":"COUNTIFS('C-E'!$B$13:$B$1001,CAD_AREA!$CB16,'C-E'!$H$13:$H$1001,CAD_AREA!CH$12)","v":0}]
[4.9999999999999996E-6,null,null,4.9999999999999996E-6,{"$f":"COUNTIFS(PPRA!$C$13:$C$614,CAD_AREA!B17)","v":0},{"$f":"COUNTIFS(PPRA!$C$13:$C$614,CAD_AREA!$B17,PPRA!$D$13:$D$614,CAD_AREA!F$12)","v":0},{"$f":"COUNTIFS(PPRA!$C$13:$C$614,CAD_AREA!$B17,PPRA!$D$13:$D$614,CAD_AREA!G$12)","v":0},{"$f":"COUNTIFS(PPRA!$C$13:$C$614,CAD_AREA!$B17,PPRA!$D$13:$D$614,CAD_AREA!H$12)","v":0},{"$f":"COUNTIFS(PPRA!$C$13:$C$614,CAD_AREA!$B17,PPRA!$D$13:$D$614,CAD_AREA!I$12)","v":0},{"$f":"SUMIFS(PPRA!$A$13:$A$614,PPRA!$C$13:$C$614,CAD_AREA!B17)","v":0},0,{"$f":"COUNTIFS(CAD_AREA!$CD$13:$CD$113,CAD_AREA!$B$13:$B$113)","v":0},null,4.9999999999999996E-6,{"$f":"COUNTIFS('C-A'!$E$13:$E$1013,CAD_AREA!$B$13:$B$1013)","v":0},0,{"$f":"COUNTIFS('C-A'!$E$13:$E$1013,CAD_AREA!$P$13:$P$1013,'C-A'!$G$13:$G$1013,CAD_AREA!Q$12)","v":0},{"$f":"COUNTIFS('C-A'!$E$13:$E$1013,CAD_AREA!$P$13:$P$1013,'C-A'!$G$13:$G$1013,CAD_AREA!R$12)","v":0},{"$f":"COUNTIFS('C-A'!$E$13:$E$1013,CAD_AREA!$P$13:$P$1013,'C-A'!$G$13:$G$1013,CAD_AREA!S$12)","v":0},{"$f":"COUNTIFS('C-A'!$E$13:$E$1013,CAD_AREA!$P$13:$P$1013,'C-A'!$G$13:$G$1013,CAD_AREA!T$12)","v":0},0,{"$f":"U17/'C-A'!$P$13","v":0},null,4.9999999999999996E-6,0,4.9999999999999996E-6,{"$f":"COUNTIFS('C-E'!$D$13:$D$1001,CAD_AREA!$B$13:$B$513)","v":0},{"$f":"COUNTIFS('C-E'!$D$13:$D$1001,CAD_AREA!$Y17,'C-E'!$H$13:$H$1001,CAD_AREA!AB$12)","v":0},{"$f":"COUNTIFS('C-E'!$D$13:$D$1001,CAD_AREA!$Y17,'C-E'!$H$13:$H$1001,CAD_AREA!AC$12)","v":0},"",null,null,null,null,null,null,null,null,null,null,null,null,null,null,null,null,null,null,null,null,null,null,null,"",null,null,null,null,null,null,null,null,null,null,null,null,null,null,null,null,null,null,null,null,null,null,null,null,4.9999999999999996E-6,null,null,null,0,4.9999999999999996E-6,{"$f":"COUNTIFS('C-E'!$B$13:$B$1001,CAD_AREA!$CB17,'C-E'!$H$13:$H$1001,CAD_AREA!CG$12)","v":0},{"$f":"COUNTIFS('C-E'!$B$13:$B$1001,CAD_AREA!$CB17,'C-E'!$H$13:$H$1001,CAD_AREA!CH$12)","v":0}]
[5.9999999999999993E-6,null,null,5.9999999999999993E-6,{"$f":"COUNTIFS(PPRA!$C$13:$C$614,CAD_AREA!B18)","v":0},{"$f":"COUNTIFS(PPRA!$C$13:$C$614,CAD_AREA!$B18,PPRA!$D$13:$D$614,CAD_AREA!F$12)","v":0},{"$f":"COUNTIFS(PPRA!$C$13:$C$614,CAD_AREA!$B18,PPRA!$D$13:$D$614,CAD_AREA!G$12)","v":0},{"$f":"COUNTIFS(PPRA!$C$13:$C$614,CAD_AREA!$B18,PPRA!$D$13:$D$614,CAD_AREA!H$12)","v":0},{"$f":"COUNTIFS(PPRA!$C$13:$C$614,CAD_AREA!$B18,PPRA!$D$13:$D$614,CAD_AREA!I$12)","v":0},{"$f":"SUMIFS(PPRA!$A$13:$A$614,PPRA!$C$13:$C$614,CAD_AREA!B18)","v":0},0,{"$f":"COUNTIFS(CAD_AREA!$CD$13:$CD$113,CAD_AREA!$B$13:$B$113)","v":0},null,5.9999999999999993E-6,{"$f":"COUNTIFS('C-A'!$E$13:$E$1013,CAD_AREA!$B$13:$B$1013)","v":0},0,{"$f":"COUNTIFS('C-A'!$E$13:$E$1013,CAD_AREA!$P$13:$P$1013,'C-A'!$G$13:$G$1013,CAD_AREA!Q$12)","v":0},{"$f":"COUNTIFS('C-A'!$E$13:$E$1013,CAD_AREA!$P$13:$P$1013,'C-A'!$G$13:$G$1013,CAD_AREA!R$12)","v":0},{"$f":"COUNTIFS('C-A'!$E$13:$E$1013,CAD_AREA!$P$13:$P$1013,'C-A'!$G$13:$G$1013,CAD_AREA!S$12)","v":0},{"$f":"COUNTIFS('C-A'!$E$13:$E$1013,CAD_AREA!$P$13:$P$1013,'C-A'!$G$13:$G$1013,CAD_AREA!T$12)","v":0},0,{"$f":"U18/'C-A'!$P$13","v":0},null,5.9999999999999993E-6,0,5.9999999999999993E-6,{"$f":"COUNTIFS('C-E'!$D$13:$D$1001,CAD_AREA!$B$13:$B$513)","v":0},{"$f":"COUNTIFS('C-E'!$D$13:$D$1001,CAD_AREA!$Y18,'C-E'!$H$13:$H$1001,CAD_AREA!AB$12)","v":0},{"$f":"COUNTIFS('C-E'!$D$13:$D$1001,CAD_AREA!$Y18,'C-E'!$H$13:$H$1001,CAD_AREA!AC$12)","v":0},"",null,null,null,null,null,null,null,null,null,null,null,null,null,null,null,null,null,null,null,null,null,null,null,"",null,null,null,null,null,null,null,null,null,null,null,null,null,null,null,null,null,null,null,null,null,null,null,null,5.9999999999999993E-6,null,null,null,0,5.9999999999999993E-6,{"$f":"COUNTIFS('C-E'!$B$13:$B$1001,CAD_AREA!$CB18,'C-E'!$H$13:$H$1001,CAD_AREA!CG$12)","v":0},{"$f":"COUNTIFS('C-E'!$B$13:$B$1001,CAD_AREA!$CB18,'C-E'!$H$13:$H$1001,CAD_AREA!CH$12)","v":0}]
[6.999999999999999E-6,null,null,6.999999999999999E-6,{"$f":"COUNTIFS(PPRA!$C$13:$C$614,CAD_AREA!B19)","v":0},{"$f":"COUNTIFS(PPRA!$C$13:$C$614,CAD_AREA!$B19,PPRA!$D$13:$D$614,CAD_AREA!F$12)","v":0},{"$f":"COUNTIFS(PPRA!$C$13:$C$614,CAD_AREA!$B19,PPRA!$D$13:$D$614,CAD_AREA!G$12)","v":0},{"$f":"COUNTIFS(PPRA!$C$13:$C$614,CAD_AREA!$B19,PPRA!$D$13:$D$614,CAD_AREA!H$12)","v":0},{"$f":"COUNTIFS(PPRA!$C$13:$C$614,CAD_AREA!$B19,PPRA!$D$13:$D$614,CAD_AREA!I$12)","v":0},{"$f":"SUMIFS(PPRA!$A$13:$A$614,PPRA!$C$13:$C$614,CAD_AREA!B19)","v":0},0,{"$f":"COUNTIFS(CAD_AREA!$CD$13:$CD$113,CAD_AREA!$B$13:$B$113)","v":0},null,6.999999999999999E-6,{"$f":"COUNTIFS('C-A'!$E$13:$E$1013,CAD_AREA!$B$13:$B$1013)","v":0},0,{"$f":"COUNTIFS('C-A'!$E$13:$E$1013,CAD_AREA!$P$13:$P$1013,'C-A'!$G$13:$G$1013,CAD_AREA!Q$12)","v":0},{"$f":"COUNTIFS('C-A'!$E$13:$E$1013,CAD_AREA!$P$13:$P$1013,'C-A'!$G$13:$G$1013,CAD_AREA!R$12)","v":0},{"$f":"COUNTIFS('C-A'!$E$13:$E$1013,CAD_AREA!$P$13:$P$1013,'C-A'!$G$13:$G$1013,CAD_AREA!S$12)","v":0},{"$f":"COUNTIFS('C-A'!$E$13:$E$1013,CAD_AREA!$P$13:$P$1013,'C-A'!$G$13:$G$1013,CAD_AREA!T$12)","v":0},0,{"$f":"U19/'C-A'!$P$13","v":0},null,6.999999999999999E-6,0,6.999999999999999E-6,{"$f":"COUNTIFS('C-E'!$D$13:$D$1001,CAD_AREA!$B$13:$B$513)","v":0},{"$f":"COUNTIFS('C-E'!$D$13:$D$1001,CAD_AREA!$Y19,'C-E'!$H$13:$H$1001,CAD_AREA!AB$12)","v":0},{"$f":"COUNTIFS('C-E'!$D$13:$D$1001,CAD_AREA!$Y19,'C-E'!$H$13:$H$1001,CAD_AREA!AC$12)","v":0},"",null,null,null,null,null,null,null,null,null,null,null,null,null,null,null,null,null,null,null,null,null,null,null,"",null,null,null,null,null,null,null,null,null,null,null,null,null,null,null,null,null,null,null,null,null,null,null,null,6.999999999999999E-6,null,null,null,0,6.999999999999999E-6,{"$f":"COUNTIFS('C-E'!$B$13:$B$1001,CAD_AREA!$CB19,'C-E'!$H$13:$H$1001,CAD_AREA!CG$12)","v":0},{"$f":"COUNTIFS('C-E'!$B$13:$B$1001,CAD_AREA!$CB19,'C-E'!$H$13:$H$1001,CAD_AREA!CH$12)","v":0}]
[7.9999999999999996E-6,null,null,7.9999999999999996E-6,{"$f":"COUNTIFS(PPRA!$C$13:$C$614,CAD_AREA!B20)","v":0},{"$f":"COUNTIFS(PPRA!$C$13:$C$614,CAD_AREA!$B20,PPRA!$D$13:$D$614,CAD_AREA!F$12)","v":0},{"$f":"COUNTIFS(PPRA!$C$13:$C$614,CAD_AREA!$B20,PPRA!$D$13:$D$614,CAD_AREA!G$12)","v":0},{"$f":"COUNTIFS(PPRA!$C$13:$C$614,CAD_AREA!$B20,PPRA!$D$13:$D$614,CAD_AREA!H$12)","v":0},{"$f":"COUNTIFS(PPRA!$C$13:$C$614,CAD_AREA!$B20,PPRA!$D$13:$D$614,CAD_AREA!I$12)","v":0},{"$f":"SUMIFS(PPRA!$A$13:$A$614,PPRA!$C$13:$C$614,CAD_AREA!B20)","v":0},0,{"$f":"COUNTIFS(CAD_AREA!$CD$13:$CD$113,CAD_AREA!$B$13:$B$113)","v":0},null,7.9999999999999996E-6,{"$f":"COUNTIFS('C-A'!$E$13:$E$1013,CAD_AREA!$B$13:$B$1013)","v":0},0,{"$f":"COUNTIFS('C-A'!$E$13:$E$1013,CAD_AREA!$P$13:$P$1013,'C-A'!$G$13:$G$1013,CAD_AREA!Q$12)","v":0},{"$f":"COUNTIFS('C-A'!$E$13:$E$1013,CAD_AREA!$P$13:$P$1013,'C-A'!$G$13:$G$1013,CAD_AREA!R$12)","v":0},{"$f":"COUNTIFS('C-A'!$E$13:$E$1013,CAD_AREA!$P$13:$P$1013,'C-A'!$G$13:$G$1013,CAD_AREA!S$12)","v":0},{"$f":"COUNTIFS('C-A'!$E$13:$E$1013,CAD_AREA!$P$13:$P$1013,'C-A'!$G$13:$G$1013,CAD_AREA!T$12)","v":0},0,{"$f":"U20/'C-A'!$P$13","v":0},null,7.9999999999999996E-6,0,7.9999999999999996E-6,{"$f":"COUNTIFS('C-E'!$D$13:$D$1001,CAD_AREA!$B$13:$B$513)","v":0},{"$f":"COUNTIFS('C-E'!$D$13:$D$1001,CAD_AREA!$Y20,'C-E'!$H$13:$H$1001,CAD_AREA!AB$12)","v":0},{"$f":"COUNTIFS('C-E'!$D$13:$D$1001,CAD_AREA!$Y20,'C-E'!$H$13:$H$1001,CAD_AREA!AC$12)","v":0},"",null,null,null,null,null,null,null,null,null,null,null,null,null,null,null,null,null,null,null,null,null,null,null,"",null,null,null,null,null,null,null,null,null,null,null,null,null,null,null,null,null,null,null,null,null,null,null,null,7.9999999999999996E-6,null,null,null,0,7.9999999999999996E-6,{"$f":"COUNTIFS('C-E'!$B$13:$B$1001,CAD_AREA!$CB20,'C-E'!$H$13:$H$1001,CAD_AREA!CG$12)","v":0},{"$f":"COUNTIFS('C-E'!$B$13:$B$1001,CAD_AREA!$CB20,'C-E'!$H$13:$H$1001,CAD_AREA!CH$12)","v":0}]
[9.0000000000000002E-6,null,null,9.0000000000000002E-6,{"$f":"COUNTIFS(PPRA!$C$13:$C$614,CAD_AREA!B21)","v":0},{"$f":"COUNTIFS(PPRA!$C$13:$C$614,CAD_AREA!$B21,PPRA!$D$13:$D$614,CAD_AREA!F$12)","v":0},{"$f":"COUNTIFS(PPRA!$C$13:$C$614,CAD_AREA!$B21,PPRA!$D$13:$D$614,CAD_AREA!G$12)","v":0},{"$f":"COUNTIFS(PPRA!$C$13:$C$614,CAD_AREA!$B21,PPRA!$D$13:$D$614,CAD_AREA!H$12)","v":0},{"$f":"COUNTIFS(PPRA!$C$13:$C$614,CAD_AREA!$B21,PPRA!$D$13:$D$614,CAD_AREA!I$12)","v":0},{"$f":"SUMIFS(PPRA!$A$13:$A$614,PPRA!$C$13:$C$614,CAD_AREA!B21)","v":0},0,{"$f":"COUNTIFS(CAD_AREA!$CD$13:$CD$113,CAD_AREA!$B$13:$B$113)","v":0},null,9.0000000000000002E-6,{"$f":"COUNTIFS('C-A'!$E$13:$E$1013,CAD_AREA!$B$13:$B$1013)","v":0},0,{"$f":"COUNTIFS('C-A'!$E$13:$E$1013,CAD_AREA!$P$13:$P$1013,'C-A'!$G$13:$G$1013,CAD_AREA!Q$12)","v":0},{"$f":"COUNTIFS('C-A'!$E$13:$E$1013,CAD_AREA!$P$13:$P$1013,'C-A'!$G$13:$G$1013,CAD_AREA!R$12)","v":0},{"$f":"COUNTIFS('C-A'!$E$13:$E$1013,CAD_AREA!$P$13:$P$1013,'C-A'!$G$13:$G$1013,CAD_AREA!S$12)","v":0},{"$f":"COUNTIFS('C-A'!$E$13:$E$1013,CAD_AREA!$P$13:$P$1013,'C-A'!$G$13:$G$1013,CAD_AREA!T$12)","v":0},0,{"$f":"U21/'C-A'!$P$13","v":0},null,9.0000000000000002E-6,0,9.0000000000000002E-6,{"$f":"COUNTIFS('C-E'!$D$13:$D$1001,CAD_AREA!$B$13:$B$513)","v":0},{"$f":"COUNTIFS('C-E'!$D$13:$D$1001,CAD_AREA!$Y21,'C-E'!$H$13:$H$1001,CAD_AREA!AB$12)","v":0},{"$f":"COUNTIFS('C-E'!$D$13:$D$1001,CAD_AREA!$Y21,'C-E'!$H$13:$H$1001,CAD_AREA!AC$12)","v":0},"",null,null,null,null,null,null,null,null,null,null,null,null,null,null,null,null,null,null,null,null,null,null,null,"",null,null,null,null,null,null,null,null,null,null,null,null,null,null,null,null,null,null,null,null,null,null,null,null,9.0000000000000002E-6,null,null,null,0,9.0000000000000002E-6,{"$f":"COUNTIFS('C-E'!$B$13:$B$1001,CAD_AREA!$CB21,'C-E'!$H$13:$H$1001,CAD_AREA!CG$12)","v":0},{"$f":"COUNTIFS('C-E'!$B$13:$B$1001,CAD_AREA!$CB21,'C-E'!$H$13:$H$1001,CAD_AREA!CH$12)","v":0}]
[1.0000000000000001E-5,null,null,1.0000000000000001E-5,{"$f":"COUNTIFS(PPRA!$C$13:$C$614,CAD_AREA!B22)","v":0},{"$f":"COUNTIFS(PPRA!$C$13:$C$614,CAD_AREA!$B22,PPRA!$D$13:$D$614,CAD_AREA!F$12)","v":0},{"$f":"COUNTIFS(PPRA!$C$13:$C$614,CAD_AREA!$B22,PPRA!$D$13:$D$614,CAD_AREA!G$12)","v":0},{"$f":"COUNTIFS(PPRA!$C$13:$C$614,CAD_AREA!$B22,PPRA!$D$13:$D$614,CAD_AREA!H$12)","v":0},{"$f":"COUNTIFS(PPRA!$C$13:$C$614,CAD_AREA!$B22,PPRA!$D$13:$D$614,CAD_AREA!I$12)","v":0},{"$f":"SUMIFS(PPRA!$A$13:$A$614,PPRA!$C$13:$C$614,CAD_AREA!B22)","v":0},0,{"$f":"COUNTIFS(CAD_AREA!$CD$13:$CD$113,CAD_AREA!$B$13:$B$113)","v":0},null,1.0000000000000001E-5,{"$f":"COUNTIFS('C-A'!$E$13:$E$1013,CAD_AREA!$B$13:$B$1013)","v":0},0,{"$f":"COUNTIFS('C-A'!$E$13:$E$1013,CAD_AREA!$P$13:$P$1013,'C-A'!$G$13:$G$1013,CAD_AREA!Q$12)","v":0},{"$f":"COUNTIFS('C-A'!$E$13:$E$1013,CAD_AREA!$P$13:$P$1013,'C-A'!$G$13:$G$1013,CAD_AREA!R$12)","v":0},{"$f":"COUNTIFS('C-A'!$E$13:$E$1013,CAD_AREA!$P$13:$P$1013,'C-A'!$G$13:$G$1013,CAD_AREA!S$12)","v":0},{"$f":"COUNTIFS('C-A'!$E$13:$E$1013,CAD_AREA!$P$13:$P$1013,'C-A'!$G$13:$G$1013,CAD_AREA!T$12)","v":0},0,{"$f":"U22/'C-A'!$P$13","v":0},null,1.0000000000000001E-5,0,1.0000000000000001E-5,{"$f":"COUNTIFS('C-E'!$D$13:$D$1001,CAD_AREA!$B$13:$B$513)","v":0},{"$f":"COUNTIFS('C-E'!$D$13:$D$1001,CAD_AREA!$Y22,'C-E'!$H$13:$H$1001,CAD_AREA!AB$12)","v":0},{"$f":"COUNTIFS('C-E'!$D$13:$D$1001,CAD_AREA!$Y22,'C-E'!$H$13:$H$1001,CAD_AREA!AC$12)","v":0},"",null,null,null,null,null,null,null,null,null,null,null,null,null,null,null,null,null,null,null,null,null,null,null,"",null,null,null,null,null,null,null,null,null,null,null,null,null,null,null,null,null,null,null,null,null,null,null,null,1.0000000000000001E-5,null,null,null,0,1.0000000000000001E-5,{"$f":"COUNTIFS('C-E'!$B$13:$B$1001,CAD_AREA!$CB22,'C-E'!$H$13:$H$1001,CAD_AREA!CG$12)","v":0},{"$f":"COUNTIFS('C-E'!$B$13:$B$1001,CAD_AREA!$CB22,'C-E'!$H$13:$H$1001,CAD_AREA!CH$12)","v":0}]
[1.1000000000000001E-5,null,null,1.1000000000000001E-5,{"$f":"COUNTIFS(PPRA!$C$13:$C$614,CAD_AREA!B23)","v":0},{"$f":"COUNTIFS(PPRA!$C$13:$C$614,CAD_AREA!$B23,PPRA!$D$13:$D$614,CAD_AREA!F$12)","v":0},{"$f":"COUNTIFS(PPRA!$C$13:$C$614,CAD_AREA!$B23,PPRA!$D$13:$D$614,CAD_AREA!G$12)","v":0},{"$f":"COUNTIFS(PPRA!$C$13:$C$614,CAD_AREA!$B23,PPRA!$D$13:$D$614,CAD_AREA!H$12)","v":0},{"$f":"COUNTIFS(PPRA!$C$13:$C$614,CAD_AREA!$B23,PPRA!$D$13:$D$614,CAD_AREA!I$12)","v":0},{"$f":"SUMIFS(PPRA!$A$13:$A$614,PPRA!$C$13:$C$614,CAD_AREA!B23)","v":0},0,{"$f":"COUNTIFS(CAD_AREA!$CD$13:$CD$113,CAD_AREA!$B$13:$B$113)","v":0},null,1.1000000000000001E-5,{"$f":"COUNTIFS('C-A'!$E$13:$E$1013,CAD_AREA!$B$13:$B$1013)","v":0},0,{"$f":"COUNTIFS('C-A'!$E$13:$E$1013,CAD_AREA!$P$13:$P$1013,'C-A'!$G$13:$G$1013,CAD_AREA!Q$12)","v":0},{"$f":"COUNTIFS('C-A'!$E$13:$E$1013,CAD_AREA!$P$13:$P$1013,'C-A'!$G$13:$G$1013,CAD_AREA!R$12)","v":0},{"$f":"COUNTIFS('C-A'!$E$13:$E$1013,CAD_AREA!$P$13:$P$1013,'C-A'!$G$13:$G$1013,CAD_AREA!S$12)","v":0},{"$f":"COUNTIFS('C-A'!$E$13:$E$1013,CAD_AREA!$P$13:$P$1013,'C-A'!$G$13:$G$1013,CAD_AREA!T$12)","v":0},0,{"$f":"U23/'C-A'!$P$13","v":0},null,1.1000000000000001E-5,0,1.1000000000000001E-5,{"$f":"COUNTIFS('C-E'!$D$13:$D$1001,CAD_AREA!$B$13:$B$513)","v":0},{"$f":"COUNTIFS('C-E'!$D$13:$D$1001,CAD_AREA!$Y23,'C-E'!$H$13:$H$1001,CAD_AREA!AB$12)","v":0},{"$f":"COUNTIFS('C-E'!$D$13:$D$1001,CAD_AREA!$Y23,'C-E'!$H$13:$H$1001,CAD_AREA!AC$12)","v":0},"",null,null,null,null,null,null,null,null,null,null,null,null,null,null,null,null,null,null,null,null,null,null,null,"",null,null,null,null,null,null,null,null,null,null,null,null,null,null,null,null,null,null,null,null,null,null,null,null,1.1000000000000001E-5,null,null,null,0,1.1000000000000001E-5,{"$f":"COUNTIFS('C-E'!$B$13:$B$1001,CAD_AREA!$CB23,'C-E'!$H$13:$H$1001,CAD_AREA!CG$12)","v":0},{"$f":"COUNTIFS('C-E'!$B$13:$B$1001,CAD_AREA!$CB23,'C-E'!$H$13:$H$1001,CAD_AREA!CH$12)","v":0}]
[1.2000000000000002E-5,null,null,1.2000000000000002E-5,{"$f":"COUNTIFS(PPRA!$C$13:$C$614,CAD_AREA!B24)","v":0},{"$f":"COUNTIFS(PPRA!$C$13:$C$614,CAD_AREA!$B24,PPRA!$D$13:$D$614,CAD_AREA!F$12)","v":0},{"$f":"COUNTIFS(PPRA!$C$13:$C$614,CAD_AREA!$B24,PPRA!$D$13:$D$614,CAD_AREA!G$12)","v":0},{"$f":"COUNTIFS(PPRA!$C$13:$C$614,CAD_AREA!$B24,PPRA!$D$13:$D$614,CAD_AREA!H$12)","v":0},{"$f":"COUNTIFS(PPRA!$C$13:$C$614,CAD_AREA!$B24,PPRA!$D$13:$D$614,CAD_AREA!I$12)","v":0},{"$f":"SUMIFS(PPRA!$A$13:$A$614,PPRA!$C$13:$C$614,CAD_AREA!B24)","v":0},0,{"$f":"COUNTIFS(CAD_AREA!$CD$13:$CD$113,CAD_AREA!$B$13:$B$113)","v":0},null,1.2000000000000002E-5,{"$f":"COUNTIFS('C-A'!$E$13:$E$1013,CAD_AREA!$B$13:$B$1013)","v":0},0,{"$f":"COUNTIFS('C-A'!$E$13:$E$1013,CAD_AREA!$P$13:$P$1013,'C-A'!$G$13:$G$1013,CAD_AREA!Q$12)","v":0},{"$f":"COUNTIFS('C-A'!$E$13:$E$1013,CAD_AREA!$P$13:$P$1013,'C-A'!$G$13:$G$1013,CAD_AREA!R$12)","v":0},{"$f":"COUNTIFS('C-A'!$E$13:$E$1013,CAD_AREA!$P$13:$P$1013,'C-A'!$G$13:$G$1013,CAD_AREA!S$12)","v":0},{"$f":"COUNTIFS('C-A'!$E$13:$E$1013,CAD_AREA!$P$13:$P$1013,'C-A'!$G$13:$G$1013,CAD_AREA!T$12)","v":0},0,{"$f":"U24/'C-A'!$P$13","v":0},null,1.2000000000000002E-5,0,1.2000000000000002E-5,{"$f":"COUNTIFS('C-E'!$D$13:$D$1001,CAD_AREA!$B$13:$B$513)","v":0},{"$f":"COUNTIFS('C-E'!$D$13:$D$1001,CAD_AREA!$Y24,'C-E'!$H$13:$H$1001,CAD_AREA!AB$12)","v":0},{"$f":"COUNTIFS('C-E'!$D$13:$D$1001,CAD_AREA!$Y24,'C-E'!$H$13:$H$1001,CAD_AREA!AC$12)","v":0},"",null,null,null,null,null,null,null,null,null,null,null,null,null,null,null,null,null,null,null,null,null,null,null,"",null,null,null,null,null,null,null,null,null,null,null,null,null,null,null,null,null,null,null,null,null,null,null,null,1.2000000000000002E-5,null,null,null,0,1.2000000000000002E-5,{"$f":"COUNTIFS('C-E'!$B$13:$B$1001,CAD_AREA!$CB24,'C-E'!$H$13:$H$1001,CAD_AREA!CG$12)","v":0},{"$f":"COUNTIFS('C-E'!$B$13:$B$1001,CAD_AREA!$CB24,'C-E'!$H$13:$H$1001,CAD_AREA!CH$12)","v":0}]
[1.3000000000000003E-5,null,null,1.3000000000000003E-5,{"$f":"COUNTIFS(PPRA!$C$13:$C$614,CAD_AREA!B25)","v":0},{"$f":"COUNTIFS(PPRA!$C$13:$C$614,CAD_AREA!$B25,PPRA!$D$13:$D$614,CAD_AREA!F$12)","v":0},{"$f":"COUNTIFS(PPRA!$C$13:$C$614,CAD_AREA!$B25,PPRA!$D$13:$D$614,CAD_AREA!G$12)","v":0},{"$f":"COUNTIFS(PPRA!$C$13:$C$614,CAD_AREA!$B25,PPRA!$D$13:$D$614,CAD_AREA!H$12)","v":0},{"$f":"COUNTIFS(PPRA!$C$13:$C$614,CAD_AREA!$B25,PPRA!$D$13:$D$614,CAD_AREA!I$12)","v":0},{"$f":"SUMIFS(PPRA!$A$13:$A$614,PPRA!$C$13:$C$614,CAD_AREA!B25)","v":0},0,{"$f":"COUNTIFS(CAD_AREA!$CD$13:$CD$113,CAD_AREA!$B$13:$B$113)","v":0},null,1.3000000000000003E-5,{"$f":"COUNTIFS('C-A'!$E$13:$E$1013,CAD_AREA!$B$13:$B$1013)","v":0},0,{"$f":"COUNTIFS('C-A'!$E$13:$E$1013,CAD_AREA!$P$13:$P$1013,'C-A'!$G$13:$G$1013,CAD_AREA!Q$12)","v":0},{"$f":"COUNTIFS('C-A'!$E$13:$E$1013,CAD_AREA!$P$13:$P$1013,'C-A'!$G$13:$G$1013,CAD_AREA!R$12)","v":0},{"$f":"COUNTIFS('C-A'!$E$13:$E$1013,CAD_AREA!$P$13:$P$1013,'C-A'!$G$13:$G$1013,CAD_AREA!S$12)","v":0},{"$f":"COUNTIFS('C-A'!$E$13:$E$1013,CAD_AREA!$P$13:$P$1013,'C-A'!$G$13:$G$1013,CAD_AREA!T$12)","v":0},0,{"$f":"U25/'C-A'!$P$13","v":0},null,1.3000000000000003E-5,0,1.3000000000000003E-5,{"$f":"COUNTIFS('C-E'!$D$13:$D$1001,CAD_AREA!$B$13:$B$513)","v":0},{"$f":"COUNTIFS('C-E'!$D$13:$D$1001,CAD_AREA!$Y25,'C-E'!$H$13:$H$1001,CAD_AREA!AB$12)","v":0},{"$f":"COUNTIFS('C-E'!$D$13:$D$1001,CAD_AREA!$Y25,'C-E'!$H$13:$H$1001,CAD_AREA!AC$12)","v":0},"",null,null,null,null,null,null,null,null,null,null,null,null,null,null,null,null,null,null,null,null,null,null,null,"",null,null,null,null,null,null,null,null,null,null,null,null,null,null,null,null,null,null,null,null,null,null,null,null,1.3000000000000003E-5,null,null,null,0,1.3000000000000003E-5,{"$f":"COUNTIFS('C-E'!$B$13:$B$1001,CAD_AREA!$CB25,'C-E'!$H$13:$H$1001,CAD_AREA!CG$12)","v":0},{"$f":"COUNTIFS('C-E'!$B$13:$B$1001,CAD_AREA!$CB25,'C-E'!$H$13:$H$1001,CAD_AREA!CH$12)","v":0}]
[1.4000000000000003E-5,null,null,1.4000000000000003E-5,{"$f":"COUNTIFS(PPRA!$C$13:$C$614,CAD_AREA!B26)","v":0},{"$f":"COUNTIFS(PPRA!$C$13:$C$614,CAD_AREA!$B26,PPRA!$D$13:$D$614,CAD_AREA!F$12)","v":0},{"$f":"COUNTIFS(PPRA!$C$13:$C$614,CAD_AREA!$B26,PPRA!$D$13:$D$614,CAD_AREA!G$12)","v":0},{"$f":"COUNTIFS(PPRA!$C$13:$C$614,CAD_AREA!$B26,PPRA!$D$13:$D$614,CAD_AREA!H$12)","v":0},{"$f":"COUNTIFS(PPRA!$C$13:$C$614,CAD_AREA!$B26,PPRA!$D$13:$D$614,CAD_AREA!I$12)","v":0},{"$f":"SUMIFS(PPRA!$A$13:$A$614,PPRA!$C$13:$C$614,CAD_AREA!B26)","v":0},0,{"$f":"COUNTIFS(CAD_AREA!$CD$13:$CD$113,CAD_AREA!$B$13:$B$113)","v":0},null,1.4000000000000003E-5,{"$f":"COUNTIFS('C-A'!$E$13:$E$1013,CAD_AREA!$B$13:$B$1013)","v":0},0,{"$f":"COUNTIFS('C-A'!$E$13:$E$1013,CAD_AREA!$P$13:$P$1013,'C-A'!$G$13:$G$1013,CAD_AREA!Q$12)","v":0},{"$f":"COUNTIFS('C-A'!$E$13:$E$1013,CAD_AREA!$P$13:$P$1013,'C-A'!$G$13:$G$1013,CAD_AREA!R$12)","v":0},{"$f":"COUNTIFS('C-A'!$E$13:$E$1013,CAD_AREA!$P$13:$P$1013,'C-A'!$G$13:$G$1013,CAD_AREA!S$12)","v":0},{"$f":"COUNTIFS('C-A'!$E$13:$E$1013,CAD_AREA!$P$13:$P$1013,'C-A'!$G$13:$G$1013,CAD_AREA!T$12)","v":0},0,{"$f":"U26/'C-A'!$P$13","v":0},null,1.4000000000000003E-5,0,1.4000000000000003E-5,{"$f":"COUNTIFS('C-E'!$D$13:$D$1001,CAD_AREA!$B$13:$B$513)","v":0},{"$f":"COUNTIFS('C-E'!$D$13:$D$1001,CAD_AREA!$Y26,'C-E'!$H$13:$H$1001,CAD_AREA!AB$12)","v":0},{"$f":"COUNTIFS('C-E'!$D$13:$D$1001,CAD_AREA!$Y26,'C-E'!$H$13:$H$1001,CAD_AREA!AC$12)","v":0},"",null,null,null,null,null,null,null,null,null,null,null,null,null,null,null,null,null,null,null,null,null,null,null,"",null,null,null,null,null,null,null,null,null,null,null,null,null,null,null,null,null,null,null,null,null,null,null,null,1.4000000000000003E-5,null,null,null,0,1.4000000000000003E-5,{"$f":"COUNTIFS('C-E'!$B$13:$B$1001,CAD_AREA!$CB26,'C-E'!$H$13:$H$1001,CAD_AREA!CG$12)","v":0},{"$f":"COUNTIFS('C-E'!$B$13:$B$1001,CAD_AREA!$CB26,'C-E'!$H$13:$H$1001,CAD_AREA!CH$12)","v":0}]
[1.5000000000000004E-5,null,null,1.5000000000000004E-5,{"$f":"COUNTIFS(PPRA!$C$13:$C$614,CAD_AREA!B27)","v":0},{"$f":"COUNTIFS(PPRA!$C$13:$C$614,CAD_AREA!$B27,PPRA!$D$13:$D$614,CAD_AREA!F$12)","v":0},{"$f":"COUNTIFS(PPRA!$C$13:$C$614,CAD_AREA!$B27,PPRA!$D$13:$D$614,CAD_AREA!G$12)","v":0},{"$f":"COUNTIFS(PPRA!$C$13:$C$614,CAD_AREA!$B27,PPRA!$D$13:$D$614,CAD_AREA!H$12)","v":0},{"$f":"COUNTIFS(PPRA!$C$13:$C$614,CAD_AREA!$B27,PPRA!$D$13:$D$614,CAD_AREA!I$12)","v":0},{"$f":"SUMIFS(PPRA!$A$13:$A$614,PPRA!$C$13:$C$614,CAD_AREA!B27)","v":0},0,{"$f":"COUNTIFS(CAD_AREA!$CD$13:$CD$113,CAD_AREA!$B$13:$B$113)","v":0},null,1.5000000000000004E-5,{"$f":"COUNTIFS('C-A'!$E$13:$E$1013,CAD_AREA!$B$13:$B$1013)","v":0},0,{"$f":"COUNTIFS('C-A'!$E$13:$E$1013,CAD_AREA!$P$13:$P$1013,'C-A'!$G$13:$G$1013,CAD_AREA!Q$12)","v":0},{"$f":"COUNTIFS('C-A'!$E$13:$E$1013,CAD_AREA!$P$13:$P$1013,'C-A'!$G$13:$G$1013,CAD_AREA!R$12)","v":0},{"$f":"COUNTIFS('C-A'!$E$13:$E$1013,CAD_AREA!$P$13:$P$1013,'C-A'!$G$13:$G$1013,CAD_AREA!S$12)","v":0},{"$f":"COUNTIFS('C-A'!$E$13:$E$1013,CAD_AREA!$P$13:$P$1013,'C-A'!$G$13:$G$1013,CAD_AREA!T$12)","v":0},0,{"$f":"U27/'C-A'!$P$13","v":0},null,1.5000000000000004E-5,0,1.5000000000000004E-5,{"$f":"COUNTIFS('C-E'!$D$13:$D$1001,CAD_AREA!$B$13:$B$513)","v":0},{"$f":"COUNTIFS('C-E'!$D$13:$D$1001,CAD_AREA!$Y27,'C-E'!$H$13:$H$1001,CAD_AREA!AB$12)","v":0},{"$f":"COUNTIFS('C-E'!$D$13:$D$1001,CAD_AREA!$Y27,'C-E'!$H$13:$H$1001,CAD_AREA!AC$12)","v":0},"",null,null,null,null,null,null,null,null,null,null,null,null,null,null,null,null,null,null,null,null,null,null,null,"",null,null,null,null,null,null,null,null,null,null,null,null,null,null,null,null,null,null,null,null,null,null,null,null,1.5000000000000004E-5,null,null,null,0,1.5000000000000004E-5,{"$f":"COUNTIFS('C-E'!$B$13:$B$1001,CAD_AREA!$CB27,'C-E'!$H$13:$H$1001,CAD_AREA!CG$12)","v":0},{"$f":"COUNTIFS('C-E'!$B$13:$B$1001,CAD_AREA!$CB27,'C-E'!$H$13:$H$1001,CAD_AREA!CH$12)","v":0}]
[1.6000000000000003E-5,null,null,1.6000000000000003E-5,{"$f":"COUNTIFS(PPRA!$C$13:$C$614,CAD_AREA!B28)","v":0},{"$f":"COUNTIFS(PPRA!$C$13:$C$614,CAD_AREA!$B28,PPRA!$D$13:$D$614,CAD_AREA!F$12)","v":0},{"$f":"COUNTIFS(PPRA!$C$13:$C$614,CAD_AREA!$B28,PPRA!$D$13:$D$614,CAD_AREA!G$12)","v":0},{"$f":"COUNTIFS(PPRA!$C$13:$C$614,CAD_AREA!$B28,PPRA!$D$13:$D$614,CAD_AREA!H$12)","v":0},{"$f":"COUNTIFS(PPRA!$C$13:$C$614,CAD_AREA!$B28,PPRA!$D$13:$D$614,CAD_AREA!I$12)","v":0},{"$f":"SUMIFS(PPRA!$A$13:$A$614,PPRA!$C$13:$C$614,CAD_AREA!B28)","v":0},0,{"$f":"COUNTIFS(CAD_AREA!$CD$13:$CD$113,CAD_AREA!$B$13:$B$113)","v":0},null,1.6000000000000003E-5,{"$f":"COUNTIFS('C-A'!$E$13:$E$1013,CAD_AREA!$B$13:$B$1013)","v":0},0,{"$f":"COUNTIFS('C-A'!$E$13:$E$1013,CAD_AREA!$P$13:$P$1013,'C-A'!$G$13:$G$1013,CAD_AREA!Q$12)","v":0},{"$f":"COUNTIFS('C-A'!$E$13:$E$1013,CAD_AREA!$P$13:$P$1013,'C-A'!$G$13:$G$1013,CAD_AREA!R$12)","v":0},{"$f":"COUNTIFS('C-A'!$E$13:$E$1013,CAD_AREA!$P$13:$P$1013,'C-A'!$G$13:$G$1013,CAD_AREA!S$12)","v":0},{"$f":"COUNTIFS('C-A'!$E$13:$E$1013,CAD_AREA!$P$13:$P$1013,'C-A'!$G$13:$G$1013,CAD_AREA!T$12)","v":0},0,{"$f":"U28/'C-A'!$P$13","v":0},null,1.6000000000000003E-5,0,1.6000000000000003E-5,{"$f":"COUNTIFS('C-E'!$D$13:$D$1001,CAD_AREA!$B$13:$B$513)","v":0},{"$f":"COUNTIFS('C-E'!$D$13:$D$1001,CAD_AREA!$Y28,'C-E'!$H$13:$H$1001,CAD_AREA!AB$12)","v":0},{"$f":"COUNTIFS('C-E'!$D$13:$D$1001,CAD_AREA!$Y28,'C-E'!$H$13:$H$1001,CAD_AREA!AC$12)","v":0},"",null,null,null,null,null,null,null,null,null,null,null,null,null,null,null,null,null,null,null,null,null,null,null,"",null,null,null,null,null,null,null,null,null,null,null,null,null,null,null,null,null,null,null,null,null,null,null,null,1.6000000000000003E-5,null,null,null,0,1.6000000000000003E-5,{"$f":"COUNTIFS('C-E'!$B$13:$B$1001,CAD_AREA!$CB28,'C-E'!$H$13:$H$1001,CAD_AREA!CG$12)","v":0},{"$f":"COUNTIFS('C-E'!$B$13:$B$1001,CAD_AREA!$CB28,'C-E'!$H$13:$H$1001,CAD_AREA!CH$12)","v":0}]
[1.7000000000000003E-5,null,null,1.7000000000000003E-5,{"$f":"COUNTIFS(PPRA!$C$13:$C$614,CAD_AREA!B29)","v":0},{"$f":"COUNTIFS(PPRA!$C$13:$C$614,CAD_AREA!$B29,PPRA!$D$13:$D$614,CAD_AREA!F$12)","v":0},{"$f":"COUNTIFS(PPRA!$C$13:$C$614,CAD_AREA!$B29,PPRA!$D$13:$D$614,CAD_AREA!G$12)","v":0},{"$f":"COUNTIFS(PPRA!$C$13:$C$614,CAD_AREA!$B29,PPRA!$D$13:$D$614,CAD_AREA!H$12)","v":0},{"$f":"COUNTIFS(PPRA!$C$13:$C$614,CAD_AREA!$B29,PPRA!$D$13:$D$614,CAD_AREA!I$12)","v":0},{"$f":"SUMIFS(PPRA!$A$13:$A$614,PPRA!$C$13:$C$614,CAD_AREA!B29)","v":0},0,{"$f":"COUNTIFS(CAD_AREA!$CD$13:$CD$113,CAD_AREA!$B$13:$B$113)","v":0},null,1.7000000000000003E-5,{"$f":"COUNTIFS('C-A'!$E$13:$E$1013,CAD_AREA!$B$13:$B$1013)","v":0},0,{"$f":"COUNTIFS('C-A'!$E$13:$E$1013,CAD_AREA!$P$13:$P$1013,'C-A'!$G$13:$G$1013,CAD_AREA!Q$12)","v":0},{"$f":"COUNTIFS('C-A'!$E$13:$E$1013,CAD_AREA!$P$13:$P$1013,'C-A'!$G$13:$G$1013,CAD_AREA!R$12)","v":0},{"$f":"COUNTIFS('C-A'!$E$13:$E$1013,CAD_AREA!$P$13:$P$1013,'C-A'!$G$13:$G$1013,CAD_AREA!S$12)","v":0},{"$f":"COUNTIFS('C-A'!$E$13:$E$1013,CAD_AREA!$P$13:$P$1013,'C-A'!$G$13:$G$1013,CAD_AREA!T$12)","v":0},0,{"$f":"U29/'C-A'!$P$13","v":0},null,1.7000000000000003E-5,0,1.7000000000000003E-5,{"$f":"COUNTIFS('C-E'!$D$13:$D$1001,CAD_AREA!$B$13:$B$513)","v":0},{"$f":"COUNTIFS('C-E'!$D$13:$D$1001,CAD_AREA!$Y29,'C-E'!$H$13:$H$1001,CAD_AREA!AB$12)","v":0},{"$f":"COUNTIFS('C-E'!$D$13:$D$1001,CAD_AREA!$Y29,'C-E'!$H$13:$H$1001,CAD_AREA!AC$12)","v":0},"",null,null,null,null,null,null,null,null,null,null,null,null,null,null,null,null,null,null,null,null,null,null,null,"",null,null,null,null,null,null,null,null,null,null,null,null,null,null,null,null,null,null,null,null,null,null,null,null,1.7000000000000003E-5,null,null,null,0,1.7000000000000003E-5,{"$f":"COUNTIFS('C-E'!$B$13:$B$1001,CAD_AREA!$CB29,'C-E'!$H$13:$H$1001,CAD_AREA!CG$12)","v":0},{"$f":"COUNTIFS('C-E'!$B$13:$B$1001,CAD_AREA!$CB29,'C-E'!$H$13:$H$1001,CAD_AREA!CH$12)","v":0}]
[1.8000000000000004E-5,null,null,1.8000000000000004E-5,{"$f":"COUNTIFS(PPRA!$C$13:$C$614,CAD_AREA!B30)","v":0},{"$f":"COUNTIFS(PPRA!$C$13:$C$614,CAD_AREA!$B30,PPRA!$D$13:$D$614,CAD_AREA!F$12)","v":0},{"$f":"COUNTIFS(PPRA!$C$13:$C$614,CAD_AREA!$B30,PPRA!$D$13:$D$614,CAD_AREA!G$12)","v":0},{"$f":"COUNTIFS(PPRA!$C$13:$C$614,CAD_AREA!$B30,PPRA!$D$13:$D$614,CAD_AREA!H$12)","v":0},{"$f":"COUNTIFS(PPRA!$C$13:$C$614,CAD_AREA!$B30,PPRA!$D$13:$D$614,CAD_AREA!I$12)","v":0},{"$f":"SUMIFS(PPRA!$A$13:$A$614,PPRA!$C$13:$C$614,CAD_AREA!B30)","v":0},0,{"$f":"COUNTIFS(CAD_AREA!$CD$13:$CD$113,CAD_AREA!$B$13:$B$113)","v":0},null,1.8000000000000004E-5,{"$f":"COUNTIFS('C-A'!$E$13:$E$1013,CAD_AREA!$B$13:$B$1013)","v":0},0,{"$f":"COUNTIFS('C-A'!$E$13:$E$1013,CAD_AREA!$P$13:$P$1013,'C-A'!$G$13:$G$1013,CAD_AREA!Q$12)","v":0},{"$f":"COUNTIFS('C-A'!$E$13:$E$1013,CAD_AREA!$P$13:$P$1013,'C-A'!$G$13:$G$1013,CAD_AREA!R$12)","v":0},{"$f":"COUNTIFS('C-A'!$E$13:$E$1013,CAD_AREA!$P$13:$P$1013,'C-A'!$G$13:$G$1013,CAD_AREA!S$12)","v":0},{"$f":"COUNTIFS('C-A'!$E$13:$E$1013,CAD_AREA!$P$13:$P$1013,'C-A'!$G$13:$G$1013,CAD_AREA!T$12)","v":0},0,{"$f":"U30/'C-A'!$P$13","v":0},null,1.8000000000000004E-5,0,1.8000000000000004E-5,{"$f":"COUNTIFS('C-E'!$D$13:$D$1001,CAD_AREA!$B$13:$B$513)","v":0},{"$f":"COUNTIFS('C-E'!$D$13:$D$1001,CAD_AREA!$Y30,'C-E'!$H$13:$H$1001,CAD_AREA!AB$12)","v":0},{"$f":"COUNTIFS('C-E'!$D$13:$D$1001,CAD_AREA!$Y30,'C-E'!$H$13:$H$1001,CAD_AREA!AC$12)","v":0},"",null,null,null,null,null,null,null,null,null,null,null,null,null,null,null,null,null,null,null,null,null,null,null,"",null,null,null,null,null,null,null,null,null,null,null,null,null,null,null,null,null,null,null,null,null,null,null,null,1.8000000000000004E-5,null,null,null,0,1.8000000000000004E-5,{"$f":"COUNTIFS('C-E'!$B$13:$B$1001,CAD_AREA!$CB30,'C-E'!$H$13:$H$1001,CAD_AREA!CG$12)","v":0},{"$f":"COUNTIFS('C-E'!$B$13:$B$1001,CAD_AREA!$CB30,'C-E'!$H$13:$H$1001,CAD_AREA!CH$12)","v":0}]
[1.9000000000000004E-5,null,null,1.9000000000000004E-5,{"$f":"COUNTIFS(PPRA!$C$13:$C$614,CAD_AREA!B31)","v":0},{"$f":"COUNTIFS(PPRA!$C$13:$C$614,CAD_AREA!$B31,PPRA!$D$13:$D$614,CAD_AREA!F$12)","v":0},{"$f":"COUNTIFS(PPRA!$C$13:$C$614,CAD_AREA!$B31,PPRA!$D$13:$D$614,CAD_AREA!G$12)","v":0},{"$f":"COUNTIFS(PPRA!$C$13:$C$614,CAD_AREA!$B31,PPRA!$D$13:$D$614,CAD_AREA!H$12)","v":0},{"$f":"COUNTIFS(PPRA!$C$13:$C$614,CAD_AREA!$B31,PPRA!$D$13:$D$614,CAD_AREA!I$12)","v":0},{"$f":"SUMIFS(PPRA!$A$13:$A$614,PPRA!$C$13:$C$614,CAD_AREA!B31)","v":0},0,{"$f":"COUNTIFS(CAD_AREA!$CD$13:$CD$113,CAD_AREA!$B$13:$B$113)","v":0},null,1.9000000000000004E-5,{"$f":"COUNTIFS('C-A'!$E$13:$E$1013,CAD_AREA!$B$13:$B$1013)","v":0},0,{"$f":"COUNTIFS('C-A'!$E$13:$E$1013,CAD_AREA!$P$13:$P$1013,'C-A'!$G$13:$G$1013,CAD_AREA!Q$12)","v":0},{"$f":"COUNTIFS('C-A'!$E$13:$E$1013,CAD_AREA!$P$13:$P$1013,'C-A'!$G$13:$G$1013,CAD_AREA!R$12)","v":0},{"$f":"COUNTIFS('C-A'!$E$13:$E$1013,CAD_AREA!$P$13:$P$1013,'C-A'!$G$13:$G$1013,CAD_AREA!S$12)","v":0},{"$f":"COUNTIFS('C-A'!$E$13:$E$1013,CAD_AREA!$P$13:$P$1013,'C-A'!$G$13:$G$1013,CAD_AREA!T$12)","v":0},0,{"$f":"U31/'C-A'!$P$13","v":0},null,1.9000000000000004E-5,0,1.9000000000000004E-5,{"$f":"COUNTIFS('C-E'!$D$13:$D$1001,CAD_AREA!$B$13:$B$513)","v":0},{"$f":"COUNTIFS('C-E'!$D$13:$D$1001,CAD_AREA!$Y31,'C-E'!$H$13:$H$1001,CAD_AREA!AB$12)","v":0},{"$f":"COUNTIFS('C-E'!$D$13:$D$1001,CAD_AREA!$Y31,'C-E'!$H$13:$H$1001,CAD_AREA!AC$12)","v":0},"",null,null,null,null,null,null,null,null,null,null,null,null,null,null,null,null,null,null,null,null,null,null,null,"",null,null,null,null,null,null,null,null,null,null,null,null,null,null,null,null,null,null,null,null,null,null,null,null,1.9000000000000004E-5,null,null,null,0,1.9000000000000004E-5,{"$f":"COUNTIFS('C-E'!$B$13:$B$1001,CAD_AREA!$CB31,'C-E'!$H$13:$H$1001,CAD_AREA!CG$12)","v":0},{"$f":"COUNTIFS('C-E'!$B$13:$B$1001,CAD_AREA!$CB31,'C-E'!$H$13:$H$1001,CAD_AREA!CH$12)","v":0}]
[2.0000000000000005E-5,null,null,2.0000000000000005E-5,{"$f":"COUNTIFS(PPRA!$C$13:$C$614,CAD_AREA!B32)","v":0},{"$f":"COUNTIFS(PPRA!$C$13:$C$614,CAD_AREA!$B32,PPRA!$D$13:$D$614,CAD_AREA!F$12)","v":0},{"$f":"COUNTIFS(PPRA!$C$13:$C$614,CAD_AREA!$B32,PPRA!$D$13:$D$614,CAD_AREA!G$12)","v":0},{"$f":"COUNTIFS(PPRA!$C$13:$C$614,CAD_AREA!$B32,PPRA!$D$13:$D$614,CAD_AREA!H$12)","v":0},{"$f":"COUNTIFS(PPRA!$C$13:$C$614,CAD_AREA!$B32,PPRA!$D$13:$D$614,CAD_AREA!I$12)","v":0},{"$f":"SUMIFS(PPRA!$A$13:$A$614,PPRA!$C$13:$C$614,CAD_AREA!B32)","v":0},0,{"$f":"COUNTIFS(CAD_AREA!$CD$13:$CD$113,CAD_AREA!$B$13:$B$113)","v":0},null,2.0000000000000005E-5,{"$f":"COUNTIFS('C-A'!$E$13:$E$1013,CAD_AREA!$B$13:$B$1013)","v":0},0,{"$f":"COUNTIFS('C-A'!$E$13:$E$1013,CAD_AREA!$P$13:$P$1013,'C-A'!$G$13:$G$1013,CAD_AREA!Q$12)","v":0},{"$f":"COUNTIFS('C-A'!$E$13:$E$1013,CAD_AREA!$P$13:$P$1013,'C-A'!$G$13:$G$1013,CAD_AREA!R$12)","v":0},{"$f":"COUNTIFS('C-A'!$E$13:$E$1013,CAD_AREA!$P$13:$P$1013,'C-A'!$G$13:$G$1013,CAD_AREA!S$12)","v":0},{"$f":"COUNTIFS('C-A'!$E$13:$E$1013,CAD_AREA!$P$13:$P$1013,'C-A'!$G$13:$G$1013,CAD_AREA!T$12)","v":0},0,{"$f":"U32/'C-A'!$P$13","v":0},null,2.0000000000000005E-5,0,2.0000000000000005E-5,{"$f":"COUNTIFS('C-E'!$D$13:$D$1001,CAD_AREA!$B$13:$B$513)","v":0},{"$f":"COUNTIFS('C-E'!$D$13:$D$1001,CAD_AREA!$Y32,'C-E'!$H$13:$H$1001,CAD_AREA!AB$12)","v":0},{"$f":"COUNTIFS('C-E'!$D$13:$D$1001,CAD_AREA!$Y32,'C-E'!$H$13:$H$1001,CAD_AREA!AC$12)","v":0},"",null,null,null,null,null,null,null,null,null,null,null,null,null,null,null,null,null,null,null,null,null,null,null,"",null,null,null,null,null,null,null,null,null,null,null,null,null,null,null,null,null,null,null,null,null,null,null,null,2.0000000000000005E-5,null,null,null,0,2.0000000000000005E-5,{"$f":"COUNTIFS('C-E'!$B$13:$B$1001,CAD_AREA!$CB32,'C-E'!$H$13:$H$1001,CAD_AREA!CG$12)","v":0},{"$f":"COUNTIFS('C-E'!$B$13:$B$1001,CAD_AREA!$CB32,'C-E'!$H$13:$H$1001,CAD_AREA!CH$12)","v":0}]
[2.1000000000000006E-5,null,null,2.1000000000000006E-5,{"$f":"COUNTIFS(PPRA!$C$13:$C$614,CAD_AREA!B33)","v":0},{"$f":"COUNTIFS(PPRA!$C$13:$C$614,CAD_AREA!$B33,PPRA!$D$13:$D$614,CAD_AREA!F$12)","v":0},{"$f":"COUNTIFS(PPRA!$C$13:$C$614,CAD_AREA!$B33,PPRA!$D$13:$D$614,CAD_AREA!G$12)","v":0},{"$f":"COUNTIFS(PPRA!$C$13:$C$614,CAD_AREA!$B33,PPRA!$D$13:$D$614,CAD_AREA!H$12)","v":0},{"$f":"COUNTIFS(PPRA!$C$13:$C$614,CAD_AREA!$B33,PPRA!$D$13:$D$614,CAD_AREA!I$12)","v":0},{"$f":"SUMIFS(PPRA!$A$13:$A$614,PPRA!$C$13:$C$614,CAD_AREA!B33)","v":0},0,{"$f":"COUNTIFS(CAD_AREA!$CD$13:$CD$113,CAD_AREA!$B$13:$B$113)","v":0},null,2.1000000000000006E-5,{"$f":"COUNTIFS('C-A'!$E$13:$E$1013,CAD_AREA!$B$13:$B$1013)","v":0},0,{"$f":"COUNTIFS('C-A'!$E$13:$E$1013,CAD_AREA!$P$13:$P$1013,'C-A'!$G$13:$G$1013,CAD_AREA!Q$12)","v":0},{"$f":"COUNTIFS('C-A'!$E$13:$E$1013,CAD_AREA!$P$13:$P$1013,'C-A'!$G$13:$G$1013,CAD_AREA!R$12)","v":0},{"$f":"COUNTIFS('C-A'!$E$13:$E$1013,CAD_AREA!$P$13:$P$1013,'C-A'!$G$13:$G$1013,CAD_AREA!S$12)","v":0},{"$f":"COUNTIFS('C-A'!$E$13:$E$1013,CAD_AREA!$P$13:$P$1013,'C-A'!$G$13:$G$1013,CAD_AREA!T$12)","v":0},0,{"$f":"U33/'C-A'!$P$13","v":0},null,2.1000000000000006E-5,0,2.1000000000000006E-5,{"$f":"COUNTIFS('C-E'!$D$13:$D$1001,CAD_AREA!$B$13:$B$513)","v":0},{"$f":"COUNTIFS('C-E'!$D$13:$D$1001,CAD_AREA!$Y33,'C-E'!$H$13:$H$1001,CAD_AREA!AB$12)","v":0},{"$f":"COUNTIFS('C-E'!$D$13:$D$1001,CAD_AREA!$Y33,'C-E'!$H$13:$H$1001,CAD_AREA!AC$12)","v":0},"",null,null,null,null,null,null,null,null,null,null,null,null,null,null,null,null,null,null,null,null,null,null,null,"",null,null,null,null,null,null,null,null,null,null,null,null,null,null,null,null,null,null,null,null,null,null,null,null,2.1000000000000006E-5,null,null,null,0,2.1000000000000006E-5,{"$f":"COUNTIFS('C-E'!$B$13:$B$1001,CAD_AREA!$CB33,'C-E'!$H$13:$H$1001,CAD_AREA!CG$12)","v":0},{"$f":"COUNTIFS('C-E'!$B$13:$B$1001,CAD_AREA!$CB33,'C-E'!$H$13:$H$1001,CAD_AREA!CH$12)","v":0}]
[2.2000000000000006E-5,null,null,2.2000000000000006E-5,{"$f":"COUNTIFS(PPRA!$C$13:$C$614,CAD_AREA!B34)","v":0},{"$f":"COUNTIFS(PPRA!$C$13:$C$614,CAD_AREA!$B34,PPRA!$D$13:$D$614,CAD_AREA!F$12)","v":0},{"$f":"COUNTIFS(PPRA!$C$13:$C$614,CAD_AREA!$B34,PPRA!$D$13:$D$614,CAD_AREA!G$12)","v":0},{"$f":"COUNTIFS(PPRA!$C$13:$C$614,CAD_AREA!$B34,PPRA!$D$13:$D$614,CAD_AREA!H$12)","v":0},{"$f":"COUNTIFS(PPRA!$C$13:$C$614,CAD_AREA!$B34,PPRA!$D$13:$D$614,CAD_AREA!I$12)","v":0},{"$f":"SUMIFS(PPRA!$A$13:$A$614,PPRA!$C$13:$C$614,CAD_AREA!B34)","v":0},0,{"$f":"COUNTIFS(CAD_AREA!$CD$13:$CD$113,CAD_AREA!$B$13:$B$113)","v":0},null,2.2000000000000006E-5,{"$f":"COUNTIFS('C-A'!$E$13:$E$1013,CAD_AREA!$B$13:$B$1013)","v":0},0,{"$f":"COUNTIFS('C-A'!$E$13:$E$1013,CAD_AREA!$P$13:$P$1013,'C-A'!$G$13:$G$1013,CAD_AREA!Q$12)","v":0},{"$f":"COUNTIFS('C-A'!$E$13:$E$1013,CAD_AREA!$P$13:$P$1013,'C-A'!$G$13:$G$1013,CAD_AREA!R$12)","v":0},{"$f":"COUNTIFS('C-A'!$E$13:$E$1013,CAD_AREA!$P$13:$P$1013,'C-A'!$G$13:$G$1013,CAD_AREA!S$12)","v":0},{"$f":"COUNTIFS('C-A'!$E$13:$E$1013,CAD_AREA!$P$13:$P$1013,'C-A'!$G$13:$G$1013,CAD_AREA!T$12)","v":0},0,{"$f":"U34/'C-A'!$P$13","v":0},null,2.2000000000000006E-5,0,2.2000000000000006E-5,{"$f":"COUNTIFS('C-E'!$D$13:$D$1001,CAD_AREA!$B$13:$B$513)","v":0},{"$f":"COUNTIFS('C-E'!$D$13:$D$1001,CAD_AREA!$Y34,'C-E'!$H$13:$H$1001,CAD_AREA!AB$12)","v":0},{"$f":"COUNTIFS('C-E'!$D$13:$D$1001,CAD_AREA!$Y34,'C-E'!$H$13:$H$1001,CAD_AREA!AC$12)","v":0},"",null,null,null,null,null,null,null,null,null,null,null,null,null,null,null,null,null,null,null,null,null,null,null,"",null,null,null,null,null,null,null,null,null,null,null,null,null,null,null,null,null,null,null,null,null,null,null,null,2.2000000000000006E-5,null,null,null,0,2.2000000000000006E-5,{"$f":"COUNTIFS('C-E'!$B$13:$B$1001,CAD_AREA!$CB34,'C-E'!$H$13:$H$1001,CAD_AREA!CG$12)","v":0},{"$f":"COUNTIFS('C-E'!$B$13:$B$1001,CAD_AREA!$CB34,'C-E'!$H$13:$H$1001,CAD_AREA!CH$12)","v":0}]
[2.3000000000000007E-5,null,null,2.3000000000000007E-5,{"$f":"COUNTIFS(PPRA!$C$13:$C$614,CAD_AREA!B35)","v":0},{"$f":"COUNTIFS(PPRA!$C$13:$C$614,CAD_AREA!$B35,PPRA!$D$13:$D$614,CAD_AREA!F$12)","v":0},{"$f":"COUNTIFS(PPRA!$C$13:$C$614,CAD_AREA!$B35,PPRA!$D$13:$D$614,CAD_AREA!G$12)","v":0},{"$f":"COUNTIFS(PPRA!$C$13:$C$614,CAD_AREA!$B35,PPRA!$D$13:$D$614,CAD_AREA!H$12)","v":0},{"$f":"COUNTIFS(PPRA!$C$13:$C$614,CAD_AREA!$B35,PPRA!$D$13:$D$614,CAD_AREA!I$12)","v":0},{"$f":"SUMIFS(PPRA!$A$13:$A$614,PPRA!$C$13:$C$614,CAD_AREA!B35)","v":0},0,{"$f":"COUNTIFS(CAD_AREA!$CD$13:$CD$113,CAD_AREA!$B$13:$B$113)","v":0},null,2.3000000000000007E-5,{"$f":"COUNTIFS('C-A'!$E$13:$E$1013,CAD_AREA!$B$13:$B$1013)","v":0},0,{"$f":"COUNTIFS('C-A'!$E$13:$E$1013,CAD_AREA!$P$13:$P$1013,'C-A'!$G$13:$G$1013,CAD_AREA!Q$12)","v":0},{"$f":"COUNTIFS('C-A'!$E$13:$E$1013,CAD_AREA!$P$13:$P$1013,'C-A'!$G$13:$G$1013,CAD_AREA!R$12)","v":0},{"$f":"COUNTIFS('C-A'!$E$13:$E$1013,CAD_AREA!$P$13:$P$1013,'C-A'!$G$13:$G$1013,CAD_AREA!S$12)","v":0},{"$f":"COUNTIFS('C-A'!$E$13:$E$1013,CAD_AREA!$P$13:$P$1013,'C-A'!$G$13:$G$1013,CAD_AREA!T$12)","v":0},0,{"$f":"U35/'C-A'!$P$13","v":0},null,2.3000000000000007E-5,0,2.3000000000000007E-5,{"$f":"COUNTIFS('C-E'!$D$13:$D$1001,CAD_AREA!$B$13:$B$513)","v":0},{"$f":"COUNTIFS('C-E'!$D$13:$D$1001,CAD_AREA!$Y35,'C-E'!$H$13:$H$1001,CAD_AREA!AB$12)","v":0},{"$f":"COUNTIFS('C-E'!$D$13:$D$1001,CAD_AREA!$Y35,'C-E'!$H$13:$H$1001,CAD_AREA!AC$12)","v":0},"",null,null,null,null,null,null,null,null,null,null,null,null,null,null,null,null,null,null,null,null,null,null,null,"",null,null,null,null,null,null,null,null,null,null,null,null,null,null,null,null,null,null,null,null,null,null,null,null,2.3000000000000007E-5,null,null,null,0,2.3000000000000007E-5,{"$f":"COUNTIFS('C-E'!$B$13:$B$1001,CAD_AREA!$CB35,'C-E'!$H$13:$H$1001,CAD_AREA!CG$12)","v":0},{"$f":"COUNTIFS('C-E'!$B$13:$B$1001,CAD_AREA!$CB35,'C-E'!$H$13:$H$1001,CAD_AREA!CH$12)","v":0}]
[2.4000000000000007E-5,null,null,2.4000000000000007E-5,{"$f":"COUNTIFS(PPRA!$C$13:$C$614,CAD_AREA!B36)","v":0},{"$f":"COUNTIFS(PPRA!$C$13:$C$614,CAD_AREA!$B36,PPRA!$D$13:$D$614,CAD_AREA!F$12)","v":0},{"$f":"COUNTIFS(PPRA!$C$13:$C$614,CAD_AREA!$B36,PPRA!$D$13:$D$614,CAD_AREA!G$12)","v":0},{"$f":"COUNTIFS(PPRA!$C$13:$C$614,CAD_AREA!$B36,PPRA!$D$13:$D$614,CAD_AREA!H$12)","v":0},{"$f":"COUNTIFS(PPRA!$C$13:$C$614,CAD_AREA!$B36,PPRA!$D$13:$D$614,CAD_AREA!I$12)","v":0},{"$f":"SUMIFS(PPRA!$A$13:$A$614,PPRA!$C$13:$C$614,CAD_AREA!B36)","v":0},0,{"$f":"COUNTIFS(CAD_AREA!$CD$13:$CD$113,CAD_AREA!$B$13:$B$113)","v":0},null,2.4000000000000007E-5,{"$f":"COUNTIFS('C-A'!$E$13:$E$1013,CAD_AREA!$B$13:$B$1013)","v":0},0,{"$f":"COUNTIFS('C-A'!$E$13:$E$1013,CAD_AREA!$P$13:$P$1013,'C-A'!$G$13:$G$1013,CAD_AREA!Q$12)","v":0},{"$f":"COUNTIFS('C-A'!$E$13:$E$1013,CAD_AREA!$P$13:$P$1013,'C-A'!$G$13:$G$1013,CAD_AREA!R$12)","v":0},{"$f":"COUNTIFS('C-A'!$E$13:$E$1013,CAD_AREA!$P$13:$P$1013,'C-A'!$G$13:$G$1013,CAD_AREA!S$12)","v":0},{"$f":"COUNTIFS('C-A'!$E$13:$E$1013,CAD_AREA!$P$13:$P$1013,'C-A'!$G$13:$G$1013,CAD_AREA!T$12)","v":0},0,{"$f":"U36/'C-A'!$P$13","v":0},null,2.4000000000000007E-5,0,2.4000000000000007E-5,{"$f":"COUNTIFS('C-E'!$D$13:$D$1001,CAD_AREA!$B$13:$B$513)","v":0},{"$f":"COUNTIFS('C-E'!$D$13:$D$1001,CAD_AREA!$Y36,'C-E'!$H$13:$H$1001,CAD_AREA!AB$12)","v":0},{"$f":"COUNTIFS('C-E'!$D$13:$D$1001,CAD_AREA!$Y36,'C-E'!$H$13:$H$1001,CAD_AREA!AC$12)","v":0},"",null,null,null,null,null,null,null,null,null,null,null,null,null,null,null,null,null,null,null,null,null,null,null,"",null,null,null,null,null,null,null,null,null,null,null,null,null,null,null,null,null,null,null,null,null,null,null,null,2.4000000000000007E-5,null,null,null,0,2.4000000000000007E-5,{"$f":"COUNTIFS('C-E'!$B$13:$B$1001,CAD_AREA!$CB36,'C-E'!$H$13:$H$1001,CAD_AREA!CG$12)","v":0},{"$f":"COUNTIFS('C-E'!$B$13:$B$1001,CAD_AREA!$CB36,'C-E'!$H$13:$H$1001,CAD_AREA!CH$12)","v":0}]
[2.5000000000000008E-5,null,null,2.5000000000000008E-5,{"$f":"COUNTIFS(PPRA!$C$13:$C$614,CAD_AREA!B37)","v":0},{"$f":"COUNTIFS(PPRA!$C$13:$C$614,CAD_AREA!$B37,PPRA!$D$13:$D$614,CAD_AREA!F$12)","v":0},{"$f":"COUNTIFS(PPRA!$C$13:$C$614,CAD_AREA!$B37,PPRA!$D$13:$D$614,CAD_AREA!G$12)","v":0},{"$f":"COUNTIFS(PPRA!$C$13:$C$614,CAD_AREA!$B37,PPRA!$D$13:$D$614,CAD_AREA!H$12)","v":0},{"$f":"COUNTIFS(PPRA!$C$13:$C$614,CAD_AREA!$B37,PPRA!$D$13:$D$614,CAD_AREA!I$12)","v":0},{"$f":"SUMIFS(PPRA!$A$13:$A$614,PPRA!$C$13:$C$614,CAD_AREA!B37)","v":0},0,{"$f":"COUNTIFS(CAD_AREA!$CD$13:$CD$113,CAD_AREA!$B$13:$B$113)","v":0},null,2.5000000000000008E-5,{"$f":"COUNTIFS('C-A'!$E$13:$E$1013,CAD_AREA!$B$13:$B$1013)","v":0},0,{"$f":"COUNTIFS('C-A'!$E$13:$E$1013,CAD_AREA!$P$13:$P$1013,'C-A'!$G$13:$G$1013,CAD_AREA!Q$12)","v":0},{"$f":"COUNTIFS('C-A'!$E$13:$E$1013,CAD_AREA!$P$13:$P$1013,'C-A'!$G$13:$G$1013,CAD_AREA!R$12)","v":0},{"$f":"COUNTIFS('C-A'!$E$13:$E$1013,CAD_AREA!$P$13:$P$1013,'C-A'!$G$13:$G$1013,CAD_AREA!S$12)","v":0},{"$f":"COUNTIFS('C-A'!$E$13:$E$1013,CAD_AREA!$P$13:$P$1013,'C-A'!$G$13:$G$1013,CAD_AREA!T$12)","v":0},0,{"$f":"U37/'C-A'!$P$13","v":0},null,2.5000000000000008E-5,0,2.5000000000000008E-5,{"$f":"COUNTIFS('C-E'!$D$13:$D$1001,CAD_AREA!$B$13:$B$513)","v":0},{"$f":"COUNTIFS('C-E'!$D$13:$D$1001,CAD_AREA!$Y37,'C-E'!$H$13:$H$1001,CAD_AREA!AB$12)","v":0},{"$f":"COUNTIFS('C-E'!$D$13:$D$1001,CAD_AREA!$Y37,'C-E'!$H$13:$H$1001,CAD_AREA!AC$12)","v":0},"",null,null,null,null,null,null,null,null,null,null,null,null,null,null,null,null,null,null,null,null,null,null,null,"",null,null,null,null,null,null,null,null,null,null,null,null,null,null,null,null,null,null,null,null,null,null,null,null,2.5000000000000008E-5,null,null,null,0,2.5000000000000008E-5,{"$f":"COUNTIFS('C-E'!$B$13:$B$1001,CAD_AREA!$CB37,'C-E'!$H$13:$H$1001,CAD_AREA!CG$12)","v":0},{"$f":"COUNTIFS('C-E'!$B$13:$B$1001,CAD_AREA!$CB37,'C-E'!$H$13:$H$1001,CAD_AREA!CH$12)","v":0}]
[2.6000000000000009E-5,null,null,2.6000000000000009E-5,{"$f":"COUNTIFS(PPRA!$C$13:$C$614,CAD_AREA!B38)","v":0},{"$f":"COUNTIFS(PPRA!$C$13:$C$614,CAD_AREA!$B38,PPRA!$D$13:$D$614,CAD_AREA!F$12)","v":0},{"$f":"COUNTIFS(PPRA!$C$13:$C$614,CAD_AREA!$B38,PPRA!$D$13:$D$614,CAD_AREA!G$12)","v":0},{"$f":"COUNTIFS(PPRA!$C$13:$C$614,CAD_AREA!$B38,PPRA!$D$13:$D$614,CAD_AREA!H$12)","v":0},{"$f":"COUNTIFS(PPRA!$C$13:$C$614,CAD_AREA!$B38,PPRA!$D$13:$D$614,CAD_AREA!I$12)","v":0},{"$f":"SUMIFS(PPRA!$A$13:$A$614,PPRA!$C$13:$C$614,CAD_AREA!B38)","v":0},0,{"$f":"COUNTIFS(CAD_AREA!$CD$13:$CD$113,CAD_AREA!$B$13:$B$113)","v":0},null,2.6000000000000009E-5,{"$f":"COUNTIFS('C-A'!$E$13:$E$1013,CAD_AREA!$B$13:$B$1013)","v":0},0,{"$f":"COUNTIFS('C-A'!$E$13:$E$1013,CAD_AREA!$P$13:$P$1013,'C-A'!$G$13:$G$1013,CAD_AREA!Q$12)","v":0},{"$f":"COUNTIFS('C-A'!$E$13:$E$1013,CAD_AREA!$P$13:$P$1013,'C-A'!$G$13:$G$1013,CAD_AREA!R$12)","v":0},{"$f":"COUNTIFS('C-A'!$E$13:$E$1013,CAD_AREA!$P$13:$P$1013,'C-A'!$G$13:$G$1013,CAD_AREA!S$12)","v":0},{"$f":"COUNTIFS('C-A'!$E$13:$E$1013,CAD_AREA!$P$13:$P$1013,'C-A'!$G$13:$G$1013,CAD_AREA!T$12)","v":0},0,{"$f":"U38/'C-A'!$P$13","v":0},null,2.6000000000000009E-5,0,2.6000000000000009E-5,{"$f":"COUNTIFS('C-E'!$D$13:$D$1001,CAD_AREA!$B$13:$B$513)","v":0},{"$f":"COUNTIFS('C-E'!$D$13:$D$1001,CAD_AREA!$Y38,'C-E'!$H$13:$H$1001,CAD_AREA!AB$12)","v":0},{"$f":"COUNTIFS('C-E'!$D$13:$D$1001,CAD_AREA!$Y38,'C-E'!$H$13:$H$1001,CAD_AREA!AC$12)","v":0},"",null,null,null,null,null,null,null,null,null,null,null,null,null,null,null,null,null,null,null,null,null,null,null,"",null,null,null,null,null,null,null,null,null,null,null,null,null,null,null,null,null,null,null,null,null,null,null,null,2.6000000000000009E-5,null,null,null,0,2.6000000000000009E-5,{"$f":"COUNTIFS('C-E'!$B$13:$B$1001,CAD_AREA!$CB38,'C-E'!$H$13:$H$1001,CAD_AREA!CG$12)","v":0},{"$f":"COUNTIFS('C-E'!$B$13:$B$1001,CAD_AREA!$CB38,'C-E'!$H$13:$H$1001,CAD_AREA!CH$12)","v":0}]
[2.7000000000000009E-5,null,null,2.7000000000000009E-5,{"$f":"COUNTIFS(PPRA!$C$13:$C$614,CAD_AREA!B39)","v":0},{"$f":"COUNTIFS(PPRA!$C$13:$C$614,CAD_AREA!$B39,PPRA!$D$13:$D$614,CAD_AREA!F$12)","v":0},{"$f":"COUNTIFS(PPRA!$C$13:$C$614,CAD_AREA!$B39,PPRA!$D$13:$D$614,CAD_AREA!G$12)","v":0},{"$f":"COUNTIFS(PPRA!$C$13:$C$614,CAD_AREA!$B39,PPRA!$D$13:$D$614,CAD_AREA!H$12)","v":0},{"$f":"COUNTIFS(PPRA!$C$13:$C$614,CAD_AREA!$B39,PPRA!$D$13:$D$614,CAD_AREA!I$12)","v":0},{"$f":"SUMIFS(PPRA!$A$13:$A$614,PPRA!$C$13:$C$614,CAD_AREA!B39)","v":0},0,{"$f":"COUNTIFS(CAD_AREA!$CD$13:$CD$113,CAD_AREA!$B$13:$B$113)","v":0},null,2.7000000000000009E-5,{"$f":"COUNTIFS('C-A'!$E$13:$E$1013,CAD_AREA!$B$13:$B$1013)","v":0},0,{"$f":"COUNTIFS('C-A'!$E$13:$E$1013,CAD_AREA!$P$13:$P$1013,'C-A'!$G$13:$G$1013,CAD_AREA!Q$12)","v":0},{"$f":"COUNTIFS('C-A'!$E$13:$E$1013,CAD_AREA!$P$13:$P$1013,'C-A'!$G$13:$G$1013,CAD_AREA!R$12)","v":0},{"$f":"COUNTIFS('C-A'!$E$13:$E$1013,CAD_AREA!$P$13:$P$1013,'C-A'!$G$13:$G$1013,CAD_AREA!S$12)","v":0},{"$f":"COUNTIFS('C-A'!$E$13:$E$1013,CAD_AREA!$P$13:$P$1013,'C-A'!$G$13:$G$1013,CAD_AREA!T$12)","v":0},0,{"$f":"U39/'C-A'!$P$13","v":0},null,2.7000000000000009E-5,0,2.7000000000000009E-5,{"$f":"COUNTIFS('C-E'!$D$13:$D$1001,CAD_AREA!$B$13:$B$513)","v":0},{"$f":"COUNTIFS('C-E'!$D$13:$D$1001,CAD_AREA!$Y39,'C-E'!$H$13:$H$1001,CAD_AREA!AB$12)","v":0},{"$f":"COUNTIFS('C-E'!$D$13:$D$1001,CAD_AREA!$Y39,'C-E'!$H$13:$H$1001,CAD_AREA!AC$12)","v":0},"",null,null,null,null,null,null,null,null,null,null,null,null,null,null,null,null,null,null,null,null,null,null,null,"",null,null,null,null,null,null,null,null,null,null,null,null,null,null,null,null,null,null,null,null,null,null,null,null,2.7000000000000009E-5,null,null,null,0,2.7000000000000009E-5,{"$f":"COUNTIFS('C-E'!$B$13:$B$1001,CAD_AREA!$CB39,'C-E'!$H$13:$H$1001,CAD_AREA!CG$12)","v":0},{"$f":"COUNTIFS('C-E'!$B$13:$B$1001,CAD_AREA!$CB39,'C-E'!$H$13:$H$1001,CAD_AREA!CH$12)","v":0}]
[2.800000000000001E-5,null,null,2.800000000000001E-5,{"$f":"COUNTIFS(PPRA!$C$13:$C$614,CAD_AREA!B40)","v":0},{"$f":"COUNTIFS(PPRA!$C$13:$C$614,CAD_AREA!$B40,PPRA!$D$13:$D$614,CAD_AREA!F$12)","v":0},{"$f":"COUNTIFS(PPRA!$C$13:$C$614,CAD_AREA!$B40,PPRA!$D$13:$D$614,CAD_AREA!G$12)","v":0},{"$f":"COUNTIFS(PPRA!$C$13:$C$614,CAD_AREA!$B40,PPRA!$D$13:$D$614,CAD_AREA!H$12)","v":0},{"$f":"COUNTIFS(PPRA!$C$13:$C$614,CAD_AREA!$B40,PPRA!$D$13:$D$614,CAD_AREA!I$12)","v":0},{"$f":"SUMIFS(PPRA!$A$13:$A$614,PPRA!$C$13:$C$614,CAD_AREA!B40)","v":0},0,{"$f":"COUNTIFS(CAD_AREA!$CD$13:$CD$113,CAD_AREA!$B$13:$B$113)","v":0},null,2.800000000000001E-5,{"$f":"COUNTIFS('C-A'!$E$13:$E$1013,CAD_AREA!$B$13:$B$1013)","v":0},0,{"$f":"COUNTIFS('C-A'!$E$13:$E$1013,CAD_AREA!$P$13:$P$1013,'C-A'!$G$13:$G$1013,CAD_AREA!Q$12)","v":0},{"$f":"COUNTIFS('C-A'!$E$13:$E$1013,CAD_AREA!$P$13:$P$1013,'C-A'!$G$13:$G$1013,CAD_AREA!R$12)","v":0},{"$f":"COUNTIFS('C-A'!$E$13:$E$1013,CAD_AREA!$P$13:$P$1013,'C-A'!$G$13:$G$1013,CAD_AREA!S$12)","v":0},{"$f":"COUNTIFS('C-A'!$E$13:$E$1013,CAD_AREA!$P$13:$P$1013,'C-A'!$G$13:$G$1013,CAD_AREA!T$12)","v":0},0,{"$f":"U40/'C-A'!$P$13","v":0},null,2.800000000000001E-5,0,2.800000000000001E-5,{"$f":"COUNTIFS('C-E'!$D$13:$D$1001,CAD_AREA!$B$13:$B$513)","v":0},{"$f":"COUNTIFS('C-E'!$D$13:$D$1001,CAD_AREA!$Y40,'C-E'!$H$13:$H$1001,CAD_AREA!AB$12)","v":0},{"$f":"COUNTIFS('C-E'!$D$13:$D$1001,CAD_AREA!$Y40,'C-E'!$H$13:$H$1001,CAD_AREA!AC$12)","v":0},"",null,null,null,null,null,null,null,null,null,null,null,null,null,null,null,null,null,null,null,null,null,null,null,"",null,null,null,null,null,null,null,null,null,null,null,null,null,null,null,null,null,null,null,null,null,null,null,null,2.800000000000001E-5,null,null,null,0,2.800000000000001E-5,{"$f":"COUNTIFS('C-E'!$B$13:$B$1001,CAD_AREA!$CB40,'C-E'!$H$13:$H$1001,CAD_AREA!CG$12)","v":0},{"$f":"COUNTIFS('C-E'!$B$13:$B$1001,CAD_AREA!$CB40,'C-E'!$H$13:$H$1001,CAD_AREA!CH$12)","v":0}]
[2.900000000000001E-5,null,null,2.900000000000001E-5,{"$f":"COUNTIFS(PPRA!$C$13:$C$614,CAD_AREA!B41)","v":0},{"$f":"COUNTIFS(PPRA!$C$13:$C$614,CAD_AREA!$B41,PPRA!$D$13:$D$614,CAD_AREA!F$12)","v":0},{"$f":"COUNTIFS(PPRA!$C$13:$C$614,CAD_AREA!$B41,PPRA!$D$13:$D$614,CAD_AREA!G$12)","v":0},{"$f":"COUNTIFS(PPRA!$C$13:$C$614,CAD_AREA!$B41,PPRA!$D$13:$D$614,CAD_AREA!H$12)","v":0},{"$f":"COUNTIFS(PPRA!$C$13:$C$614,CAD_AREA!$B41,PPRA!$D$13:$D$614,CAD_AREA!I$12)","v":0},{"$f":"SUMIFS(PPRA!$A$13:$A$614,PPRA!$C$13:$C$614,CAD_AREA!B41)","v":0},0,{"$f":"COUNTIFS(CAD_AREA!$CD$13:$CD$113,CAD_AREA!$B$13:$B$113)","v":0},null,2.900000000000001E-5,{"$f":"COUNTIFS('C-A'!$E$13:$E$1013,CAD_AREA!$B$13:$B$1013)","v":0},0,{"$f":"COUNTIFS('C-A'!$E$13:$E$1013,CAD_AREA!$P$13:$P$1013,'C-A'!$G$13:$G$1013,CAD_AREA!Q$12)","v":0},{"$f":"COUNTIFS('C-A'!$E$13:$E$1013,CAD_AREA!$P$13:$P$1013,'C-A'!$G$13:$G$1013,CAD_AREA!R$12)","v":0},{"$f":"COUNTIFS('C-A'!$E$13:$E$1013,CAD_AREA!$P$13:$P$1013,'C-A'!$G$13:$G$1013,CAD_AREA!S$12)","v":0},{"$f":"COUNTIFS('C-A'!$E$13:$E$1013,CAD_AREA!$P$13:$P$1013,'C-A'!$G$13:$G$1013,CAD_AREA!T$12)","v":0},0,{"$f":"U41/'C-A'!$P$13","v":0},null,2.900000000000001E-5,0,2.900000000000001E-5,{"$f":"COUNTIFS('C-E'!$D$13:$D$1001,CAD_AREA!$B$13:$B$513)","v":0},{"$f":"COUNTIFS('C-E'!$D$13:$D$1001,CAD_AREA!$Y41,'C-E'!$H$13:$H$1001,CAD_AREA!AB$12)","v":0},{"$f":"COUNTIFS('C-E'!$D$13:$D$1001,CAD_AREA!$Y41,'C-E'!$H$13:$H$1001,CAD_AREA!AC$12)","v":0},"",null,null,null,null,null,null,null,null,null,null,null,null,null,null,null,null,null,null,null,null,null,null,null,"",null,null,null,null,null,null,null,null,null,null,null,null,null,null,null,null,null,null,null,null,null,null,null,null,2.900000000000001E-5,null,null,null,0,2.900000000000001E-5,{"$f":"COUNTIFS('C-E'!$B$13:$B$1001,CAD_AREA!$CB41,'C-E'!$H$13:$H$1001,CAD_AREA!CG$12)","v":0},{"$f":"COUNTIFS('C-E'!$B$13:$B$1001,CAD_AREA!$CB41,'C-E'!$H$13:$H$1001,CAD_AREA!CH$12)","v":0}]
[3.0000000000000011E-5,null,null,3.0000000000000011E-5,{"$f":"COUNTIFS(PPRA!$C$13:$C$614,CAD_AREA!B42)","v":0},{"$f":"COUNTIFS(PPRA!$C$13:$C$614,CAD_AREA!$B42,PPRA!$D$13:$D$614,CAD_AREA!F$12)","v":0},{"$f":"COUNTIFS(PPRA!$C$13:$C$614,CAD_AREA!$B42,PPRA!$D$13:$D$614,CAD_AREA!G$12)","v":0},{"$f":"COUNTIFS(PPRA!$C$13:$C$614,CAD_AREA!$B42,PPRA!$D$13:$D$614,CAD_AREA!H$12)","v":0},{"$f":"COUNTIFS(PPRA!$C$13:$C$614,CAD_AREA!$B42,PPRA!$D$13:$D$614,CAD_AREA!I$12)","v":0},{"$f":"SUMIFS(PPRA!$A$13:$A$614,PPRA!$C$13:$C$614,CAD_AREA!B42)","v":0},0,{"$f":"COUNTIFS(CAD_AREA!$CD$13:$CD$113,CAD_AREA!$B$13:$B$113)","v":0},null,3.0000000000000011E-5,{"$f":"COUNTIFS('C-A'!$E$13:$E$1013,CAD_AREA!$B$13:$B$1013)","v":0},0,{"$f":"COUNTIFS('C-A'!$E$13:$E$1013,CAD_AREA!$P$13:$P$1013,'C-A'!$G$13:$G$1013,CAD_AREA!Q$12)","v":0},{"$f":"COUNTIFS('C-A'!$E$13:$E$1013,CAD_AREA!$P$13:$P$1013,'C-A'!$G$13:$G$1013,CAD_AREA!R$12)","v":0},{"$f":"COUNTIFS('C-A'!$E$13:$E$1013,CAD_AREA!$P$13:$P$1013,'C-A'!$G$13:$G$1013,CAD_AREA!S$12)","v":0},{"$f":"COUNTIFS('C-A'!$E$13:$E$1013,CAD_AREA!$P$13:$P$1013,'C-A'!$G$13:$G$1013,CAD_AREA!T$12)","v":0},0,{"$f":"U42/'C-A'!$P$13","v":0},null,3.0000000000000011E-5,0,3.0000000000000011E-5,{"$f":"COUNTIFS('C-E'!$D$13:$D$1001,CAD_AREA!$B$13:$B$513)","v":0},{"$f":"COUNTIFS('C-E'!$D$13:$D$1001,CAD_AREA!$Y42,'C-E'!$H$13:$H$1001,CAD_AREA!AB$12)","v":0},{"$f":"COUNTIFS('C-E'!$D$13:$D$1001,CAD_AREA!$Y42,'C-E'!$H$13:$H$1001,CAD_AREA!AC$12)","v":0},"",null,null,null,null,null,null,null,null,null,null,null,null,null,null,null,null,null,null,null,null,null,null,null,"",null,null,null,null,null,null,null,null,null,null,null,null,null,null,null,null,null,null,null,null,null,null,null,null,3.0000000000000011E-5,null,null,null,0,3.0000000000000011E-5,{"$f":"COUNTIFS('C-E'!$B$13:$B$1001,CAD_AREA!$CB42,'C-E'!$H$13:$H$1001,CAD_AREA!CG$12)","v":0},{"$f":"COUNTIFS('C-E'!$B$13:$B$1001,CAD_AREA!$CB42,'C-E'!$H$13:$H$1001,CAD_AREA!CH$12)","v":0}]
[3.1000000000000008E-5,null,null,3.1000000000000008E-5,{"$f":"COUNTIFS(PPRA!$C$13:$C$614,CAD_AREA!B43)","v":0},{"$f":"COUNTIFS(PPRA!$C$13:$C$614,CAD_AREA!$B43,PPRA!$D$13:$D$614,CAD_AREA!F$12)","v":0},{"$f":"COUNTIFS(PPRA!$C$13:$C$614,CAD_AREA!$B43,PPRA!$D$13:$D$614,CAD_AREA!G$12)","v":0},{"$f":"COUNTIFS(PPRA!$C$13:$C$614,CAD_AREA!$B43,PPRA!$D$13:$D$614,CAD_AREA!H$12)","v":0},{"$f":"COUNTIFS(PPRA!$C$13:$C$614,CAD_AREA!$B43,PPRA!$D$13:$D$614,CAD_AREA!I$12)","v":0},{"$f":"SUMIFS(PPRA!$A$13:$A$614,PPRA!$C$13:$C$614,CAD_AREA!B43)","v":0},0,{"$f":"COUNTIFS(CAD_AREA!$CD$13:$CD$113,CAD_AREA!$B$13:$B$113)","v":0},null,3.1000000000000008E-5,{"$f":"COUNTIFS('C-A'!$E$13:$E$1013,CAD_AREA!$B$13:$B$1013)","v":0},0,{"$f":"COUNTIFS('C-A'!$E$13:$E$1013,CAD_AREA!$P$13:$P$1013,'C-A'!$G$13:$G$1013,CAD_AREA!Q$12)","v":0},{"$f":"COUNTIFS('C-A'!$E$13:$E$1013,CAD_AREA!$P$13:$P$1013,'C-A'!$G$13:$G$1013,CAD_AREA!R$12)","v":0},{"$f":"COUNTIFS('C-A'!$E$13:$E$1013,CAD_AREA!$P$13:$P$1013,'C-A'!$G$13:$G$1013,CAD_AREA!S$12)","v":0},{"$f":"COUNTIFS('C-A'!$E$13:$E$1013,CAD_AREA!$P$13:$P$1013,'C-A'!$G$13:$G$1013,CAD_AREA!T$12)","v":0},0,{"$f":"U43/'C-A'!$P$13","v":0},null,3.1000000000000008E-5,0,3.1000000000000008E-5,{"$f":"COUNTIFS('C-E'!$D$13:$D$1001,CAD_AREA!$B$13:$B$513)","v":0},{"$f":"COUNTIFS('C-E'!$D$13:$D$1001,CAD_AREA!$Y43,'C-E'!$H$13:$H$1001,CAD_AREA!AB$12)","v":0},{"$f":"COUNTIFS('C-E'!$D$13:$D$1001,CAD_AREA!$Y43,'C-E'!$H$13:$H$1001,CAD_AREA!AC$12)","v":0},"",null,null,null,null,null,null,null,null,null,null,null,null,null,null,null,null,null,null,null,null,null,null,null,"",null,null,null,null,null,null,null,null,null,null,null,null,null,null,null,null,null,null,null,null,null,null,null,null,3.1000000000000008E-5,null,null,null,0,3.1000000000000008E-5,{"$f":"COUNTIFS('C-E'!$B$13:$B$1001,CAD_AREA!$CB43,'C-E'!$H$13:$H$1001,CAD_AREA!CG$12)","v":0},{"$f":"COUNTIFS('C-E'!$B$13:$B$1001,CAD_AREA!$CB43,'C-E'!$H$13:$H$1001,CAD_AREA!CH$12)","v":0}]
[3.2000000000000005E-5,null,null,3.2000000000000005E-5,{"$f":"COUNTIFS(PPRA!$C$13:$C$614,CAD_AREA!B44)","v":0},{"$f":"COUNTIFS(PPRA!$C$13:$C$614,CAD_AREA!$B44,PPRA!$D$13:$D$614,CAD_AREA!F$12)","v":0},{"$f":"COUNTIFS(PPRA!$C$13:$C$614,CAD_AREA!$B44,PPRA!$D$13:$D$614,CAD_AREA!G$12)","v":0},{"$f":"COUNTIFS(PPRA!$C$13:$C$614,CAD_AREA!$B44,PPRA!$D$13:$D$614,CAD_AREA!H$12)","v":0},{"$f":"COUNTIFS(PPRA!$C$13:$C$614,CAD_AREA!$B44,PPRA!$D$13:$D$614,CAD_AREA!I$12)","v":0},{"$f":"SUMIFS(PPRA!$A$13:$A$614,PPRA!$C$13:$C$614,CAD_AREA!B44)","v":0},0,{"$f":"COUNTIFS(CAD_AREA!$CD$13:$CD$113,CAD_AREA!$B$13:$B$113)","v":0},null,3.2000000000000005E-5,{"$f":"COUNTIFS('C-A'!$E$13:$E$1013,CAD_AREA!$B$13:$B$1013)","v":0},0,{"$f":"COUNTIFS('C-A'!$E$13:$E$1013,CAD_AREA!$P$13:$P$1013,'C-A'!$G$13:$G$1013,CAD_AREA!Q$12)","v":0},{"$f":"COUNTIFS('C-A'!$E$13:$E$1013,CAD_AREA!$P$13:$P$1013,'C-A'!$G$13:$G$1013,CAD_AREA!R$12)","v":0},{"$f":"COUNTIFS('C-A'!$E$13:$E$1013,CAD_AREA!$P$13:$P$1013,'C-A'!$G$13:$G$1013,CAD_AREA!S$12)","v":0},{"$f":"COUNTIFS('C-A'!$E$13:$E$1013,CAD_AREA!$P$13:$P$1013,'C-A'!$G$13:$G$1013,CAD_AREA!T$12)","v":0},0,{"$f":"U44/'C-A'!$P$13","v":0},null,3.2000000000000005E-5,0,3.2000000000000005E-5,{"$f":"COUNTIFS('C-E'!$D$13:$D$1001,CAD_AREA!$B$13:$B$513)","v":0},{"$f":"COUNTIFS('C-E'!$D$13:$D$1001,CAD_AREA!$Y44,'C-E'!$H$13:$H$1001,CAD_AREA!AB$12)","v":0},{"$f":"COUNTIFS('C-E'!$D$13:$D$1001,CAD_AREA!$Y44,'C-E'!$H$13:$H$1001,CAD_AREA!AC$12)","v":0},"",null,null,null,null,null,null,null,null,null,null,null,null,null,null,null,null,null,null,null,null,null,null,null,"",null,null,null,null,null,null,null,null,null,null,null,null,null,null,null,null,null,null,null,null,null,null,null,null,3.2000000000000005E-5,null,null,null,0,3.2000000000000005E-5,{"$f":"COUNTIFS('C-E'!$B$13:$B$1001,CAD_AREA!$CB44,'C-E'!$H$13:$H$1001,CAD_AREA!CG$12)","v":0},{"$f":"COUNTIFS('C-E'!$B$13:$B$1001,CAD_AREA!$CB44,'C-E'!$H$13:$H$1001,CAD_AREA!CH$12)","v":0}]
[{"$f":"SUM(D45:E45)","v":3.3000000000000003E-5},null,null,3.3000000000000003E-5,{"$f":"COUNTIFS(PPRA!$C$13:$C$614,CAD_AREA!B45)","v":0},{"$f":"COUNTIFS(PPRA!$C$13:$C$614,CAD_AREA!$B45,PPRA!$D$13:$D$614,CAD_AREA!F$12)","v":0},{"$f":"COUNTIFS(PPRA!$C$13:$C$614,CAD_AREA!$B45,PPRA!$D$13:$D$614,CAD_AREA!G$12)","v":0},{"$f":"COUNTIFS(PPRA!$C$13:$C$614,CAD_AREA!$B45,PPRA!$D$13:$D$614,CAD_AREA!H$12)","v":0},{"$f":"COUNTIFS(PPRA!$C$13:$C$614,CAD_AREA!$B45,PPRA!$D$13:$D$614,CAD_AREA!I$12)","v":0},{"$f":"SUMIFS(PPRA!$A$13:$A$614,PPRA!$C$13:$C$614,CAD_AREA!B45)","v":0},0,{"$f":"COUNTIFS(CAD_AREA!$CD$13:$CD$113,CAD_AREA!$B$13:$B$113)","v":0},null,3.3000000000000003E-5,{"$f":"COUNTIFS('C-A'!$E$13:$E$1013,CAD_AREA!$B$13:$B$1013)","v":0},0,{"$f":"COUNTIFS('C-A'!$E$13:$E$1013,CAD_AREA!$P$13:$P$1013,'C-A'!$G$13:$G$1013,CAD_AREA!Q$12)","v":0},{"$f":"COUNTIFS('C-A'!$E$13:$E$1013,CAD_AREA!$P$13:$P$1013,'C-A'!$G$13:$G$1013,CAD_AREA!R$12)","v":0},{"$f":"COUNTIFS('C-A'!$E$13:$E$1013,CAD_AREA!$P$13:$P$1013,'C-A'!$G$13:$G$1013,CAD_AREA!S$12)","v":0},{"$f":"COUNTIFS('C-A'!$E$13:$E$1013,CAD_AREA!$P$13:$P$1013,'C-A'!$G$13:$G$1013,CAD_AREA!T$12)","v":0},0,{"$f":"U45/'C-A'!$P$13","v":0},null,3.3000000000000003E-5,0,3.3000000000000003E-5,{"$f":"COUNTIFS('C-E'!$D$13:$D$1001,CAD_AREA!$B$13:$B$513)","v":0},{"$f":"COUNTIFS('C-E'!$D$13:$D$1001,CAD_AREA!$Y45,'C-E'!$H$13:$H$1001,CAD_AREA!AB$12)","v":0},{"$f":"COUNTIFS('C-E'!$D$13:$D$1001,CAD_AREA!$Y45,'C-E'!$H$13:$H$1001,CAD_AREA!AC$12)","v":0},"",null,null,null,null,null,null,null,null,null,null,null,null,null,null,null,null,null,null,null,null,null,null,null,{"$f":"IF(BA45=\"\",\"\",BA45)","v":""},null,null,null,null,null,null,null,null,null,null,null,null,null,null,null,null,null,null,null,null,null,null,null,null,{"$f":"SUM(CF45,CH45)","v":3.3000000000000003E-5},null,null,null,{"$f":"CB45","v":0},3.3000000000000003E-5,{"$f":"COUNTIFS('C-E'!$B$13:$B$1001,CAD_AREA!$CB45,'C-E'!$H$13:$H$1001,CAD_AREA!CG$12)","v":0},{"$f":"COUNTIFS('C-E'!$B$13:$B$1001,CAD_AREA!$CB45,'C-E'!$H$13:$H$1001,CAD_AREA!CH$12)","v":0}]
[3.4E-5,null,null,3.4E-5,{"$f":"COUNTIFS(PPRA!$C$13:$C$614,CAD_AREA!B46)","v":0},{"$f":"COUNTIFS(PPRA!$C$13:$C$614,CAD_AREA!$B46,PPRA!$D$13:$D$614,CAD_AREA!F$12)","v":0},{"$f":"COUNTIFS(PPRA!$C$13:$C$614,CAD_AREA!$B46,PPRA!$D$13:$D$614,CAD_AREA!G$12)","v":0},{"$f":"COUNTIFS(PPRA!$C$13:$C$614,CAD_AREA!$B46,PPRA!$D$13:$D$614,CAD_AREA!H$12)","v":0},{"$f":"COUNTIFS(PPRA!$C$13:$C$614,CAD_AREA!$B46,PPRA!$D$13:$D$614,CAD_AREA!I$12)","v":0},{"$f":"SUMIFS(PPRA!$A$13:$A$614,PPRA!$C$13:$C$614,CAD_AREA!B46)","v":0},0,{"$f":"COUNTIFS(CAD_AREA!$CD$13:$CD$113,CAD_AREA!$B$13:$B$113)","v":0},null,3.4E-5,{"$f":"COUNTIFS('C-A'!$E$13:$E$1013,CAD_AREA!$B$13:$B$1013)","v":0},0,{"$f":"COUNTIFS('C-A'!$E$13:$E$1013,CAD_AREA!$P$13:$P$1013,'C-A'!$G$13:$G$1013,CAD_AREA!Q$12)","v":0},{"$f":"COUNTIFS('C-A'!$E$13:$E$1013,CAD_AREA!$P$13:$P$1013,'C-A'!$G$13:$G$1013,CAD_AREA!R$12)","v":0},{"$f":"COUNTIFS('C-A'!$E$13:$E$1013,CAD_AREA!$P$13:$P$1013,'C-A'!$G$13:$G$1013,CAD_AREA!S$12)","v":0},{"$f":"COUNTIFS('C-A'!$E$13:$E$1013,CAD_AREA!$P$13:$P$1013,'C-A'!$G$13:$G$1013,CAD_AREA!T$12)","v":0},0,{"$f":"U46/'C-A'!$P$13","v":0},null,3.4E-5,0,3.4E-5,{"$f":"COUNTIFS('C-E'!$D$13:$D$1001,CAD_AREA!$B$13:$B$513)","v":0},{"$f":"COUNTIFS('C-E'!$D$13:$D$1001,CAD_AREA!$Y46,'C-E'!$H$13:$H$1001,CAD_AREA!AB$12)","v":0},{"$f":"COUNTIFS('C-E'!$D$13:$D$1001,CAD_AREA!$Y46,'C-E'!$H$13:$H$1001,CAD_AREA!AC$12)","v":0},"",null,null,null,null,null,null,null,null,null,null,null,null,null,null,null,null,null,null,null,null,null,null,null,"",null,null,null,null,null,null,null,null,null,null,null,null,null,null,null,null,null,null,null,null,null,null,null,null,3.4E-5,null,null,null,0,{"$f":"CF45+$CF$13","v":3.4E-5},{"$f":"COUNTIFS('C-E'!$B$13:$B$1001,CAD_AREA!$CB46,'C-E'!$H$13:$H$1001,CAD_AREA!CG$12)","v":0},{"$f":"COUNTIFS('C-E'!$B$13:$B$1001,CAD_AREA!$CB46,'C-E'!$H$13:$H$1001,CAD_AREA!CH$12)","v":0}]
[3.4999999999999997E-5,null,null,3.4999999999999997E-5,{"$f":"COUNTIFS(PPRA!$C$13:$C$614,CAD_AREA!B47)","v":0},{"$f":"COUNTIFS(PPRA!$C$13:$C$614,CAD_AREA!$B47,PPRA!$D$13:$D$614,CAD_AREA!F$12)","v":0},{"$f":"COUNTIFS(PPRA!$C$13:$C$614,CAD_AREA!$B47,PPRA!$D$13:$D$614,CAD_AREA!G$12)","v":0},{"$f":"COUNTIFS(PPRA!$C$13:$C$614,CAD_AREA!$B47,PPRA!$D$13:$D$614,CAD_AREA!H$12)","v":0},{"$f":"COUNTIFS(PPRA!$C$13:$C$614,CAD_AREA!$B47,PPRA!$D$13:$D$614,CAD_AREA!I$12)","v":0},{"$f":"SUMIFS(PPRA!$A$13:$A$614,PPRA!$C$13:$C$614,CAD_AREA!B47)","v":0},0,{"$f":"COUNTIFS(CAD_AREA!$CD$13:$CD$113,CAD_AREA!$B$13:$B$113)","v":0},null,3.4999999999999997E-5,{"$f":"COUNTIFS('C-A'!$E$13:$E$1013,CAD_AREA!$B$13:$B$1013)","v":0},0,{"$f":"COUNTIFS('C-A'!$E$13:$E$1013,CAD_AREA!$P$13:$P$1013,'C-A'!$G$13:$G$1013,CAD_AREA!Q$12)","v":0},{"$f":"COUNTIFS('C-A'!$E$13:$E$1013,CAD_AREA!$P$13:$P$1013,'C-A'!$G$13:$G$1013,CAD_AREA!R$12)","v":0},{"$f":"COUNTIFS('C-A'!$E$13:$E$1013,CAD_AREA!$P$13:$P$1013,'C-A'!$G$13:$G$1013,CAD_AREA!S$12)","v":0},{"$f":"COUNTIFS('C-A'!$E$13:$E$1013,CAD_AREA!$P$13:$P$1013,'C-A'!$G$13:$G$1013,CAD_AREA!T$12)","v":0},0,{"$f":"U47/'C-A'!$P$13","v":0},null,3.4999999999999997E-5,0,3.4999999999999997E-5,{"$f":"COUNTIFS('C-E'!$D$13:$D$1001,CAD_AREA!$B$13:$B$513)","v":0},{"$f":"COUNTIFS('C-E'!$D$13:$D$1001,CAD_AREA!$Y47,'C-E'!$H$13:$H$1001,CAD_AREA!AB$12)","v":0},{"$f":"COUNTIFS('C-E'!$D$13:$D$1001,CAD_AREA!$Y47,'C-E'!$H$13:$H$1001,CAD_AREA!AC$12)","v":0},"",null,null,null,null,null,null,null,null,null,null,null,null,null,null,null,null,null,null,null,null,null,null,null,"",null,null,null,null,null,null,null,null,null,null,null,null,null,null,null,null,null,null,null,null,null,null,null,null,3.4999999999999997E-5,null,null,null,0,3.4999999999999997E-5,{"$f":"COUNTIFS('C-E'!$B$13:$B$1001,CAD_AREA!$CB47,'C-E'!$H$13:$H$1001,CAD_AREA!CG$12)","v":0},{"$f":"COUNTIFS('C-E'!$B$13:$B$1001,CAD_AREA!$CB47,'C-E'!$H$13:$H$1001,CAD_AREA!CH$12)","v":0}]
[3.5999999999999994E-5,null,null,3.5999999999999994E-5,{"$f":"COUNTIFS(PPRA!$C$13:$C$614,CAD_AREA!B48)","v":0},{"$f":"COUNTIFS(PPRA!$C$13:$C$614,CAD_AREA!$B48,PPRA!$D$13:$D$614,CAD_AREA!F$12)","v":0},{"$f":"COUNTIFS(PPRA!$C$13:$C$614,CAD_AREA!$B48,PPRA!$D$13:$D$614,CAD_AREA!G$12)","v":0},{"$f":"COUNTIFS(PPRA!$C$13:$C$614,CAD_AREA!$B48,PPRA!$D$13:$D$614,CAD_AREA!H$12)","v":0},{"$f":"COUNTIFS(PPRA!$C$13:$C$614,CAD_AREA!$B48,PPRA!$D$13:$D$614,CAD_AREA!I$12)","v":0},{"$f":"SUMIFS(PPRA!$A$13:$A$614,PPRA!$C$13:$C$614,CAD_AREA!B48)","v":0},0,{"$f":"COUNTIFS(CAD_AREA!$CD$13:$CD$113,CAD_AREA!$B$13:$B$113)","v":0},null,3.5999999999999994E-5,{"$f":"COUNTIFS('C-A'!$E$13:$E$1013,CAD_AREA!$B$13:$B$1013)","v":0},0,{"$f":"COUNTIFS('C-A'!$E$13:$E$1013,CAD_AREA!$P$13:$P$1013,'C-A'!$G$13:$G$1013,CAD_AREA!Q$12)","v":0},{"$f":"COUNTIFS('C-A'!$E$13:$E$1013,CAD_AREA!$P$13:$P$1013,'C-A'!$G$13:$G$1013,CAD_AREA!R$12)","v":0},{"$f":"COUNTIFS('C-A'!$E$13:$E$1013,CAD_AREA!$P$13:$P$1013,'C-A'!$G$13:$G$1013,CAD_AREA!S$12)","v":0},{"$f":"COUNTIFS('C-A'!$E$13:$E$1013,CAD_AREA!$P$13:$P$1013,'C-A'!$G$13:$G$1013,CAD_AREA!T$12)","v":0},0,{"$f":"U48/'C-A'!$P$13","v":0},null,3.5999999999999994E-5,0,3.5999999999999994E-5,{"$f":"COUNTIFS('C-E'!$D$13:$D$1001,CAD_AREA!$B$13:$B$513)","v":0},{"$f":"COUNTIFS('C-E'!$D$13:$D$1001,CAD_AREA!$Y48,'C-E'!$H$13:$H$1001,CAD_AREA!AB$12)","v":0},{"$f":"COUNTIFS('C-E'!$D$13:$D$1001,CAD_AREA!$Y48,'C-E'!$H$13:$H$1001,CAD_AREA!AC$12)","v":0},"",null,null,null,null,null,null,null,null,null,null,null,null,null,null,null,null,null,null,null,null,null,null,null,"",null,null,null,null,null,null,null,null,null,null,null,null,null,null,null,null,null,null,null,null,null,null,null,null,3.5999999999999994E-5,null,null,null,0,3.5999999999999994E-5,{"$f":"COUNTIFS('C-E'!$B$13:$B$1001,CAD_AREA!$CB48,'C-E'!$H$13:$H$1001,CAD_AREA!CG$12)","v":0},{"$f":"COUNTIFS('C-E'!$B$13:$B$1001,CAD_AREA!$CB48,'C-E'!$H$13:$H$1001,CAD_AREA!CH$12)","v":0}]
[3.6999999999999991E-5,null,null,3.6999999999999991E-5,{"$f":"COUNTIFS(PPRA!$C$13:$C$614,CAD_AREA!B49)","v":0},{"$f":"COUNTIFS(PPRA!$C$13:$C$614,CAD_AREA!$B49,PPRA!$D$13:$D$614,CAD_AREA!F$12)","v":0},{"$f":"COUNTIFS(PPRA!$C$13:$C$614,CAD_AREA!$B49,PPRA!$D$13:$D$614,CAD_AREA!G$12)","v":0},{"$f":"COUNTIFS(PPRA!$C$13:$C$614,CAD_AREA!$B49,PPRA!$D$13:$D$614,CAD_AREA!H$12)","v":0},{"$f":"COUNTIFS(PPRA!$C$13:$C$614,CAD_AREA!$B49,PPRA!$D$13:$D$614,CAD_AREA!I$12)","v":0},{"$f":"SUMIFS(PPRA!$A$13:$A$614,PPRA!$C$13:$C$614,CAD_AREA!B49)","v":0},0,{"$f":"COUNTIFS(CAD_AREA!$CD$13:$CD$113,CAD_AREA!$B$13:$B$113)","v":0},null,3.6999999999999991E-5,{"$f":"COUNTIFS('C-A'!$E$13:$E$1013,CAD_AREA!$B$13:$B$1013)","v":0},0,{"$f":"COUNTIFS('C-A'!$E$13:$E$1013,CAD_AREA!$P$13:$P$1013,'C-A'!$G$13:$G$1013,CAD_AREA!Q$12)","v":0},{"$f":"COUNTIFS('C-A'!$E$13:$E$1013,CAD_AREA!$P$13:$P$1013,'C-A'!$G$13:$G$1013,CAD_AREA!R$12)","v":0},{"$f":"COUNTIFS('C-A'!$E$13:$E$1013,CAD_AREA!$P$13:$P$1013,'C-A'!$G$13:$G$1013,CAD_AREA!S$12)","v":0},{"$f":"COUNTIFS('C-A'!$E$13:$E$1013,CAD_AREA!$P$13:$P$1013,'C-A'!$G$13:$G$1013,CAD_AREA!T$12)","v":0},0,{"$f":"U49/'C-A'!$P$13","v":0},null,3.6999999999999991E-5,0,3.6999999999999991E-5,{"$f":"COUNTIFS('C-E'!$D$13:$D$1001,CAD_AREA!$B$13:$B$513)","v":0},{"$f":"COUNTIFS('C-E'!$D$13:$D$1001,CAD_AREA!$Y49,'C-E'!$H$13:$H$1001,CAD_AREA!AB$12)","v":0},{"$f":"COUNTIFS('C-E'!$D$13:$D$1001,CAD_AREA!$Y49,'C-E'!$H$13:$H$1001,CAD_AREA!AC$12)","v":0},"",null,null,null,null,null,null,null,null,null,null,null,null,null,null,null,null,null,null,null,null,null,null,null,"",null,null,null,null,null,null,null,null,null,null,null,null,null,null,null,null,null,null,null,null,null,null,null,null,3.6999999999999991E-5,null,null,null,0,3.6999999999999991E-5,{"$f":"COUNTIFS('C-E'!$B$13:$B$1001,CAD_AREA!$CB49,'C-E'!$H$13:$H$1001,CAD_AREA!CG$12)","v":0},{"$f":"COUNTIFS('C-E'!$B$13:$B$1001,CAD_AREA!$CB49,'C-E'!$H$13:$H$1001,CAD_AREA!CH$12)","v":0}]
[3.7999999999999989E-5,null,null,3.7999999999999989E-5,{"$f":"COUNTIFS(PPRA!$C$13:$C$614,CAD_AREA!B50)","v":0},{"$f":"COUNTIFS(PPRA!$C$13:$C$614,CAD_AREA!$B50,PPRA!$D$13:$D$614,CAD_AREA!F$12)","v":0},{"$f":"COUNTIFS(PPRA!$C$13:$C$614,CAD_AREA!$B50,PPRA!$D$13:$D$614,CAD_AREA!G$12)","v":0},{"$f":"COUNTIFS(PPRA!$C$13:$C$614,CAD_AREA!$B50,PPRA!$D$13:$D$614,CAD_AREA!H$12)","v":0},{"$f":"COUNTIFS(PPRA!$C$13:$C$614,CAD_AREA!$B50,PPRA!$D$13:$D$614,CAD_AREA!I$12)","v":0},{"$f":"SUMIFS(PPRA!$A$13:$A$614,PPRA!$C$13:$C$614,CAD_AREA!B50)","v":0},0,{"$f":"COUNTIFS(CAD_AREA!$CD$13:$CD$113,CAD_AREA!$B$13:$B$113)","v":0},null,3.7999999999999989E-5,{"$f":"COUNTIFS('C-A'!$E$13:$E$1013,CAD_AREA!$B$13:$B$1013)","v":0},0,{"$f":"COUNTIFS('C-A'!$E$13:$E$1013,CAD_AREA!$P$13:$P$1013,'C-A'!$G$13:$G$1013,CAD_AREA!Q$12)","v":0},{"$f":"COUNTIFS('C-A'!$E$13:$E$1013,CAD_AREA!$P$13:$P$1013,'C-A'!$G$13:$G$1013,CAD_AREA!R$12)","v":0},{"$f":"COUNTIFS('C-A'!$E$13:$E$1013,CAD_AREA!$P$13:$P$1013,'C-A'!$G$13:$G$1013,CAD_AREA!S$12)","v":0},{"$f":"COUNTIFS('C-A'!$E$13:$E$1013,CAD_AREA!$P$13:$P$1013,'C-A'!$G$13:$G$1013,CAD_AREA!T$12)","v":0},0,{"$f":"U50/'C-A'!$P$13","v":0},null,3.7999999999999989E-5,0,3.7999999999999989E-5,{"$f":"COUNTIFS('C-E'!$D$13:$D$1001,CAD_AREA!$B$13:$B$513)","v":0},{"$f":"COUNTIFS('C-E'!$D$13:$D$1001,CAD_AREA!$Y50,'C-E'!$H$13:$H$1001,CAD_AREA!AB$12)","v":0},{"$f":"COUNTIFS('C-E'!$D$13:$D$1001,CAD_AREA!$Y50,'C-E'!$H$13:$H$1001,CAD_AREA!AC$12)","v":0},"",null,null,null,null,null,null,null,null,null,null,null,null,null,null,null,null,null,null,null,null,null,null,null,"",null,null,null,null,null,null,null,null,null,null,null,null,null,null,null,null,null,null,null,null,null,null,null,null,3.7999999999999989E-5,null,null,null,0,3.7999999999999989E-5,{"$f":"COUNTIFS('C-E'!$B$13:$B$1001,CAD_AREA!$CB50,'C-E'!$H$13:$H$1001,CAD_AREA!CG$12)","v":0},{"$f":"COUNTIFS('C-E'!$B$13:$B$1001,CAD_AREA!$CB50,'C-E'!$H$13:$H$1001,CAD_AREA!CH$12)","v":0}]
[3.8999999999999986E-5,null,null,3.8999999999999986E-5,{"$f":"COUNTIFS(PPRA!$C$13:$C$614,CAD_AREA!B51)","v":0},{"$f":"COUNTIFS(PPRA!$C$13:$C$614,CAD_AREA!$B51,PPRA!$D$13:$D$614,CAD_AREA!F$12)","v":0},{"$f":"COUNTIFS(PPRA!$C$13:$C$614,CAD_AREA!$B51,PPRA!$D$13:$D$614,CAD_AREA!G$12)","v":0},{"$f":"COUNTIFS(PPRA!$C$13:$C$614,CAD_AREA!$B51,PPRA!$D$13:$D$614,CAD_AREA!H$12)","v":0},{"$f":"COUNTIFS(PPRA!$C$13:$C$614,CAD_AREA!$B51,PPRA!$D$13:$D$614,CAD_AREA!I$12)","v":0},{"$f":"SUMIFS(PPRA!$A$13:$A$614,PPRA!$C$13:$C$614,CAD_AREA!B51)","v":0},0,{"$f":"COUNTIFS(CAD_AREA!$CD$13:$CD$113,CAD_AREA!$B$13:$B$113)","v":0},null,3.8999999999999986E-5,{"$f":"COUNTIFS('C-A'!$E$13:$E$1013,CAD_AREA!$B$13:$B$1013)","v":0},0,{"$f":"COUNTIFS('C-A'!$E$13:$E$1013,CAD_AREA!$P$13:$P$1013,'C-A'!$G$13:$G$1013,CAD_AREA!Q$12)","v":0},{"$f":"COUNTIFS('C-A'!$E$13:$E$1013,CAD_AREA!$P$13:$P$1013,'C-A'!$G$13:$G$1013,CAD_AREA!R$12)","v":0},{"$f":"COUNTIFS('C-A'!$E$13:$E$1013,CAD_AREA!$P$13:$P$1013,'C-A'!$G$13:$G$1013,CAD_AREA!S$12)","v":0},{"$f":"COUNTIFS('C-A'!$E$13:$E$1013,CAD_AREA!$P$13:$P$1013,'C-A'!$G$13:$G$1013,CAD_AREA!T$12)","v":0},0,{"$f":"U51/'C-A'!$P$13","v":0},null,3.8999999999999986E-5,0,3.8999999999999986E-5,{"$f":"COUNTIFS('C-E'!$D$13:$D$1001,CAD_AREA!$B$13:$B$513)","v":0},{"$f":"COUNTIFS('C-E'!$D$13:$D$1001,CAD_AREA!$Y51,'C-E'!$H$13:$H$1001,CAD_AREA!AB$12)","v":0},{"$f":"COUNTIFS('C-E'!$D$13:$D$1001,CAD_AREA!$Y51,'C-E'!$H$13:$H$1001,CAD_AREA!AC$12)","v":0},"",null,null,null,null,null,null,null,null,null,null,null,null,null,null,null,null,null,null,null,null,null,null,null,"",null,null,null,null,null,null,null,null,null,null,null,null,null,null,null,null,null,null,null,null,null,null,null,null,3.8999999999999986E-5,null,null,null,0,3.8999999999999986E-5,{"$f":"COUNTIFS('C-E'!$B$13:$B$1001,CAD_AREA!$CB51,'C-E'!$H$13:$H$1001,CAD_AREA!CG$12)","v":0},{"$f":"COUNTIFS('C-E'!$B$13:$B$1001,CAD_AREA!$CB51,'C-E'!$H$13:$H$1001,CAD_AREA!CH$12)","v":0}]
[3.9999999999999983E-5,null,null,3.9999999999999983E-5,{"$f":"COUNTIFS(PPRA!$C$13:$C$614,CAD_AREA!B52)","v":0},{"$f":"COUNTIFS(PPRA!$C$13:$C$614,CAD_AREA!$B52,PPRA!$D$13:$D$614,CAD_AREA!F$12)","v":0},{"$f":"COUNTIFS(PPRA!$C$13:$C$614,CAD_AREA!$B52,PPRA!$D$13:$D$614,CAD_AREA!G$12)","v":0},{"$f":"COUNTIFS(PPRA!$C$13:$C$614,CAD_AREA!$B52,PPRA!$D$13:$D$614,CAD_AREA!H$12)","v":0},{"$f":"COUNTIFS(PPRA!$C$13:$C$614,CAD_AREA!$B52,PPRA!$D$13:$D$614,CAD_AREA!I$12)","v":0},{"$f":"SUMIFS(PPRA!$A$13:$A$614,PPRA!$C$13:$C$614,CAD_AREA!B52)","v":0},0,{"$f":"COUNTIFS(CAD_AREA!$CD$13:$CD$113,CAD_AREA!$B$13:$B$113)","v":0},null,3.9999999999999983E-5,{"$f":"COUNTIFS('C-A'!$E$13:$E$1013,CAD_AREA!$B$13:$B$1013)","v":0},0,{"$f":"COUNTIFS('C-A'!$E$13:$E$1013,CAD_AREA!$P$13:$P$1013,'C-A'!$G$13:$G$1013,CAD_AREA!Q$12)","v":0},{"$f":"COUNTIFS('C-A'!$E$13:$E$1013,CAD_AREA!$P$13:$P$1013,'C-A'!$G$13:$G$1013,CAD_AREA!R$12)","v":0},{"$f":"COUNTIFS('C-A'!$E$13:$E$1013,CAD_AREA!$P$13:$P$1013,'C-A'!$G$13:$G$1013,CAD_AREA!S$12)","v":0},{"$f":"COUNTIFS('C-A'!$E$13:$E$1013,CAD_AREA!$P$13:$P$1013,'C-A'!$G$13:$G$1013,CAD_AREA!T$12)","v":0},0,{"$f":"U52/'C-A'!$P$13","v":0},null,3.9999999999999983E-5,0,3.9999999999999983E-5,{"$f":"COUNTIFS('C-E'!$D$13:$D$1001,CAD_AREA!$B$13:$B$513)","v":0},{"$f":"COUNTIFS('C-E'!$D$13:$D$1001,CAD_AREA!$Y52,'C-E'!$H$13:$H$1001,CAD_AREA!AB$12)","v":0},{"$f":"COUNTIFS('C-E'!$D$13:$D$1001,CAD_AREA!$Y52,'C-E'!$H$13:$H$1001,CAD_AREA!AC$12)","v":0},"",null,null,null,null,null,null,null,null,null,null,null,null,null,null,null,null,null,null,null,null,null,null,null,"",null,null,null,null,null,null,null,null,null,null,null,null,null,null,null,null,null,null,null,null,null,null,null,null,3.9999999999999983E-5,null,null,null,0,3.9999999999999983E-5,{"$f":"COUNTIFS('C-E'!$B$13:$B$1001,CAD_AREA!$CB52,'C-E'!$H$13:$H$1001,CAD_AREA!CG$12)","v":0},{"$f":"COUNTIFS('C-E'!$B$13:$B$1001,CAD_AREA!$CB52,'C-E'!$H$13:$H$1001,CAD_AREA!CH$12)","v":0}]
[4.099999999999998E-5,null,null,4.099999999999998E-5,{"$f":"COUNTIFS(PPRA!$C$13:$C$614,CAD_AREA!B53)","v":0},{"$f":"COUNTIFS(PPRA!$C$13:$C$614,CAD_AREA!$B53,PPRA!$D$13:$D$614,CAD_AREA!F$12)","v":0},{"$f":"COUNTIFS(PPRA!$C$13:$C$614,CAD_AREA!$B53,PPRA!$D$13:$D$614,CAD_AREA!G$12)","v":0},{"$f":"COUNTIFS(PPRA!$C$13:$C$614,CAD_AREA!$B53,PPRA!$D$13:$D$614,CAD_AREA!H$12)","v":0},{"$f":"COUNTIFS(PPRA!$C$13:$C$614,CAD_AREA!$B53,PPRA!$D$13:$D$614,CAD_AREA!I$12)","v":0},{"$f":"SUMIFS(PPRA!$A$13:$A$614,PPRA!$C$13:$C$614,CAD_AREA!B53)","v":0},0,{"$f":"COUNTIFS(CAD_AREA!$CD$13:$CD$113,CAD_AREA!$B$13:$B$113)","v":0},null,4.099999999999998E-5,{"$f":"COUNTIFS('C-A'!$E$13:$E$1013,CAD_AREA!$B$13:$B$1013)","v":0},0,{"$f":"COUNTIFS('C-A'!$E$13:$E$1013,CAD_AREA!$P$13:$P$1013,'C-A'!$G$13:$G$1013,CAD_AREA!Q$12)","v":0},{"$f":"COUNTIFS('C-A'!$E$13:$E$1013,CAD_AREA!$P$13:$P$1013,'C-A'!$G$13:$G$1013,CAD_AREA!R$12)","v":0},{"$f":"COUNTIFS('C-A'!$E$13:$E$1013,CAD_AREA!$P$13:$P$1013,'C-A'!$G$13:$G$1013,CAD_AREA!S$12)","v":0},{"$f":"COUNTIFS('C-A'!$E$13:$E$1013,CAD_AREA!$P$13:$P$1013,'C-A'!$G$13:$G$1013,CAD_AREA!T$12)","v":0},0,{"$f":"U53/'C-A'!$P$13","v":0},null,4.099999999999998E-5,0,4.099999999999998E-5,{"$f":"COUNTIFS('C-E'!$D$13:$D$1001,CAD_AREA!$B$13:$B$513)","v":0},{"$f":"COUNTIFS('C-E'!$D$13:$D$1001,CAD_AREA!$Y53,'C-E'!$H$13:$H$1001,CAD_AREA!AB$12)","v":0},{"$f":"COUNTIFS('C-E'!$D$13:$D$1001,CAD_AREA!$Y53,'C-E'!$H$13:$H$1001,CAD_AREA!AC$12)","v":0},"",null,null,null,null,null,null,null,null,null,null,null,null,null,null,null,null,null,null,null,null,null,null,null,"",null,null,null,null,null,null,null,null,null,null,null,null,null,null,null,null,null,null,null,null,null,null,null,null,4.099999999999998E-5,null,null,null,0,4.099999999999998E-5,{"$f":"COUNTIFS('C-E'!$B$13:$B$1001,CAD_AREA!$CB53,'C-E'!$H$13:$H$1001,CAD_AREA!CG$12)","v":0},{"$f":"COUNTIFS('C-E'!$B$13:$B$1001,CAD_AREA!$CB53,'C-E'!$H$13:$H$1001,CAD_AREA!CH$12)","v":0}]
[4.1999999999999977E-5,null,null,4.1999999999999977E-5,{"$f":"COUNTIFS(PPRA!$C$13:$C$614,CAD_AREA!B54)","v":0},{"$f":"COUNTIFS(PPRA!$C$13:$C$614,CAD_AREA!$B54,PPRA!$D$13:$D$614,CAD_AREA!F$12)","v":0},{"$f":"COUNTIFS(PPRA!$C$13:$C$614,CAD_AREA!$B54,PPRA!$D$13:$D$614,CAD_AREA!G$12)","v":0},{"$f":"COUNTIFS(PPRA!$C$13:$C$614,CAD_AREA!$B54,PPRA!$D$13:$D$614,CAD_AREA!H$12)","v":0},{"$f":"COUNTIFS(PPRA!$C$13:$C$614,CAD_AREA!$B54,PPRA!$D$13:$D$614,CAD_AREA!I$12)","v":0},{"$f":"SUMIFS(PPRA!$A$13:$A$614,PPRA!$C$13:$C$614,CAD_AREA!B54)","v":0},0,{"$f":"COUNTIFS(CAD_AREA!$CD$13:$CD$113,CAD_AREA!$B$13:$B$113)","v":0},null,4.1999999999999977E-5,{"$f":"COUNTIFS('C-A'!$E$13:$E$1013,CAD_AREA!$B$13:$B$1013)","v":0},0,{"$f":"COUNTIFS('C-A'!$E$13:$E$1013,CAD_AREA!$P$13:$P$1013,'C-A'!$G$13:$G$1013,CAD_AREA!Q$12)","v":0},{"$f":"COUNTIFS('C-A'!$E$13:$E$1013,CAD_AREA!$P$13:$P$1013,'C-A'!$G$13:$G$1013,CAD_AREA!R$12)","v":0},{"$f":"COUNTIFS('C-A'!$E$13:$E$1013,CAD_AREA!$P$13:$P$1013,'C-A'!$G$13:$G$1013,CAD_AREA!S$12)","v":0},{"$f":"COUNTIFS('C-A'!$E$13:$E$1013,CAD_AREA!$P$13:$P$1013,'C-A'!$G$13:$G$1013,CAD_AREA!T$12)","v":0},0,{"$f":"U54/'C-A'!$P$13","v":0},null,4.1999999999999977E-5,0,4.1999999999999977E-5,{"$f":"COUNTIFS('C-E'!$D$13:$D$1001,CAD_AREA!$B$13:$B$513)","v":0},{"$f":"COUNTIFS('C-E'!$D$13:$D$1001,CAD_AREA!$Y54,'C-E'!$H$13:$H$1001,CAD_AREA!AB$12)","v":0},{"$f":"COUNTIFS('C-E'!$D$13:$D$1001,CAD_AREA!$Y54,'C-E'!$H$13:$H$1001,CAD_AREA!AC$12)","v":0},"",null,null,null,null,null,null,null,null,null,null,null,null,null,null,null,null,null,null,null,null,null,null,null,"",null,null,null,null,null,null,null,null,null,null,null,null,null,null,null,null,null,null,null,null,null,null,null,null,4.1999999999999977E-5,null,null,null,0,4.1999999999999977E-5,{"$f":"COUNTIFS('C-E'!$B$13:$B$1001,CAD_AREA!$CB54,'C-E'!$H$13:$H$1001,CAD_AREA!CG$12)","v":0},{"$f":"COUNTIFS('C-E'!$B$13:$B$1001,CAD_AREA!$CB54,'C-E'!$H$13:$H$1001,CAD_AREA!CH$12)","v":0}]
[4.2999999999999975E-5,null,null,4.2999999999999975E-5,{"$f":"COUNTIFS(PPRA!$C$13:$C$614,CAD_AREA!B55)","v":0},{"$f":"COUNTIFS(PPRA!$C$13:$C$614,CAD_AREA!$B55,PPRA!$D$13:$D$614,CAD_AREA!F$12)","v":0},{"$f":"COUNTIFS(PPRA!$C$13:$C$614,CAD_AREA!$B55,PPRA!$D$13:$D$614,CAD_AREA!G$12)","v":0},{"$f":"COUNTIFS(PPRA!$C$13:$C$614,CAD_AREA!$B55,PPRA!$D$13:$D$614,CAD_AREA!H$12)","v":0},{"$f":"COUNTIFS(PPRA!$C$13:$C$614,CAD_AREA!$B55,PPRA!$D$13:$D$614,CAD_AREA!I$12)","v":0},{"$f":"SUMIFS(PPRA!$A$13:$A$614,PPRA!$C$13:$C$614,CAD_AREA!B55)","v":0},0,{"$f":"COUNTIFS(CAD_AREA!$CD$13:$CD$113,CAD_AREA!$B$13:$B$113)","v":0},null,4.2999999999999975E-5,{"$f":"COUNTIFS('C-A'!$E$13:$E$1013,CAD_AREA!$B$13:$B$1013)","v":0},0,{"$f":"COUNTIFS('C-A'!$E$13:$E$1013,CAD_AREA!$P$13:$P$1013,'C-A'!$G$13:$G$1013,CAD_AREA!Q$12)","v":0},{"$f":"COUNTIFS('C-A'!$E$13:$E$1013,CAD_AREA!$P$13:$P$1013,'C-A'!$G$13:$G$1013,CAD_AREA!R$12)","v":0},{"$f":"COUNTIFS('C-A'!$E$13:$E$1013,CAD_AREA!$P$13:$P$1013,'C-A'!$G$13:$G$1013,CAD_AREA!S$12)","v":0},{"$f":"COUNTIFS('C-A'!$E$13:$E$1013,CAD_AREA!$P$13:$P$1013,'C-A'!$G$13:$G$1013,CAD_AREA!T$12)","v":0},0,{"$f":"U55/'C-A'!$P$13","v":0},null,4.2999999999999975E-5,0,4.2999999999999975E-5,{"$f":"COUNTIFS('C-E'!$D$13:$D$1001,CAD_AREA!$B$13:$B$513)","v":0},{"$f":"COUNTIFS('C-E'!$D$13:$D$1001,CAD_AREA!$Y55,'C-E'!$H$13:$H$1001,CAD_AREA!AB$12)","v":0},{"$f":"COUNTIFS('C-E'!$D$13:$D$1001,CAD_AREA!$Y55,'C-E'!$H$13:$H$1001,CAD_AREA!AC$12)","v":0},"",null,null,null,null,null,null,null,null,null,null,null,null,null,null,null,null,null,null,null,null,null,null,null,"",null,null,null,null,null,null,null,null,null,null,null,null,null,null,null,null,null,null,null,null,null,null,null,null,4.2999999999999975E-5,null,null,null,0,4.2999999999999975E-5,{"$f":"COUNTIFS('C-E'!$B$13:$B$1001,CAD_AREA!$CB55,'C-E'!$H$13:$H$1001,CAD_AREA!CG$12)","v":0},{"$f":"COUNTIFS('C-E'!$B$13:$B$1001,CAD_AREA!$CB55,'C-E'!$H$13:$H$1001,CAD_AREA!CH$12)","v":0}]
[4.3999999999999972E-5,null,null,4.3999999999999972E-5,{"$f":"COUNTIFS(PPRA!$C$13:$C$614,CAD_AREA!B56)","v":0},{"$f":"COUNTIFS(PPRA!$C$13:$C$614,CAD_AREA!$B56,PPRA!$D$13:$D$614,CAD_AREA!F$12)","v":0},{"$f":"COUNTIFS(PPRA!$C$13:$C$614,CAD_AREA!$B56,PPRA!$D$13:$D$614,CAD_AREA!G$12)","v":0},{"$f":"COUNTIFS(PPRA!$C$13:$C$614,CAD_AREA!$B56,PPRA!$D$13:$D$614,CAD_AREA!H$12)","v":0},{"$f":"COUNTIFS(PPRA!$C$13:$C$614,CAD_AREA!$B56,PPRA!$D$13:$D$614,CAD_AREA!I$12)","v":0},{"$f":"SUMIFS(PPRA!$A$13:$A$614,PPRA!$C$13:$C$614,CAD_AREA!B56)","v":0},0,{"$f":"COUNTIFS(CAD_AREA!$CD$13:$CD$113,CAD_AREA!$B$13:$B$113)","v":0},null,4.3999999999999972E-5,{"$f":"COUNTIFS('C-A'!$E$13:$E$1013,CAD_AREA!$B$13:$B$1013)","v":0},0,{"$f":"COUNTIFS('C-A'!$E$13:$E$1013,CAD_AREA!$P$13:$P$1013,'C-A'!$G$13:$G$1013,CAD_AREA!Q$12)","v":0},{"$f":"COUNTIFS('C-A'!$E$13:$E$1013,CAD_AREA!$P$13:$P$1013,'C-A'!$G$13:$G$1013,CAD_AREA!R$12)","v":0},{"$f":"COUNTIFS('C-A'!$E$13:$E$1013,CAD_AREA!$P$13:$P$1013,'C-A'!$G$13:$G$1013,CAD_AREA!S$12)","v":0},{"$f":"COUNTIFS('C-A'!$E$13:$E$1013,CAD_AREA!$P$13:$P$1013,'C-A'!$G$13:$G$1013,CAD_AREA!T$12)","v":0},0,{"$f":"U56/'C-A'!$P$13","v":0},null,4.3999999999999972E-5,0,4.3999999999999972E-5,{"$f":"COUNTIFS('C-E'!$D$13:$D$1001,CAD_AREA!$B$13:$B$513)","v":0},{"$f":"COUNTIFS('C-E'!$D$13:$D$1001,CAD_AREA!$Y56,'C-E'!$H$13:$H$1001,CAD_AREA!AB$12)","v":0},{"$f":"COUNTIFS('C-E'!$D$13:$D$1001,CAD_AREA!$Y56,'C-E'!$H$13:$H$1001,CAD_AREA!AC$12)","v":0},"",null,null,null,null,null,null,null,null,null,null,null,null,null,null,null,null,null,null,null,null,null,null,null,"",null,null,null,null,null,null,null,null,null,null,null,null,null,null,null,null,null,null,null,null,null,null,null,null,4.3999999999999972E-5,null,null,null,0,4.3999999999999972E-5,{"$f":"COUNTIFS('C-E'!$B$13:$B$1001,CAD_AREA!$CB56,'C-E'!$H$13:$H$1001,CAD_AREA!CG$12)","v":0},{"$f":"COUNTIFS('C-E'!$B$13:$B$1001,CAD_AREA!$CB56,'C-E'!$H$13:$H$1001,CAD_AREA!CH$12)","v":0}]
[4.4999999999999969E-5,null,null,4.4999999999999969E-5,{"$f":"COUNTIFS(PPRA!$C$13:$C$614,CAD_AREA!B57)","v":0},{"$f":"COUNTIFS(PPRA!$C$13:$C$614,CAD_AREA!$B57,PPRA!$D$13:$D$614,CAD_AREA!F$12)","v":0},{"$f":"COUNTIFS(PPRA!$C$13:$C$614,CAD_AREA!$B57,PPRA!$D$13:$D$614,CAD_AREA!G$12)","v":0},{"$f":"COUNTIFS(PPRA!$C$13:$C$614,CAD_AREA!$B57,PPRA!$D$13:$D$614,CAD_AREA!H$12)","v":0},{"$f":"COUNTIFS(PPRA!$C$13:$C$614,CAD_AREA!$B57,PPRA!$D$13:$D$614,CAD_AREA!I$12)","v":0},{"$f":"SUMIFS(PPRA!$A$13:$A$614,PPRA!$C$13:$C$614,CAD_AREA!B57)","v":0},0,{"$f":"COUNTIFS(CAD_AREA!$CD$13:$CD$113,CAD_AREA!$B$13:$B$113)","v":0},null,4.4999999999999969E-5,{"$f":"COUNTIFS('C-A'!$E$13:$E$1013,CAD_AREA!$B$13:$B$1013)","v":0},0,{"$f":"COUNTIFS('C-A'!$E$13:$E$1013,CAD_AREA!$P$13:$P$1013,'C-A'!$G$13:$G$1013,CAD_AREA!Q$12)","v":0},{"$f":"COUNTIFS('C-A'!$E$13:$E$1013,CAD_AREA!$P$13:$P$1013,'C-A'!$G$13:$G$1013,CAD_AREA!R$12)","v":0},{"$f":"COUNTIFS('C-A'!$E$13:$E$1013,CAD_AREA!$P$13:$P$1013,'C-A'!$G$13:$G$1013,CAD_AREA!S$12)","v":0},{"$f":"COUNTIFS('C-A'!$E$13:$E$1013,CAD_AREA!$P$13:$P$1013,'C-A'!$G$13:$G$1013,CAD_AREA!T$12)","v":0},0,{"$f":"U57/'C-A'!$P$13","v":0},null,4.4999999999999969E-5,0,4.4999999999999969E-5,{"$f":"COUNTIFS('C-E'!$D$13:$D$1001,CAD_AREA!$B$13:$B$513)","v":0},{"$f":"COUNTIFS('C-E'!$D$13:$D$1001,CAD_AREA!$Y57,'C-E'!$H$13:$H$1001,CAD_AREA!AB$12)","v":0},{"$f":"COUNTIFS('C-E'!$D$13:$D$1001,CAD_AREA!$Y57,'C-E'!$H$13:$H$1001,CAD_AREA!AC$12)","v":0},"",null,null,null,null,null,null,null,null,null,null,null,null,null,null,null,null,null,null,null,null,null,null,null,"",null,null,null,null,null,null,null,null,null,null,null,null,null,null,null,null,null,null,null,null,null,null,null,null,4.4999999999999969E-5,null,null,null,0,4.4999999999999969E-5,{"$f":"COUNTIFS('C-E'!$B$13:$B$1001,CAD_AREA!$CB57,'C-E'!$H$13:$H$1001,CAD_AREA!CG$12)","v":0},{"$f":"COUNTIFS('C-E'!$B$13:$B$1001,CAD_AREA!$CB57,'C-E'!$H$13:$H$1001,CAD_AREA!CH$12)","v":0}]
[4.5999999999999966E-5,null,null,4.5999999999999966E-5,{"$f":"COUNTIFS(PPRA!$C$13:$C$614,CAD_AREA!B58)","v":0},{"$f":"COUNTIFS(PPRA!$C$13:$C$614,CAD_AREA!$B58,PPRA!$D$13:$D$614,CAD_AREA!F$12)","v":0},{"$f":"COUNTIFS(PPRA!$C$13:$C$614,CAD_AREA!$B58,PPRA!$D$13:$D$614,CAD_AREA!G$12)","v":0},{"$f":"COUNTIFS(PPRA!$C$13:$C$614,CAD_AREA!$B58,PPRA!$D$13:$D$614,CAD_AREA!H$12)","v":0},{"$f":"COUNTIFS(PPRA!$C$13:$C$614,CAD_AREA!$B58,PPRA!$D$13:$D$614,CAD_AREA!I$12)","v":0},{"$f":"SUMIFS(PPRA!$A$13:$A$614,PPRA!$C$13:$C$614,CAD_AREA!B58)","v":0},0,{"$f":"COUNTIFS(CAD_AREA!$CD$13:$CD$113,CAD_AREA!$B$13:$B$113)","v":0},null,4.5999999999999966E-5,{"$f":"COUNTIFS('C-A'!$E$13:$E$1013,CAD_AREA!$B$13:$B$1013)","v":0},0,{"$f":"COUNTIFS('C-A'!$E$13:$E$1013,CAD_AREA!$P$13:$P$1013,'C-A'!$G$13:$G$1013,CAD_AREA!Q$12)","v":0},{"$f":"COUNTIFS('C-A'!$E$13:$E$1013,CAD_AREA!$P$13:$P$1013,'C-A'!$G$13:$G$1013,CAD_AREA!R$12)","v":0},{"$f":"COUNTIFS('C-A'!$E$13:$E$1013,CAD_AREA!$P$13:$P$1013,'C-A'!$G$13:$G$1013,CAD_AREA!S$12)","v":0},{"$f":"COUNTIFS('C-A'!$E$13:$E$1013,CAD_AREA!$P$13:$P$1013,'C-A'!$G$13:$G$1013,CAD_AREA!T$12)","v":0},0,{"$f":"U58/'C-A'!$P$13","v":0},null,4.5999999999999966E-5,0,4.5999999999999966E-5,{"$f":"COUNTIFS('C-E'!$D$13:$D$1001,CAD_AREA!$B$13:$B$513)","v":0},{"$f":"COUNTIFS('C-E'!$D$13:$D$1001,CAD_AREA!$Y58,'C-E'!$H$13:$H$1001,CAD_AREA!AB$12)","v":0},{"$f":"COUNTIFS('C-E'!$D$13:$D$1001,CAD_AREA!$Y58,'C-E'!$H$13:$H$1001,CAD_AREA!AC$12)","v":0},"",null,null,null,null,null,null,null,null,null,null,null,null,null,null,null,null,null,null,null,null,null,null,null,"",null,null,null,null,null,null,null,null,null,null,null,null,null,null,null,null,null,null,null,null,null,null,null,null,4.5999999999999966E-5,null,null,null,0,4.5999999999999966E-5,{"$f":"COUNTIFS('C-E'!$B$13:$B$1001,CAD_AREA!$CB58,'C-E'!$H$13:$H$1001,CAD_AREA!CG$12)","v":0},{"$f":"COUNTIFS('C-E'!$B$13:$B$1001,CAD_AREA!$CB58,'C-E'!$H$13:$H$1001,CAD_AREA!CH$12)","v":0}]
[4.6999999999999963E-5,null,null,4.6999999999999963E-5,{"$f":"COUNTIFS(PPRA!$C$13:$C$614,CAD_AREA!B59)","v":0},{"$f":"COUNTIFS(PPRA!$C$13:$C$614,CAD_AREA!$B59,PPRA!$D$13:$D$614,CAD_AREA!F$12)","v":0},{"$f":"COUNTIFS(PPRA!$C$13:$C$614,CAD_AREA!$B59,PPRA!$D$13:$D$614,CAD_AREA!G$12)","v":0},{"$f":"COUNTIFS(PPRA!$C$13:$C$614,CAD_AREA!$B59,PPRA!$D$13:$D$614,CAD_AREA!H$12)","v":0},{"$f":"COUNTIFS(PPRA!$C$13:$C$614,CAD_AREA!$B59,PPRA!$D$13:$D$614,CAD_AREA!I$12)","v":0},{"$f":"SUMIFS(PPRA!$A$13:$A$614,PPRA!$C$13:$C$614,CAD_AREA!B59)","v":0},0,{"$f":"COUNTIFS(CAD_AREA!$CD$13:$CD$113,CAD_AREA!$B$13:$B$113)","v":0},null,4.6999999999999963E-5,{"$f":"COUNTIFS('C-A'!$E$13:$E$1013,CAD_AREA!$B$13:$B$1013)","v":0},0,{"$f":"COUNTIFS('C-A'!$E$13:$E$1013,CAD_AREA!$P$13:$P$1013,'C-A'!$G$13:$G$1013,CAD_AREA!Q$12)","v":0},{"$f":"COUNTIFS('C-A'!$E$13:$E$1013,CAD_AREA!$P$13:$P$1013,'C-A'!$G$13:$G$1013,CAD_AREA!R$12)","v":0},{"$f":"COUNTIFS('C-A'!$E$13:$E$1013,CAD_AREA!$P$13:$P$1013,'C-A'!$G$13:$G$1013,CAD_AREA!S$12)","v":0},{"$f":"COUNTIFS('C-A'!$E$13:$E$1013,CAD_AREA!$P$13:$P$1013,'C-A'!$G$13:$G$1013,CAD_AREA!T$12)","v":0},0,{"$f":"U59/'C-A'!$P$13","v":0},null,4.6999999999999963E-5,0,4.6999999999999963E-5,{"$f":"COUNTIFS('C-E'!$D$13:$D$1001,CAD_AREA!$B$13:$B$513)","v":0},{"$f":"COUNTIFS('C-E'!$D$13:$D$1001,CAD_AREA!$Y59,'C-E'!$H$13:$H$1001,CAD_AREA!AB$12)","v":0},{"$f":"COUNTIFS('C-E'!$D$13:$D$1001,CAD_AREA!$Y59,'C-E'!$H$13:$H$1001,CAD_AREA!AC$12)","v":0},"",null,null,null,null,null,null,null,null,null,null,null,null,null,null,null,null,null,null,null,null,null,null,null,"",null,null,null,null,null,null,null,null,null,null,null,null,null,null,null,null,null,null,null,null,null,null,null,null,4.6999999999999963E-5,null,null,null,0,4.6999999999999963E-5,{"$f":"COUNTIFS('C-E'!$B$13:$B$1001,CAD_AREA!$CB59,'C-E'!$H$13:$H$1001,CAD_AREA!CG$12)","v":0},{"$f":"COUNTIFS('C-E'!$B$13:$B$1001,CAD_AREA!$CB59,'C-E'!$H$13:$H$1001,CAD_AREA!CH$12)","v":0}]
[4.7999999999999961E-5,null,null,4.7999999999999961E-5,{"$f":"COUNTIFS(PPRA!$C$13:$C$614,CAD_AREA!B60)","v":0},{"$f":"COUNTIFS(PPRA!$C$13:$C$614,CAD_AREA!$B60,PPRA!$D$13:$D$614,CAD_AREA!F$12)","v":0},{"$f":"COUNTIFS(PPRA!$C$13:$C$614,CAD_AREA!$B60,PPRA!$D$13:$D$614,CAD_AREA!G$12)","v":0},{"$f":"COUNTIFS(PPRA!$C$13:$C$614,CAD_AREA!$B60,PPRA!$D$13:$D$614,CAD_AREA!H$12)","v":0},{"$f":"COUNTIFS(PPRA!$C$13:$C$614,CAD_AREA!$B60,PPRA!$D$13:$D$614,CAD_AREA!I$12)","v":0},{"$f":"SUMIFS(PPRA!$A$13:$A$614,PPRA!$C$13:$C$614,CAD_AREA!B60)","v":0},0,{"$f":"COUNTIFS(CAD_AREA!$CD$13:$CD$113,CAD_AREA!$B$13:$B$113)","v":0},null,4.7999999999999961E-5,{"$f":"COUNTIFS('C-A'!$E$13:$E$1013,CAD_AREA!$B$13:$B$1013)","v":0},0,{"$f":"COUNTIFS('C-A'!$E$13:$E$1013,CAD_AREA!$P$13:$P$1013,'C-A'!$G$13:$G$1013,CAD_AREA!Q$12)","v":0},{"$f":"COUNTIFS('C-A'!$E$13:$E$1013,CAD_AREA!$P$13:$P$1013,'C-A'!$G$13:$G$1013,CAD_AREA!R$12)","v":0},{"$f":"COUNTIFS('C-A'!$E$13:$E$1013,CAD_AREA!$P$13:$P$1013,'C-A'!$G$13:$G$1013,CAD_AREA!S$12)","v":0},{"$f":"COUNTIFS('C-A'!$E$13:$E$1013,CAD_AREA!$P$13:$P$1013,'C-A'!$G$13:$G$1013,CAD_AREA!T$12)","v":0},0,{"$f":"U60/'C-A'!$P$13","v":0},null,4.7999999999999961E-5,0,4.7999999999999961E-5,{"$f":"COUNTIFS('C-E'!$D$13:$D$1001,CAD_AREA!$B$13:$B$513)","v":0},{"$f":"COUNTIFS('C-E'!$D$13:$D$1001,CAD_AREA!$Y60,'C-E'!$H$13:$H$1001,CAD_AREA!AB$12)","v":0},{"$f":"COUNTIFS('C-E'!$D$13:$D$1001,CAD_AREA!$Y60,'C-E'!$H$13:$H$1001,CAD_AREA!AC$12)","v":0},"",null,null,null,null,null,null,null,null,null,null,null,null,null,null,null,null,null,null,null,null,null,null,null,"",null,null,null,null,null,null,null,null,null,null,null,null,null,null,null,null,null,null,null,null,null,null,null,null,4.7999999999999961E-5,null,null,null,0,4.7999999999999961E-5,{"$f":"COUNTIFS('C-E'!$B$13:$B$1001,CAD_AREA!$CB60,'C-E'!$H$13:$H$1001,CAD_AREA!CG$12)","v":0},{"$f":"COUNTIFS('C-E'!$B$13:$B$1001,CAD_AREA!$CB60,'C-E'!$H$13:$H$1001,CAD_AREA!CH$12)","v":0}]
[4.8999999999999958E-5,null,null,4.8999999999999958E-5,{"$f":"COUNTIFS(PPRA!$C$13:$C$614,CAD_AREA!B61)","v":0},{"$f":"COUNTIFS(PPRA!$C$13:$C$614,CAD_AREA!$B61,PPRA!$D$13:$D$614,CAD_AREA!F$12)","v":0},{"$f":"COUNTIFS(PPRA!$C$13:$C$614,CAD_AREA!$B61,PPRA!$D$13:$D$614,CAD_AREA!G$12)","v":0},{"$f":"COUNTIFS(PPRA!$C$13:$C$614,CAD_AREA!$B61,PPRA!$D$13:$D$614,CAD_AREA!H$12)","v":0},{"$f":"COUNTIFS(PPRA!$C$13:$C$614,CAD_AREA!$B61,PPRA!$D$13:$D$614,CAD_AREA!I$12)","v":0},{"$f":"SUMIFS(PPRA!$A$13:$A$614,PPRA!$C$13:$C$614,CAD_AREA!B61)","v":0},0,{"$f":"COUNTIFS(CAD_AREA!$CD$13:$CD$113,CAD_AREA!$B$13:$B$113)","v":0},null,4.8999999999999958E-5,{"$f":"COUNTIFS('C-A'!$E$13:$E$1013,CAD_AREA!$B$13:$B$1013)","v":0},0,{"$f":"COUNTIFS('C-A'!$E$13:$E$1013,CAD_AREA!$P$13:$P$1013,'C-A'!$G$13:$G$1013,CAD_AREA!Q$12)","v":0},{"$f":"COUNTIFS('C-A'!$E$13:$E$1013,CAD_AREA!$P$13:$P$1013,'C-A'!$G$13:$G$1013,CAD_AREA!R$12)","v":0},{"$f":"COUNTIFS('C-A'!$E$13:$E$1013,CAD_AREA!$P$13:$P$1013,'C-A'!$G$13:$G$1013,CAD_AREA!S$12)","v":0},{"$f":"COUNTIFS('C-A'!$E$13:$E$1013,CAD_AREA!$P$13:$P$1013,'C-A'!$G$13:$G$1013,CAD_AREA!T$12)","v":0},0,{"$f":"U61/'C-A'!$P$13","v":0},null,4.8999999999999958E-5,0,4.8999999999999958E-5,{"$f":"COUNTIFS('C-E'!$D$13:$D$1001,CAD_AREA!$B$13:$B$513)","v":0},{"$f":"COUNTIFS('C-E'!$D$13:$D$1001,CAD_AREA!$Y61,'C-E'!$H$13:$H$1001,CAD_AREA!AB$12)","v":0},{"$f":"COUNTIFS('C-E'!$D$13:$D$1001,CAD_AREA!$Y61,'C-E'!$H$13:$H$1001,CAD_AREA!AC$12)","v":0},"",null,null,null,null,null,null,null,null,null,null,null,null,null,null,null,null,null,null,null,null,null,null,null,"",null,null,null,null,null,null,null,null,null,null,null,null,null,null,null,null,null,null,null,null,null,null,null,null,4.8999999999999958E-5,null,null,null,0,4.8999999999999958E-5,{"$f":"COUNTIFS('C-E'!$B$13:$B$1001,CAD_AREA!$CB61,'C-E'!$H$13:$H$1001,CAD_AREA!CG$12)","v":0},{"$f":"COUNTIFS('C-E'!$B$13:$B$1001,CAD_AREA!$CB61,'C-E'!$H$13:$H$1001,CAD_AREA!CH$12)","v":0}]
[4.9999999999999955E-5,null,null,4.9999999999999955E-5,{"$f":"COUNTIFS(PPRA!$C$13:$C$614,CAD_AREA!B62)","v":0},{"$f":"COUNTIFS(PPRA!$C$13:$C$614,CAD_AREA!$B62,PPRA!$D$13:$D$614,CAD_AREA!F$12)","v":0},{"$f":"COUNTIFS(PPRA!$C$13:$C$614,CAD_AREA!$B62,PPRA!$D$13:$D$614,CAD_AREA!G$12)","v":0},{"$f":"COUNTIFS(PPRA!$C$13:$C$614,CAD_AREA!$B62,PPRA!$D$13:$D$614,CAD_AREA!H$12)","v":0},{"$f":"COUNTIFS(PPRA!$C$13:$C$614,CAD_AREA!$B62,PPRA!$D$13:$D$614,CAD_AREA!I$12)","v":0},{"$f":"SUMIFS(PPRA!$A$13:$A$614,PPRA!$C$13:$C$614,CAD_AREA!B62)","v":0},0,{"$f":"COUNTIFS(CAD_AREA!$CD$13:$CD$113,CAD_AREA!$B$13:$B$113)","v":0},null,4.9999999999999955E-5,{"$f":"COUNTIFS('C-A'!$E$13:$E$1013,CAD_AREA!$B$13:$B$1013)","v":0},0,{"$f":"COUNTIFS('C-A'!$E$13:$E$1013,CAD_AREA!$P$13:$P$1013,'C-A'!$G$13:$G$1013,CAD_AREA!Q$12)","v":0},{"$f":"COUNTIFS('C-A'!$E$13:$E$1013,CAD_AREA!$P$13:$P$1013,'C-A'!$G$13:$G$1013,CAD_AREA!R$12)","v":0},{"$f":"COUNTIFS('C-A'!$E$13:$E$1013,CAD_AREA!$P$13:$P$1013,'C-A'!$G$13:$G$1013,CAD_AREA!S$12)","v":0},{"$f":"COUNTIFS('C-A'!$E$13:$E$1013,CAD_AREA!$P$13:$P$1013,'C-A'!$G$13:$G$1013,CAD_AREA!T$12)","v":0},0,{"$f":"U62/'C-A'!$P$13","v":0},null,4.9999999999999955E-5,0,4.9999999999999955E-5,{"$f":"COUNTIFS('C-E'!$D$13:$D$1001,CAD_AREA!$B$13:$B$513)","v":0},{"$f":"COUNTIFS('C-E'!$D$13:$D$1001,CAD_AREA!$Y62,'C-E'!$H$13:$H$1001,CAD_AREA!AB$12)","v":0},{"$f":"COUNTIFS('C-E'!$D$13:$D$1001,CAD_AREA!$Y62,'C-E'!$H$13:$H$1001,CAD_AREA!AC$12)","v":0},"",null,null,null,null,null,null,null,null,null,null,null,null,null,null,null,null,null,null,null,null,null,null,null,"",null,null,null,null,null,null,null,null,null,null,null,null,null,null,null,null,null,null,null,null,null,null,null,null,4.9999999999999955E-5,null,null,null,0,4.9999999999999955E-5,{"$f":"COUNTIFS('C-E'!$B$13:$B$1001,CAD_AREA!$CB62,'C-E'!$H$13:$H$1001,CAD_AREA!CG$12)","v":0},{"$f":"COUNTIFS('C-E'!$B$13:$B$1001,CAD_AREA!$CB62,'C-E'!$H$13:$H$1001,CAD_AREA!CH$12)","v":0}]
[5.0999999999999952E-5,null,null,5.0999999999999952E-5,{"$f":"COUNTIFS(PPRA!$C$13:$C$614,CAD_AREA!B63)","v":0},{"$f":"COUNTIFS(PPRA!$C$13:$C$614,CAD_AREA!$B63,PPRA!$D$13:$D$614,CAD_AREA!F$12)","v":0},{"$f":"COUNTIFS(PPRA!$C$13:$C$614,CAD_AREA!$B63,PPRA!$D$13:$D$614,CAD_AREA!G$12)","v":0},{"$f":"COUNTIFS(PPRA!$C$13:$C$614,CAD_AREA!$B63,PPRA!$D$13:$D$614,CAD_AREA!H$12)","v":0},{"$f":"COUNTIFS(PPRA!$C$13:$C$614,CAD_AREA!$B63,PPRA!$D$13:$D$614,CAD_AREA!I$12)","v":0},{"$f":"SUMIFS(PPRA!$A$13:$A$614,PPRA!$C$13:$C$614,CAD_AREA!B63)","v":0},0,{"$f":"COUNTIFS(CAD_AREA!$CD$13:$CD$113,CAD_AREA!$B$13:$B$113)","v":0},null,5.0999999999999952E-5,{"$f":"COUNTIFS('C-A'!$E$13:$E$1013,CAD_AREA!$B$13:$B$1013)","v":0},0,{"$f":"COUNTIFS('C-A'!$E$13:$E$1013,CAD_AREA!$P$13:$P$1013,'C-A'!$G$13:$G$1013,CAD_AREA!Q$12)","v":0},{"$f":"COUNTIFS('C-A'!$E$13:$E$1013,CAD_AREA!$P$13:$P$1013,'C-A'!$G$13:$G$1013,CAD_AREA!R$12)","v":0},{"$f":"COUNTIFS('C-A'!$E$13:$E$1013,CAD_AREA!$P$13:$P$1013,'C-A'!$G$13:$G$1013,CAD_AREA!S$12)","v":0},{"$f":"COUNTIFS('C-A'!$E$13:$E$1013,CAD_AREA!$P$13:$P$1013,'C-A'!$G$13:$G$1013,CAD_AREA!T$12)","v":0},0,{"$f":"U63/'C-A'!$P$13","v":0},null,5.0999999999999952E-5,0,5.0999999999999952E-5,{"$f":"COUNTIFS('C-E'!$D$13:$D$1001,CAD_AREA!$B$13:$B$513)","v":0},{"$f":"COUNTIFS('C-E'!$D$13:$D$1001,CAD_AREA!$Y63,'C-E'!$H$13:$H$1001,CAD_AREA!AB$12)","v":0},{"$f":"COUNTIFS('C-E'!$D$13:$D$1001,CAD_AREA!$Y63,'C-E'!$H$13:$H$1001,CAD_AREA!AC$12)","v":0},"",null,null,null,null,null,null,null,null,null,null,null,null,null,null,null,null,null,null,null,null,null,null,null,"",null,null,null,null,null,null,null,null,null,null,null,null,null,null,null,null,null,null,null,null,null,null,null,null,5.0999999999999952E-5,null,null,null,0,5.0999999999999952E-5,{"$f":"COUNTIFS('C-E'!$B$13:$B$1001,CAD_AREA!$CB63,'C-E'!$H$13:$H$1001,CAD_AREA!CG$12)","v":0},{"$f":"COUNTIFS('C-E'!$B$13:$B$1001,CAD_AREA!$CB63,'C-E'!$H$13:$H$1001,CAD_AREA!CH$12)","v":0}]
[null,"Todas","a","a","a","a","a","a","a","a","a","a",null,"a","a","a","a","a","a","a","a","a",null,"a",null,"a","a",{"$f":"COUNTIFS('C-E'!$D$13:$D$1001,CAD_AREA!$Y64,'C-E'!$H$13:$H$1001,CAD_AREA!AB$12)","v":0},{"$f":"COUNTIFS('C-E'!$D$13:$D$1001,CAD_AREA!$Y64,'C-E'!$H$13:$H$1001,CAD_AREA!AC$12)","v":0},"Todas",null,null,null,null,null,null,null,null,null,null,null,null,null,null,null,null,null,null,null,null,null,null,null,"",null,null,null,null,null,null,null,null,null,null,null,null,null,null,null,null,null,null,null,null,null,null,null,null,5.1999999999999949E-5,null,null,null,0,5.1999999999999949E-5,{"$f":"COUNTIFS('C-E'!$B$13:$B$1001,CAD_AREA!$CB64,'C-E'!$H$13:$H$1001,CAD_AREA!CG$12)","v":0},{"$f":"COUNTIFS('C-E'!$B$13:$B$1001,CAD_AREA!$CB64,'C-E'!$H$13:$H$1001,CAD_AREA!CH$12)","v":0}]
[null,null,null,null,null,null,null,null,null,null,null,null,null,null,null,null,null,null,null,null,null,null,null,null,null,null,null,null,null,null,null,null,null,null,null,null,null,null,null,null,null,null,null,null,null,null,null,null,null,null,null,null,null,"",null,null,null,null,null,null,null,null,null,null,null,null,null,null,null,null,null,null,null,null,null,null,null,null,5.2999999999999947E-5,null,null,null,0,5.2999999999999947E-5,{"$f":"COUNTIFS('C-E'!$B$13:$B$1001,CAD_AREA!$CB65,'C-E'!$H$13:$H$1001,CAD_AREA!CG$12)","v":0},{"$f":"COUNTIFS('C-E'!$B$13:$B$1001,CAD_AREA!$CB65,'C-E'!$H$13:$H$1001,CAD_AREA!CH$12)","v":0}]
[null,null,null,null,null,null,null,null,null,null,null,null,null,null,null,null,null,null,null,null,null,null,null,null,null,null,null,null,null,null,null,null,null,null,null,null,null,null,null,null,null,null,null,null,null,null,null,null,null,null,null,null,null,"",null,null,null,null,null,null,null,null,null,null,null,null,null,null,null,null,null,null,null,null,null,null,null,null,5.3999999999999944E-5,null,null,null,0,5.3999999999999944E-5,{"$f":"COUNTIFS('C-E'!$B$13:$B$1001,CAD_AREA!$CB66,'C-E'!$H$13:$H$1001,CAD_AREA!CG$12)","v":0},{"$f":"COUNTIFS('C-E'!$B$13:$B$1001,CAD_AREA!$CB66,'C-E'!$H$13:$H$1001,CAD_AREA!CH$12)","v":0}]
[null,null,null,null,null,null,null,null,null,null,null,null,null,null,null,null,null,null,null,null,null,null,null,null,null,null,null,null,null,null,null,null,null,null,null,null,null,null,null,null,null,null,null,null,null,null,null,null,null,null,null,null,null,"",null,null,null,null,null,null,null,null,null,null,null,null,null,null,null,null,null,null,null,null,null,null,null,null,5.4999999999999941E-5,null,null,null,0,5.4999999999999941E-5,{"$f":"COUNTIFS('C-E'!$B$13:$B$1001,CAD_AREA!$CB67,'C-E'!$H$13:$H$1001,CAD_AREA!CG$12)","v":0},{"$f":"COUNTIFS('C-E'!$B$13:$B$1001,CAD_AREA!$CB67,'C-E'!$H$13:$H$1001,CAD_AREA!CH$12)","v":0}]
[null,null,null,null,null,null,null,null,null,null,null,null,null,null,null,null,null,null,null,null,null,null,null,null,null,null,null,null,null,null,null,null,null,null,null,null,null,null,null,null,null,null,null,null,null,null,null,null,null,null,null,null,null,"",null,null,null,null,null,null,null,null,null,null,null,null,null,null,null,null,null,null,null,null,null,null,null,null,5.5999999999999938E-5,null,null,null,0,5.5999999999999938E-5,{"$f":"COUNTIFS('C-E'!$B$13:$B$1001,CAD_AREA!$CB68,'C-E'!$H$13:$H$1001,CAD_AREA!CG$12)","v":0},{"$f":"COUNTIFS('C-E'!$B$13:$B$1001,CAD_AREA!$CB68,'C-E'!$H$13:$H$1001,CAD_AREA!CH$12)","v":0}]
[null,null,null,null,null,null,null,null,null,null,null,null,null,null,null,null,null,null,null,null,null,null,null,null,null,null,null,null,null,null,null,null,null,null,null,null,null,null,null,null,null,null,null,null,null,null,null,null,null,null,null,null,null,"",null,null,null,null,null,null,null,null,null,null,null,null,null,null,null,null,null,null,null,null,null,null,null,null,5.6999999999999935E-5,null,null,null,0,5.6999999999999935E-5,{"$f":"COUNTIFS('C-E'!$B$13:$B$1001,CAD_AREA!$CB69,'C-E'!$H$13:$H$1001,CAD_AREA!CG$12)","v":0},{"$f":"COUNTIFS('C-E'!$B$13:$B$1001,CAD_AREA!$CB69,'C-E'!$H$13:$H$1001,CAD_AREA!CH$12)","v":0}]
[null,null,null,null,null,null,null,null,null,null,null,null,null,null,null,null,null,null,null,null,null,null,null,null,null,null,null,null,null,null,null,null,null,null,null,null,null,null,null,null,null,null,null,null,null,null,null,null,null,null,null,null,null,"",null,null,null,null,null,null,null,null,null,null,null,null,null,null,null,null,null,null,null,null,null,null,null,null,5.7999999999999933E-5,null,null,null,0,5.7999999999999933E-5,{"$f":"COUNTIFS('C-E'!$B$13:$B$1001,CAD_AREA!$CB70,'C-E'!$H$13:$H$1001,CAD_AREA!CG$12)","v":0},{"$f":"COUNTIFS('C-E'!$B$13:$B$1001,CAD_AREA!$CB70,'C-E'!$H$13:$H$1001,CAD_AREA!CH$12)","v":0}]
[null,null,null,null,null,null,null,null,null,null,null,null,null,null,null,null,null,null,null,null,null,null,null,null,null,null,null,null,null,null,null,null,null,null,null,null,null,null,null,null,null,null,null,null,null,null,null,null,null,null,null,null,null,"",null,null,null,null,null,null,null,null,null,null,null,null,null,null,null,null,null,null,null,null,null,null,null,null,5.899999999999993E-5,null,null,null,0,5.899999999999993E-5,{"$f":"COUNTIFS('C-E'!$B$13:$B$1001,CAD_AREA!$CB71,'C-E'!$H$13:$H$1001,CAD_AREA!CG$12)","v":0},{"$f":"COUNTIFS('C-E'!$B$13:$B$1001,CAD_AREA!$CB71,'C-E'!$H$13:$H$1001,CAD_AREA!CH$12)","v":0}]
[null,null,null,null,null,null,null,null,null,null,null,null,null,null,null,null,null,null,null,null,null,null,null,null,null,null,null,null,null,null,null,null,null,null,null,null,null,null,null,null,null,null,null,null,null,null,null,null,null,null,null,null,null,"",null,null,null,null,null,null,null,null,null,null,null,null,null,null,null,null,null,null,null,null,null,null,null,null,5.9999999999999927E-5,null,null,null,0,5.9999999999999927E-5,{"$f":"COUNTIFS('C-E'!$B$13:$B$1001,CAD_AREA!$CB72,'C-E'!$H$13:$H$1001,CAD_AREA!CG$12)","v":0},{"$f":"COUNTIFS('C-E'!$B$13:$B$1001,CAD_AREA!$CB72,'C-E'!$H$13:$H$1001,CAD_AREA!CH$12)","v":0}]
[null,null,null,null,null,null,null,null,null,null,null,null,null,null,null,null,null,null,null,null,null,null,null,null,null,null,null,null,null,null,null,null,null,null,null,null,null,null,null,null,null,null,null,null,null,null,null,null,null,null,null,null,null,"",null,null,null,null,null,null,null,null,null,null,null,null,null,null,null,null,null,null,null,null,null,null,null,null,6.0999999999999924E-5,null,null,null,0,6.0999999999999924E-5,{"$f":"COUNTIFS('C-E'!$B$13:$B$1001,CAD_AREA!$CB73,'C-E'!$H$13:$H$1001,CAD_AREA!CG$12)","v":0},{"$f":"COUNTIFS('C-E'!$B$13:$B$1001,CAD_AREA!$CB73,'C-E'!$H$13:$H$1001,CAD_AREA!CH$12)","v":0}]
[null,null,null,null,null,null,null,null,null,null,null,null,null,null,null,null,null,null,null,null,null,null,null,null,null,null,null,null,null,null,null,null,null,null,null,null,null,null,null,null,null,null,null,null,null,null,null,null,null,null,null,null,null,"",null,null,null,null,null,null,null,null,null,null,null,null,null,null,null,null,null,null,null,null,null,null,null,null,6.1999999999999921E-5,null,null,null,0,6.1999999999999921E-5,{"$f":"COUNTIFS('C-E'!$B$13:$B$1001,CAD_AREA!$CB74,'C-E'!$H$13:$H$1001,CAD_AREA!CG$12)","v":0},{"$f":"COUNTIFS('C-E'!$B$13:$B$1001,CAD_AREA!$CB74,'C-E'!$H$13:$H$1001,CAD_AREA!CH$12)","v":0}]
[null,null,null,null,null,null,null,null,null,null,null,null,null,null,null,null,null,null,null,null,null,null,null,null,null,null,null,null,null,null,null,null,null,null,null,null,null,null,null,null,null,null,null,null,null,null,null,null,null,null,null,null,null,"",null,null,null,null,null,null,null,null,null,null,null,null,null,null,null,null,null,null,null,null,null,null,null,null,6.2999999999999919E-5,null,null,null,0,6.2999999999999919E-5,{"$f":"COUNTIFS('C-E'!$B$13:$B$1001,CAD_AREA!$CB75,'C-E'!$H$13:$H$1001,CAD_AREA!CG$12)","v":0},{"$f":"COUNTIFS('C-E'!$B$13:$B$1001,CAD_AREA!$CB75,'C-E'!$H$13:$H$1001,CAD_AREA!CH$12)","v":0}]
[null,null,null,null,null,null,null,null,null,null,null,null,null,null,null,null,null,null,null,null,null,null,null,null,null,null,null,null,null,null,null,null,null,null,null,null,null,null,null,null,null,null,null,null,null,null,null,null,null,null,null,null,null,"",null,null,null,null,null,null,null,null,null,null,null,null,null,null,null,null,null,null,null,null,null,null,null,null,6.3999999999999916E-5,null,null,null,0,6.3999999999999916E-5,{"$f":"COUNTIFS('C-E'!$B$13:$B$1001,CAD_AREA!$CB76,'C-E'!$H$13:$H$1001,CAD_AREA!CG$12)","v":0},{"$f":"COUNTIFS('C-E'!$B$13:$B$1001,CAD_AREA!$CB76,'C-E'!$H$13:$H$1001,CAD_AREA!CH$12)","v":0}]
[null,null,null,null,null,null,null,null,null,null,null,null,null,null,null,null,null,null,null,null,null,null,null,null,null,null,null,null,null,null,null,null,null,null,null,null,null,null,null,null,null,null,null,null,null,null,null,null,null,null,null,null,null,{"$f":"IF(BA77=\"\",\"\",BA77)","v":""},null,null,null,null,null,null,null,null,null,null,null,null,null,null,null,null,null,null,null,null,null,null,null,null,{"$f":"SUM(CF77,CH77)","v":6.4999999999999913E-5},null,null,null,{"$f":"CB77","v":0},6.4999999999999913E-5,{"$f":"COUNTIFS('C-E'!$B$13:$B$1001,CAD_AREA!$CB77,'C-E'!$H$13:$H$1001,CAD_AREA!CG$12)","v":0},{"$f":"COUNTIFS('C-E'!$B$13:$B$1001,CAD_AREA!$CB77,'C-E'!$H$13:$H$1001,CAD_AREA!CH$12)","v":0}]
[null,null,null,null,null,null,null,null,null,null,null,null,null,null,null,null,null,null,null,null,null,null,null,null,null,null,null,null,null,null,null,null,null,null,null,null,null,null,null,null,null,null,null,null,null,null,null,null,null,null,null,null,null,"",null,null,null,null,null,null,null,null,null,null,null,null,null,null,null,null,null,null,null,null,null,null,null,null,6.599999999999991E-5,null,null,null,0,{"$f":"CF77+$CF$13","v":6.599999999999991E-5},{"$f":"COUNTIFS('C-E'!$B$13:$B$1001,CAD_AREA!$CB78,'C-E'!$H$13:$H$1001,CAD_AREA!CG$12)","v":0},{"$f":"COUNTIFS('C-E'!$B$13:$B$1001,CAD_AREA!$CB78,'C-E'!$H$13:$H$1001,CAD_AREA!CH$12)","v":0}]
[null,null,null,null,null,null,null,null,null,null,null,null,null,null,null,null,null,null,null,null,null,null,null,null,null,null,null,null,null,null,null,null,null,null,null,null,null,null,null,null,null,null,null,null,null,null,null,null,null,null,null,null,null,"",null,null,null,null,null,null,null,null,null,null,null,null,null,null,null,null,null,null,null,null,null,null,null,null,6.6999999999999907E-5,null,null,null,0,6.6999999999999907E-5,{"$f":"COUNTIFS('C-E'!$B$13:$B$1001,CAD_AREA!$CB79,'C-E'!$H$13:$H$1001,CAD_AREA!CG$12)","v":0},{"$f":"COUNTIFS('C-E'!$B$13:$B$1001,CAD_AREA!$CB79,'C-E'!$H$13:$H$1001,CAD_AREA!CH$12)","v":0}]
[null,null,null,null,null,null,null,null,null,null,null,null,null,null,null,null,null,null,null,null,null,null,null,null,null,null,null,null,null,null,null,null,null,null,null,null,null,null,null,null,null,null,null,null,null,null,null,null,null,null,null,null,null,"",null,null,null,null,null,null,null,null,null,null,null,null,null,null,null,null,null,null,null,null,null,null,null,null,6.7999999999999905E-5,null,null,null,0,6.7999999999999905E-5,{"$f":"COUNTIFS('C-E'!$B$13:$B$1001,CAD_AREA!$CB80,'C-E'!$H$13:$H$1001,CAD_AREA!CG$12)","v":0},{"$f":"COUNTIFS('C-E'!$B$13:$B$1001,CAD_AREA!$CB80,'C-E'!$H$13:$H$1001,CAD_AREA!CH$12)","v":0}]
[null,null,null,null,null,null,null,null,null,null,null,null,null,null,null,null,null,null,null,null,null,null,null,null,null,null,null,null,null,null,null,null,null,null,null,null,null,null,null,null,null,null,null,null,null,null,null,null,null,null,null,null,null,"",null,null,null,null,null,null,null,null,null,null,null,null,null,null,null,null,null,null,null,null,null,null,null,null,6.8999999999999902E-5,null,null,null,0,6.8999999999999902E-5,{"$f":"COUNTIFS('C-E'!$B$13:$B$1001,CAD_AREA!$CB81,'C-E'!$H$13:$H$1001,CAD_AREA!CG$12)","v":0},{"$f":"COUNTIFS('C-E'!$B$13:$B$1001,CAD_AREA!$CB81,'C-E'!$H$13:$H$1001,CAD_AREA!CH$12)","v":0}]
[null,null,null,null,null,null,null,null,null,null,null,null,null,null,null,null,null,null,null,null,null,null,null,null,null,null,null,null,null,null,null,null,null,null,null,null,null,null,null,null,null,null,null,null,null,null,null,null,null,null,null,null,null,"",null,null,null,null,null,null,null,null,null,null,null,null,null,null,null,null,null,null,null,null,null,null,null,null,6.9999999999999899E-5,null,null,null,0,6.9999999999999899E-5,{"$f":"COUNTIFS('C-E'!$B$13:$B$1001,CAD_AREA!$CB82,'C-E'!$H$13:$H$1001,CAD_AREA!CG$12)","v":0},{"$f":"COUNTIFS('C-E'!$B$13:$B$1001,CAD_AREA!$CB82,'C-E'!$H$13:$H$1001,CAD_AREA!CH$12)","v":0}]
[null,null,null,null,null,null,null,null,null,null,null,null,null,null,null,null,null,null,null,null,null,null,null,null,null,null,null,null,null,null,null,null,null,null,null,null,null,null,null,null,null,null,null,null,null,null,null,null,null,null,null,null,null,"",null,null,null,null,null,null,null,null,null,null,null,null,null,null,null,null,null,null,null,null,null,null,null,null,7.0999999999999896E-5,null,null,null,0,7.0999999999999896E-5,{"$f":"COUNTIFS('C-E'!$B$13:$B$1001,CAD_AREA!$CB83,'C-E'!$H$13:$H$1001,CAD_AREA!CG$12)","v":0},{"$f":"COUNTIFS('C-E'!$B$13:$B$1001,CAD_AREA!$CB83,'C-E'!$H$13:$H$1001,CAD_AREA!CH$12)","v":0}]
[null,null,null,null,null,null,null,null,null,null,null,null,null,null,null,null,null,null,null,null,null,null,null,null,null,null,null,null,null,null,null,null,null,null,null,null,null,null,null,null,null,null,null,null,null,null,null,null,null,null,null,null,null,"",null,null,null,null,null,null,null,null,null,null,null,null,null,null,null,null,null,null,null,null,null,null,null,null,7.1999999999999893E-5,null,null,null,0,7.1999999999999893E-5,{"$f":"COUNTIFS('C-E'!$B$13:$B$1001,CAD_AREA!$CB84,'C-E'!$H$13:$H$1001,CAD_AREA!CG$12)","v":0},{"$f":"COUNTIFS('C-E'!$B$13:$B$1001,CAD_AREA!$CB84,'C-E'!$H$13:$H$1001,CAD_AREA!CH$12)","v":0}]
[null,null,null,null,null,null,null,null,null,null,null,null,null,null,null,null,null,null,null,null,null,null,null,null,null,null,null,null,null,null,null,null,null,null,null,null,null,null,null,null,null,null,null,null,null,null,null,null,null,null,null,null,null,"",null,null,null,null,null,null,null,null,null,null,null,null,null,null,null,null,null,null,null,null,null,null,null,null,7.2999999999999891E-5,null,null,null,0,7.2999999999999891E-5,{"$f":"COUNTIFS('C-E'!$B$13:$B$1001,CAD_AREA!$CB85,'C-E'!$H$13:$H$1001,CAD_AREA!CG$12)","v":0},{"$f":"COUNTIFS('C-E'!$B$13:$B$1001,CAD_AREA!$CB85,'C-E'!$H$13:$H$1001,CAD_AREA!CH$12)","v":0}]
[null,null,null,null,null,null,null,null,null,null,null,null,null,null,null,null,null,null,null,null,null,null,null,null,null,null,null,null,null,null,null,null,null,null,null,null,null,null,null,null,null,null,null,null,null,null,null,null,null,null,null,null,null,"",null,null,null,null,null,null,null,null,null,null,null,null,null,null,null,null,null,null,null,null,null,null,null,null,7.3999999999999888E-5,null,null,null,0,7.3999999999999888E-5,{"$f":"COUNTIFS('C-E'!$B$13:$B$1001,CAD_AREA!$CB86,'C-E'!$H$13:$H$1001,CAD_AREA!CG$12)","v":0},{"$f":"COUNTIFS('C-E'!$B$13:$B$1001,CAD_AREA!$CB86,'C-E'!$H$13:$H$1001,CAD_AREA!CH$12)","v":0}]
[null,null,null,null,null,null,null,null,null,null,null,null,null,null,null,null,null,null,null,null,null,null,null,null,null,null,null,null,null,null,null,null,null,null,null,null,null,null,null,null,null,null,null,null,null,null,null,null,null,null,null,null,null,"",null,null,null,null,null,null,null,null,null,null,null,null,null,null,null,null,null,null,null,null,null,null,null,null,7.4999999999999885E-5,null,null,null,0,7.4999999999999885E-5,{"$f":"COUNTIFS('C-E'!$B$13:$B$1001,CAD_AREA!$CB87,'C-E'!$H$13:$H$1001,CAD_AREA!CG$12)","v":0},{"$f":"COUNTIFS('C-E'!$B$13:$B$1001,CAD_AREA!$CB87,'C-E'!$H$13:$H$1001,CAD_AREA!CH$12)","v":0}]
[null,null,null,null,null,null,null,null,null,null,null,null,null,null,null,null,null,null,null,null,null,null,null,null,null,null,null,null,null,null,null,null,null,null,null,null,null,null,null,null,null,null,null,null,null,null,null,null,null,null,null,null,null,"",null,null,null,null,null,null,null,null,null,null,null,null,null,null,null,null,null,null,null,null,null,null,null,null,7.5999999999999882E-5,null,null,null,0,7.5999999999999882E-5,{"$f":"COUNTIFS('C-E'!$B$13:$B$1001,CAD_AREA!$CB88,'C-E'!$H$13:$H$1001,CAD_AREA!CG$12)","v":0},{"$f":"COUNTIFS('C-E'!$B$13:$B$1001,CAD_AREA!$CB88,'C-E'!$H$13:$H$1001,CAD_AREA!CH$12)","v":0}]
[null,null,null,null,null,null,null,null,null,null,null,null,null,null,null,null,null,null,null,null,null,null,null,null,null,null,null,null,null,null,null,null,null,null,null,null,null,null,null,null,null,null,null,null,null,null,null,null,null,null,null,null,null,"",null,null,null,null,null,null,null,null,null,null,null,null,null,null,null,null,null,null,null,null,null,null,null,null,7.6999999999999879E-5,null,null,null,0,7.6999999999999879E-5,{"$f":"COUNTIFS('C-E'!$B$13:$B$1001,CAD_AREA!$CB89,'C-E'!$H$13:$H$1001,CAD_AREA!CG$12)","v":0},{"$f":"COUNTIFS('C-E'!$B$13:$B$1001,CAD_AREA!$CB89,'C-E'!$H$13:$H$1001,CAD_AREA!CH$12)","v":0}]
[null,null,null,null,null,null,null,null,null,null,null,null,null,null,null,null,null,null,null,null,null,null,null,null,null,null,null,null,null,null,null,null,null,null,null,null,null,null,null,null,null,null,null,null,null,null,null,null,null,null,null,null,null,"",null,null,null,null,null,null,null,null,null,null,null,null,null,null,null,null,null,null,null,null,null,null,null,null,7.7999999999999877E-5,null,null,null,0,7.7999999999999877E-5,{"$f":"COUNTIFS('C-E'!$B$13:$B$1001,CAD_AREA!$CB90,'C-E'!$H$13:$H$1001,CAD_AREA!CG$12)","v":0},{"$f":"COUNTIFS('C-E'!$B$13:$B$1001,CAD_AREA!$CB90,'C-E'!$H$13:$H$1001,CAD_AREA!CH$12)","v":0}]
[null,null,null,null,null,null,null,null,null,null,null,null,null,null,null,null,null,null,null,null,null,null,null,null,null,null,null,null,null,null,null,null,null,null,null,null,null,null,null,null,null,null,null,null,null,null,null,null,null,null,null,null,null,"",null,null,null,null,null,null,null,null,null,null,null,null,null,null,null,null,null,null,null,null,null,null,null,null,7.8999999999999874E-5,null,null,null,0,7.8999999999999874E-5,{"$f":"COUNTIFS('C-E'!$B$13:$B$1001,CAD_AREA!$CB91,'C-E'!$H$13:$H$1001,CAD_AREA!CG$12)","v":0},{"$f":"COUNTIFS('C-E'!$B$13:$B$1001,CAD_AREA!$CB91,'C-E'!$H$13:$H$1001,CAD_AREA!CH$12)","v":0}]
[null,null,null,null,null,null,null,null,null,null,null,null,null,null,null,null,null,null,null,null,null,null,null,null,null,null,null,null,null,null,null,null,null,null,null,null,null,null,null,null,null,null,null,null,null,null,null,null,null,null,null,null,null,"",null,null,null,null,null,null,null,null,null,null,null,null,null,null,null,null,null,null,null,null,null,null,null,null,7.9999999999999871E-5,null,null,null,0,7.9999999999999871E-5,{"$f":"COUNTIFS('C-E'!$B$13:$B$1001,CAD_AREA!$CB92,'C-E'!$H$13:$H$1001,CAD_AREA!CG$12)","v":0},{"$f":"COUNTIFS('C-E'!$B$13:$B$1001,CAD_AREA!$CB92,'C-E'!$H$13:$H$1001,CAD_AREA!CH$12)","v":0}]
[null,null,null,null,null,null,null,null,null,null,null,null,null,null,null,null,null,null,null,null,null,null,null,null,null,null,null,null,null,null,null,null,null,null,null,null,null,null,null,null,null,null,null,null,null,null,null,null,null,null,null,null,null,"",null,null,null,null,null,null,null,null,null,null,null,null,null,null,null,null,null,null,null,null,null,null,null,null,8.0999999999999868E-5,null,null,null,0,8.0999999999999868E-5,{"$f":"COUNTIFS('C-E'!$B$13:$B$1001,CAD_AREA!$CB93,'C-E'!$H$13:$H$1001,CAD_AREA!CG$12)","v":0},{"$f":"COUNTIFS('C-E'!$B$13:$B$1001,CAD_AREA!$CB93,'C-E'!$H$13:$H$1001,CAD_AREA!CH$12)","v":0}]
[null,null,null,null,null,null,null,null,null,null,null,null,null,null,null,null,null,null,null,null,null,null,null,null,null,null,null,null,null,null,null,null,null,null,null,null,null,null,null,null,null,null,null,null,null,null,null,null,null,null,null,null,null,"",null,null,null,null,null,null,null,null,null,null,null,null,null,null,null,null,null,null,null,null,null,null,null,null,8.1999999999999865E-5,null,null,null,0,8.1999999999999865E-5,{"$f":"COUNTIFS('C-E'!$B$13:$B$1001,CAD_AREA!$CB94,'C-E'!$H$13:$H$1001,CAD_AREA!CG$12)","v":0},{"$f":"COUNTIFS('C-E'!$B$13:$B$1001,CAD_AREA!$CB94,'C-E'!$H$13:$H$1001,CAD_AREA!CH$12)","v":0}]
[null,null,null,null,null,null,null,null,null,null,null,null,null,null,null,null,null,null,null,null,null,null,null,null,null,null,null,null,null,null,null,null,null,null,null,null,null,null,null,null,null,null,null,null,null,null,null,null,null,null,null,null,null,"",null,null,null,null,null,null,null,null,null,null,null,null,null,null,null,null,null,null,null,null,null,null,null,null,8.2999999999999863E-5,null,null,null,0,8.2999999999999863E-5,{"$f":"COUNTIFS('C-E'!$B$13:$B$1001,CAD_AREA!$CB95,'C-E'!$H$13:$H$1001,CAD_AREA!CG$12)","v":0},{"$f":"COUNTIFS('C-E'!$B$13:$B$1001,CAD_AREA!$CB95,'C-E'!$H$13:$H$1001,CAD_AREA!CH$12)","v":0}]
[null,null,null,null,null,null,null,null,null,null,null,null,null,null,null,null,null,null,null,null,null,null,null,null,null,null,null,null,null,null,null,null,null,null,null,null,null,null,null,null,null,null,null,null,null,null,null,null,null,null,null,null,null,"",null,null,null,null,null,null,null,null,null,null,null,null,null,null,null,null,null,null,null,null,null,null,null,null,8.399999999999986E-5,null,null,null,0,8.399999999999986E-5,{"$f":"COUNTIFS('C-E'!$B$13:$B$1001,CAD_AREA!$CB96,'C-E'!$H$13:$H$1001,CAD_AREA!CG$12)","v":0},{"$f":"COUNTIFS('C-E'!$B$13:$B$1001,CAD_AREA!$CB96,'C-E'!$H$13:$H$1001,CAD_AREA!CH$12)","v":0}]
[null,null,null,null,null,null,null,null,null,null,null,null,null,null,null,null,null,null,null,null,null,null,null,null,null,null,null,null,null,null,null,null,null,null,null,null,null,null,null,null,null,null,null,null,null,null,null,null,null,null,null,null,null,"",null,null,null,null,null,null,null,null,null,null,null,null,null,null,null,null,null,null,null,null,null,null,null,null,8.4999999999999857E-5,null,null,null,0,8.4999999999999857E-5,{"$f":"COUNTIFS('C-E'!$B$13:$B$1001,CAD_AREA!$CB97,'C-E'!$H$13:$H$1001,CAD_AREA!CG$12)","v":0},{"$f":"COUNTIFS('C-E'!$B$13:$B$1001,CAD_AREA!$CB97,'C-E'!$H$13:$H$1001,CAD_AREA!CH$12)","v":0}]
[null,null,null,null,null,null,null,null,null,null,null,null,null,null,null,null,null,null,null,null,null,null,null,null,null,null,null,null,null,null,null,null,null,null,null,null,null,null,null,null,null,null,null,null,null,null,null,null,null,null,null,null,null,"",null,null,null,null,null,null,null,null,null,null,null,null,null,null,null,null,null,null,null,null,null,null,null,null,8.5999999999999854E-5,null,null,null,0,8.5999999999999854E-5,{"$f":"COUNTIFS('C-E'!$B$13:$B$1001,CAD_AREA!$CB98,'C-E'!$H$13:$H$1001,CAD_AREA!CG$12)","v":0},{"$f":"COUNTIFS('C-E'!$B$13:$B$1001,CAD_AREA!$CB98,'C-E'!$H$13:$H$1001,CAD_AREA!CH$12)","v":0}]
[null,null,null,null,null,null,null,null,null,null,null,null,null,null,null,null,null,null,null,null,null,null,null,null,null,null,null,null,null,null,null,null,null,null,null,null,null,null,null,null,null,null,null,null,null,null,null,null,null,null,null,null,null,"",null,null,null,null,null,null,null,null,null,null,null,null,null,null,null,null,null,null,null,null,null,null,null,null,8.6999999999999851E-5,null,null,null,0,8.6999999999999851E-5,{"$f":"COUNTIFS('C-E'!$B$13:$B$1001,CAD_AREA!$CB99,'C-E'!$H$13:$H$1001,CAD_AREA!CG$12)","v":0},{"$f":"COUNTIFS('C-E'!$B$13:$B$1001,CAD_AREA!$CB99,'C-E'!$H$13:$H$1001,CAD_AREA!CH$12)","v":0}]
[null,null,null,null,null,null,null,null,null,null,null,null,null,null,null,null,null,null,null,null,null,null,null,null,null,null,null,null,null,null,null,null,null,null,null,null,null,null,null,null,null,null,null,null,null,null,null,null,null,null,null,null,null,"",null,null,null,null,null,null,null,null,null,null,null,null,null,null,null,null,null,null,null,null,null,null,null,null,8.7999999999999849E-5,null,null,null,0,8.7999999999999849E-5,{"$f":"COUNTIFS('C-E'!$B$13:$B$1001,CAD_AREA!$CB100,'C-E'!$H$13:$H$1001,CAD_AREA!CG$12)","v":0},{"$f":"COUNTIFS('C-E'!$B$13:$B$1001,CAD_AREA!$CB100,'C-E'!$H$13:$H$1001,CAD_AREA!CH$12)","v":0}]
[null,null,null,null,null,null,null,null,null,null,null,null,null,null,null,null,null,null,null,null,null,null,null,null,null,null,null,null,null,null,null,null,null,null,null,null,null,null,null,null,null,null,null,null,null,null,null,null,null,null,null,null,null,"",null,null,null,null,null,null,null,null,null,null,null,null,null,null,null,null,null,null,null,null,null,null,null,null,8.8999999999999846E-5,null,null,null,0,8.8999999999999846E-5,{"$f":"COUNTIFS('C-E'!$B$13:$B$1001,CAD_AREA!$CB101,'C-E'!$H$13:$H$1001,CAD_AREA!CG$12)","v":0},{"$f":"COUNTIFS('C-E'!$B$13:$B$1001,CAD_AREA!$CB101,'C-E'!$H$13:$H$1001,CAD_AREA!CH$12)","v":0}]
[null,null,null,null,null,null,null,null,null,null,null,null,null,null,null,null,null,null,null,null,null,null,null,null,null,null,null,null,null,null,null,null,null,null,null,null,null,null,null,null,null,null,null,null,null,null,null,null,null,null,null,null,null,"",null,null,null,null,null,null,null,null,null,null,null,null,null,null,null,null,null,null,null,null,null,null,null,null,8.9999999999999843E-5,null,null,null,0,8.9999999999999843E-5,{"$f":"COUNTIFS('C-E'!$B$13:$B$1001,CAD_AREA!$CB102,'C-E'!$H$13:$H$1001,CAD_AREA!CG$12)","v":0},{"$f":"COUNTIFS('C-E'!$B$13:$B$1001,CAD_AREA!$CB102,'C-E'!$H$13:$H$1001,CAD_AREA!CH$12)","v":0}]
[null,null,null,null,null,null,null,null,null,null,null,null,null,null,null,null,null,null,null,null,null,null,null,null,null,null,null,null,null,null,null,null,null,null,null,null,null,null,null,null,null,null,null,null,null,null,null,null,null,null,null,null,null,"",null,null,null,null,null,null,null,null,null,null,null,null,null,null,null,null,null,null,null,null,null,null,null,null,9.099999999999984E-5,null,null,null,0,9.099999999999984E-5,{"$f":"COUNTIFS('C-E'!$B$13:$B$1001,CAD_AREA!$CB103,'C-E'!$H$13:$H$1001,CAD_AREA!CG$12)","v":0},{"$f":"COUNTIFS('C-E'!$B$13:$B$1001,CAD_AREA!$CB103,'C-E'!$H$13:$H$1001,CAD_AREA!CH$12)","v":0}]
[null,null,null,null,null,null,null,null,null,null,null,null,null,null,null,null,null,null,null,null,null,null,null,null,null,null,null,null,null,null,null,null,null,null,null,null,null,null,null,null,null,null,null,null,null,null,null,null,null,null,null,null,null,"",null,null,null,null,null,null,null,null,null,null,null,null,null,null,null,null,null,null,null,null,null,null,null,null,9.1999999999999837E-5,null,null,null,0,9.1999999999999837E-5,{"$f":"COUNTIFS('C-E'!$B$13:$B$1001,CAD_AREA!$CB104,'C-E'!$H$13:$H$1001,CAD_AREA!CG$12)","v":0},{"$f":"COUNTIFS('C-E'!$B$13:$B$1001,CAD_AREA!$CB104,'C-E'!$H$13:$H$1001,CAD_AREA!CH$12)","v":0}]
[null,null,null,null,null,null,null,null,null,null,null,null,null,null,null,null,null,null,null,null,null,null,null,null,null,null,null,null,null,null,null,null,null,null,null,null,null,null,null,null,null,null,null,null,null,null,null,null,null,null,null,null,null,"",null,null,null,null,null,null,null,null,null,null,null,null,null,null,null,null,null,null,null,null,null,null,null,null,9.2999999999999835E-5,null,null,null,0,9.2999999999999835E-5,{"$f":"COUNTIFS('C-E'!$B$13:$B$1001,CAD_AREA!$CB105,'C-E'!$H$13:$H$1001,CAD_AREA!CG$12)","v":0},{"$f":"COUNTIFS('C-E'!$B$13:$B$1001,CAD_AREA!$CB105,'C-E'!$H$13:$H$1001,CAD_AREA!CH$12)","v":0}]
[null,null,null,null,null,null,null,null,null,null,null,null,null,null,null,null,null,null,null,null,null,null,null,null,null,null,null,null,null,null,null,null,null,null,null,null,null,null,null,null,null,null,null,null,null,null,null,null,null,null,null,null,null,"",null,null,null,null,null,null,null,null,null,null,null,null,null,null,null,null,null,null,null,null,null,null,null,null,9.3999999999999832E-5,null,null,null,0,9.3999999999999832E-5,{"$f":"COUNTIFS('C-E'!$B$13:$B$1001,CAD_AREA!$CB106,'C-E'!$H$13:$H$1001,CAD_AREA!CG$12)","v":0},{"$f":"COUNTIFS('C-E'!$B$13:$B$1001,CAD_AREA!$CB106,'C-E'!$H$13:$H$1001,CAD_AREA!CH$12)","v":0}]
[null,null,null,null,null,null,null,null,null,null,null,null,null,null,null,null,null,null,null,null,null,null,null,null,null,null,null,null,null,null,null,null,null,null,null,null,null,null,null,null,null,null,null,null,null,null,null,null,null,null,null,null,null,"",null,null,null,null,null,null,null,null,null,null,null,null,null,null,null,null,null,null,null,null,null,null,null,null,9.4999999999999829E-5,null,null,null,0,9.4999999999999829E-5,{"$f":"COUNTIFS('C-E'!$B$13:$B$1001,CAD_AREA!$CB107,'C-E'!$H$13:$H$1001,CAD_AREA!CG$12)","v":0},{"$f":"COUNTIFS('C-E'!$B$13:$B$1001,CAD_AREA!$CB107,'C-E'!$H$13:$H$1001,CAD_AREA!CH$12)","v":0}]
[null,null,null,null,null,null,null,null,null,null,null,null,null,null,null,null,null,null,null,null,null,null,null,null,null,null,null,null,null,null,null,null,null,null,null,null,null,null,null,null,null,null,null,null,null,null,null,null,null,null,null,null,null,"",null,null,null,null,null,null,null,null,null,null,null,null,null,null,null,null,null,null,null,null,null,null,null,null,9.5999999999999826E-5,null,null,null,0,9.5999999999999826E-5,{"$f":"COUNTIFS('C-E'!$B$13:$B$1001,CAD_AREA!$CB108,'C-E'!$H$13:$H$1001,CAD_AREA!CG$12)","v":0},{"$f":"COUNTIFS('C-E'!$B$13:$B$1001,CAD_AREA!$CB108,'C-E'!$H$13:$H$1001,CAD_AREA!CH$12)","v":0}]
[null,null,null,null,null,null,null,null,null,null,null,null,null,null,null,null,null,null,null,null,null,null,null,null,null,null,null,null,null,null,null,null,null,null,null,null,null,null,null,null,null,null,null,null,null,null,null,null,null,null,null,null,null,{"$f":"IF(BA109=\"\",\"\",BA109)","v":""},null,null,null,null,null,null,null,null,null,null,null,null,null,null,null,null,null,null,null,null,null,null,null,null,9.6999999999999823E-5,null,null,null,0,9.6999999999999823E-5,{"$f":"COUNTIFS('C-E'!$B$13:$B$1001,CAD_AREA!$CB109,'C-E'!$H$13:$H$1001,CAD_AREA!CG$12)","v":0},{"$f":"COUNTIFS('C-E'!$B$13:$B$1001,CAD_AREA!$CB109,'C-E'!$H$13:$H$1001,CAD_AREA!CH$12)","v":0}]
[null,null,null,null,null,null,null,null,null,null,null,null,null,null,null,null,null,null,null,null,null,null,null,null,null,null,null,null,null,null,null,null,null,null,null,null,null,null,null,null,null,null,null,null,null,null,null,null,null,null,null,null,null,"",null,null,null,null,null,null,null,null,null,null,null,null,null,null,null,null,null,null,null,null,null,null,null,null,9.7999999999999821E-5,null,null,null,0,9.7999999999999821E-5,{"$f":"COUNTIFS('C-E'!$B$13:$B$1001,CAD_AREA!$CB110,'C-E'!$H$13:$H$1001,CAD_AREA!CG$12)","v":0},{"$f":"COUNTIFS('C-E'!$B$13:$B$1001,CAD_AREA!$CB110,'C-E'!$H$13:$H$1001,CAD_AREA!CH$12)","v":0}]
[null,null,null,null,null,null,null,null,null,null,null,null,null,null,null,null,null,null,null,null,null,null,null,null,null,null,null,null,null,null,null,null,null,null,null,null,null,null,null,null,null,null,null,null,null,null,null,null,null,null,null,null,null,"",null,null,null,null,null,null,null,null,null,null,null,null,null,null,null,null,null,null,null,null,null,null,null,null,9.8999999999999818E-5,null,null,null,0,9.8999999999999818E-5,{"$f":"COUNTIFS('C-E'!$B$13:$B$1001,CAD_AREA!$CB111,'C-E'!$H$13:$H$1001,CAD_AREA!CG$12)","v":0},{"$f":"COUNTIFS('C-E'!$B$13:$B$1001,CAD_AREA!$CB111,'C-E'!$H$13:$H$1001,CAD_AREA!CH$12)","v":0}]
[null,null,null,null,null,null,null,null,null,null,null,null,null,null,null,null,null,null,null,null,null,null,null,null,null,null,null,null,null,null,null,null,null,null,null,null,null,null,null,null,null,null,null,null,null,null,null,null,null,null,null,null,null,"",null,null,null,null,null,null,null,null,null,null,null,null,null,null,null,null,null,null,null,null,null,null,null,null,9.9999999999999815E-5,null,null,null,0,9.9999999999999815E-5,{"$f":"COUNTIFS('C-E'!$B$13:$B$1001,CAD_AREA!$CB112,'C-E'!$H$13:$H$1001,CAD_AREA!CG$12)","v":0},{"$f":"COUNTIFS('C-E'!$B$13:$B$1001,CAD_AREA!$CB112,'C-E'!$H$13:$H$1001,CAD_AREA!CH$12)","v":0}]
[null,null,null,null,null,null,null,null,null,null,null,null,null,null,null,null,null,null,null,null,null,null,null,null,null,null,null,null,null,null,null,null,null,null,null,null,null,null,null,null,null,null,null,null,null,null,null,null,null,null,null,null,null,"",null,null,null,null,null,null,null,null,null,null,null,null,null,null,null,null,null,null,null,null,null,null,null,null,1.0099999999999981E-4,null,null,null,0,1.0099999999999981E-4,{"$f":"COUNTIFS('C-E'!$B$13:$B$1001,CAD_AREA!$CB113,'C-E'!$H$13:$H$1001,CAD_AREA!CG$12)","v":0},{"$f":"COUNTIFS('C-E'!$B$13:$B$1001,CAD_AREA!$CB113,'C-E'!$H$13:$H$1001,CAD_AREA!CH$12)","v":0}]
[null,null,null,null,null,null,null,null,null,null,null,null,null,null,null,null,null,null,null,null,null,null,null,null,null,null,null,null,null,null,null,null,null,null,null,null,null,null,null,null,null,null,null,null,null,null,null,null,null,null,null,null,null,null,null,null,null,null,null,null,null,null,null,null,null,null,null,null,null,null,null,null,null,null,null,null,null,null,null,null,null,null,null,"a","a","a"]

{"sheet":"PPRA","index":2,"n_rows":615,"n_cols":30,"rows_kept":615,"cut":false,"hidden":false,"merged":[]}
[]
[]
[]
[]
[]
[]
[]
[]
[]
[]
[]
[null,"Descrição doRisco","Área","Tipo de Risco","Frequência de Exposição","Possíveis danos à saúde","Graduação do Risco","Gravidade","Medidas de controle existentes","Precisa de EPI?","Se sim, qual?",null,"Eventual",1,null,"Baixo",1,null,"Insignificante",1,null,{"$f":"E12","v":"Frequência de Exposição"},{"$f":"F12","v":"Possíveis danos à saúde"},{"$f":"G12","v":"Graduação do Risco"},"Pontuação",null,null,"desempate"]
[{"$f":"AA13","v":16.000001000000001},"r 1","ADM","Físico","Intermitente","Médio","Alto",{"$f":"Y13","v":16},null,null,null,null,"Intermitente",2,null,"Médio",2,null,"Baixo",2,null,{"$f":"IF(E13=\"\",\"\",VLOOKUP(E13,$M$12:$N$14,2,FALSE))","v":2},{"$f":"IF(F13=\"\",\"\",VLOOKUP(F13,$P$12:$Q$15,2,FALSE))","v":2},{"$f":"IF(G13=\"\",\"\",VLOOKUP(G13,$S$12:$T$16,2,FALSE))","v":4},{"$f":"IF(V13=\"\",\"\",IFERROR(V13*W13*X13,0))","v":16},null,{"$f":"IFERROR(AB13+Y13,AB13)","v":16.000001000000001},{"$f":"0.000001","v":9.9999999999999995E-7},{"$f":"IF(B13=\"\",\"\",B13)","v":"r 1"}]
[1.9999999999999999E-6,null,null,null,null,null,null,{"$f":"Y14","v":""},null,null,null,null,"Permanente",3,null,"Alto",3,null,"Médio",3,null,"","","",{"$f":"IF(V14=\"\",\"\",IFERROR(V14*W14*X14,0))","v":""},null,{"$f":"IFERROR(AB14+Y14,AB14)","v":1.9999999999999999E-6},{"$f":"AB13+$AB$13","v":1.9999999999999999E-6},{"$f":"IF(B14=\"\",\"\",B14)","v":""}]
[3.0000000000000001E-6,null,null,null,null,null,null,"",null,null,null,null,null,null,null,"Iminente",4,null,"Alto",4,null,"","","","",null,3.0000000000000001E-6,3.0000000000000001E-6,""]
[3.9999999999999998E-6,null,null,null,null,null,null,"",null,null,null,null,null,null,null,null,null,null,"Crítico",5,null,"","","","",null,3.9999999999999998E-6,3.9999999999999998E-6,""]
[4.9999999999999996E-6,null,null,null,null,null,null,"",null,null,null,null,null,null,null,null,null,null,null,null,null,"","","","",null,4.9999999999999996E-6,4.9999999999999996E-6,""]
[5.9999999999999993E-6,null,null,null,null,null,null,"",null,null,null,null,null,null,null,null,null,null,null,null,null,"","","","",null,5.9999999999999993E-6,5.9999999999999993E-6,""]
[6.999999999999999E-6,null,null,null,null,null,null,"",null,null,null,null,null,null,null,null,null,null,null,null,null,"","","","",null,6.999999999999999E-6,6.999999999999999E-6,""]
[7.9999999999999996E-6,null,null,null,null,null,null,"",null,null,null,null,null,null,null,null,null,null,null,null,null,"","","","",null,7.9999999999999996E-6,7.9999999999999996E-6,""]
[9.0000000000000002E-6,null,null,null,null,null,null,"",null,null,null,null,null,null,null,null,null,null,null,null,null,"","","","",null,9.0000000000000002E-6,9.0000000000000002E-6,""]
[1.0000000000000001E-5,null,null,null,null,null,null,"",null,null,null,null,null,null,null,null,null,null,null,null,null,"","","","",null,1.0000000000000001E-5,1.0000000000000001E-5,""]
[1.1000000000000001E-5,null,null,null,null,null,null,"",null,null,null,null,null,null,null,null,null,null,null,null,null,"","","","",null,1.1000000000000001E-5,1.1000000000000001E-5,""]
[1.2000000000000002E-5,null,null,null,null,null,null,"",null,null,null,null,null,null,null,null,null,null,null,null,null,"","","","",null,1.2000000000000002E-5,1.2000000000000002E-5,""]
[1.3000000000000003E-5,null,null,null,null,null,null,"",null,null,null,null,null,null,null,null,null,null,null,null,null,"","","","",null,1.3000000000000003E-5,1.3000000000000003E-5,""]
[1.4000000000000003E-5,null,null,null,null,null,null,"",null,null,null,null,null,null,null,null,null,null,null,null,null,"","","","",null,1.4000000000000003E-5,1.4000000000000003E-5,""]
[1.5000000000000004E-5,null,null,null,null,null,null,"",null,null,null,null,null,null,null,null,null,null,null,null,null,"","","","",null,1.5000000000000004E-5,1.5000000000000004E-5,""]
[1.6000000000000003E-5,null,null,null,null,null,null,"",null,null,null,null,null,null,null,null,null,null,null,null,null,"","","","",null,1.6000000000000003E-5,1.6000000000000003E-5,""]
[1.7000000000000003E-5,null,null,null,null,null,null,"",null,null,null,null,null,null,null,null,null,null,null,null,null,"","","","",null,1.7000000000000003E-5,1.7000000000000003E-5,""]
[1.8000000000000004E-5,null,null,null,null,null,null,"",null,null,null,null,null,null,null,null,null,null,null,null,null,"","","","",null,1.8000000000000004E-5,1.8000000000000004E-5,""]
[1.9000000000000004E-5,null,null,null,null,null,null,"",null,null,null,null,null,null,null,null,null,null,null,null,null,"","","","",null,1.9000000000000004E-5,1.9000000000000004E-5,""]
[2.0000000000000005E-5,null,null,null,null,null,null,"",null,null,null,null,null,null,null,null,null,null,null,null,null,"","","","",null,2.0000000000000005E-5,2.0000000000000005E-5,""]
[2.1000000000000006E-5,null,null,null,null,null,null,"",null,null,null,null,null,null,null,null,null,null,null,null,null,"","","","",null,2.1000000000000006E-5,2.1000000000000006E-5,""]
[2.2000000000000006E-5,null,null,null,null,null,null,"",null,null,null,null,null,null,null,null,null,null,null,null,null,"","","","",null,2.2000000000000006E-5,2.2000000000000006E-5,""]
[2.3000000000000007E-5,null,null,null,null,null,null,"",null,null,null,null,null,null,null,null,null,null,null,null,null,"","","","",null,2.3000000000000007E-5,2.3000000000000007E-5,""]
[2.4000000000000007E-5,null,null,null,null,null,null,"",null,null,null,null,null,null,null,null,null,null,null,null,null,"","","","",null,2.4000000000000007E-5,2.4000000000000007E-5,""]
[2.5000000000000008E-5,null,null,null,null,null,null,"",null,null,null,null,null,null,null,null,null,null,null,null,null,"","","","",null,2.5000000000000008E-5,2.5000000000000008E-5,""]
[2.6000000000000009E-5,null,null,null,null,null,null,"",null,null,null,null,null,null,null,null,null,null,null,null,null,"","","","",null,2.6000000000000009E-5,2.6000000000000009E-5,""]
[2.7000000000000009E-5,null,null,null,null,null,null,"",null,null,null,null,null,null,null,null,null,null,null,null,null,"","","","",null,2.7000000000000009E-5,2.7000000000000009E-5,""]
[2.800000000000001E-5,null,null,null,null,null,null,"",null,null,null,null,null,null,null,null,null,null,null,null,null,"","","","",null,2.800000000000001E-5,2.800000000000001E-5,""]
[2.900000000000001E-5,null,null,null,null,null,null,"",null,null,null,null,null,null,null,null,null,null,null,null,null,"","","","",null,2.900000000000001E-5,2.900000000000001E-5,""]
[3.0000000000000011E-5,null,null,null,null,null,null,"",null,null,null,null,null,null,null,null,null,null,null,null,null,"","","","",null,3.0000000000000011E-5,3.0000000000000011E-5,""]
[3.1000000000000008E-5,null,null,null,null,null,null,"",null,null,null,null,null,null,null,null,null,null,null,null,null,"","","","",null,3.1000000000000008E-5,3.1000000000000008E-5,""]
[3.2000000000000005E-5,null,null,null,null,null,null,"",null,null,null,null,null,null,null,null,null,null,null,null,null,"","","","",null,3.2000000000000005E-5,3.2000000000000005E-5,""]
[3.3000000000000003E-5,null,null,null,null,null,null,"",null,null,null,null,null,null,null,null,null,null,null,null,null,"","","","",null,3.3000000000000003E-5,3.3000000000000003E-5,""]
[3.4E-5,null,null,null,null,null,null,"",null,null,null,null,null,null,null,null,null,null,null,null,null,"","","","",null,3.4E-5,3.4E-5,""]
[3.4999999999999997E-5,null,null,null,null,null,null,"",null,null,null,null,null,null,null,null,null,null,null,null,null,"","","","",null,3.4999999999999997E-5,3.4999999999999997E-5,""]
[3.5999999999999994E-5,null,null,null,null,null,null,"",null,null,null,null,null,null,null,null,null,null,null,null,null,"","","","",null,3.5999999999999994E-5,3.5999999999999994E-5,""]
[3.6999999999999991E-5,null,null,null,null,null,null,"",null,null,null,null,null,null,null,null,null,null,null,null,null,"","","","",null,3.6999999999999991E-5,3.6999999999999991E-5,""]
[3.7999999999999989E-5,null,null,null,null,null,null,"",null,null,null,null,null,null,null,null,null,null,null,null,null,"","","","",null,3.7999999999999989E-5,3.7999999999999989E-5,""]
[3.8999999999999986E-5,null,null,null,null,null,null,"",null,null,null,null,null,null,null,null,null,null,null,null,null,"","","","",null,3.8999999999999986E-5,3.8999999999999986E-5,""]
[3.9999999999999983E-5,null,null,null,null,null,null,"",null,null,null,null,null,null,null,null,null,null,null,null,null,"","","","",null,3.9999999999999983E-5,3.9999999999999983E-5,""]
[4.099999999999998E-5,null,null,null,null,null,null,"",null,null,null,null,null,null,null,null,null,null,null,null,null,"","","","",null,4.099999999999998E-5,4.099999999999998E-5,""]
[4.1999999999999977E-5,null,null,null,null,null,null,"",null,null,null,null,null,null,null,null,null,null,null,null,null,"","","","",null,4.1999999999999977E-5,4.1999999999999977E-5,""]
[4.2999999999999975E-5,null,null,null,null,null,null,"",null,null,null,null,null,null,null,null,null,null,null,null,null,"","","","",null,4.2999999999999975E-5,4.2999999999999975E-5,""]
[4.3999999999999972E-5,null,null,null,null,null,null,"",null,null,null,null,null,null,null,null,null,null,null,null,null,"","","","",null,4.3999999999999972E-5,4.3999999999999972E-5,""]
[4.4999999999999969E-5,null,null,null,null,null,null,"",null,null,null,null,null,null,null,null,null,null,null,null,null,"","","","",null,4.4999999999999969E-5,4.4999999999999969E-5,""]
[4.5999999999999966E-5,null,null,null,null,null,null,"",null,null,null,null,null,null,null,null,null,null,null,null,null,"","","","",null,4.5999999999999966E-5,4.5999999999999966E-5,""]
[4.6999999999999963E-5,null,null,null,null,null,null,"",null,null,null,null,null,null,null,null,null,null,null,null,null,"","","","",null,4.6999999999999963E-5,4.6999999999999963E-5,""]
[4.7999999999999961E-5,null,null,null,null,null,null,"",null,null,null,null,null,null,null,null,null,null,null,null,null,"","","","",null,4.7999999999999961E-5,4.7999999999999961E-5,""]
[4.8999999999999958E-5,null,null,null,null,null,null,"",null,null,null,null,null,null,null,null,null,null,null,null,null,"","","","",null,4.8999999999999958E-5,4.8999999999999958E-5,""]
[4.9999999999999955E-5,null,null,null,null,null,null,"",null,null,null,null,null,null,null,null,null,null,null,null,null,"","","","",null,4.9999999999999955E-5,4.9999999999999955E-5,""]
[5.0999999999999952E-5,null,null,null,null,null,null,"",null,null,null,null,null,null,null,null,null,null,null,null,null,"","","","",null,5.0999999999999952E-5,5.0999999999999952E-5,""]
[5.1999999999999949E-5,null,null,null,null,null,null,"",null,null,null,null,null,null,null,null,null,null,null,null,null,"","","","",null,5.1999999999999949E-5,5.1999999999999949E-5,""]
[5.2999999999999947E-5,null,null,null,null,null,null,"",null,null,null,null,null,null,null,null,null,null,null,null,null,"","","","",null,5.2999999999999947E-5,5.2999999999999947E-5,""]
[5.3999999999999944E-5,null,null,null,null,null,null,"",null,null,null,null,null,null,null,null,null,null,null,null,null,"","","","",null,5.3999999999999944E-5,5.3999999999999944E-5,""]
[5.4999999999999941E-5,null,null,null,null,null,null,"",null,null,null,null,null,null,null,null,null,null,null,null,null,"","","","",null,5.4999999999999941E-5,5.4999999999999941E-5,""]
[5.5999999999999938E-5,null,null,null,null,null,null,"",null,null,null,null,null,null,null,null,null,null,null,null,null,"","","","",null,5.5999999999999938E-5,5.5999999999999938E-5,""]
[5.6999999999999935E-5,null,null,null,null,null,null,"",null,null,null,null,null,null,null,null,null,null,null,null,null,"","","","",null,5.6999999999999935E-5,5.6999999999999935E-5,""]
[5.7999999999999933E-5,null,null,null,null,null,null,"",null,null,null,null,null,null,null,null,null,null,null,null,null,"","","","",null,5.7999999999999933E-5,5.7999999999999933E-5,""]
[5.899999999999993E-5,null,null,null,null,null,null,"",null,null,null,null,null,null,null,null,null,null,null,null,null,"","","","",null,5.899999999999993E-5,5.899999999999993E-5,""]
[5.9999999999999927E-5,null,null,null,null,null,null,"",null,null,null,null,null,null,null,null,null,null,null,null,null,"","","","",null,5.9999999999999927E-5,5.9999999999999927E-5,""]
[6.0999999999999924E-5,null,null,null,null,null,null,"",null,null,null,null,null,null,null,null,null,null,null,null,null,"","","","",null,6.0999999999999924E-5,6.0999999999999924E-5,""]
[6.1999999999999921E-5,null,null,null,null,null,null,"",null,null,null,null,null,null,null,null,null,null,null,null,null,"","","","",null,6.1999999999999921E-5,6.1999999999999921E-5,""]
[6.2999999999999919E-5,null,null,null,null,null,null,"",null,null,null,null,null,null,null,null,null,null,null,null,null,"","","","",null,6.2999999999999919E-5,6.2999999999999919E-5,""]
[6.3999999999999916E-5,null,null,null,null,null,null,"",null,null,null,null,null,null,null,null,null,null,null,null,null,"","","","",null,6.3999999999999916E-5,6.3999999999999916E-5,""]
[{"$f":"AA77","v":6.4999999999999913E-5},null,null,null,null,null,null,"",null,null,null,null,null,null,null,null,null,null,null,null,null,{"$f":"IF(E77=\"\",\"\",VLOOKUP(E77,$M$12:$N$14,2,FALSE))","v":""},{"$f":"IF(F77=\"\",\"\",VLOOKUP(F77,$P$12:$Q$15,2,FALSE))","v":""},{"$f":"IF(G77=\"\",\"\",VLOOKUP(G77,$S$12:$T$16,2,FALSE))","v":""},"",null,6.4999999999999913E-5,6.4999999999999913E-5,""]
[6.599999999999991E-5,null,null,null,null,null,null,{"$f":"Y78","v":""},null,null,null,null,null,null,null,null,null,null,null,null,null,"","","",{"$f":"IF(V78=\"\",\"\",IFERROR(V78*W78*X78,0))","v":""},null,{"$f":"IFERROR(AB78+Y78,AB78)","v":6.599999999999991E-5},{"$f":"AB77+$AB$13","v":6.599999999999991E-5},{"$f":"IF(B78=\"\",\"\",B78)","v":""}]
[6.6999999999999907E-5,null,null,null,null,null,null,"",null,null,null,null,null,null,null,null,null,null,null,null,null,"","","","",null,6.6999999999999907E-5,6.6999999999999907E-5,""]
[6.7999999999999905E-5,null,null,null,null,null,null,"",null,null,null,null,null,null,null,null,null,null,null,null,null,"","","","",null,6.7999999999999905E-5,6.7999999999999905E-5,""]
[6.8999999999999902E-5,null,null,null,null,null,null,"",null,null,null,null,null,null,null,null,null,null,null,null,null,"","","","",null,6.8999999999999902E-5,6.8999999999999902E-5,""]
[6.9999999999999899E-5,null,null,null,null,null,null,"",null,null,null,null,null,null,null,null,null,null,null,null,null,"","","","",null,6.9999999999999899E-5,6.9999999999999899E-5,""]
[7.0999999999999896E-5,null,null,null,null,null,null,"",null,null,null,null,null,null,null,null,null,null,null,null,null,"","","","",null,7.0999999999999896E-5,7.0999999999999896E-5,""]
[7.1999999999999893E-5,null,null,null,null,null,null,"",null,null,null,null,null,null,null,null,null,null,null,null,null,"","","","",null,7.1999999999999893E-5,7.1999999999999893E-5,""]
[7.2999999999999891E-5,null,null,null,null,null,null,"",null,null,null,null,null,null,null,null,null,null,null,null,null,"","","","",null,7.2999999999999891E-5,7.2999999999999891E-5,""]
[7.3999999999999888E-5,null,null,null,null,null,null,"",null,null,null,null,null,null,null,null,null,null,null,null,null,"","","","",null,7.3999999999999888E-5,7.3999999999999888E-5,""]
[7.4999999999999885E-5,null,null,null,null,null,null,"",null,null,null,null,null,null,null,null,null,null,null,null,null,"","","","",null,7.4999999999999885E-5,7.4999999999999885E-5,""]
[7.5999999999999882E-5,null,null,null,null,null,null,"",null,null,null,null,null,null,null,null,null,null,null,null,null,"","","","",null,7.5999999999999882E-5,7.5999999999999882E-5,""]
[7.6999999999999879E-5,null,null,null,null,null,null,"",null,null,null,null,null,null,null,null,null,null,null,null,null,"","","","",null,7.6999999999999879E-5,7.6999999999999879E-5,""]
[7.7999999999999877E-5,null,null,null,null,null,null,"",null,null,null,null,null,null,null,null,null,null,null,null,null,"","","","",null,7.7999999999999877E-5,7.7999999999999877E-5,""]
[7.8999999999999874E-5,null,null,null,null,null,null,"",null,null,null,null,null,null,null,null,null,null,null,null,null,"","","","",null,7.8999999999999874E-5,7.8999999999999874E-5,""]
[7.9999999999999871E-5,null,null,null,null,null,null,"",null,null,null,null,null,null,null,null,null,null,null,null,null,"","","","",null,7.9999999999999871E-5,7.9999999999999871E-5,""]
[8.0999999999999868E-5,null,null,null,null,null,null,"",null,null,null,null,null,null,null,null,null,null,null,null,null,"","","","",null,8.0999999999999868E-5,8.0999999999999868E-5,""]
[8.1999999999999865E-5,null,null,null,null,null,null,"",null,null,null,null,null,null,null,null,null,null,null,null,null,"","","","",null,8.1999999999999865E-5,8.1999999999999865E-5,""]
[8.2999999999999863E-5,null,null,null,null,null,null,"",null,null,null,null,null,null,null,null,null,null,null,null,null,"","","","",null,8.2999999999999863E-5,8.2999999999999863E-5,""]
[8.399999999999986E-5,null,null,null,null,null,null,"",null,null,null,null,null,null,null,null,null,null,null,null,null,"","","","",null,8.399999999999986E-5,8.399999999999986E-5,""]
[8.4999999999999857E-5,null,null,null,null,null,null,"",null,null,null,null,null,null,null,null,null,null,null,null,null,"","","","",null,8.4999999999999857E-5,8.4999999999999857E-5,""]
[8.5999999999999854E-5,null,null,null,null,null,null,"",null,null,null,null,null,null,null,null,null,null,null,null,null,"","","","",null,8.5999999999999854E-5,8.5999999999999854E-5,""]
[8.6999999999999851E-5,null,null,null,null,null,null,"",null,null,null,null,null,null,null,null,null,null,null,null,null,"","","","",null,8.6999999999999851E-5,8.6999999999999851E-5,""]
[8.7999999999999849E-5,null,null,null,null,null,null,"",null,null,null,null,null,null,null,null,null,null,null,null,null,"","","","",null,8.7999999999999849E-5,8.7999999999999849E-5,""]
[8.8999999999999846E-5,null,null,null,null,null,null,"",null,null,null,null,null,null,null,null,null,null,null,null,null,"","","","",null,8.8999999999999846E-5,8.8999999999999846E-5,""]
[8.9999999999999843E-5,null,null,null,null,null,null,"",null,null,null,null,null,null,null,null,null,null,null,null,null,"","","","",null,8.9999999999999843E-5,8.9999999999999843E-5,""]
[9.099999999999984E-5,null,null,null,null,null,null,"",null,null,null,null,null,null,null,null,null,null,null,null,null,"","","","",null,9.099999999999984E-5,9.099999999999984E-5,""]
[9.1999999999999837E-5,null,null,null,null,null,null,"",null,null,null,null,null,null,null,null,null,null,null,null,null,"","","","",null,9.1999999999999837E-5,9.1999999999999837E-5,""]
[9.2999999999999835E-5,null,null,null,null,null,null,"",null,null,null,null,null,null,null,null,null,null,null,null,null,"","","","",null,9.2999999999999835E-5,9.2999999999999835E-5,""]
[9.3999999999999832E-5,null,null,null,null,null,null,"",null,null,null,null,null,null,null,null,null,null,null,null,null,"","","","",null,9.3999999999999832E-5,9.3999999999999832E-5,""]
[9.4999999999999829E-5,null,null,null,null,null,null,"",null,null,null,null,null,null,null,null,null,null,null,null,null,"","","","",null,9.4999999999999829E-5,9.4999999999999829E-5,""]
[9.5999999999999826E-5,null,null,null,null,null,null,"",null,null,null,null,null,null,null,null,null,null,null,null,null,"","","","",null,9.5999999999999826E-5,9.5999999999999826E-5,""]
[9.6999999999999823E-5,null,null,null,null,null,null,"",null,null,null,null,null,null,null,null,null,null,null,null,null,"","","","",null,9.6999999999999823E-5,9.6999999999999823E-5,""]
[9.7999999999999821E-5,null,null,null,null,null,null,"",null,null,null,null,null,null,null,null,null,null,null,null,null,"","","","",null,9.7999999999999821E-5,9.7999999999999821E-5,""]
[9.8999999999999818E-5,null,null,null,null,null,null,"",null,null,null,null,null,null,null,null,null,null,null,null,null,"","","","",null,9.8999999999999818E-5,9.8999999999999818E-5,""]
[9.9999999999999815E-5,null,null,null,null,null,null,"",null,null,null,null,null,null,null,null,null,null,null,null,null,"","","","",null,9.9999999999999815E-5,9.9999999999999815E-5,""]
[1.0099999999999981E-4,null,null,null,null,null,null,"",null,null,null,null,null,null,null,null,null,null,null,null,null,"","","","",null,1.0099999999999981E-4,1.0099999999999981E-4,""]
[1.0199999999999981E-4,null,null,null,null,null,null,"",null,null,null,null,null,null,null,null,null,null,null,null,null,"","","","",null,1.0199999999999981E-4,1.0199999999999981E-4,""]
[1.0299999999999981E-4,null,null,null,null,null,null,"",null,null,null,null,null,null,null,null,null,null,null,null,null,"","","","",null,1.0299999999999981E-4,1.0299999999999981E-4,""]
[1.039999999999998E-4,null,null,null,null,null,null,"",null,null,null,null,null,null,null,null,null,null,null,null,null,"","","","",null,1.039999999999998E-4,1.039999999999998E-4,""]
[1.049999999999998E-4,null,null,null,null,null,null,"",null,null,null,null,null,null,null,null,null,null,null,null,null,"","","","",null,1.049999999999998E-4,1.049999999999998E-4,""]
[1.059999999999998E-4,null,null,null,null,null,null,"",null,null,null,null,null,null,null,null,null,null,null,null,null,"","","","",null,1.059999999999998E-4,1.059999999999998E-4,""]
[1.069999999999998E-4,null,null,null,null,null,null,"",null,null,null,null,null,null,null,null,null,null,null,null,null,"","","","",null,1.069999999999998E-4,1.069999999999998E-4,""]
[1.0799999999999979E-4,null,null,null,null,null,null,"",null,null,null,null,null,null,null,null,null,null,null,null,null,"","","","",null,1.0799999999999979E-4,1.0799999999999979E-4,""]
[1.0899999999999979E-4,null,null,null,null,null,null,"",null,null,null,null,null,null,null,null,null,null,null,null,null,"","","","",null,1.0899999999999979E-4,1.0899999999999979E-4,""]
[1.0999999999999979E-4,null,null,null,null,null,null,"",null,null,null,null,null,null,null,null,null,null,null,null,null,"","","","",null,1.0999999999999979E-4,1.0999999999999979E-4,""]
[1.1099999999999978E-4,null,null,null,null,null,null,"",null,null,null,null,null,null,null,null,null,null,null,null,null,"","","","",null,1.1099999999999978E-4,1.1099999999999978E-4,""]
[1.1199999999999978E-4,null,null,null,null,null,null,"",null,null,null,null,null,null,null,null,null,null,null,null,null,"","","","",null,1.1199999999999978E-4,1.1199999999999978E-4,""]
[1.1299999999999978E-4,null,null,null,null,null,null,"",null,null,null,null,null,null,null,null,null,null,null,null,null,"","","","",null,1.1299999999999978E-4,1.1299999999999978E-4,""]
[1.1399999999999978E-4,null,null,null,null,null,null,"",null,null,null,null,null,null,null,null,null,null,null,null,null,"","","","",null,1.1399999999999978E-4,1.1399999999999978E-4,""]
[1.1499999999999977E-4,null,null,null,null,null,null,"",null,null,null,null,null,null,null,null,null,null,null,null,null,"","","","",null,1.1499999999999977E-4,1.1499999999999977E-4,""]
[1.1599999999999977E-4,null,null,null,null,null,null,"",null,null,null,null,null,null,null,null,null,null,null,null,null,"","","","",null,1.1599999999999977E-4,1.1599999999999977E-4,""]
[1.1699999999999977E-4,null,null,null,null,null,null,"",null,null,null,null,null,null,null,null,null,null,null,null,null,"","","","",null,1.1699999999999977E-4,1.1699999999999977E-4,""]
[1.1799999999999976E-4,null,null,null,null,null,null,"",null,null,null,null,null,null,null,null,null,null,null,null,null,"","","","",null,1.1799999999999976E-4,1.1799999999999976E-4,""]
[1.1899999999999976E-4,null,null,null,null,null,null,"",null,null,null,null,null,null,null,null,null,null,null,null,null,"","","","",null,1.1899999999999976E-4,1.1899999999999976E-4,""]
[1.1999999999999976E-4,null,null,null,null,null,null,"",null,null,null,null,null,null,null,null,null,null,null,null,null,"","","","",null,1.1999999999999976E-4,1.1999999999999976E-4,""]
[1.2099999999999976E-4,null,null,null,null,null,null,"",null,null,null,null,null,null,null,null,null,null,null,null,null,"","","","",null,1.2099999999999976E-4,1.2099999999999976E-4,""]
[1.2199999999999975E-4,null,null,null,null,null,null,"",null,null,null,null,null,null,null,null,null,null,null,null,null,"","","","",null,1.2199999999999975E-4,1.2199999999999975E-4,""]
[1.2299999999999976E-4,null,null,null,null,null,null,"",null,null,null,null,null,null,null,null,null,null,null,null,null,"","","","",null,1.2299999999999976E-4,1.2299999999999976E-4,""]
[1.2399999999999976E-4,null,null,null,null,null,null,"",null,null,null,null,null,null,null,null,null,null,null,null,null,"","","","",null,1.2399999999999976E-4,1.2399999999999976E-4,""]
[1.2499999999999976E-4,null,null,null,null,null,null,"",null,null,null,null,null,null,null,null,null,null,null,null,null,"","","","",null,1.2499999999999976E-4,1.2499999999999976E-4,""]
[1.2599999999999976E-4,null,null,null,null,null,null,"",null,null,null,null,null,null,null,null,null,null,null,null,null,"","","","",null,1.2599999999999976E-4,1.2599999999999976E-4,""]
[1.2699999999999975E-4,null,null,null,null,null,null,"",null,null,null,null,null,null,null,null,null,null,null,null,null,"","","","",null,1.2699999999999975E-4,1.2699999999999975E-4,""]
[1.2799999999999975E-4,null,null,null,null,null,null,"",null,null,null,null,null,null,null,null,null,null,null,null,null,"","","","",null,1.2799999999999975E-4,1.2799999999999975E-4,""]
[{"$f":"AA141","v":1.2899999999999975E-4},null,null,null,null,null,null,"",null,null,null,null,null,null,null,null,null,null,null,null,null,{"$f":"IF(E141=\"\",\"\",VLOOKUP(E141,$M$12:$N$14,2,FALSE))","v":""},{"$f":"IF(F141=\"\",\"\",VLOOKUP(F141,$P$12:$Q$15,2,FALSE))","v":""},{"$f":"IF(G141=\"\",\"\",VLOOKUP(G141,$S$12:$T$16,2,FALSE))","v":""},"",null,1.2899999999999975E-4,1.2899999999999975E-4,""]
[1.2999999999999974E-4,null,null,null,null,null,null,{"$f":"Y142","v":""},null,null,null,null,null,null,null,null,null,null,null,null,null,"","","",{"$f":"IF(V142=\"\",\"\",IFERROR(V142*W142*X142,0))","v":""},null,{"$f":"IFERROR(AB142+Y142,AB142)","v":1.2999999999999974E-4},{"$f":"AB141+$AB$13","v":1.2999999999999974E-4},{"$f":"IF(B142=\"\",\"\",B142)","v":""}]
[1.3099999999999974E-4,null,null,null,null,null,null,"",null,null,null,null,null,null,null,null,null,null,null,null,null,"","","","",null,1.3099999999999974E-4,1.3099999999999974E-4,""]
[1.3199999999999974E-4,null,null,null,null,null,null,"",null,null,null,null,null,null,null,null,null,null,null,null,null,"","","","",null,1.3199999999999974E-4,1.3199999999999974E-4,""]
[1.3299999999999974E-4,null,null,null,null,null,null,"",null,null,null,null,null,null,null,null,null,null,null,null,null,"","","","",null,1.3299999999999974E-4,1.3299999999999974E-4,""]
[1.3399999999999973E-4,null,null,null,null,null,null,"",null,null,null,null,null,null,null,null,null,null,null,null,null,"","","","",null,1.3399999999999973E-4,1.3399999999999973E-4,""]
[1.3499999999999973E-4,null,null,null,null,null,null,"",null,null,null,null,null,null,null,null,null,null,null,null,null,"","","","",null,1.3499999999999973E-4,1.3499999999999973E-4,""]
[1.3599999999999973E-4,null,null,null,null,null,null,"",null,null,null,null,null,null,null,null,null,null,null,null,null,"","","","",null,1.3599999999999973E-4,1.3599999999999973E-4,""]
[1.3699999999999973E-4,null,null,null,null,null,null,"",null,null,null,null,null,null,null,null,null,null,null,null,null,"","","","",null,1.3699999999999973E-4,1.3699999999999973E-4,""]
[1.3799999999999972E-4,null,null,null,null,null,null,"",null,null,null,null,null,null,null,null,null,null,null,null,null,"","","","",null,1.3799999999999972E-4,1.3799999999999972E-4,""]
[1.3899999999999972E-4,null,null,null,null,null,null,"",null,null,null,null,null,null,null,null,null,null,null,null,null,"","","","",null,1.3899999999999972E-4,1.3899999999999972E-4,""]
[1.3999999999999972E-4,null,null,null,null,null,null,"",null,null,null,null,null,null,null,null,null,null,null,null,null,"","","","",null,1.3999999999999972E-4,1.3999999999999972E-4,""]
[1.4099999999999971E-4,null,null,null,null,null,null,"",null,null,null,null,null,null,null,null,null,null,null,null,null,"","","","",null,1.4099999999999971E-4,1.4099999999999971E-4,""]
[1.4199999999999971E-4,null,null,null,null,null,null,"",null,null,null,null,null,null,null,null,null,null,null,null,null,"","","","",null,1.4199999999999971E-4,1.4199999999999971E-4,""]
[1.4299999999999971E-4,null,null,null,null,null,null,"",null,null,null,null,null,null,null,null,null,null,null,null,null,"","","","",null,1.4299999999999971E-4,1.4299999999999971E-4,""]
[1.4399999999999971E-4,null,null,null,null,null,null,"",null,null,null,null,null,null,null,null,null,null,null,null,null,"","","","",null,1.4399999999999971E-4,1.4399999999999971E-4,""]
[1.449999999999997E-4,null,null,null,null,null,null,"",null,null,null,null,null,null,null,null,null,null,null,null,null,"","","","",null,1.449999999999997E-4,1.449999999999997E-4,""]
[1.459999999999997E-4,null,null,null,null,null,null,"",null,null,null,null,null,null,null,null,null,null,null,null,null,"","","","",null,1.459999999999997E-4,1.459999999999997E-4,""]
[1.469999999999997E-4,null,null,null,null,null,null,"",null,null,null,null,null,null,null,null,null,null,null,null,null,"","","","",null,1.469999999999997E-4,1.469999999999997E-4,""]
[1.4799999999999969E-4,null,null,null,null,null,null,"",null,null,null,null,null,null,null,null,null,null,null,null,null,"","","","",null,1.4799999999999969E-4,1.4799999999999969E-4,""]
[1.4899999999999969E-4,null,null,null,null,null,null,"",null,null,null,null,null,null,null,null,null,null,null,null,null,"","","","",null,1.4899999999999969E-4,1.4899999999999969E-4,""]
[1.4999999999999969E-4,null,null,null,null,null,null,"",null,null,null,null,null,null,null,null,null,null,null,null,null,"","","","",null,1.4999999999999969E-4,1.4999999999999969E-4,""]
[1.5099999999999969E-4,null,null,null,null,null,null,"",null,null,null,null,null,null,null,null,null,null,null,null,null,"","","","",null,1.5099999999999969E-4,1.5099999999999969E-4,""]
[1.5199999999999968E-4,null,null,null,null,null,null,"",null,null,null,null,null,null,null,null,null,null,null,null,null,"","","","",null,1.5199999999999968E-4,1.5199999999999968E-4,""]
[1.5299999999999968E-4,null,null,null,null,null,null,"",null,null,null,null,null,null,null,null,null,null,null,null,null,"","","","",null,1.5299999999999968E-4,1.5299999999999968E-4,""]
[1.5399999999999968E-4,null,null,null,null,null,null,"",null,null,null,null,null,null,null,null,null,null,null,null,null,"","","","",null,1.5399999999999968E-4,1.5399999999999968E-4,""]
[1.5499999999999967E-4,null,null,null,null,null,null,"",null,null,null,null,null,null,null,null,null,null,null,null,null,"","","","",null,1.5499999999999967E-4,1.5499999999999967E-4,""]
[1.5599999999999967E-4,null,null,null,null,null,null,"",null,null,null,null,null,null,null,null,null,null,null,null,null,"","","","",null,1.5599999999999967E-4,1.5599999999999967E-4,""]
[1.5699999999999967E-4,null,null,null,null,null,null,"",null,null,null,null,null,null,null,null,null,null,null,null,null,"","","","",null,1.5699999999999967E-4,1.5699999999999967E-4,""]
[1.5799999999999967E-4,null,null,null,null,null,null,"",null,null,null,null,null,null,null,null,null,null,null,null,null,"","","","",null,1.5799999999999967E-4,1.5799999999999967E-4,""]
[1.5899999999999966E-4,null,null,null,null,null,null,"",null,null,null,null,null,null,null,null,null,null,null,null,null,"","","","",null,1.5899999999999966E-4,1.5899999999999966E-4,""]
[1.5999999999999966E-4,null,null,null,null,null,null,"",null,null,null,null,null,null,null,null,null,null,null,null,null,"","","","",null,1.5999999999999966E-4,1.5999999999999966E-4,""]
[1.6099999999999966E-4,null,null,null,null,null,null,"",null,null,null,null,null,null,null,null,null,null,null,null,null,"","","","",null,1.6099999999999966E-4,1.6099999999999966E-4,""]
[1.6199999999999966E-4,null,null,null,null,null,null,"",null,null,null,null,null,null,null,null,null,null,null,null,null,"","","","",null,1.6199999999999966E-4,1.6199999999999966E-4,""]
[1.6299999999999965E-4,null,null,null,null,null,null,"",null,null,null,null,null,null,null,null,null,null,null,null,null,"","","","",null,1.6299999999999965E-4,1.6299999999999965E-4,""]
[1.6399999999999965E-4,null,null,null,null,null,null,"",null,null,null,null,null,null,null,null,null,null,null,null,null,"","","","",null,1.6399999999999965E-4,1.6399999999999965E-4,""]
[1.6499999999999965E-4,null,null,null,null,null,null,"",null,null,null,null,null,null,null,null,null,null,null,null,null,"","","","",null,1.6499999999999965E-4,1.6499999999999965E-4,""]
[1.6599999999999964E-4,null,null,null,null,null,null,"",null,null,null,null,null,null,null,null,null,null,null,null,null,"","","","",null,1.6599999999999964E-4,1.6599999999999964E-4,""]
[1.6699999999999964E-4,null,null,null,null,null,null,"",null,null,null,null,null,null,null,null,null,null,null,null,null,"","","","",null,1.6699999999999964E-4,1.6699999999999964E-4,""]
[1.6799999999999964E-4,null,null,null,null,null,null,"",null,null,null,null,null,null,null,null,null,null,null,null,null,"","","","",null,1.6799999999999964E-4,1.6799999999999964E-4,""]
[1.6899999999999964E-4,null,null,null,null,null,null,"",null,null,null,null,null,null,null,null,null,null,null,null,null,"","","","",null,1.6899999999999964E-4,1.6899999999999964E-4,""]
[1.6999999999999963E-4,null,null,null,null,null,null,"",null,null,null,null,null,null,null,null,null,null,null,null,null,"","","","",null,1.6999999999999963E-4,1.6999999999999963E-4,""]
[1.7099999999999963E-4,null,null,null,null,null,null,"",null,null,null,null,null,null,null,null,null,null,null,null,null,"","","","",null,1.7099999999999963E-4,1.7099999999999963E-4,""]
[1.7199999999999963E-4,null,null,null,null,null,null,"",null,null,null,null,null,null,null,null,null,null,null,null,null,"","","","",null,1.7199999999999963E-4,1.7199999999999963E-4,""]
[1.7299999999999962E-4,null,null,null,null,null,null,"",null,null,null,null,null,null,null,null,null,null,null,null,null,"","","","",null,1.7299999999999962E-4,1.7299999999999962E-4,""]
[1.7399999999999962E-4,null,null,null,null,null,null,"",null,null,null,null,null,null,null,null,null,null,null,null,null,"","","","",null,1.7399999999999962E-4,1.7399999999999962E-4,""]
[1.7499999999999962E-4,null,null,null,null,null,null,"",null,null,null,null,null,null,null,null,null,null,null,null,null,"","","","",null,1.7499999999999962E-4,1.7499999999999962E-4,""]
[1.7599999999999962E-4,null,null,null,null,null,null,"",null,null,null,null,null,null,null,null,null,null,null,null,null,"","","","",null,1.7599999999999962E-4,1.7599999999999962E-4,""]
[1.7699999999999961E-4,null,null,null,null,null,null,"",null,null,null,null,null,null,null,null,null,null,null,null,null,"","","","",null,1.7699999999999961E-4,1.7699999999999961E-4,""]
[1.7799999999999961E-4,null,null,null,null,null,null,"",null,null,null,null,null,null,null,null,null,null,null,null,null,"","","","",null,1.7799999999999961E-4,1.7799999999999961E-4,""]
[1.7899999999999961E-4,null,null,null,null,null,null,"",null,null,null,null,null,null,null,null,null,null,null,null,null,"","","","",null,1.7899999999999961E-4,1.7899999999999961E-4,""]
[1.799999999999996E-4,null,null,null,null,null,null,"",null,null,null,null,null,null,null,null,null,null,null,null,null,"","","","",null,1.799999999999996E-4,1.799999999999996E-4,""]
[1.809999999999996E-4,null,null,null,null,null,null,"",null,null,null,null,null,null,null,null,null,null,null,null,null,"","","","",null,1.809999999999996E-4,1.809999999999996E-4,""]
[1.819999999999996E-4,null,null,null,null,null,null,"",null,null,null,null,null,null,null,null,null,null,null,null,null,"","","","",null,1.819999999999996E-4,1.819999999999996E-4,""]
[1.829999999999996E-4,null,null,null,null,null,null,"",null,null,null,null,null,null,null,null,null,null,null,null,null,"","","","",null,1.829999999999996E-4,1.829999999999996E-4,""]
[1.8399999999999959E-4,null,null,null,null,null,null,"",null,null,null,null,null,null,null,null,null,null,null,null,null,"","","","",null,1.8399999999999959E-4,1.8399999999999959E-4,""]
[1.8499999999999959E-4,null,null,null,null,null,null,"",null,null,null,null,null,null,null,null,null,null,null,null,null,"","","","",null,1.8499999999999959E-4,1.8499999999999959E-4,""]
[1.8599999999999959E-4,null,null,null,null,null,null,"",null,null,null,null,null,null,null,null,null,null,null,null,null,"","","","",null,1.8599999999999959E-4,1.8599999999999959E-4,""]
[1.8699999999999959E-4,null,null,null,null,null,null,"",null,null,null,null,null,null,null,null,null,null,null,null,null,"","","","",null,1.8699999999999959E-4,1.8699999999999959E-4,""]
[1.8799999999999958E-4,null,null,null,null,null,null,"",null,null,null,null,null,null,null,null,null,null,null,null,null,"","","","",null,1.8799999999999958E-4,1.8799999999999958E-4,""]
[1.8899999999999958E-4,null,null,null,null,null,null,"",null,null,null,null,null,null,null,null,null,null,null,null,null,"","","","",null,1.8899999999999958E-4,1.8899999999999958E-4,""]
[1.8999999999999958E-4,null,null,null,null,null,null,"",null,null,null,null,null,null,null,null,null,null,null,null,null,"","","","",null,1.8999999999999958E-4,1.8999999999999958E-4,""]
[1.9099999999999957E-4,null,null,null,null,null,null,"",null,null,null,null,null,null,null,null,null,null,null,null,null,"","","","",null,1.9099999999999957E-4,1.9099999999999957E-4,""]
[1.9199999999999957E-4,null,null,null,null,null,null,"",null,null,null,null,null,null,null,null,null,null,null,null,null,"","","","",null,1.9199999999999957E-4,1.9199999999999957E-4,""]
[{"$f":"AA205","v":1.9299999999999957E-4},null,null,null,null,null,null,"",null,null,null,null,null,null,null,null,null,null,null,null,null,{"$f":"IF(E205=\"\",\"\",VLOOKUP(E205,$M$12:$N$14,2,FALSE))","v":""},{"$f":"IF(F205=\"\",\"\",VLOOKUP(F205,$P$12:$Q$15,2,FALSE))","v":""},{"$f":"IF(G205=\"\",\"\",VLOOKUP(G205,$S$12:$T$16,2,FALSE))","v":""},"",null,1.9299999999999957E-4,1.9299999999999957E-4,""]
[1.9399999999999957E-4,null,null,null,null,null,null,{"$f":"Y206","v":""},null,null,null,null,null,null,null,null,null,null,null,null,null,"","","",{"$f":"IF(V206=\"\",\"\",IFERROR(V206*W206*X206,0))","v":""},null,{"$f":"IFERROR(AB206+Y206,AB206)","v":1.9399999999999957E-4},{"$f":"AB205+$AB$13","v":1.9399999999999957E-4},{"$f":"IF(B206=\"\",\"\",B206)","v":""}]
[1.9499999999999956E-4,null,null,null,null,null,null,"",null,null,null,null,null,null,null,null,null,null,null,null,null,"","","","",null,1.9499999999999956E-4,1.9499999999999956E-4,""]
[1.9599999999999956E-4,null,null,null,null,null,null,"",null,null,null,null,null,null,null,null,null,null,null,null,null,"","","","",null,1.9599999999999956E-4,1.9599999999999956E-4,""]
[1.9699999999999956E-4,null,null,null,null,null,null,"",null,null,null,null,null,null,null,null,null,null,null,null,null,"","","","",null,1.9699999999999956E-4,1.9699999999999956E-4,""]
[1.9799999999999955E-4,null,null,null,null,null,null,"",null,null,null,null,null,null,null,null,null,null,null,null,null,"","","","",null,1.9799999999999955E-4,1.9799999999999955E-4,""]
[1.9899999999999955E-4,null,null,null,null,null,null,"",null,null,null,null,null,null,null,null,null,null,null,null,null,"","","","",null,1.9899999999999955E-4,1.9899999999999955E-4,""]
[1.9999999999999955E-4,null,null,null,null,null,null,"",null,null,null,null,null,null,null,null,null,null,null,null,null,"","","","",null,1.9999999999999955E-4,1.9999999999999955E-4,""]
[2.0099999999999955E-4,null,null,null,null,null,null,"",null,null,null,null,null,null,null,null,null,null,null,null,null,"","","","",null,2.0099999999999955E-4,2.0099999999999955E-4,""]
[2.0199999999999954E-4,null,null,null,null,null,null,"",null,null,null,null,null,null,null,null,null,null,null,null,null,"","","","",null,2.0199999999999954E-4,2.0199999999999954E-4,""]
[2.0299999999999954E-4,null,null,null,null,null,null,"",null,null,null,null,null,null,null,null,null,null,null,null,null,"","","","",null,2.0299999999999954E-4,2.0299999999999954E-4,""]
[2.0399999999999954E-4,null,null,null,null,null,null,"",null,null,null,null,null,null,null,null,null,null,null,null,null,"","","","",null,2.0399999999999954E-4,2.0399999999999954E-4,""]
[2.0499999999999953E-4,null,null,null,null,null,null,"",null,null,null,null,null,null,null,null,null,null,null,null,null,"","","","",null,2.0499999999999953E-4,2.0499999999999953E-4,""]
[2.0599999999999953E-4,null,null,null,null,null,null,"",null,null,null,null,null,null,null,null,null,null,null,null,null,"","","","",null,2.0599999999999953E-4,2.0599999999999953E-4,""]
[2.0699999999999953E-4,null,null,null,null,null,null,"",null,null,null,null,null,null,null,null,null,null,null,null,null,"","","","",null,2.0699999999999953E-4,2.0699999999999953E-4,""]
[2.0799999999999953E-4,null,null,null,null,null,null,"",null,null,null,null,null,null,null,null,null,null,null,null,null,"","","","",null,2.0799999999999953E-4,2.0799999999999953E-4,""]
[2.0899999999999952E-4,null,null,null,null,null,null,"",null,null,null,null,null,null,null,null,null,null,null,null,null,"","","","",null,2.0899999999999952E-4,2.0899999999999952E-4,""]
[2.0999999999999952E-4,null,null,null,null,null,null,"",null,null,null,null,null,null,null,null,null,null,null,null,null,"","","","",null,2.0999999999999952E-4,2.0999999999999952E-4,""]
[2.1099999999999952E-4,null,null,null,null,null,null,"",null,null,null,null,null,null,null,null,null,null,null,null,null,"","","","",null,2.1099999999999952E-4,2.1099999999999952E-4,""]
[2.1199999999999952E-4,null,null,null,null,null,null,"",null,null,null,null,null,null,null,null,null,null,null,null,null,"","","","",null,2.1199999999999952E-4,2.1199999999999952E-4,""]
[2.1299999999999951E-4,null,null,null,null,null,null,"",null,null,null,null,null,null,null,null,null,null,null,null,null,"","","","",null,2.1299999999999951E-4,2.1299999999999951E-4,""]
[2.1399999999999951E-4,null,null,null,null,null,null,"",null,null,null,null,null,null,null,null,null,null,null,null,null,"","","","",null,2.1399999999999951E-4,2.1399999999999951E-4,""]
[2.1499999999999951E-4,null,null,null,null,null,null,"",null,null,null,null,null,null,null,null,null,null,null,null,null,"","","","",null,2.1499999999999951E-4,2.1499999999999951E-4,""]
[2.159999999999995E-4,null,null,null,null,null,null,"",null,null,null,null,null,null,null,null,null,null,null,null,null,"","","","",null,2.159999999999995E-4,2.159999999999995E-4,""]
[2.169999999999995E-4,null,null,null,null,null,null,"",null,null,null,null,null,null,null,null,null,null,null,null,null,"","","","",null,2.169999999999995E-4,2.169999999999995E-4,""]
[2.179999999999995E-4,null,null,null,null,null,null,"",null,null,null,null,null,null,null,null,null,null,null,null,null,"","","","",null,2.179999999999995E-4,2.179999999999995E-4,""]
[2.189999999999995E-4,null,null,null,null,null,null,"",null,null,null,null,null,null,null,null,null,null,null,null,null,"","","","",null,2.189999999999995E-4,2.189999999999995E-4,""]
[2.1999999999999949E-4,null,null,null,null,null,null,"",null,null,null,null,null,null,null,null,null,null,null,null,null,"","","","",null,2.1999999999999949E-4,2.1999999999999949E-4,""]
[2.2099999999999949E-4,null,null,null,null,null,null,"",null,null,null,null,null,null,null,null,null,null,null,null,null,"","","","",null,2.2099999999999949E-4,2.2099999999999949E-4,""]
[2.2199999999999949E-4,null,null,null,null,null,null,"",null,null,null,null,null,null,null,null,null,null,null,null,null,"","","","",null,2.2199999999999949E-4,2.2199999999999949E-4,""]
[2.2299999999999948E-4,null,null,null,null,null,null,"",null,null,null,null,null,null,null,null,null,null,null,null,null,"","","","",null,2.2299999999999948E-4,2.2299999999999948E-4,""]
[2.2399999999999948E-4,null,null,null,null,null,null,"",null,null,null,null,null,null,null,null,null,null,null,null,null,"","","","",null,2.2399999999999948E-4,2.2399999999999948E-4,""]
[2.2499999999999948E-4,null,null,null,null,null,null,"",null,null,null,null,null,null,null,null,null,null,null,null,null,"","","","",null,2.2499999999999948E-4,2.2499999999999948E-4,""]
[2.2599999999999948E-4,null,null,null,null,null,null,"",null,null,null,null,null,null,null,null,null,null,null,null,null,"","","","",null,2.2599999999999948E-4,2.2599999999999948E-4,""]
[2.2699999999999947E-4,null,null,null,null,null,null,"",null,null,null,null,null,null,null,null,null,null,null,null,null,"","","","",null,2.2699999999999947E-4,2.2699999999999947E-4,""]
[2.2799999999999947E-4,null,null,null,null,null,null,"",null,null,null,null,null,null,null,null,null,null,null,null,null,"","","","",null,2.2799999999999947E-4,2.2799999999999947E-4,""]
[2.2899999999999947E-4,null,null,null,null,null,null,"",null,null,null,null,null,null,null,null,null,null,null,null,null,"","","","",null,2.2899999999999947E-4,2.2899999999999947E-4,""]
[2.2999999999999946E-4,null,null,null,null,null,null,"",null,null,null,null,null,null,null,null,null,null,null,null,null,"","","","",null,2.2999999999999946E-4,2.2999999999999946E-4,""]
[2.3099999999999946E-4,null,null,null,null,null,null,"",null,null,null,null,null,null,null,null,null,null,null,null,null,"","","","",null,2.3099999999999946E-4,2.3099999999999946E-4,""]
[2.3199999999999946E-4,null,null,null,null,null,null,"",null,null,null,null,null,null,null,null,null,null,null,null,null,"","","","",null,2.3199999999999946E-4,2.3199999999999946E-4,""]
[2.3299999999999946E-4,null,null,null,null,null,null,"",null,null,null,null,null,null,null,null,null,null,null,null,null,"","","","",null,2.3299999999999946E-4,2.3299999999999946E-4,""]
[2.3399999999999945E-4,null,null,null,null,null,null,"",null,null,null,null,null,null,null,null,null,null,null,null,null,"","","","",null,2.3399999999999945E-4,2.3399999999999945E-4,""]
[2.3499999999999945E-4,null,null,null,null,null,null,"",null,null,null,null,null,null,null,null,null,null,null,null,null,"","","","",null,2.3499999999999945E-4,2.3499999999999945E-4,""]
[2.3599999999999945E-4,null,null,null,null,null,null,"",null,null,null,null,null,null,null,null,null,null,null,null,null,"","","","",null,2.3599999999999945E-4,2.3599999999999945E-4,""]
[2.3699999999999945E-4,null,null,null,null,null,null,"",null,null,null,null,null,null,null,null,null,null,null,null,null,"","","","",null,2.3699999999999945E-4,2.3699999999999945E-4,""]
[2.3799999999999944E-4,null,null,null,null,null,null,"",null,null,null,null,null,null,null,null,null,null,null,null,null,"","","","",null,2.3799999999999944E-4,2.3799999999999944E-4,""]
[2.3899999999999944E-4,null,null,null,null,null,null,"",null,null,null,null,null,null,null,null,null,null,null,null,null,"","","","",null,2.3899999999999944E-4,2.3899999999999944E-4,""]
[2.3999999999999944E-4,null,null,null,null,null,null,"",null,null,null,null,null,null,null,null,null,null,null,null,null,"","","","",null,2.3999999999999944E-4,2.3999999999999944E-4,""]
[2.4099999999999943E-4,null,null,null,null,null,null,"",null,null,null,null,null,null,null,null,null,null,null,null,null,"","","","",null,2.4099999999999943E-4,2.4099999999999943E-4,""]
[2.4199999999999943E-4,null,null,null,null,null,null,"",null,null,null,null,null,null,null,null,null,null,null,null,null,"","","","",null,2.4199999999999943E-4,2.4199999999999943E-4,""]
[2.4299999999999943E-4,null,null,null,null,null,null,"",null,null,null,null,null,null,null,null,null,null,null,null,null,"","","","",null,2.4299999999999943E-4,2.4299999999999943E-4,""]
[2.4399999999999943E-4,null,null,null,null,null,null,"",null,null,null,null,null,null,null,null,null,null,null,null,null,"","","","",null,2.4399999999999943E-4,2.4399999999999943E-4,""]
[2.4499999999999945E-4,null,null,null,null,null,null,"",null,null,null,null,null,null,null,null,null,null,null,null,null,"","","","",null,2.4499999999999945E-4,2.4499999999999945E-4,""]
[2.4599999999999947E-4,null,null,null,null,null,null,"",null,null,null,null,null,null,null,null,null,null,null,null,null,"","","","",null,2.4599999999999947E-4,2.4599999999999947E-4,""]
[2.469999999999995E-4,null,null,null,null,null,null,"",null,null,null,null,null,null,null,null,null,null,null,null,null,"","","","",null,2.469999999999995E-4,2.469999999999995E-4,""]
[2.4799999999999952E-4,null,null,null,null,null,null,"",null,null,null,null,null,null,null,null,null,null,null,null,null,"","","","",null,2.4799999999999952E-4,2.4799999999999952E-4,""]
[2.4899999999999955E-4,null,null,null,null,null,null,"",null,null,null,null,null,null,null,null,null,null,null,null,null,"","","","",null,2.4899999999999955E-4,2.4899999999999955E-4,""]
[2.4999999999999957E-4,null,null,null,null,null,null,"",null,null,null,null,null,null,null,null,null,null,null,null,null,"","","","",null,2.4999999999999957E-4,2.4999999999999957E-4,""]
[2.509999999999996E-4,null,null,null,null,null,null,"",null,null,null,null,null,null,null,null,null,null,null,null,null,"","","","",null,2.509999999999996E-4,2.509999999999996E-4,""]
[2.5199999999999962E-4,null,null,null,null,null,null,"",null,null,null,null,null,null,null,null,null,null,null,null,null,"","","","",null,2.5199999999999962E-4,2.5199999999999962E-4,""]
[2.5299999999999964E-4,null,null,null,null,null,null,"",null,null,null,null,null,null,null,null,null,null,null,null,null,"","","","",null,2.5299999999999964E-4,2.5299999999999964E-4,""]
[2.5399999999999967E-4,null,null,null,null,null,null,"",null,null,null,null,null,null,null,null,null,null,null,null,null,"","","","",null,2.5399999999999967E-4,2.5399999999999967E-4,""]
[2.5499999999999969E-4,null,null,null,null,null,null,"",null,null,null,null,null,null,null,null,null,null,null,null,null,"","","","",null,2.5499999999999969E-4,2.5499999999999969E-4,""]
[2.5599999999999972E-4,null,null,null,null,null,null,"",null,null,null,null,null,null,null,null,null,null,null,null,null,"","","","",null,2.5599999999999972E-4,2.5599999999999972E-4,""]
[{"$f":"AA269","v":2.5699999999999974E-4},null,null,null,null,null,null,"",null,null,null,null,null,null,null,null,null,null,null,null,null,{"$f":"IF(E269=\"\",\"\",VLOOKUP(E269,$M$12:$N$14,2,FALSE))","v":""},{"$f":"IF(F269=\"\",\"\",VLOOKUP(F269,$P$12:$Q$15,2,FALSE))","v":""},{"$f":"IF(G269=\"\",\"\",VLOOKUP(G269,$S$12:$T$16,2,FALSE))","v":""},"",null,2.5699999999999974E-4,2.5699999999999974E-4,""]
[2.5799999999999977E-4,null,null,null,null,null,null,{"$f":"Y270","v":""},null,null,null,null,null,null,null,null,null,null,null,null,null,"","","",{"$f":"IF(V270=\"\",\"\",IFERROR(V270*W270*X270,0))","v":""},null,{"$f":"IFERROR(AB270+Y270,AB270)","v":2.5799999999999977E-4},{"$f":"AB269+$AB$13","v":2.5799999999999977E-4},{"$f":"IF(B270=\"\",\"\",B270)","v":""}]
[2.5899999999999979E-4,null,null,null,null,null,null,"",null,null,null,null,null,null,null,null,null,null,null,null,null,"","","","",null,2.5899999999999979E-4,2.5899999999999979E-4,""]
[2.5999999999999981E-4,null,null,null,null,null,null,"",null,null,null,null,null,null,null,null,null,null,null,null,null,"","","","",null,2.5999999999999981E-4,2.5999999999999981E-4,""]
[2.6099999999999984E-4,null,null,null,null,null,null,"",null,null,null,null,null,null,null,null,null,null,null,null,null,"","","","",null,2.6099999999999984E-4,2.6099999999999984E-4,""]
[2.6199999999999986E-4,null,null,null,null,null,null,"",null,null,null,null,null,null,null,null,null,null,null,null,null,"","","","",null,2.6199999999999986E-4,2.6199999999999986E-4,""]
[2.6299999999999989E-4,null,null,null,null,null,null,"",null,null,null,null,null,null,null,null,null,null,null,null,null,"","","","",null,2.6299999999999989E-4,2.6299999999999989E-4,""]
[2.6399999999999991E-4,null,null,null,null,null,null,"",null,null,null,null,null,null,null,null,null,null,null,null,null,"","","","",null,2.6399999999999991E-4,2.6399999999999991E-4,""]
[2.6499999999999994E-4,null,null,null,null,null,null,"",null,null,null,null,null,null,null,null,null,null,null,null,null,"","","","",null,2.6499999999999994E-4,2.6499999999999994E-4,""]
[2.6599999999999996E-4,null,null,null,null,null,null,"",null,null,null,null,null,null,null,null,null,null,null,null,null,"","","","",null,2.6599999999999996E-4,2.6599999999999996E-4,""]
[2.6699999999999998E-4,null,null,null,null,null,null,"",null,null,null,null,null,null,null,null,null,null,null,null,null,"","","","",null,2.6699999999999998E-4,2.6699999999999998E-4,""]
[2.6800000000000001E-4,null,null,null,null,null,null,"",null,null,null,null,null,null,null,null,null,null,null,null,null,"","","","",null,2.6800000000000001E-4,2.6800000000000001E-4,""]
[2.6900000000000003E-4,null,null,null,null,null,null,"",null,null,null,null,null,null,null,null,null,null,null,null,null,"","","","",null,2.6900000000000003E-4,2.6900000000000003E-4,""]
[2.7000000000000006E-4,null,null,null,null,null,null,"",null,null,null,null,null,null,null,null,null,null,null,null,null,"","","","",null,2.7000000000000006E-4,2.7000000000000006E-4,""]
[2.7100000000000008E-4,null,null,null,null,null,null,"",null,null,null,null,null,null,null,null,null,null,null,null,null,"","","","",null,2.7100000000000008E-4,2.7100000000000008E-4,""]
[2.7200000000000011E-4,null,null,null,null,null,null,"",null,null,null,null,null,null,null,null,null,null,null,null,null,"","","","",null,2.7200000000000011E-4,2.7200000000000011E-4,""]
[2.7300000000000013E-4,null,null,null,null,null,null,"",null,null,null,null,null,null,null,null,null,null,null,null,null,"","","","",null,2.7300000000000013E-4,2.7300000000000013E-4,""]
[2.7400000000000015E-4,null,null,null,null,null,null,"",null,null,null,null,null,null,null,null,null,null,null,null,null,"","","","",null,2.7400000000000015E-4,2.7400000000000015E-4,""]
[2.7500000000000018E-4,null,null,null,null,null,null,"",null,null,null,null,null,null,null,null,null,null,null,null,null,"","","","",null,2.7500000000000018E-4,2.7500000000000018E-4,""]
[2.760000000000002E-4,null,null,null,null,null,null,"",null,null,null,null,null,null,null,null,null,null,null,null,null,"","","","",null,2.760000000000002E-4,2.760000000000002E-4,""]
[2.7700000000000023E-4,null,null,null,null,null,null,"",null,null,null,null,null,null,null,null,null,null,null,null,null,"","","","",null,2.7700000000000023E-4,2.7700000000000023E-4,""]
[2.7800000000000025E-4,null,null,null,null,null,null,"",null,null,null,null,null,null,null,null,null,null,null,null,null,"","","","",null,2.7800000000000025E-4,2.7800000000000025E-4,""]
[2.7900000000000028E-4,null,null,null,null,null,null,"",null,null,null,null,null,null,null,null,null,null,null,null,null,"","","","",null,2.7900000000000028E-4,2.7900000000000028E-4,""]
[2.800000000000003E-4,null,null,null,null,null,null,"",null,null,null,null,null,null,null,null,null,null,null,null,null,"","","","",null,2.800000000000003E-4,2.800000000000003E-4,""]
[2.8100000000000033E-4,null,null,null,null,null,null,"",null,null,null,null,null,null,null,null,null,null,null,null,null,"","","","",null,2.8100000000000033E-4,2.8100000000000033E-4,""]
[2.8200000000000035E-4,null,null,null,null,null,null,"",null,null,null,null,null,null,null,null,null,null,null,null,null,"","","","",null,2.8200000000000035E-4,2.8200000000000035E-4,""]
[2.8300000000000037E-4,null,null,null,null,null,null,"",null,null,null,null,null,null,null,null,null,null,null,null,null,"","","","",null,2.8300000000000037E-4,2.8300000000000037E-4,""]
[2.840000000000004E-4,null,null,null,null,null,null,"",null,null,null,null,null,null,null,null,null,null,null,null,null,"","","","",null,2.840000000000004E-4,2.840000000000004E-4,""]
[2.8500000000000042E-4,null,null,null,null,null,null,"",null,null,null,null,null,null,null,null,null,null,null,null,null,"","","","",null,2.8500000000000042E-4,2.8500000000000042E-4,""]
[2.8600000000000045E-4,null,null,null,null,null,null,"",null,null,null,null,null,null,null,null,null,null,null,null,null,"","","","",null,2.8600000000000045E-4,2.8600000000000045E-4,""]
[2.8700000000000047E-4,null,null,null,null,null,null,"",null,null,null,null,null,null,null,null,null,null,null,null,null,"","","","",null,2.8700000000000047E-4,2.8700000000000047E-4,""]
[2.880000000000005E-4,null,null,null,null,null,null,"",null,null,null,null,null,null,null,null,null,null,null,null,null,"","","","",null,2.880000000000005E-4,2.880000000000005E-4,""]
[2.8900000000000052E-4,null,null,null,null,null,null,"",null,null,null,null,null,null,null,null,null,null,null,null,null,"","","","",null,2.8900000000000052E-4,2.8900000000000052E-4,""]
[2.9000000000000054E-4,null,null,null,null,null,null,"",null,null,null,null,null,null,null,null,null,null,null,null,null,"","","","",null,2.9000000000000054E-4,2.9000000000000054E-4,""]
[2.9100000000000057E-4,null,null,null,null,null,null,"",null,null,null,null,null,null,null,null,null,null,null,null,null,"","","","",null,2.9100000000000057E-4,2.9100000000000057E-4,""]
[2.9200000000000059E-4,null,null,null,null,null,null,"",null,null,null,null,null,null,null,null,null,null,null,null,null,"","","","",null,2.9200000000000059E-4,2.9200000000000059E-4,""]
[2.9300000000000062E-4,null,null,null,null,null,null,"",null,null,null,null,null,null,null,null,null,null,null,null,null,"","","","",null,2.9300000000000062E-4,2.9300000000000062E-4,""]
[2.9400000000000064E-4,null,null,null,null,null,null,"",null,null,null,null,null,null,null,null,null,null,null,null,null,"","","","",null,2.9400000000000064E-4,2.9400000000000064E-4,""]
[2.9500000000000067E-4,null,null,null,null,null,null,"",null,null,null,null,null,null,null,null,null,null,null,null,null,"","","","",null,2.9500000000000067E-4,2.9500000000000067E-4,""]
[2.9600000000000069E-4,null,null,null,null,null,null,"",null,null,null,null,null,null,null,null,null,null,null,null,null,"","","","",null,2.9600000000000069E-4,2.9600000000000069E-4,""]
[2.9700000000000071E-4,null,null,null,null,null,null,"",null,null,null,null,null,null,null,null,null,null,null,null,null,"","","","",null,2.9700000000000071E-4,2.9700000000000071E-4,""]
[2.9800000000000074E-4,null,null,null,null,null,null,"",null,null,null,null,null,null,null,null,null,null,null,null,null,"","","","",null,2.9800000000000074E-4,2.9800000000000074E-4,""]
[2.9900000000000076E-4,null,null,null,null,null,null,"",null,null,null,null,null,null,null,null,null,null,null,null,null,"","","","",null,2.9900000000000076E-4,2.9900000000000076E-4,""]
[3.0000000000000079E-4,null,null,null,null,null,null,"",null,null,null,null,null,null,null,null,null,null,null,null,null,"","","","",null,3.0000000000000079E-4,3.0000000000000079E-4,""]
[3.0100000000000081E-4,null,null,null,null,null,null,"",null,null,null,null,null,null,null,null,null,null,null,null,null,"","","","",null,3.0100000000000081E-4,3.0100000000000081E-4,""]
[3.0200000000000084E-4,null,null,null,null,null,null,"",null,null,null,null,null,null,null,null,null,null,null,null,null,"","","","",null,3.0200000000000084E-4,3.0200000000000084E-4,""]
[3.0300000000000086E-4,null,null,null,null,null,null,"",null,null,null,null,null,null,null,null,null,null,null,null,null,"","","","",null,3.0300000000000086E-4,3.0300000000000086E-4,""]
[3.0400000000000088E-4,null,null,null,null,null,null,"",null,null,null,null,null,null,null,null,null,null,null,null,null,"","","","",null,3.0400000000000088E-4,3.0400000000000088E-4,""]
[3.0500000000000091E-4,null,null,null,null,null,null,"",null,null,null,null,null,null,null,null,null,null,null,null,null,"","","","",null,3.0500000000000091E-4,3.0500000000000091E-4,""]
[3.0600000000000093E-4,null,null,null,null,null,null,"",null,null,null,null,null,null,null,null,null,null,null,null,null,"","","","",null,3.0600000000000093E-4,3.0600000000000093E-4,""]
[3.0700000000000096E-4,null,null,null,null,null,null,"",null,null,null,null,null,null,null,null,null,null,null,null,null,"","","","",null,3.0700000000000096E-4,3.0700000000000096E-4,""]
[3.0800000000000098E-4,null,null,null,null,null,null,"",null,null,null,null,null,null,null,null,null,null,null,null,null,"","","","",null,3.0800000000000098E-4,3.0800000000000098E-4,""]
[3.0900000000000101E-4,null,null,null,null,null,null,"",null,null,null,null,null,null,null,null,null,null,null,null,null,"","","","",null,3.0900000000000101E-4,3.0900000000000101E-4,""]
[3.1000000000000103E-4,null,null,null,null,null,null,"",null,null,null,null,null,null,null,null,null,null,null,null,null,"","","","",null,3.1000000000000103E-4,3.1000000000000103E-4,""]
[3.1100000000000105E-4,null,null,null,null,null,null,"",null,null,null,null,null,null,null,null,null,null,null,null,null,"","","","",null,3.1100000000000105E-4,3.1100000000000105E-4,""]
[3.1200000000000108E-4,null,null,null,null,null,null,"",null,null,null,null,null,null,null,null,null,null,null,null,null,"","","","",null,3.1200000000000108E-4,3.1200000000000108E-4,""]
[3.130000000000011E-4,null,null,null,null,null,null,"",null,null,null,null,null,null,null,null,null,null,null,null,null,"","","","",null,3.130000000000011E-4,3.130000000000011E-4,""]
[3.1400000000000113E-4,null,null,null,null,null,null,"",null,null,null,null,null,null,null,null,null,null,null,null,null,"","","","",null,3.1400000000000113E-4,3.1400000000000113E-4,""]
[3.1500000000000115E-4,null,null,null,null,null,null,"",null,null,null,null,null,null,null,null,null,null,null,null,null,"","","","",null,3.1500000000000115E-4,3.1500000000000115E-4,""]
[3.1600000000000118E-4,null,null,null,null,null,null,"",null,null,null,null,null,null,null,null,null,null,null,null,null,"","","","",null,3.1600000000000118E-4,3.1600000000000118E-4,""]
[3.170000000000012E-4,null,null,null,null,null,null,"",null,null,null,null,null,null,null,null,null,null,null,null,null,"","","","",null,3.170000000000012E-4,3.170000000000012E-4,""]
[3.1800000000000122E-4,null,null,null,null,null,null,"",null,null,null,null,null,null,null,null,null,null,null,null,null,"","","","",null,3.1800000000000122E-4,3.1800000000000122E-4,""]
[3.1900000000000125E-4,null,null,null,null,null,null,"",null,null,null,null,null,null,null,null,null,null,null,null,null,"","","","",null,3.1900000000000125E-4,3.1900000000000125E-4,""]
[3.2000000000000127E-4,null,null,null,null,null,null,"",null,null,null,null,null,null,null,null,null,null,null,null,null,"","","","",null,3.2000000000000127E-4,3.2000000000000127E-4,""]
[{"$f":"AA333","v":3.210000000000013E-4},null,null,null,null,null,null,"",null,null,null,null,null,null,null,null,null,null,null,null,null,{"$f":"IF(E333=\"\",\"\",VLOOKUP(E333,$M$12:$N$14,2,FALSE))","v":""},{"$f":"IF(F333=\"\",\"\",VLOOKUP(F333,$P$12:$Q$15,2,FALSE))","v":""},{"$f":"IF(G333=\"\",\"\",VLOOKUP(G333,$S$12:$T$16,2,FALSE))","v":""},"",null,3.210000000000013E-4,3.210000000000013E-4,""]
[3.2200000000000132E-4,null,null,null,null,null,null,{"$f":"Y334","v":""},null,null,null,null,null,null,null,null,null,null,null,null,null,"","","",{"$f":"IF(V334=\"\",\"\",IFERROR(V334*W334*X334,0))","v":""},null,{"$f":"IFERROR(AB334+Y334,AB334)","v":3.2200000000000132E-4},{"$f":"AB333+$AB$13","v":3.2200000000000132E-4},{"$f":"IF(B334=\"\",\"\",B334)","v":""}]
[3.2300000000000135E-4,null,null,null,null,null,null,"",null,null,null,null,null,null,null,null,null,null,null,null,null,"","","","",null,3.2300000000000135E-4,3.2300000000000135E-4,""]
[3.2400000000000137E-4,null,null,null,null,null,null,"",null,null,null,null,null,null,null,null,null,null,null,null,null,"","","","",null,3.2400000000000137E-4,3.2400000000000137E-4,""]
[3.2500000000000139E-4,null,null,null,null,null,null,"",null,null,null,null,null,null,null,null,null,null,null,null,null,"","","","",null,3.2500000000000139E-4,3.2500000000000139E-4,""]
[3.2600000000000142E-4,null,null,null,null,null,null,"",null,null,null,null,null,null,null,null,null,null,null,null,null,"","","","",null,3.2600000000000142E-4,3.2600000000000142E-4,""]
[3.2700000000000144E-4,null,null,null,null,null,null,"",null,null,null,null,null,null,null,null,null,null,null,null,null,"","","","",null,3.2700000000000144E-4,3.2700000000000144E-4,""]
[3.2800000000000147E-4,null,null,null,null,null,null,"",null,null,null,null,null,null,null,null,null,null,null,null,null,"","","","",null,3.2800000000000147E-4,3.2800000000000147E-4,""]
[3.2900000000000149E-4,null,null,null,null,null,null,"",null,null,null,null,null,null,null,null,null,null,null,null,null,"","","","",null,3.2900000000000149E-4,3.2900000000000149E-4,""]
[3.3000000000000152E-4,null,null,null,null,null,null,"",null,null,null,null,null,null,null,null,null,null,null,null,null,"","","","",null,3.3000000000000152E-4,3.3000000000000152E-4,""]
[3.3100000000000154E-4,null,null,null,null,null,null,"",null,null,null,null,null,null,null,null,null,null,null,null,null,"","","","",null,3.3100000000000154E-4,3.3100000000000154E-4,""]
[3.3200000000000156E-4,null,null,null,null,null,null,"",null,null,null,null,null,null,null,null,null,null,null,null,null,"","","","",null,3.3200000000000156E-4,3.3200000000000156E-4,""]
[3.3300000000000159E-4,null,null,null,null,null,null,"",null,null,null,null,null,null,null,null,null,null,null,null,null,"","","","",null,3.3300000000000159E-4,3.3300000000000159E-4,""]
[3.3400000000000161E-4,null,null,null,null,null,null,"",null,null,null,null,null,null,null,null,null,null,null,null,null,"","","","",null,3.3400000000000161E-4,3.3400000000000161E-4,""]
[3.3500000000000164E-4,null,null,null,null,null,null,"",null,null,null,null,null,null,null,null,null,null,null,null,null,"","","","",null,3.3500000000000164E-4,3.3500000000000164E-4,""]
[3.3600000000000166E-4,null,null,null,null,null,null,"",null,null,null,null,null,null,null,null,null,null,null,null,null,"","","","",null,3.3600000000000166E-4,3.3600000000000166E-4,""]
[3.3700000000000169E-4,null,null,null,null,null,null,"",null,null,null,null,null,null,null,null,null,null,null,null,null,"","","","",null,3.3700000000000169E-4,3.3700000000000169E-4,""]
[3.3800000000000171E-4,null,null,null,null,null,null,"",null,null,null,null,null,null,null,null,null,null,null,null,null,"","","","",null,3.3800000000000171E-4,3.3800000000000171E-4,""]
[3.3900000000000173E-4,null,null,null,null,null,null,"",null,null,null,null,null,null,null,null,null,null,null,null,null,"","","","",null,3.3900000000000173E-4,3.3900000000000173E-4,""]
[3.4000000000000176E-4,null,null,null,null,null,null,"",null,null,null,null,null,null,null,null,null,null,null,null,null,"","","","",null,3.4000000000000176E-4,3.4000000000000176E-4,""]
[3.4100000000000178E-4,null,null,null,null,null,null,"",null,null,null,null,null,null,null,null,null,null,null,null,null,"","","","",null,3.4100000000000178E-4,3.4100000000000178E-4,""]
[3.4200000000000181E-4,null,null,null,null,null,null,"",null,null,null,null,null,null,null,null,null,null,null,null,null,"","","","",null,3.4200000000000181E-4,3.4200000000000181E-4,""]
[3.4300000000000183E-4,null,null,null,null,null,null,"",null,null,null,null,null,null,null,null,null,null,null,null,null,"","","","",null,3.4300000000000183E-4,3.4300000000000183E-4,""]
[3.4400000000000186E-4,null,null,null,null,null,null,"",null,null,null,null,null,null,null,null,null,null,null,null,null,"","","","",null,3.4400000000000186E-4,3.4400000000000186E-4,""]
[3.4500000000000188E-4,null,null,null,null,null,null,"",null,null,null,null,null,null,null,null,null,null,null,null,null,"","","","",null,3.4500000000000188E-4,3.4500000000000188E-4,""]
[3.460000000000019E-4,null,null,null,null,null,null,"",null,null,null,null,null,null,null,null,null,null,null,null,null,"","","","",null,3.460000000000019E-4,3.460000000000019E-4,""]
[3.4700000000000193E-4,null,null,null,null,null,null,"",null,null,null,null,null,null,null,null,null,null,null,null,null,"","","","",null,3.4700000000000193E-4,3.4700000000000193E-4,""]
[3.4800000000000195E-4,null,null,null,null,null,null,"",null,null,null,null,null,null,null,null,null,null,null,null,null,"","","","",null,3.4800000000000195E-4,3.4800000000000195E-4,""]
[3.4900000000000198E-4,null,null,null,null,null,null,"",null,null,null,null,null,null,null,null,null,null,null,null,null,"","","","",null,3.4900000000000198E-4,3.4900000000000198E-4,""]
[3.50000000000002E-4,null,null,null,null,null,null,"",null,null,null,null,null,null,null,null,null,null,null,null,null,"","","","",null,3.50000000000002E-4,3.50000000000002E-4,""]
[3.5100000000000203E-4,null,null,null,null,null,null,"",null,null,null,null,null,null,null,null,null,null,null,null,null,"","","","",null,3.5100000000000203E-4,3.5100000000000203E-4,""]
[3.5200000000000205E-4,null,null,null,null,null,null,"",null,null,null,null,null,null,null,null,null,null,null,null,null,"","","","",null,3.5200000000000205E-4,3.5200000000000205E-4,""]
[3.5300000000000208E-4,null,null,null,null,null,null,"",null,null,null,null,null,null,null,null,null,null,null,null,null,"","","","",null,3.5300000000000208E-4,3.5300000000000208E-4,""]
[3.540000000000021E-4,null,null,null,null,null,null,"",null,null,null,null,null,null,null,null,null,null,null,null,null,"","","","",null,3.540000000000021E-4,3.540000000000021E-4,""]
[3.5500000000000212E-4,null,null,null,null,null,null,"",null,null,null,null,null,null,null,null,null,null,null,null,null,"","","","",null,3.5500000000000212E-4,3.5500000000000212E-4,""]
[3.5600000000000215E-4,null,null,null,null,null,null,"",null,null,null,null,null,null,null,null,null,null,null,null,null,"","","","",null,3.5600000000000215E-4,3.5600000000000215E-4,""]
[3.5700000000000217E-4,null,null,null,null,null,null,"",null,null,null,null,null,null,null,null,null,null,null,null,null,"","","","",null,3.5700000000000217E-4,3.5700000000000217E-4,""]
[3.580000000000022E-4,null,null,null,null,null,null,"",null,null,null,null,null,null,null,null,null,null,null,null,null,"","","","",null,3.580000000000022E-4,3.580000000000022E-4,""]
[3.5900000000000222E-4,null,null,null,null,null,null,"",null,null,null,null,null,null,null,null,null,null,null,null,null,"","","","",null,3.5900000000000222E-4,3.5900000000000222E-4,""]
[3.6000000000000225E-4,null,null,null,null,null,null,"",null,null,null,null,null,null,null,null,null,null,null,null,null,"","","","",null,3.6000000000000225E-4,3.6000000000000225E-4,""]
[3.6100000000000227E-4,null,null,null,null,null,null,"",null,null,null,null,null,null,null,null,null,null,null,null,null,"","","","",null,3.6100000000000227E-4,3.6100000000000227E-4,""]
[3.6200000000000229E-4,null,null,null,null,null,null,"",null,null,null,null,null,null,null,null,null,null,null,null,null,"","","","",null,3.6200000000000229E-4,3.6200000000000229E-4,""]
[3.6300000000000232E-4,null,null,null,null,null,null,"",null,null,null,null,null,null,null,null,null,null,null,null,null,"","","","",null,3.6300000000000232E-4,3.6300000000000232E-4,""]
[3.6400000000000234E-4,null,null,null,null,null,null,"",null,null,null,null,null,null,null,null,null,null,null,null,null,"","","","",null,3.6400000000000234E-4,3.6400000000000234E-4,""]
[3.6500000000000237E-4,null,null,null,null,null,null,"",null,null,null,null,null,null,null,null,null,null,null,null,null,"","","","",null,3.6500000000000237E-4,3.6500000000000237E-4,""]
[3.6600000000000239E-4,null,null,null,null,null,null,"",null,null,null,null,null,null,null,null,null,null,null,null,null,"","","","",null,3.6600000000000239E-4,3.6600000000000239E-4,""]
[3.6700000000000242E-4,null,null,null,null,null,null,"",null,null,null,null,null,null,null,null,null,null,null,null,null,"","","","",null,3.6700000000000242E-4,3.6700000000000242E-4,""]
[3.6800000000000244E-4,null,null,null,null,null,null,"",null,null,null,null,null,null,null,null,null,null,null,null,null,"","","","",null,3.6800000000000244E-4,3.6800000000000244E-4,""]
[3.6900000000000246E-4,null,null,null,null,null,null,"",null,null,null,null,null,null,null,null,null,null,null,null,null,"","","","",null,3.6900000000000246E-4,3.6900000000000246E-4,""]
[3.7000000000000249E-4,null,null,null,null,null,null,"",null,null,null,null,null,null,null,null,null,null,null,null,null,"","","","",null,3.7000000000000249E-4,3.7000000000000249E-4,""]
[3.7100000000000251E-4,null,null,null,null,null,null,"",null,null,null,null,null,null,null,null,null,null,null,null,null,"","","","",null,3.7100000000000251E-4,3.7100000000000251E-4,""]
[3.7200000000000254E-4,null,null,null,null,null,null,"",null,null,null,null,null,null,null,null,null,null,null,null,null,"","","","",null,3.7200000000000254E-4,3.7200000000000254E-4,""]
[3.7300000000000256E-4,null,null,null,null,null,null,"",null,null,null,null,null,null,null,null,null,null,null,null,null,"","","","",null,3.7300000000000256E-4,3.7300000000000256E-4,""]
[3.7400000000000259E-4,null,null,null,null,null,null,"",null,null,null,null,null,null,null,null,null,null,null,null,null,"","","","",null,3.7400000000000259E-4,3.7400000000000259E-4,""]
[3.7500000000000261E-4,null,null,null,null,null,null,"",null,null,null,null,null,null,null,null,null,null,null,null,null,"","","","",null,3.7500000000000261E-4,3.7500000000000261E-4,""]
[3.7600000000000263E-4,null,null,null,null,null,null,"",null,null,null,null,null,null,null,null,null,null,null,null,null,"","","","",null,3.7600000000000263E-4,3.7600000000000263E-4,""]
[3.7700000000000266E-4,null,null,null,null,null,null,"",null,null,null,null,null,null,null,null,null,null,null,null,null,"","","","",null,3.7700000000000266E-4,3.7700000000000266E-4,""]
[3.7800000000000268E-4,null,null,null,null,null,null,"",null,null,null,null,null,null,null,null,null,null,null,null,null,"","","","",null,3.7800000000000268E-4,3.7800000000000268E-4,""]
[3.7900000000000271E-4,null,null,null,null,null,null,"",null,null,null,null,null,null,null,null,null,null,null,null,null,"","","","",null,3.7900000000000271E-4,3.7900000000000271E-4,""]
[3.8000000000000273E-4,null,null,null,null,null,null,"",null,null,null,null,null,null,null,null,null,null,null,null,null,"","","","",null,3.8000000000000273E-4,3.8000000000000273E-4,""]
[3.8100000000000276E-4,null,null,null,null,null,null,"",null,null,null,null,null,null,null,null,null,null,null,null,null,"","","","",null,3.8100000000000276E-4,3.8100000000000276E-4,""]
[3.8200000000000278E-4,null,null,null,null,null,null,"",null,null,null,null,null,null,null,null,null,null,null,null,null,"","","","",null,3.8200000000000278E-4,3.8200000000000278E-4,""]
[3.830000000000028E-4,null,null,null,null,null,null,"",null,null,null,null,null,null,null,null,null,null,null,null,null,"","","","",null,3.830000000000028E-4,3.830000000000028E-4,""]
[3.8400000000000283E-4,null,null,null,null,null,null,"",null,null,null,null,null,null,null,null,null,null,null,null,null,"","","","",null,3.8400000000000283E-4,3.8400000000000283E-4,""]
[{"$f":"AA397","v":3.8500000000000285E-4},null,null,null,null,null,null,"",null,null,null,null,null,null,null,null,null,null,null,null,null,{"$f":"IF(E397=\"\",\"\",VLOOKUP(E397,$M$12:$N$14,2,FALSE))","v":""},{"$f":"IF(F397=\"\",\"\",VLOOKUP(F397,$P$12:$Q$15,2,FALSE))","v":""},{"$f":"IF(G397=\"\",\"\",VLOOKUP(G397,$S$12:$T$16,2,FALSE))","v":""},"",null,3.8500000000000285E-4,3.8500000000000285E-4,""]
[3.8600000000000288E-4,null,null,null,null,null,null,{"$f":"Y398","v":""},null,null,null,null,null,null,null,null,null,null,null,null,null,"","","",{"$f":"IF(V398=\"\",\"\",IFERROR(V398*W398*X398,0))","v":""},null,{"$f":"IFERROR(AB398+Y398,AB398)","v":3.8600000000000288E-4},{"$f":"AB397+$AB$13","v":3.8600000000000288E-4},{"$f":"IF(B398=\"\",\"\",B398)","v":""}]
[3.870000000000029E-4,null,null,null,null,null,null,"",null,null,null,null,null,null,null,null,null,null,null,null,null,"","","","",null,3.870000000000029E-4,3.870000000000029E-4,""]
[3.8800000000000293E-4,null,null,null,null,null,null,"",null,null,null,null,null,null,null,null,null,null,null,null,null,"","","","",null,3.8800000000000293E-4,3.8800000000000293E-4,""]
[3.8900000000000295E-4,null,null,null,null,null,null,"",null,null,null,null,null,null,null,null,null,null,null,null,null,"","","","",null,3.8900000000000295E-4,3.8900000000000295E-4,""]
[3.9000000000000297E-4,null,null,null,null,null,null,"",null,null,null,null,null,null,null,null,null,null,null,null,null,"","","","",null,3.9000000000000297E-4,3.9000000000000297E-4,""]
[3.91000000000003E-4,null,null,null,null,null,null,"",null,null,null,null,null,null,null,null,null,null,null,null,null,"","","","",null,3.91000000000003E-4,3.91000000000003E-4,""]
[3.9200000000000302E-4,null,null,null,null,null,null,"",null,null,null,null,null,null,null,null,null,null,null,null,null,"","","","",null,3.9200000000000302E-4,3.9200000000000302E-4,""]
[3.9300000000000305E-4,null,null,null,null,null,null,"",null,null,null,null,null,null,null,null,null,null,null,null,null,"","","","",null,3.9300000000000305E-4,3.9300000000000305E-4,""]
[3.9400000000000307E-4,null,null,null,null,null,null,"",null,null,null,null,null,null,null,null,null,null,null,null,null,"","","","",null,3.9400000000000307E-4,3.9400000000000307E-4,""]
[3.950000000000031E-4,null,null,null,null,null,null,"",null,null,null,null,null,null,null,null,null,null,null,null,null,"","","","",null,3.950000000000031E-4,3.950000000000031E-4,""]
[3.9600000000000312E-4,null,null,null,null,null,null,"",null,null,null,null,null,null,null,null,null,null,null,null,null,"","","","",null,3.9600000000000312E-4,3.9600000000000312E-4,""]
[3.9700000000000314E-4,null,null,null,null,null,null,"",null,null,null,null,null,null,null,null,null,null,null,null,null,"","","","",null,3.9700000000000314E-4,3.9700000000000314E-4,""]
[3.9800000000000317E-4,null,null,null,null,null,null,"",null,null,null,null,null,null,null,null,null,null,null,null,null,"","","","",null,3.9800000000000317E-4,3.9800000000000317E-4,""]
[3.9900000000000319E-4,null,null,null,null,null,null,"",null,null,null,null,null,null,null,null,null,null,null,null,null,"","","","",null,3.9900000000000319E-4,3.9900000000000319E-4,""]
[4.0000000000000322E-4,null,null,null,null,null,null,"",null,null,null,null,null,null,null,null,null,null,null,null,null,"","","","",null,4.0000000000000322E-4,4.0000000000000322E-4,""]
[4.0100000000000324E-4,null,null,null,null,null,null,"",null,null,null,null,null,null,null,null,null,null,null,null,null,"","","","",null,4.0100000000000324E-4,4.0100000000000324E-4,""]
[4.0200000000000327E-4,null,null,null,null,null,null,"",null,null,null,null,null,null,null,null,null,null,null,null,null,"","","","",null,4.0200000000000327E-4,4.0200000000000327E-4,""]
[4.0300000000000329E-4,null,null,null,null,null,null,"",null,null,null,null,null,null,null,null,null,null,null,null,null,"","","","",null,4.0300000000000329E-4,4.0300000000000329E-4,""]
[4.0400000000000331E-4,null,null,null,null,null,null,"",null,null,null,null,null,null,null,null,null,null,null,null,null,"","","","",null,4.0400000000000331E-4,4.0400000000000331E-4,""]
[4.0500000000000334E-4,null,null,null,null,null,null,"",null,null,null,null,null,null,null,null,null,null,null,null,null,"","","","",null,4.0500000000000334E-4,4.0500000000000334E-4,""]
[4.0600000000000336E-4,null,null,null,null,null,null,"",null,null,null,null,null,null,null,null,null,null,null,null,null,"","","","",null,4.0600000000000336E-4,4.0600000000000336E-4,""]
[4.0700000000000339E-4,null,null,null,null,null,null,"",null,null,null,null,null,null,null,null,null,null,null,null,null,"","","","",null,4.0700000000000339E-4,4.0700000000000339E-4,""]
[4.0800000000000341E-4,null,null,null,null,null,null,"",null,null,null,null,null,null,null,null,null,null,null,null,null,"","","","",null,4.0800000000000341E-4,4.0800000000000341E-4,""]
[4.0900000000000344E-4,null,null,null,null,null,null,"",null,null,null,null,null,null,null,null,null,null,null,null,null,"","","","",null,4.0900000000000344E-4,4.0900000000000344E-4,""]
[4.1000000000000346E-4,null,null,null,null,null,null,"",null,null,null,null,null,null,null,null,null,null,null,null,null,"","","","",null,4.1000000000000346E-4,4.1000000000000346E-4,""]
[4.1100000000000348E-4,null,null,null,null,null,null,"",null,null,null,null,null,null,null,null,null,null,null,null,null,"","","","",null,4.1100000000000348E-4,4.1100000000000348E-4,""]
[4.1200000000000351E-4,null,null,null,null,null,null,"",null,null,null,null,null,null,null,null,null,null,null,null,null,"","","","",null,4.1200000000000351E-4,4.1200000000000351E-4,""]
[4.1300000000000353E-4,null,null,null,null,null,null,"",null,null,null,null,null,null,null,null,null,null,null,null,null,"","","","",null,4.1300000000000353E-4,4.1300000000000353E-4,""]
[4.1400000000000356E-4,null,null,null,null,null,null,"",null,null,null,null,null,null,null,null,null,null,null,null,null,"","","","",null,4.1400000000000356E-4,4.1400000000000356E-4,""]
[4.1500000000000358E-4,null,null,null,null,null,null,"",null,null,null,null,null,null,null,null,null,null,null,null,null,"","","","",null,4.1500000000000358E-4,4.1500000000000358E-4,""]
[4.1600000000000361E-4,null,null,null,null,null,null,"",null,null,null,null,null,null,null,null,null,null,null,null,null,"","","","",null,4.1600000000000361E-4,4.1600000000000361E-4,""]
[4.1700000000000363E-4,null,null,null,null,null,null,"",null,null,null,null,null,null,null,null,null,null,null,null,null,"","","","",null,4.1700000000000363E-4,4.1700000000000363E-4,""]
[4.1800000000000366E-4,null,null,null,null,null,null,"",null,null,null,null,null,null,null,null,null,null,null,null,null,"","","","",null,4.1800000000000366E-4,4.1800000000000366E-4,""]
[4.1900000000000368E-4,null,null,null,null,null,null,"",null,null,null,null,null,null,null,null,null,null,null,null,null,"","","","",null,4.1900000000000368E-4,4.1900000000000368E-4,""]
[4.200000000000037E-4,null,null,null,null,null,null,"",null,null,null,null,null,null,null,null,null,null,null,null,null,"","","","",null,4.200000000000037E-4,4.200000000000037E-4,""]
[4.2100000000000373E-4,null,null,null,null,null,null,"",null,null,null,null,null,null,null,null,null,null,null,null,null,"","","","",null,4.2100000000000373E-4,4.2100000000000373E-4,""]
[4.2200000000000375E-4,null,null,null,null,null,null,"",null,null,null,null,null,null,null,null,null,null,null,null,null,"","","","",null,4.2200000000000375E-4,4.2200000000000375E-4,""]
[4.2300000000000378E-4,null,null,null,null,null,null,"",null,null,null,null,null,null,null,null,null,null,null,null,null,"","","","",null,4.2300000000000378E-4,4.2300000000000378E-4,""]
[4.240000000000038E-4,null,null,null,null,null,null,"",null,null,null,null,null,null,null,null,null,null,null,null,null,"","","","",null,4.240000000000038E-4,4.240000000000038E-4,""]
[4.2500000000000383E-4,null,null,null,null,null,null,"",null,null,null,null,null,null,null,null,null,null,null,null,null,"","","","",null,4.2500000000000383E-4,4.2500000000000383E-4,""]
[4.2600000000000385E-4,null,null,null,null,null,null,"",null,null,null,null,null,null,null,null,null,null,null,null,null,"","","","",null,4.2600000000000385E-4,4.2600000000000385E-4,""]
[4.2700000000000387E-4,null,null,null,null,null,null,"",null,null,null,null,null,null,null,null,null,null,null,null,null,"","","","",null,4.2700000000000387E-4,4.2700000000000387E-4,""]
[4.280000000000039E-4,null,null,null,null,null,null,"",null,null,null,null,null,null,null,null,null,null,null,null,null,"","","","",null,4.280000000000039E-4,4.280000000000039E-4,""]
[4.2900000000000392E-4,null,null,null,null,null,null,"",null,null,null,null,null,null,null,null,null,null,null,null,null,"","","","",null,4.2900000000000392E-4,4.2900000000000392E-4,""]
[4.3000000000000395E-4,null,null,null,null,null,null,"",null,null,null,null,null,null,null,null,null,null,null,null,null,"","","","",null,4.3000000000000395E-4,4.3000000000000395E-4,""]
[4.3100000000000397E-4,null,null,null,null,null,null,"",null,null,null,null,null,null,null,null,null,null,null,null,null,"","","","",null,4.3100000000000397E-4,4.3100000000000397E-4,""]
[4.32000000000004E-4,null,null,null,null,null,null,"",null,null,null,null,null,null,null,null,null,null,null,null,null,"","","","",null,4.32000000000004E-4,4.32000000000004E-4,""]
[4.3300000000000402E-4,null,null,null,null,null,null,"",null,null,null,null,null,null,null,null,null,null,null,null,null,"","","","",null,4.3300000000000402E-4,4.3300000000000402E-4,""]
[4.3400000000000404E-4,null,null,null,null,null,null,"",null,null,null,null,null,null,null,null,null,null,null,null,null,"","","","",null,4.3400000000000404E-4,4.3400000000000404E-4,""]
[4.3500000000000407E-4,null,null,null,null,null,null,"",null,null,null,null,null,null,null,null,null,null,null,null,null,"","","","",null,4.3500000000000407E-4,4.3500000000000407E-4,""]
[4.3600000000000409E-4,null,null,null,null,null,null,"",null,null,null,null,null,null,null,null,null,null,null,null,null,"","","","",null,4.3600000000000409E-4,4.3600000000000409E-4,""]
[4.3700000000000412E-4,null,null,null,null,null,null,"",null,null,null,null,null,null,null,null,null,null,null,null,null,"","","","",null,4.3700000000000412E-4,4.3700000000000412E-4,""]
[4.3800000000000414E-4,null,null,null,null,null,null,"",null,null,null,null,null,null,null,null,null,null,null,null,null,"","","","",null,4.3800000000000414E-4,4.3800000000000414E-4,""]
[4.3900000000000417E-4,null,null,null,null,null,null,"",null,null,null,null,null,null,null,null,null,null,null,null,null,"","","","",null,4.3900000000000417E-4,4.3900000000000417E-4,""]
[4.4000000000000419E-4,null,null,null,null,null,null,"",null,null,null,null,null,null,null,null,null,null,null,null,null,"","","","",null,4.4000000000000419E-4,4.4000000000000419E-4,""]
[4.4100000000000421E-4,null,null,null,null,null,null,"",null,null,null,null,null,null,null,null,null,null,null,null,null,"","","","",null,4.4100000000000421E-4,4.4100000000000421E-4,""]
[4.4200000000000424E-4,null,null,null,null,null,null,"",null,null,null,null,null,null,null,null,null,null,null,null,null,"","","","",null,4.4200000000000424E-4,4.4200000000000424E-4,""]
[4.4300000000000426E-4,null,null,null,null,null,null,"",null,null,null,null,null,null,null,null,null,null,null,null,null,"","","","",null,4.4300000000000426E-4,4.4300000000000426E-4,""]
[4.4400000000000429E-4,null,null,null,null,null,null,"",null,null,null,null,null,null,null,null,null,null,null,null,null,"","","","",null,4.4400000000000429E-4,4.4400000000000429E-4,""]
[4.4500000000000431E-4,null,null,null,null,null,null,"",null,null,null,null,null,null,null,null,null,null,null,null,null,"","","","",null,4.4500000000000431E-4,4.4500000000000431E-4,""]
[4.4600000000000434E-4,null,null,null,null,null,null,"",null,null,null,null,null,null,null,null,null,null,null,null,null,"","","","",null,4.4600000000000434E-4,4.4600000000000434E-4,""]
[4.4700000000000436E-4,null,null,null,null,null,null,"",null,null,null,null,null,null,null,null,null,null,null,null,null,"","","","",null,4.4700000000000436E-4,4.4700000000000436E-4,""]
[4.4800000000000438E-4,null,null,null,null,null,null,"",null,null,null,null,null,null,null,null,null,null,null,null,null,"","","","",null,4.4800000000000438E-4,4.4800000000000438E-4,""]
[{"$f":"AA461","v":4.4900000000000441E-4},null,null,null,null,null,null,"",null,null,null,null,null,null,null,null,null,null,null,null,null,{"$f":"IF(E461=\"\",\"\",VLOOKUP(E461,$M$12:$N$14,2,FALSE))","v":""},{"$f":"IF(F461=\"\",\"\",VLOOKUP(F461,$P$12:$Q$15,2,FALSE))","v":""},{"$f":"IF(G461=\"\",\"\",VLOOKUP(G461,$S$12:$T$16,2,FALSE))","v":""},"",null,4.4900000000000441E-4,4.4900000000000441E-4,""]
[4.5000000000000443E-4,null,null,null,null,null,null,{"$f":"Y462","v":""},null,null,null,null,null,null,null,null,null,null,null,null,null,"","","",{"$f":"IF(V462=\"\",\"\",IFERROR(V462*W462*X462,0))","v":""},null,{"$f":"IFERROR(AB462+Y462,AB462)","v":4.5000000000000443E-4},{"$f":"AB461+$AB$13","v":4.5000000000000443E-4},{"$f":"IF(B462=\"\",\"\",B462)","v":""}]
[4.5100000000000446E-4,null,null,null,null,null,null,"",null,null,null,null,null,null,null,null,null,null,null,null,null,"","","","",null,4.5100000000000446E-4,4.5100000000000446E-4,""]
[4.5200000000000448E-4,null,null,null,null,null,null,"",null,null,null,null,null,null,null,null,null,null,null,null,null,"","","","",null,4.5200000000000448E-4,4.5200000000000448E-4,""]
[4.5300000000000451E-4,null,null,null,null,null,null,"",null,null,null,null,null,null,null,null,null,null,null,null,null,"","","","",null,4.5300000000000451E-4,4.5300000000000451E-4,""]
[4.5400000000000453E-4,null,null,null,null,null,null,"",null,null,null,null,null,null,null,null,null,null,null,null,null,"","","","",null,4.5400000000000453E-4,4.5400000000000453E-4,""]
[4.5500000000000455E-4,null,null,null,null,null,null,"",null,null,null,null,null,null,null,null,null,null,null,null,null,"","","","",null,4.5500000000000455E-4,4.5500000000000455E-4,""]
[4.5600000000000458E-4,null,null,null,null,null,null,"",null,null,null,null,null,null,null,null,null,null,null,null,null,"","","","",null,4.5600000000000458E-4,4.5600000000000458E-4,""]
[4.570000000000046E-4,null,null,null,null,null,null,"",null,null,null,null,null,null,null,null,null,null,null,null,null,"","","","",null,4.570000000000046E-4,4.570000000000046E-4,""]
[4.5800000000000463E-4,null,null,null,null,null,null,"",null,null,null,null,null,null,null,null,null,null,null,null,null,"","","","",null,4.5800000000000463E-4,4.5800000000000463E-4,""]
[4.5900000000000465E-4,null,null,null,null,null,null,"",null,null,null,null,null,null,null,null,null,null,null,null,null,"","","","",null,4.5900000000000465E-4,4.5900000000000465E-4,""]
[4.6000000000000468E-4,null,null,null,null,null,null,"",null,null,null,null,null,null,null,null,null,null,null,null,null,"","","","",null,4.6000000000000468E-4,4.6000000000000468E-4,""]
[4.610000000000047E-4,null,null,null,null,null,null,"",null,null,null,null,null,null,null,null,null,null,null,null,null,"","","","",null,4.610000000000047E-4,4.610000000000047E-4,""]
[4.6200000000000472E-4,null,null,null,null,null,null,"",null,null,null,null,null,null,null,null,null,null,null,null,null,"","","","",null,4.6200000000000472E-4,4.6200000000000472E-4,""]
[4.6300000000000475E-4,null,null,null,null,null,null,"",null,null,null,null,null,null,null,null,null,null,null,null,null,"","","","",null,4.6300000000000475E-4,4.6300000000000475E-4,""]
[4.6400000000000477E-4,null,null,null,null,null,null,"",null,null,null,null,null,null,null,null,null,null,null,null,null,"","","","",null,4.6400000000000477E-4,4.6400000000000477E-4,""]
[4.650000000000048E-4,null,null,null,null,null,null,"",null,null,null,null,null,null,null,null,null,null,null,null,null,"","","","",null,4.650000000000048E-4,4.650000000000048E-4,""]
[4.6600000000000482E-4,null,null,null,null,null,null,"",null,null,null,null,null,null,null,null,null,null,null,null,null,"","","","",null,4.6600000000000482E-4,4.6600000000000482E-4,""]
[4.6700000000000485E-4,null,null,null,null,null,null,"",null,null,null,null,null,null,null,null,null,null,null,null,null,"","","","",null,4.6700000000000485E-4,4.6700000000000485E-4,""]
[4.6800000000000487E-4,null,null,null,null,null,null,"",null,null,null,null,null,null,null,null,null,null,null,null,null,"","","","",null,4.6800000000000487E-4,4.6800000000000487E-4,""]
[4.6900000000000489E-4,null,null,null,null,null,null,"",null,null,null,null,null,null,null,null,null,null,null,null,null,"","","","",null,4.6900000000000489E-4,4.6900000000000489E-4,""]
[4.7000000000000492E-4,null,null,null,null,null,null,"",null,null,null,null,null,null,null,null,null,null,null,null,null,"","","","",null,4.7000000000000492E-4,4.7000000000000492E-4,""]
[4.7100000000000494E-4,null,null,null,null,null,null,"",null,null,null,null,null,null,null,null,null,null,null,null,null,"","","","",null,4.7100000000000494E-4,4.7100000000000494E-4,""]
[4.7200000000000497E-4,null,null,null,null,null,null,"",null,null,null,null,null,null,null,null,null,null,null,null,null,"","","","",null,4.7200000000000497E-4,4.7200000000000497E-4,""]
[4.7300000000000499E-4,null,null,null,null,null,null,"",null,null,null,null,null,null,null,null,null,null,null,null,null,"","","","",null,4.7300000000000499E-4,4.7300000000000499E-4,""]
[4.7400000000000502E-4,null,null,null,null,null,null,"",null,null,null,null,null,null,null,null,null,null,null,null,null,"","","","",null,4.7400000000000502E-4,4.7400000000000502E-4,""]
[4.7500000000000504E-4,null,null,null,null,null,null,"",null,null,null,null,null,null,null,null,null,null,null,null,null,"","","","",null,4.7500000000000504E-4,4.7500000000000504E-4,""]
[4.7600000000000506E-4,null,null,null,null,null,null,"",null,null,null,null,null,null,null,null,null,null,null,null,null,"","","","",null,4.7600000000000506E-4,4.7600000000000506E-4,""]
[4.7700000000000509E-4,null,null,null,null,null,null,"",null,null,null,null,null,null,null,null,null,null,null,null,null,"","","","",null,4.7700000000000509E-4,4.7700000000000509E-4,""]
[4.7800000000000511E-4,null,null,null,null,null,null,"",null,null,null,null,null,null,null,null,null,null,null,null,null,"","","","",null,4.7800000000000511E-4,4.7800000000000511E-4,""]
[4.7900000000000514E-4,null,null,null,null,null,null,"",null,null,null,null,null,null,null,null,null,null,null,null,null,"","","","",null,4.7900000000000514E-4,4.7900000000000514E-4,""]
[4.8000000000000516E-4,null,null,null,null,null,null,"",null,null,null,null,null,null,null,null,null,null,null,null,null,"","","","",null,4.8000000000000516E-4,4.8000000000000516E-4,""]
[4.8100000000000519E-4,null,null,null,null,null,null,"",null,null,null,null,null,null,null,null,null,null,null,null,null,"","","","",null,4.8100000000000519E-4,4.8100000000000519E-4,""]
[4.8200000000000521E-4,null,null,null,null,null,null,"",null,null,null,null,null,null,null,null,null,null,null,null,null,"","","","",null,4.8200000000000521E-4,4.8200000000000521E-4,""]
[4.8300000000000524E-4,null,null,null,null,null,null,"",null,null,null,null,null,null,null,null,null,null,null,null,null,"","","","",null,4.8300000000000524E-4,4.8300000000000524E-4,""]
[4.8400000000000526E-4,null,null,null,null,null,null,"",null,null,null,null,null,null,null,null,null,null,null,null,null,"","","","",null,4.8400000000000526E-4,4.8400000000000526E-4,""]
[4.8500000000000528E-4,null,null,null,null,null,null,"",null,null,null,null,null,null,null,null,null,null,null,null,null,"","","","",null,4.8500000000000528E-4,4.8500000000000528E-4,""]
[4.8600000000000531E-4,null,null,null,null,null,null,"",null,null,null,null,null,null,null,null,null,null,null,null,null,"","","","",null,4.8600000000000531E-4,4.8600000000000531E-4,""]
[4.8700000000000533E-4,null,null,null,null,null,null,"",null,null,null,null,null,null,null,null,null,null,null,null,null,"","","","",null,4.8700000000000533E-4,4.8700000000000533E-4,""]
[4.8800000000000536E-4,null,null,null,null,null,null,"",null,null,null,null,null,null,null,null,null,null,null,null,null,"","","","",null,4.8800000000000536E-4,4.8800000000000536E-4,""]
[4.8900000000000538E-4,null,null,null,null,null,null,"",null,null,null,null,null,null,null,null,null,null,null,null,null,"","","","",null,4.8900000000000538E-4,4.8900000000000538E-4,""]
[4.9000000000000541E-4,null,null,null,null,null,null,"",null,null,null,null,null,null,null,null,null,null,null,null,null,"","","","",null,4.9000000000000541E-4,4.9000000000000541E-4,""]
[4.9100000000000543E-4,null,null,null,null,null,null,"",null,null,null,null,null,null,null,null,null,null,null,null,null,"","","","",null,4.9100000000000543E-4,4.9100000000000543E-4,""]
[4.9200000000000545E-4,null,null,null,null,null,null,"",null,null,null,null,null,null,null,null,null,null,null,null,null,"","","","",null,4.9200000000000545E-4,4.9200000000000545E-4,""]
[4.9300000000000548E-4,null,null,null,null,null,null,"",null,null,null,null,null,null,null,null,null,null,null,null,null,"","","","",null,4.9300000000000548E-4,4.9300000000000548E-4,""]
[4.940000000000055E-4,null,null,null,null,null,null,"",null,null,null,null,null,null,null,null,null,null,null,null,null,"","","","",null,4.940000000000055E-4,4.940000000000055E-4,""]
[4.9500000000000553E-4,null,null,null,null,null,null,"",null,null,null,null,null,null,null,null,null,null,null,null,null,"","","","",null,4.9500000000000553E-4,4.9500000000000553E-4,""]
[4.9600000000000555E-4,null,null,null,null,null,null,"",null,null,null,null,null,null,null,null,null,null,null,null,null,"","","","",null,4.9600000000000555E-4,4.9600000000000555E-4,""]
[4.9700000000000558E-4,null,null,null,null,null,null,"",null,null,null,null,null,null,null,null,null,null,null,null,null,"","","","",null,4.9700000000000558E-4,4.9700000000000558E-4,""]
[4.980000000000056E-4,null,null,null,null,null,null,"",null,null,null,null,null,null,null,null,null,null,null,null,null,"","","","",null,4.980000000000056E-4,4.980000000000056E-4,""]
[4.9900000000000562E-4,null,null,null,null,null,null,"",null,null,null,null,null,null,null,null,null,null,null,null,null,"","","","",null,4.9900000000000562E-4,4.9900000000000562E-4,""]
[5.0000000000000565E-4,null,null,null,null,null,null,"",null,null,null,null,null,null,null,null,null,null,null,null,null,"","","","",null,5.0000000000000565E-4,5.0000000000000565E-4,""]
[5.0100000000000567E-4,null,null,null,null,null,null,"",null,null,null,null,null,null,null,null,null,null,null,null,null,"","","","",null,5.0100000000000567E-4,5.0100000000000567E-4,""]
[5.020000000000057E-4,null,null,null,null,null,null,"",null,null,null,null,null,null,null,null,null,null,null,null,null,"","","","",null,5.020000000000057E-4,5.020000000000057E-4,""]
[5.0300000000000572E-4,null,null,null,null,null,null,"",null,null,null,null,null,null,null,null,null,null,null,null,null,"","","","",null,5.0300000000000572E-4,5.0300000000000572E-4,""]
[5.0400000000000575E-4,null,null,null,null,null,null,"",null,null,null,null,null,null,null,null,null,null,null,null,null,"","","","",null,5.0400000000000575E-4,5.0400000000000575E-4,""]
[5.0500000000000577E-4,null,null,null,null,null,null,"",null,null,null,null,null,null,null,null,null,null,null,null,null,"","","","",null,5.0500000000000577E-4,5.0500000000000577E-4,""]
[5.0600000000000579E-4,null,null,null,null,null,null,"",null,null,null,null,null,null,null,null,null,null,null,null,null,"","","","",null,5.0600000000000579E-4,5.0600000000000579E-4,""]
[5.0700000000000582E-4,null,null,null,null,null,null,"",null,null,null,null,null,null,null,null,null,null,null,null,null,"","","","",null,5.0700000000000582E-4,5.0700000000000582E-4,""]
[5.0800000000000584E-4,null,null,null,null,null,null,"",null,null,null,null,null,null,null,null,null,null,null,null,null,"","","","",null,5.0800000000000584E-4,5.0800000000000584E-4,""]
[5.0900000000000587E-4,null,null,null,null,null,null,"",null,null,null,null,null,null,null,null,null,null,null,null,null,"","","","",null,5.0900000000000587E-4,5.0900000000000587E-4,""]
[5.1000000000000589E-4,null,null,null,null,null,null,"",null,null,null,null,null,null,null,null,null,null,null,null,null,"","","","",null,5.1000000000000589E-4,5.1000000000000589E-4,""]
[5.1100000000000592E-4,null,null,null,null,null,null,"",null,null,null,null,null,null,null,null,null,null,null,null,null,"","","","",null,5.1100000000000592E-4,5.1100000000000592E-4,""]
[5.1200000000000594E-4,null,null,null,null,null,null,"",null,null,null,null,null,null,null,null,null,null,null,null,null,"","","","",null,5.1200000000000594E-4,5.1200000000000594E-4,""]
[{"$f":"AA525","v":5.1300000000000596E-4},null,null,null,null,null,null,"",null,null,null,null,null,null,null,null,null,null,null,null,null,{"$f":"IF(E525=\"\",\"\",VLOOKUP(E525,$M$12:$N$14,2,FALSE))","v":""},{"$f":"IF(F525=\"\",\"\",VLOOKUP(F525,$P$12:$Q$15,2,FALSE))","v":""},{"$f":"IF(G525=\"\",\"\",VLOOKUP(G525,$S$12:$T$16,2,FALSE))","v":""},"",null,5.1300000000000596E-4,5.1300000000000596E-4,""]
[5.1400000000000599E-4,null,null,null,null,null,null,{"$f":"Y526","v":""},null,null,null,null,null,null,null,null,null,null,null,null,null,"","","",{"$f":"IF(V526=\"\",\"\",IFERROR(V526*W526*X526,0))","v":""},null,{"$f":"IFERROR(AB526+Y526,AB526)","v":5.1400000000000599E-4},{"$f":"AB525+$AB$13","v":5.1400000000000599E-4},{"$f":"IF(B526=\"\",\"\",B526)","v":""}]
[5.1500000000000601E-4,null,null,null,null,null,null,"",null,null,null,null,null,null,null,null,null,null,null,null,null,"","","","",null,5.1500000000000601E-4,5.1500000000000601E-4,""]
[5.1600000000000604E-4,null,null,null,null,null,null,"",null,null,null,null,null,null,null,null,null,null,null,null,null,"","","","",null,5.1600000000000604E-4,5.1600000000000604E-4,""]
[5.1700000000000606E-4,null,null,null,null,null,null,"",null,null,null,null,null,null,null,null,null,null,null,null,null,"","","","",null,5.1700000000000606E-4,5.1700000000000606E-4,""]
[5.1800000000000609E-4,null,null,null,null,null,null,"",null,null,null,null,null,null,null,null,null,null,null,null,null,"","","","",null,5.1800000000000609E-4,5.1800000000000609E-4,""]
[5.1900000000000611E-4,null,null,null,null,null,null,"",null,null,null,null,null,null,null,null,null,null,null,null,null,"","","","",null,5.1900000000000611E-4,5.1900000000000611E-4,""]
[5.2000000000000613E-4,null,null,null,null,null,null,"",null,null,null,null,null,null,null,null,null,null,null,null,null,"","","","",null,5.2000000000000613E-4,5.2000000000000613E-4,""]
[5.2100000000000616E-4,null,null,null,null,null,null,"",null,null,null,null,null,null,null,null,null,null,null,null,null,"","","","",null,5.2100000000000616E-4,5.2100000000000616E-4,""]
[5.2200000000000618E-4,null,null,null,null,null,null,"",null,null,null,null,null,null,null,null,null,null,null,null,null,"","","","",null,5.2200000000000618E-4,5.2200000000000618E-4,""]
[5.2300000000000621E-4,null,null,null,null,null,null,"",null,null,null,null,null,null,null,null,null,null,null,null,null,"","","","",null,5.2300000000000621E-4,5.2300000000000621E-4,""]
[5.2400000000000623E-4,null,null,null,null,null,null,"",null,null,null,null,null,null,null,null,null,null,null,null,null,"","","","",null,5.2400000000000623E-4,5.2400000000000623E-4,""]
[5.2500000000000626E-4,null,null,null,null,null,null,"",null,null,null,null,null,null,null,null,null,null,null,null,null,"","","","",null,5.2500000000000626E-4,5.2500000000000626E-4,""]
[5.2600000000000628E-4,null,null,null,null,null,null,"",null,null,null,null,null,null,null,null,null,null,null,null,null,"","","","",null,5.2600000000000628E-4,5.2600000000000628E-4,""]
[5.270000000000063E-4,null,null,null,null,null,null,"",null,null,null,null,null,null,null,null,null,null,null,null,null,"","","","",null,5.270000000000063E-4,5.270000000000063E-4,""]
[5.2800000000000633E-4,null,null,null,null,null,null,"",null,null,null,null,null,null,null,null,null,null,null,null,null,"","","","",null,5.2800000000000633E-4,5.2800000000000633E-4,""]
[5.2900000000000635E-4,null,null,null,null,null,null,"",null,null,null,null,null,null,null,null,null,null,null,null,null,"","","","",null,5.2900000000000635E-4,5.2900000000000635E-4,""]
[5.3000000000000638E-4,null,null,null,null,null,null,"",null,null,null,null,null,null,null,null,null,null,null,null,null,"","","","",null,5.3000000000000638E-4,5.3000000000000638E-4,""]
[5.310000000000064E-4,null,null,null,null,null,null,"",null,null,null,null,null,null,null,null,null,null,null,null,null,"","","","",null,5.310000000000064E-4,5.310000000000064E-4,""]
[5.3200000000000643E-4,null,null,null,null,null,null,"",null,null,null,null,null,null,null,null,null,null,null,null,null,"","","","",null,5.3200000000000643E-4,5.3200000000000643E-4,""]
[5.3300000000000645E-4,null,null,null,null,null,null,"",null,null,null,null,null,null,null,null,null,null,null,null,null,"","","","",null,5.3300000000000645E-4,5.3300000000000645E-4,""]
[5.3400000000000647E-4,null,null,null,null,null,null,"",null,null,null,null,null,null,null,null,null,null,null,null,null,"","","","",null,5.3400000000000647E-4,5.3400000000000647E-4,""]
[5.350000000000065E-4,null,null,null,null,null,null,"",null,null,null,null,null,null,null,null,null,null,null,null,null,"","","","",null,5.350000000000065E-4,5.350000000000065E-4,""]
[5.3600000000000652E-4,null,null,null,null,null,null,"",null,null,null,null,null,null,null,null,null,null,null,null,null,"","","","",null,5.3600000000000652E-4,5.3600000000000652E-4,""]
[5.3700000000000655E-4,null,null,null,null,null,null,"",null,null,null,null,null,null,null,null,null,null,null,null,null,"","","","",null,5.3700000000000655E-4,5.3700000000000655E-4,""]
[5.3800000000000657E-4,null,null,null,null,null,null,"",null,null,null,null,null,null,null,null,null,null,null,null,null,"","","","",null,5.3800000000000657E-4,5.3800000000000657E-4,""]
[5.390000000000066E-4,null,null,null,null,null,null,"",null,null,null,null,null,null,null,null,null,null,null,null,null,"","","","",null,5.390000000000066E-4,5.390000000000066E-4,""]
[5.4000000000000662E-4,null,null,null,null,null,null,"",null,null,null,null,null,null,null,null,null,null,null,null,null,"","","","",null,5.4000000000000662E-4,5.4000000000000662E-4,""]
[5.4100000000000664E-4,null,null,null,null,null,null,"",null,null,null,null,null,null,null,null,null,null,null,null,null,"","","","",null,5.4100000000000664E-4,5.4100000000000664E-4,""]
[5.4200000000000667E-4,null,null,null,null,null,null,"",null,null,null,null,null,null,null,null,null,null,null,null,null,"","","","",null,5.4200000000000667E-4,5.4200000000000667E-4,""]
[5.4300000000000669E-4,null,null,null,null,null,null,"",null,null,null,null,null,null,null,null,null,null,null,null,null,"","","","",null,5.4300000000000669E-4,5.4300000000000669E-4,""]
[5.4400000000000672E-4,null,null,null,null,null,null,"",null,null,null,null,null,null,null,null,null,null,null,null,null,"","","","",null,5.4400000000000672E-4,5.4400000000000672E-4,""]
[5.4500000000000674E-4,null,null,null,null,null,null,"",null,null,null,null,null,null,null,null,null,null,null,null,null,"","","","",null,5.4500000000000674E-4,5.4500000000000674E-4,""]
[5.4600000000000677E-4,null,null,null,null,null,null,"",null,null,null,null,null,null,null,null,null,null,null,null,null,"","","","",null,5.4600000000000677E-4,5.4600000000000677E-4,""]
[5.4700000000000679E-4,null,null,null,null,null,null,"",null,null,null,null,null,null,null,null,null,null,null,null,null,"","","","",null,5.4700000000000679E-4,5.4700000000000679E-4,""]
[5.4800000000000681E-4,null,null,null,null,null,null,"",null,null,null,null,null,null,null,null,null,null,null,null,null,"","","","",null,5.4800000000000681E-4,5.4800000000000681E-4,""]
[5.4900000000000684E-4,null,null,null,null,null,null,"",null,null,null,null,null,null,null,null,null,null,null,null,null,"","","","",null,5.4900000000000684E-4,5.4900000000000684E-4,""]
[5.5000000000000686E-4,null,null,null,null,null,null,"",null,null,null,null,null,null,null,null,null,null,null,null,null,"","","","",null,5.5000000000000686E-4,5.5000000000000686E-4,""]
[5.5100000000000689E-4,null,null,null,null,null,null,"",null,null,null,null,null,null,null,null,null,null,null,null,null,"","","","",null,5.5100000000000689E-4,5.5100000000000689E-4,""]
[5.5200000000000691E-4,null,null,null,null,null,null,"",null,null,null,null,null,null,null,null,null,null,null,null,null,"","","","",null,5.5200000000000691E-4,5.5200000000000691E-4,""]
[5.5300000000000694E-4,null,null,null,null,null,null,"",null,null,null,null,null,null,null,null,null,null,null,null,null,"","","","",null,5.5300000000000694E-4,5.5300000000000694E-4,""]
[5.5400000000000696E-4,null,null,null,null,null,null,"",null,null,null,null,null,null,null,null,null,null,null,null,null,"","","","",null,5.5400000000000696E-4,5.5400000000000696E-4,""]
[5.5500000000000699E-4,null,null,null,null,null,null,"",null,null,null,null,null,null,null,null,null,null,null,null,null,"","","","",null,5.5500000000000699E-4,5.5500000000000699E-4,""]
[5.5600000000000701E-4,null,null,null,null,null,null,"",null,null,null,null,null,null,null,null,null,null,null,null,null,"","","","",null,5.5600000000000701E-4,5.5600000000000701E-4,""]
[5.5700000000000703E-4,null,null,null,null,null,null,"",null,null,null,null,null,null,null,null,null,null,null,null,null,"","","","",null,5.5700000000000703E-4,5.5700000000000703E-4,""]
[5.5800000000000706E-4,null,null,null,null,null,null,"",null,null,null,null,null,null,null,null,null,null,null,null,null,"","","","",null,5.5800000000000706E-4,5.5800000000000706E-4,""]
[5.5900000000000708E-4,null,null,null,null,null,null,"",null,null,null,null,null,null,null,null,null,null,null,null,null,"","","","",null,5.5900000000000708E-4,5.5900000000000708E-4,""]
[5.6000000000000711E-4,null,null,null,null,null,null,"",null,null,null,null,null,null,null,null,null,null,null,null,null,"","","","",null,5.6000000000000711E-4,5.6000000000000711E-4,""]
[5.6100000000000713E-4,null,null,null,null,null,null,"",null,null,null,null,null,null,null,null,null,null,null,null,null,"","","","",null,5.6100000000000713E-4,5.6100000000000713E-4,""]
[5.6200000000000716E-4,null,null,null,null,null,null,"",null,null,null,null,null,null,null,null,null,null,null,null,null,"","","","",null,5.6200000000000716E-4,5.6200000000000716E-4,""]
[5.6300000000000718E-4,null,null,null,null,null,null,"",null,null,null,null,null,null,null,null,null,null,null,null,null,"","","","",null,5.6300000000000718E-4,5.6300000000000718E-4,""]
[5.640000000000072E-4,null,null,null,null,null,null,"",null,null,null,null,null,null,null,null,null,null,null,null,null,"","","","",null,5.640000000000072E-4,5.640000000000072E-4,""]
[5.6500000000000723E-4,null,null,null,null,null,null,"",null,null,null,null,null,null,null,null,null,null,null,null,null,"","","","",null,5.6500000000000723E-4,5.6500000000000723E-4,""]
[5.6600000000000725E-4,null,null,null,null,null,null,"",null,null,null,null,null,null,null,null,null,null,null,null,null,"","","","",null,5.6600000000000725E-4,5.6600000000000725E-4,""]
[5.6700000000000728E-4,null,null,null,null,null,null,"",null,null,null,null,null,null,null,null,null,null,null,null,null,"","","","",null,5.6700000000000728E-4,5.6700000000000728E-4,""]
[5.680000000000073E-4,null,null,null,null,null,null,"",null,null,null,null,null,null,null,null,null,null,null,null,null,"","","","",null,5.680000000000073E-4,5.680000000000073E-4,""]
[5.6900000000000733E-4,null,null,null,null,null,null,"",null,null,null,null,null,null,null,null,null,null,null,null,null,"","","","",null,5.6900000000000733E-4,5.6900000000000733E-4,""]
[5.7000000000000735E-4,null,null,null,null,null,null,"",null,null,null,null,null,null,null,null,null,null,null,null,null,"","","","",null,5.7000000000000735E-4,5.7000000000000735E-4,""]
[5.7100000000000737E-4,null,null,null,null,null,null,"",null,null,null,null,null,null,null,null,null,null,null,null,null,"","","","",null,5.7100000000000737E-4,5.7100000000000737E-4,""]
[5.720000000000074E-4,null,null,null,null,null,null,"",null,null,null,null,null,null,null,null,null,null,null,null,null,"","","","",null,5.720000000000074E-4,5.720000000000074E-4,""]
[5.7300000000000742E-4,null,null,null,null,null,null,"",null,null,null,null,null,null,null,null,null,null,null,null,null,"","","","",null,5.7300000000000742E-4,5.7300000000000742E-4,""]
[5.7400000000000745E-4,null,null,null,null,null,null,"",null,null,null,null,null,null,null,null,null,null,null,null,null,"","","","",null,5.7400000000000745E-4,5.7400000000000745E-4,""]
[5.7500000000000747E-4,null,null,null,null,null,null,"",null,null,null,null,null,null,null,null,null,null,null,null,null,"","","","",null,5.7500000000000747E-4,5.7500000000000747E-4,""]
[5.760000000000075E-4,null,null,null,null,null,null,"",null,null,null,null,null,null,null,null,null,null,null,null,null,"","","","",null,5.760000000000075E-4,5.760000000000075E-4,""]
[5.7700000000000752E-4,null,null,null,null,null,null,"",null,null,null,null,null,null,null,null,null,null,null,null,null,{"$f":"IF(E589=\"\",\"\",VLOOKUP(E589,$M$12:$N$14,2,FALSE))","v":""},{"$f":"IF(F589=\"\",\"\",VLOOKUP(F589,$P$12:$Q$15,2,FALSE))","v":""},{"$f":"IF(G589=\"\",\"\",VLOOKUP(G589,$S$12:$T$16,2,FALSE))","v":""},"",null,5.7700000000000752E-4,5.7700000000000752E-4,""]
[{"$f":"AA590","v":5.7800000000000754E-4},null,null,null,null,null,null,{"$f":"Y590","v":""},null,null,null,null,null,null,null,null,null,null,null,null,null,"","","",{"$f":"IF(V590=\"\",\"\",IFERROR(V590*W590*X590,0))","v":""},null,{"$f":"IFERROR(AB590+Y590,AB590)","v":5.7800000000000754E-4},{"$f":"AB589+$AB$13","v":5.7800000000000754E-4},{"$f":"IF(B590=\"\",\"\",B590)","v":""}]
[5.7900000000000757E-4,null,null,null,null,null,null,"",null,null,null,null,null,null,null,null,null,null,null,null,null,"","","","",null,5.7900000000000757E-4,5.7900000000000757E-4,""]
[5.8000000000000759E-4,null,null,null,null,null,null,"",null,null,null,null,null,null,null,null,null,null,null,null,null,"","","","",null,5.8000000000000759E-4,5.8000000000000759E-4,""]
[5.8100000000000762E-4,null,null,null,null,null,null,"",null,null,null,null,null,null,null,null,null,null,null,null,null,"","","","",null,5.8100000000000762E-4,5.8100000000000762E-4,""]
[5.8200000000000764E-4,null,null,null,null,null,null,"",null,null,null,null,null,null,null,null,null,null,null,null,null,"","","","",null,5.8200000000000764E-4,5.8200000000000764E-4,""]
[5.8300000000000767E-4,null,null,null,null,null,null,"",null,null,null,null,null,null,null,null,null,null,null,null,null,"","","","",null,5.8300000000000767E-4,5.8300000000000767E-4,""]
[5.8400000000000769E-4,null,null,null,null,null,null,"",null,null,null,null,null,null,null,null,null,null,null,null,null,"","","","",null,5.8400000000000769E-4,5.8400000000000769E-4,""]
[5.8500000000000771E-4,null,null,null,null,null,null,"",null,null,null,null,null,null,null,null,null,null,null,null,null,"","","","",null,5.8500000000000771E-4,5.8500000000000771E-4,""]
[5.8600000000000774E-4,null,null,null,null,null,null,"",null,null,null,null,null,null,null,null,null,null,null,null,null,"","","","",null,5.8600000000000774E-4,5.8600000000000774E-4,""]
[5.8700000000000776E-4,null,null,null,null,null,null,"",null,null,null,null,null,null,null,null,null,null,null,null,null,"","","","",null,5.8700000000000776E-4,5.8700000000000776E-4,""]
[5.8800000000000779E-4,null,null,null,null,null,null,"",null,null,null,null,null,null,null,null,null,null,null,null,null,"","","","",null,5.8800000000000779E-4,5.8800000000000779E-4,""]
[5.8900000000000781E-4,null,null,null,null,null,null,"",null,null,null,null,null,null,null,null,null,null,null,null,null,"","","","",null,5.8900000000000781E-4,5.8900000000000781E-4,""]
[5.9000000000000784E-4,null,null,null,null,null,null,"",null,null,null,null,null,null,null,null,null,null,null,null,null,"","","","",null,5.9000000000000784E-4,5.9000000000000784E-4,""]
[5.9100000000000786E-4,null,null,null,null,null,null,"",null,null,null,null,null,null,null,null,null,null,null,null,null,"","","","",null,5.9100000000000786E-4,5.9100000000000786E-4,""]
[5.9200000000000788E-4,null,null,null,null,null,null,"",null,null,null,null,null,null,null,null,null,null,null,null,null,"","","","",null,5.9200000000000788E-4,5.9200000000000788E-4,""]
[5.9300000000000791E-4,null,null,null,null,null,null,"",null,null,null,null,null,null,null,null,null,null,null,null,null,"","","","",null,5.9300000000000791E-4,5.9300000000000791E-4,""]
[5.9400000000000793E-4,null,null,null,null,null,null,"",null,null,null,null,null,null,null,null,null,null,null,null,null,"","","","",null,5.9400000000000793E-4,5.9400000000000793E-4,""]
[5.9500000000000796E-4,null,null,null,null,null,null,"",null,null,null,null,null,null,null,null,null,null,null,null,null,"","","","",null,5.9500000000000796E-4,5.9500000000000796E-4,""]
[5.9600000000000798E-4,null,null,null,null,null,null,"",null,null,null,null,null,null,null,null,null,null,null,null,null,"","","","",null,5.9600000000000798E-4,5.9600000000000798E-4,""]
[5.9700000000000801E-4,null,null,null,null,null,null,"",null,null,null,null,null,null,null,null,null,null,null,null,null,"","","","",null,5.9700000000000801E-4,5.9700000000000801E-4,""]
[5.9800000000000803E-4,null,null,null,null,null,null,"",null,null,null,null,null,null,null,null,null,null,null,null,null,"","","","",null,5.9800000000000803E-4,5.9800000000000803E-4,""]
[5.9900000000000805E-4,null,null,null,null,null,null,"",null,null,null,null,null,null,null,null,null,null,null,null,null,"","","","",null,5.9900000000000805E-4,5.9900000000000805E-4,""]
[6.0000000000000808E-4,null,null,null,null,null,null,"",null,null,null,null,null,null,null,null,null,null,null,null,null,"","","","",null,6.0000000000000808E-4,6.0000000000000808E-4,""]
[6.010000000000081E-4,null,null,null,null,null,null,"",null,null,null,null,null,null,null,null,null,null,null,null,null,"","","","",null,6.010000000000081E-4,6.010000000000081E-4,""]
[6.0200000000000813E-4,null,null,null,null,null,null,"",null,null,null,null,null,null,null,null,null,null,null,null,null,"","","","",null,6.0200000000000813E-4,6.0200000000000813E-4,""]
[null,"a","a","a","a","a","a","a","a","a",null,"a","a","a","a","a","a","a","a","a","a","a","a","a",null,null,"a","a","a","a"]

{"sheet":"CRONOGRAMA","index":3,"n_rows":18,"n_cols":19,"rows_kept":18,"cut":false,"hidden":false,"merged":[[11,4,14,11],[12,12,12,18],[14,12,14,18],[11,1,14,3],[15,5,16,5],[15,6,16,6],[15,4,16,4],[15,1,16,1],[15,2,16,2],[15,3,16,3],[15,7,15,18]]}
[]
[]
[]
[]
[]
[]
[]
[]
[]
[]
[]
[null,null,null,null,"CRONOGRAMA - PPRA",null,null,null,null,null,null,null,"ELABORADO POR:"]
[]
[null,null,null,null,null,null,null,null,null,null,null,null,"APROVADO POR:"]
[]
[null,"Item","Ação","Meta","Estratégia e metodologia","Prioridade","Responsável","Ano: 2021"]
[null,null,null,null,null,null,null,"JAN","FEV","MAR","ABR","MAI","JUN","JUL","AGO","SET","OUT","NOV","DEZ"]
[null,1,"Realizar Capacitação sobre uso dos EPIs","Alcançar 20% dos trabalhadores a cada mês","Treinamento durante o horário de trabalho com no máximo 20 colaboradores",1,"RH","x",null,null,"x",null,null,"x",null,null,"x"]

{"sheet":"PCMSO","index":4,"n_rows":615,"n_cols":21,"rows_kept":615,"cut":false,"hidden":false,"merged":[]}
[]
[]
[]
[]
[]
[]
[]
[]
[]
[]
[]
["repet","Descrição do Exame","Área","Cargo","Frequência",null,null,"des","qtde","O exame não apontou complicações","O exame apontou complicações"]
[{"$f":"SUM(H13:I13)","v":1.0000009999999999},"Audiometria","PROD","Auxiliar","Anualmente",null,{"$f":"B13","v":"Audiometria"},9.9999999999999995E-7,{"$f":"COUNTIFS('C-E'!$E$13:$E$1001,PCMSO!B13)","v":1},{"$f":"COUNTIFS('C-E'!$E$13:$E$1001,PCMSO!$B13,'C-E'!$H$13:$H$1001,PCMSO!J$12)","v":1},{"$f":"COUNTIFS('C-E'!$E$13:$E$1001,PCMSO!$B13,'C-E'!$H$13:$H$1001,PCMSO!K$12)","v":0}]
[1.9999999999999999E-6,null,null,null,null,null,{"$f":"B14","v":0},{"$f":"H13+$H$13","v":1.9999999999999999E-6},{"$f":"COUNTIFS('C-E'!$E$13:$E$1001,PCMSO!B14)","v":0},{"$f":"COUNTIFS('C-E'!$E$13:$E$1001,PCMSO!$B14,'C-E'!$H$13:$H$1001,PCMSO!J$12)","v":0},{"$f":"COUNTIFS('C-E'!$E$13:$E$1001,PCMSO!$B14,'C-E'!$H$13:$H$1001,PCMSO!K$12)","v":0}]
[3.0000000000000001E-6,null,null,null,null,null,0,{"$f":"H14+$H$13","v":3.0000000000000001E-6},{"$f":"COUNTIFS('C-E'!$E$13:$E$1001,PCMSO!B15)","v":0},{"$f":"COUNTIFS('C-E'!$E$13:$E$1001,PCMSO!$B15,'C-E'!$H$13:$H$1001,PCMSO!J$12)","v":0},{"$f":"COUNTIFS('C-E'!$E$13:$E$1001,PCMSO!$B15,'C-E'!$H$13:$H$1001,PCMSO!K$12)","v":0}]
[3.9999999999999998E-6,null,null,null,null,null,0,3.9999999999999998E-6,{"$f":"COUNTIFS('C-E'!$E$13:$E$1001,PCMSO!B16)","v":0},{"$f":"COUNTIFS('C-E'!$E$13:$E$1001,PCMSO!$B16,'C-E'!$H$13:$H$1001,PCMSO!J$12)","v":0},{"$f":"COUNTIFS('C-E'!$E$13:$E$1001,PCMSO!$B16,'C-E'!$H$13:$H$1001,PCMSO!K$12)","v":0}]
[4.9999999999999996E-6,null,null,null,null,null,0,4.9999999999999996E-6,{"$f":"COUNTIFS('C-E'!$E$13:$E$1001,PCMSO!B17)","v":0},{"$f":"COUNTIFS('C-E'!$E$13:$E$1001,PCMSO!$B17,'C-E'!$H$13:$H$1001,PCMSO!J$12)","v":0},{"$f":"COUNTIFS('C-E'!$E$13:$E$1001,PCMSO!$B17,'C-E'!$H$13:$H$1001,PCMSO!K$12)","v":0}]
[5.9999999999999993E-6,null,null,null,null,null,0,5.9999999999999993E-6,{"$f":"COUNTIFS('C-E'!$E$13:$E$1001,PCMSO!B18)","v":0},{"$f":"COUNTIFS('C-E'!$E$13:$E$1001,PCMSO!$B18,'C-E'!$H$13:$H$1001,PCMSO!J$12)","v":0},{"$f":"COUNTIFS('C-E'!$E$13:$E$1001,PCMSO!$B18,'C-E'!$H$13:$H$1001,PCMSO!K$12)","v":0}]
[6.999999999999999E-6,null,null,null,null,null,0,6.999999999999999E-6,{"$f":"COUNTIFS('C-E'!$E$13:$E$1001,PCMSO!B19)","v":0},{"$f":"COUNTIFS('C-E'!$E$13:$E$1001,PCMSO!$B19,'C-E'!$H$13:$H$1001,PCMSO!J$12)","v":0},{"$f":"COUNTIFS('C-E'!$E$13:$E$1001,PCMSO!$B19,'C-E'!$H$13:$H$1001,PCMSO!K$12)","v":0}]
[7.9999999999999996E-6,null,null,null,null,null,0,7.9999999999999996E-6,{"$f":"COUNTIFS('C-E'!$E$13:$E$1001,PCMSO!B20)","v":0},{"$f":"COUNTIFS('C-E'!$E$13:$E$1001,PCMSO!$B20,'C-E'!$H$13:$H$1001,PCMSO!J$12)","v":0},{"$f":"COUNTIFS('C-E'!$E$13:$E$1001,PCMSO!$B20,'C-E'!$H$13:$H$1001,PCMSO!K$12)","v":0}]
[9.0000000000000002E-6,null,null,null,null,null,0,9.0000000000000002E-6,{"$f":"COUNTIFS('C-E'!$E$13:$E$1001,PCMSO!B21)","v":0},{"$f":"COUNTIFS('C-E'!$E$13:$E$1001,PCMSO!$B21,'C-E'!$H$13:$H$1001,PCMSO!J$12)","v":0},{"$f":"COUNTIFS('C-E'!$E$13:$E$1001,PCMSO!$B21,'C-E'!$H$13:$H$1001,PCMSO!K$12)","v":0}]
[1.0000000000000001E-5,null,null,null,null,null,0,1.0000000000000001E-5,{"$f":"COUNTIFS('C-E'!$E$13:$E$1001,PCMSO!B22)","v":0},{"$f":"COUNTIFS('C-E'!$E$13:$E$1001,PCMSO!$B22,'C-E'!$H$13:$H$1001,PCMSO!J$12)","v":0},{"$f":"COUNTIFS('C-E'!$E$13:$E$1001,PCMSO!$B22,'C-E'!$H$13:$H$1001,PCMSO!K$12)","v":0}]
[1.1000000000000001E-5,null,null,null,null,null,0,1.1000000000000001E-5,{"$f":"COUNTIFS('C-E'!$E$13:$E$1001,PCMSO!B23)","v":0},{"$f":"COUNTIFS('C-E'!$E$13:$E$1001,PCMSO!$B23,'C-E'!$H$13:$H$1001,PCMSO!J$12)","v":0},{"$f":"COUNTIFS('C-E'!$E$13:$E$1001,PCMSO!$B23,'C-E'!$H$13:$H$1001,PCMSO!K$12)","v":0}]
[1.2000000000000002E-5,null,null,null,null,null,0,1.2000000000000002E-5,{"$f":"COUNTIFS('C-E'!$E$13:$E$1001,PCMSO!B24)","v":0},{"$f":"COUNTIFS('C-E'!$E$13:$E$1001,PCMSO!$B24,'C-E'!$H$13:$H$1001,PCMSO!J$12)","v":0},{"$f":"COUNTIFS('C-E'!$E$13:$E$1001,PCMSO!$B24,'C-E'!$H$13:$H$1001,PCMSO!K$12)","v":0}]
[1.3000000000000003E-5,null,null,null,null,null,0,1.3000000000000003E-5,{"$f":"COUNTIFS('C-E'!$E$13:$E$1001,PCMSO!B25)","v":0},{"$f":"COUNTIFS('C-E'!$E$13:$E$1001,PCMSO!$B25,'C-E'!$H$13:$H$1001,PCMSO!J$12)","v":0},{"$f":"COUNTIFS('C-E'!$E$13:$E$1001,PCMSO!$B25,'C-E'!$H$13:$H$1001,PCMSO!K$12)","v":0}]
[1.4000000000000003E-5,null,null,null,null,null,0,1.4000000000000003E-5,{"$f":"COUNTIFS('C-E'!$E$13:$E$1001,PCMSO!B26)","v":0},{"$f":"COUNTIFS('C-E'!$E$13:$E$1001,PCMSO!$B26,'C-E'!$H$13:$H$1001,PCMSO!J$12)","v":0},{"$f":"COUNTIFS('C-E'!$E$13:$E$1001,PCMSO!$B26,'C-E'!$H$13:$H$1001,PCMSO!K$12)","v":0}]
[1.5000000000000004E-5,null,null,null,null,null,0,1.5000000000000004E-5,{"$f":"COUNTIFS('C-E'!$E$13:$E$1001,PCMSO!B27)","v":0},{"$f":"COUNTIFS('C-E'!$E$13:$E$1001,PCMSO!$B27,'C-E'!$H$13:$H$1001,PCMSO!J$12)","v":0},{"$f":"COUNTIFS('C-E'!$E$13:$E$1001,PCMSO!$B27,'C-E'!$H$13:$H$1001,PCMSO!K$12)","v":0}]
[1.6000000000000003E-5,null,null,null,null,null,0,1.6000000000000003E-5,{"$f":"COUNTIFS('C-E'!$E$13:$E$1001,PCMSO!B28)","v":0},{"$f":"COUNTIFS('C-E'!$E$13:$E$1001,PCMSO!$B28,'C-E'!$H$13:$H$1001,PCMSO!J$12)","v":0},{"$f":"COUNTIFS('C-E'!$E$13:$E$1001,PCMSO!$B28,'C-E'!$H$13:$H$1001,PCMSO!K$12)","v":0}]
[1.7000000000000003E-5,null,null,null,null,null,0,1.7000000000000003E-5,{"$f":"COUNTIFS('C-E'!$E$13:$E$1001,PCMSO!B29)","v":0},{"$f":"COUNTIFS('C-E'!$E$13:$E$1001,PCMSO!$B29,'C-E'!$H$13:$H$1001,PCMSO!J$12)","v":0},{"$f":"COUNTIFS('C-E'!$E$13:$E$1001,PCMSO!$B29,'C-E'!$H$13:$H$1001,PCMSO!K$12)","v":0}]
[1.8000000000000004E-5,null,null,null,null,null,0,1.8000000000000004E-5,{"$f":"COUNTIFS('C-E'!$E$13:$E$1001,PCMSO!B30)","v":0},{"$f":"COUNTIFS('C-E'!$E$13:$E$1001,PCMSO!$B30,'C-E'!$H$13:$H$1001,PCMSO!J$12)","v":0},{"$f":"COUNTIFS('C-E'!$E$13:$E$1001,PCMSO!$B30,'C-E'!$H$13:$H$1001,PCMSO!K$12)","v":0}]
[1.9000000000000004E-5,null,null,null,null,null,0,1.9000000000000004E-5,{"$f":"COUNTIFS('C-E'!$E$13:$E$1001,PCMSO!B31)","v":0},{"$f":"COUNTIFS('C-E'!$E$13:$E$1001,PCMSO!$B31,'C-E'!$H$13:$H$1001,PCMSO!J$12)","v":0},{"$f":"COUNTIFS('C-E'!$E$13:$E$1001,PCMSO!$B31,'C-E'!$H$13:$H$1001,PCMSO!K$12)","v":0}]
[2.0000000000000005E-5,null,null,null,null,null,0,2.0000000000000005E-5,{"$f":"COUNTIFS('C-E'!$E$13:$E$1001,PCMSO!B32)","v":0},{"$f":"COUNTIFS('C-E'!$E$13:$E$1001,PCMSO!$B32,'C-E'!$H$13:$H$1001,PCMSO!J$12)","v":0},{"$f":"COUNTIFS('C-E'!$E$13:$E$1001,PCMSO!$B32,'C-E'!$H$13:$H$1001,PCMSO!K$12)","v":0}]
[2.1000000000000006E-5,null,null,null,null,null,0,2.1000000000000006E-5,{"$f":"COUNTIFS('C-E'!$E$13:$E$1001,PCMSO!B33)","v":0},{"$f":"COUNTIFS('C-E'!$E$13:$E$1001,PCMSO!$B33,'C-E'!$H$13:$H$1001,PCMSO!J$12)","v":0},{"$f":"COUNTIFS('C-E'!$E$13:$E$1001,PCMSO!$B33,'C-E'!$H$13:$H$1001,PCMSO!K$12)","v":0}]
[2.2000000000000006E-5,null,null,null,null,null,0,2.2000000000000006E-5,{"$f":"COUNTIFS('C-E'!$E$13:$E$1001,PCMSO!B34)","v":0},{"$f":"COUNTIFS('C-E'!$E$13:$E$1001,PCMSO!$B34,'C-E'!$H$13:$H$1001,PCMSO!J$12)","v":0},{"$f":"COUNTIFS('C-E'!$E$13:$E$1001,PCMSO!$B34,'C-E'!$H$13:$H$1001,PCMSO!K$12)","v":0}]
[2.3000000000000007E-5,null,null,null,null,null,0,2.3000000000000007E-5,{"$f":"COUNTIFS('C-E'!$E$13:$E$1001,PCMSO!B35)","v":0},{"$f":"COUNTIFS('C-E'!$E$13:$E$1001,PCMSO!$B35,'C-E'!$H$13:$H$1001,PCMSO!J$12)","v":0},{"$f":"COUNTIFS('C-E'!$E$13:$E$1001,PCMSO!$B35,'C-E'!$H$13:$H$1001,PCMSO!K$12)","v":0}]
[2.4000000000000007E-5,null,null,null,null,null,0,2.4000000000000007E-5,{"$f":"COUNTIFS('C-E'!$E$13:$E$1001,PCMSO!B36)","v":0},{"$f":"COUNTIFS('C-E'!$E$13:$E$1001,PCMSO!$B36,'C-E'!$H$13:$H$1001,PCMSO!J$12)","v":0},{"$f":"COUNTIFS('C-E'!$E$13:$E$1001,PCMSO!$B36,'C-E'!$H$13:$H$1001,PCMSO!K$12)","v":0}]
[2.5000000000000008E-5,null,null,null,null,null,0,2.5000000000000008E-5,{"$f":"COUNTIFS('C-E'!$E$13:$E$1001,PCMSO!B37)","v":0},{"$f":"COUNTIFS('C-E'!$E$13:$E$1001,PCMSO!$B37,'C-E'!$H$13:$H$1001,PCMSO!J$12)","v":0},{"$f":"COUNTIFS('C-E'!$E$13:$E$1001,PCMSO!$B37,'C-E'!$H$13:$H$1001,PCMSO!K$12)","v":0}]
[2.6000000000000009E-5,null,null,null,null,null,0,2.6000000000000009E-5,{"$f":"COUNTIFS('C-E'!$E$13:$E$1001,PCMSO!B38)","v":0},{"$f":"COUNTIFS('C-E'!$E$13:$E$1001,PCMSO!$B38,'C-E'!$H$13:$H$1001,PCMSO!J$12)","v":0},{"$f":"COUNTIFS('C-E'!$E$13:$E$1001,PCMSO!$B38,'C-E'!$H$13:$H$1001,PCMSO!K$12)","v":0}]
[2.7000000000000009E-5,null,null,null,null,null,0,2.7000000000000009E-5,{"$f":"COUNTIFS('C-E'!$E$13:$E$1001,PCMSO!B39)","v":0},{"$f":"COUNTIFS('C-E'!$E$13:$E$1001,PCMSO!$B39,'C-E'!$H$13:$H$1001,PCMSO!J$12)","v":0},{"$f":"COUNTIFS('C-E'!$E$13:$E$1001,PCMSO!$B39,'C-E'!$H$13:$H$1001,PCMSO!K$12)","v":0}]
[2.800000000000001E-5,null,null,null,null,null,0,2.800000000000001E-5,{"$f":"COUNTIFS('C-E'!$E$13:$E$1001,PCMSO!B40)","v":0},{"$f":"COUNTIFS('C-E'!$E$13:$E$1001,PCMSO!$B40,'C-E'!$H$13:$H$1001,PCMSO!J$12)","v":0},{"$f":"COUNTIFS('C-E'!$E$13:$E$1001,PCMSO!$B40,'C-E'!$H$13:$H$1001,PCMSO!K$12)","v":0}]
[2.900000000000001E-5,null,null,null,null,null,0,2.900000000000001E-5,{"$f":"COUNTIFS('C-E'!$E$13:$E$1001,PCMSO!B41)","v":0},{"$f":"COUNTIFS('C-E'!$E$13:$E$1001,PCMSO!$B41,'C-E'!$H$13:$H$1001,PCMSO!J$12)","v":0},{"$f":"COUNTIFS('C-E'!$E$13:$E$1001,PCMSO!$B41,'C-E'!$H$13:$H$1001,PCMSO!K$12)","v":0}]
[3.0000000000000011E-5,null,null,null,null,null,0,3.0000000000000011E-5,{"$f":"COUNTIFS('C-E'!$E$13:$E$1001,PCMSO!B42)","v":0},{"$f":"COUNTIFS('C-E'!$E$13:$E$1001,PCMSO!$B42,'C-E'!$H$13:$H$1001,PCMSO!J$12)","v":0},{"$f":"COUNTIFS('C-E'!$E$13:$E$1001,PCMSO!$B42,'C-E'!$H$13:$H$1001,PCMSO!K$12)","v":0}]
[3.1000000000000008E-5,null,null,null,null,null,0,3.1000000000000008E-5,{"$f":"COUNTIFS('C-E'!$E$13:$E$1001,PCMSO!B43)","v":0},{"$f":"COUNTIFS('C-E'!$E$13:$E$1001,PCMSO!$B43,'C-E'!$H$13:$H$1001,PCMSO!J$12)","v":0},{"$f":"COUNTIFS('C-E'!$E$13:$E$1001,PCMSO!$B43,'C-E'!$H$13:$H$1001,PCMSO!K$12)","v":0}]
[3.2000000000000005E-5,null,null,null,null,null,0,3.2000000000000005E-5,{"$f":"COUNTIFS('C-E'!$E$13:$E$1001,PCMSO!B44)","v":0},{"$f":"COUNTIFS('C-E'!$E$13:$E$1001,PCMSO!$B44,'C-E'!$H$13:$H$1001,PCMSO!J$12)","v":0},{"$f":"COUNTIFS('C-E'!$E$13:$E$1001,PCMSO!$B44,'C-E'!$H$13:$H$1001,PCMSO!K$12)","v":0}]
[3.3000000000000003E-5,null,null,null,null,null,0,3.3000000000000003E-5,{"$f":"COUNTIFS('C-E'!$E$13:$E$1001,PCMSO!B45)","v":0},{"$f":"COUNTIFS('C-E'!$E$13:$E$1001,PCMSO!$B45,'C-E'!$H$13:$H$1001,PCMSO!J$12)","v":0},{"$f":"COUNTIFS('C-E'!$E$13:$E$1001,PCMSO!$B45,'C-E'!$H$13:$H$1001,PCMSO!K$12)","v":0}]
[3.4E-5,null,null,null,null,null,0,3.4E-5,{"$f":"COUNTIFS('C-E'!$E$13:$E$1001,PCMSO!B46)","v":0},{"$f":"COUNTIFS('C-E'!$E$13:$E$1001,PCMSO!$B46,'C-E'!$H$13:$H$1001,PCMSO!J$12)","v":0},{"$f":"COUNTIFS('C-E'!$E$13:$E$1001,PCMSO!$B46,'C-E'!$H$13:$H$1001,PCMSO!K$12)","v":0}]
[3.4999999999999997E-5,null,null,null,null,null,0,3.4999999999999997E-5,{"$f":"COUNTIFS('C-E'!$E$13:$E$1001,PCMSO!B47)","v":0},{"$f":"COUNTIFS('C-E'!$E$13:$E$1001,PCMSO!$B47,'C-E'!$H$13:$H$1001,PCMSO!J$12)","v":0},{"$f":"COUNTIFS('C-E'!$E$13:$E$1001,PCMSO!$B47,'C-E'!$H$13:$H$1001,PCMSO!K$12)","v":0}]
[3.5999999999999994E-5,null,null,null,null,null,0,3.5999999999999994E-5,{"$f":"COUNTIFS('C-E'!$E$13:$E$1001,PCMSO!B48)","v":0},{"$f":"COUNTIFS('C-E'!$E$13:$E$1001,PCMSO!$B48,'C-E'!$H$13:$H$1001,PCMSO!J$12)","v":0},{"$f":"COUNTIFS('C-E'!$E$13:$E$1001,PCMSO!$B48,'C-E'!$H$13:$H$1001,PCMSO!K$12)","v":0}]
[3.6999999999999991E-5,null,null,null,null,null,0,3.6999999999999991E-5,{"$f":"COUNTIFS('C-E'!$E$13:$E$1001,PCMSO!B49)","v":0},{"$f":"COUNTIFS('C-E'!$E$13:$E$1001,PCMSO!$B49,'C-E'!$H$13:$H$1001,PCMSO!J$12)","v":0},{"$f":"COUNTIFS('C-E'!$E$13:$E$1001,PCMSO!$B49,'C-E'!$H$13:$H$1001,PCMSO!K$12)","v":0}]
[3.7999999999999989E-5,null,null,null,null,null,0,3.7999999999999989E-5,{"$f":"COUNTIFS('C-E'!$E$13:$E$1001,PCMSO!B50)","v":0},{"$f":"COUNTIFS('C-E'!$E$13:$E$1001,PCMSO!$B50,'C-E'!$H$13:$H$1001,PCMSO!J$12)","v":0},{"$f":"COUNTIFS('C-E'!$E$13:$E$1001,PCMSO!$B50,'C-E'!$H$13:$H$1001,PCMSO!K$12)","v":0}]
[3.8999999999999986E-5,null,null,null,null,null,0,3.8999999999999986E-5,{"$f":"COUNTIFS('C-E'!$E$13:$E$1001,PCMSO!B51)","v":0},{"$f":"COUNTIFS('C-E'!$E$13:$E$1001,PCMSO!$B51,'C-E'!$H$13:$H$1001,PCMSO!J$12)","v":0},{"$f":"COUNTIFS('C-E'!$E$13:$E$1001,PCMSO!$B51,'C-E'!$H$13:$H$1001,PCMSO!K$12)","v":0}]
[3.9999999999999983E-5,null,null,null,null,null,0,3.9999999999999983E-5,{"$f":"COUNTIFS('C-E'!$E$13:$E$1001,PCMSO!B52)","v":0},{"$f":"COUNTIFS('C-E'!$E$13:$E$1001,PCMSO!$B52,'C-E'!$H$13:$H$1001,PCMSO!J$12)","v":0},{"$f":"COUNTIFS('C-E'!$E$13:$E$1001,PCMSO!$B52,'C-E'!$H$13:$H$1001,PCMSO!K$12)","v":0}]
[4.099999999999998E-5,null,null,null,null,null,0,4.099999999999998E-5,{"$f":"COUNTIFS('C-E'!$E$13:$E$1001,PCMSO!B53)","v":0},{"$f":"COUNTIFS('C-E'!$E$13:$E$1001,PCMSO!$B53,'C-E'!$H$13:$H$1001,PCMSO!J$12)","v":0},{"$f":"COUNTIFS('C-E'!$E$13:$E$1001,PCMSO!$B53,'C-E'!$H$13:$H$1001,PCMSO!K$12)","v":0}]
[4.1999999999999977E-5,null,null,null,null,null,0,4.1999999999999977E-5,{"$f":"COUNTIFS('C-E'!$E$13:$E$1001,PCMSO!B54)","v":0},{"$f":"COUNTIFS('C-E'!$E$13:$E$1001,PCMSO!$B54,'C-E'!$H$13:$H$1001,PCMSO!J$12)","v":0},{"$f":"COUNTIFS('C-E'!$E$13:$E$1001,PCMSO!$B54,'C-E'!$H$13:$H$1001,PCMSO!K$12)","v":0}]
[4.2999999999999975E-5,null,null,null,null,null,0,4.2999999999999975E-5,{"$f":"COUNTIFS('C-E'!$E$13:$E$1001,PCMSO!B55)","v":0},{"$f":"COUNTIFS('C-E'!$E$13:$E$1001,PCMSO!$B55,'C-E'!$H$13:$H$1001,PCMSO!J$12)","v":0},{"$f":"COUNTIFS('C-E'!$E$13:$E$1001,PCMSO!$B55,'C-E'!$H$13:$H$1001,PCMSO!K$12)","v":0}]
[4.3999999999999972E-5,null,null,null,null,null,0,4.3999999999999972E-5,{"$f":"COUNTIFS('C-E'!$E$13:$E$1001,PCMSO!B56)","v":0},{"$f":"COUNTIFS('C-E'!$E$13:$E$1001,PCMSO!$B56,'C-E'!$H$13:$H$1001,PCMSO!J$12)","v":0},{"$f":"COUNTIFS('C-E'!$E$13:$E$1001,PCMSO!$B56,'C-E'!$H$13:$H$1001,PCMSO!K$12)","v":0}]
[4.4999999999999969E-5,null,null,null,null,null,0,4.4999999999999969E-5,{"$f":"COUNTIFS('C-E'!$E$13:$E$1001,PCMSO!B57)","v":0},{"$f":"COUNTIFS('C-E'!$E$13:$E$1001,PCMSO!$B57,'C-E'!$H$13:$H$1001,PCMSO!J$12)","v":0},{"$f":"COUNTIFS('C-E'!$E$13:$E$1001,PCMSO!$B57,'C-E'!$H$13:$H$1001,PCMSO!K$12)","v":0}]
[4.5999999999999966E-5,null,null,null,null,null,0,4.5999999999999966E-5,{"$f":"COUNTIFS('C-E'!$E$13:$E$1001,PCMSO!B58)","v":0},{"$f":"COUNTIFS('C-E'!$E$13:$E$1001,PCMSO!$B58,'C-E'!$H$13:$H$1001,PCMSO!J$12)","v":0},{"$f":"COUNTIFS('C-E'!$E$13:$E$1001,PCMSO!$B58,'C-E'!$H$13:$H$1001,PCMSO!K$12)","v":0}]
[4.6999999999999963E-5,null,null,null,null,null,0,4.6999999999999963E-5,{"$f":"COUNTIFS('C-E'!$E$13:$E$1001,PCMSO!B59)","v":0},{"$f":"COUNTIFS('C-E'!$E$13:$E$1001,PCMSO!$B59,'C-E'!$H$13:$H$1001,PCMSO!J$12)","v":0},{"$f":"COUNTIFS('C-E'!$E$13:$E$1001,PCMSO!$B59,'C-E'!$H$13:$H$1001,PCMSO!K$12)","v":0}]
[4.7999999999999961E-5,null,null,null,null,null,0,4.7999999999999961E-5,{"$f":"COUNTIFS('C-E'!$E$13:$E$1001,PCMSO!B60)","v":0},{"$f":"COUNTIFS('C-E'!$E$13:$E$1001,PCMSO!$B60,'C-E'!$H$13:$H$1001,PCMSO!J$12)","v":0},{"$f":"COUNTIFS('C-E'!$E$13:$E$1001,PCMSO!$B60,'C-E'!$H$13:$H$1001,PCMSO!K$12)","v":0}]
[4.8999999999999958E-5,null,null,null,null,null,0,4.8999999999999958E-5,{"$f":"COUNTIFS('C-E'!$E$13:$E$1001,PCMSO!B61)","v":0},{"$f":"COUNTIFS('C-E'!$E$13:$E$1001,PCMSO!$B61,'C-E'!$H$13:$H$1001,PCMSO!J$12)","v":0},{"$f":"COUNTIFS('C-E'!$E$13:$E$1001,PCMSO!$B61,'C-E'!$H$13:$H$1001,PCMSO!K$12)","v":0}]
[4.9999999999999955E-5,null,null,null,null,null,0,4.9999999999999955E-5,{"$f":"COUNTIFS('C-E'!$E$13:$E$1001,PCMSO!B62)","v":0},{"$f":"COUNTIFS('C-E'!$E$13:$E$1001,PCMSO!$B62,'C-E'!$H$13:$H$1001,PCMSO!J$12)","v":0},{"$f":"COUNTIFS('C-E'!$E$13:$E$1001,PCMSO!$B62,'C-E'!$H$13:$H$1001,PCMSO!K$12)","v":0}]
[5.0999999999999952E-5,null,null,null,null,null,0,5.0999999999999952E-5,{"$f":"COUNTIFS('C-E'!$E$13:$E$1001,PCMSO!B63)","v":0},{"$f":"COUNTIFS('C-E'!$E$13:$E$1001,PCMSO!$B63,'C-E'!$H$13:$H$1001,PCMSO!J$12)","v":0},{"$f":"COUNTIFS('C-E'!$E$13:$E$1001,PCMSO!$B63,'C-E'!$H$13:$H$1001,PCMSO!K$12)","v":0}]
[5.1999999999999949E-5,null,null,null,null,null,0,5.1999999999999949E-5,{"$f":"COUNTIFS('C-E'!$E$13:$E$1001,PCMSO!B64)","v":0},{"$f":"COUNTIFS('C-E'!$E$13:$E$1001,PCMSO!$B64,'C-E'!$H$13:$H$1001,PCMSO!J$12)","v":0},{"$f":"COUNTIFS('C-E'!$E$13:$E$1001,PCMSO!$B64,'C-E'!$H$13:$H$1001,PCMSO!K$12)","v":0}]
[5.2999999999999947E-5,null,null,null,null,null,0,5.2999999999999947E-5,{"$f":"COUNTIFS('C-E'!$E$13:$E$1001,PCMSO!B65)","v":0},{"$f":"COUNTIFS('C-E'!$E$13:$E$1001,PCMSO!$B65,'C-E'!$H$13:$H$1001,PCMSO!J$12)","v":0},{"$f":"COUNTIFS('C-E'!$E$13:$E$1001,PCMSO!$B65,'C-E'!$H$13:$H$1001,PCMSO!K$12)","v":0}]
[5.3999999999999944E-5,null,null,null,null,null,0,5.3999999999999944E-5,{"$f":"COUNTIFS('C-E'!$E$13:$E$1001,PCMSO!B66)","v":0},{"$f":"COUNTIFS('C-E'!$E$13:$E$1001,PCMSO!$B66,'C-E'!$H$13:$H$1001,PCMSO!J$12)","v":0},{"$f":"COUNTIFS('C-E'!$E$13:$E$1001,PCMSO!$B66,'C-E'!$H$13:$H$1001,PCMSO!K$12)","v":0}]
[5.4999999999999941E-5,null,null,null,null,null,0,5.4999999999999941E-5,{"$f":"COUNTIFS('C-E'!$E$13:$E$1001,PCMSO!B67)","v":0},{"$f":"COUNTIFS('C-E'!$E$13:$E$1001,PCMSO!$B67,'C-E'!$H$13:$H$1001,PCMSO!J$12)","v":0},{"$f":"COUNTIFS('C-E'!$E$13:$E$1001,PCMSO!$B67,'C-E'!$H$13:$H$1001,PCMSO!K$12)","v":0}]
[5.5999999999999938E-5,null,null,null,null,null,0,5.5999999999999938E-5,{"$f":"COUNTIFS('C-E'!$E$13:$E$1001,PCMSO!B68)","v":0},{"$f":"COUNTIFS('C-E'!$E$13:$E$1001,PCMSO!$B68,'C-E'!$H$13:$H$1001,PCMSO!J$12)","v":0},{"$f":"COUNTIFS('C-E'!$E$13:$E$1001,PCMSO!$B68,'C-E'!$H$13:$H$1001,PCMSO!K$12)","v":0}]
[5.6999999999999935E-5,null,null,null,null,null,0,5.6999999999999935E-5,{"$f":"COUNTIFS('C-E'!$E$13:$E$1001,PCMSO!B69)","v":0},{"$f":"COUNTIFS('C-E'!$E$13:$E$1001,PCMSO!$B69,'C-E'!$H$13:$H$1001,PCMSO!J$12)","v":0},{"$f":"COUNTIFS('C-E'!$E$13:$E$1001,PCMSO!$B69,'C-E'!$H$13:$H$1001,PCMSO!K$12)","v":0}]
[5.7999999999999933E-5,null,null,null,null,null,0,5.7999999999999933E-5,{"$f":"COUNTIFS('C-E'!$E$13:$E$1001,PCMSO!B70)","v":0},{"$f":"COUNTIFS('C-E'!$E$13:$E$1001,PCMSO!$B70,'C-E'!$H$13:$H$1001,PCMSO!J$12)","v":0},{"$f":"COUNTIFS('C-E'!$E$13:$E$1001,PCMSO!$B70,'C-E'!$H$13:$H$1001,PCMSO!K$12)","v":0}]
[5.899999999999993E-5,null,null,null,null,null,0,5.899999999999993E-5,{"$f":"COUNTIFS('C-E'!$E$13:$E$1001,PCMSO!B71)","v":0},{"$f":"COUNTIFS('C-E'!$E$13:$E$1001,PCMSO!$B71,'C-E'!$H$13:$H$1001,PCMSO!J$12)","v":0},{"$f":"COUNTIFS('C-E'!$E$13:$E$1001,PCMSO!$B71,'C-E'!$H$13:$H$1001,PCMSO!K$12)","v":0}]
[5.9999999999999927E-5,null,null,null,null,null,0,5.9999999999999927E-5,{"$f":"COUNTIFS('C-E'!$E$13:$E$1001,PCMSO!B72)","v":0},{"$f":"COUNTIFS('C-E'!$E$13:$E$1001,PCMSO!$B72,'C-E'!$H$13:$H$1001,PCMSO!J$12)","v":0},{"$f":"COUNTIFS('C-E'!$E$13:$E$1001,PCMSO!$B72,'C-E'!$H$13:$H$1001,PCMSO!K$12)","v":0}]
[6.0999999999999924E-5,null,null,null,null,null,0,6.0999999999999924E-5,{"$f":"COUNTIFS('C-E'!$E$13:$E$1001,PCMSO!B73)","v":0},{"$f":"COUNTIFS('C-E'!$E$13:$E$1001,PCMSO!$B73,'C-E'!$H$13:$H$1001,PCMSO!J$12)","v":0},{"$f":"COUNTIFS('C-E'!$E$13:$E$1001,PCMSO!$B73,'C-E'!$H$13:$H$1001,PCMSO!K$12)","v":0}]
[6.1999999999999921E-5,null,null,null,null,null,0,6.1999999999999921E-5,{"$f":"COUNTIFS('C-E'!$E$13:$E$1001,PCMSO!B74)","v":0},{"$f":"COUNTIFS('C-E'!$E$13:$E$1001,PCMSO!$B74,'C-E'!$H$13:$H$1001,PCMSO!J$12)","v":0},{"$f":"COUNTIFS('C-E'!$E$13:$E$1001,PCMSO!$B74,'C-E'!$H$13:$H$1001,PCMSO!K$12)","v":0}]
[6.2999999999999919E-5,null,null,null,null,null,0,6.2999999999999919E-5,{"$f":"COUNTIFS('C-E'!$E$13:$E$1001,PCMSO!B75)","v":0},{"$f":"COUNTIFS('C-E'!$E$13:$E$1001,PCMSO!$B75,'C-E'!$H$13:$H$1001,PCMSO!J$12)","v":0},{"$f":"COUNTIFS('C-E'!$E$13:$E$1001,PCMSO!$B75,'C-E'!$H$13:$H$1001,PCMSO!K$12)","v":0}]
[6.3999999999999916E-5,null,null,null,null,null,0,6.3999999999999916E-5,{"$f":"COUNTIFS('C-E'!$E$13:$E$1001,PCMSO!B76)","v":0},{"$f":"COUNTIFS('C-E'!$E$13:$E$1001,PCMSO!$B76,'C-E'!$H$13:$H$1001,PCMSO!J$12)","v":0},{"$f":"COUNTIFS('C-E'!$E$13:$E$1001,PCMSO!$B76,'C-E'!$H$13:$H$1001,PCMSO!K$12)","v":0}]
[{"$f":"SUM(H77:I77)","v":6.4999999999999913E-5},null,null,null,null,null,0,6.4999999999999913E-5,{"$f":"COUNTIFS('C-E'!$E$13:$E$1001,PCMSO!B77)","v":0},{"$f":"COUNTIFS('C-E'!$E$13:$E$1001,PCMSO!$B77,'C-E'!$H$13:$H$1001,PCMSO!J$12)","v":0},{"$f":"COUNTIFS('C-E'!$E$13:$E$1001,PCMSO!$B77,'C-E'!$H$13:$H$1001,PCMSO!K$12)","v":0}]
[6.599999999999991E-5,null,null,null,null,null,{"$f":"B78","v":0},6.599999999999991E-5,{"$f":"COUNTIFS('C-E'!$E$13:$E$1001,PCMSO!B78)","v":0},{"$f":"COUNTIFS('C-E'!$E$13:$E$1001,PCMSO!$B78,'C-E'!$H$13:$H$1001,PCMSO!J$12)","v":0},{"$f":"COUNTIFS('C-E'!$E$13:$E$1001,PCMSO!$B78,'C-E'!$H$13:$H$1001,PCMSO!K$12)","v":0}]
[6.6999999999999907E-5,null,null,null,null,null,0,{"$f":"H78+$H$13","v":6.6999999999999907E-5},{"$f":"COUNTIFS('C-E'!$E$13:$E$1001,PCMSO!B79)","v":0},{"$f":"COUNTIFS('C-E'!$E$13:$E$1001,PCMSO!$B79,'C-E'!$H$13:$H$1001,PCMSO!J$12)","v":0},{"$f":"COUNTIFS('C-E'!$E$13:$E$1001,PCMSO!$B79,'C-E'!$H$13:$H$1001,PCMSO!K$12)","v":0}]
[6.7999999999999905E-5,null,null,null,null,null,0,6.7999999999999905E-5,{"$f":"COUNTIFS('C-E'!$E$13:$E$1001,PCMSO!B80)","v":0},{"$f":"COUNTIFS('C-E'!$E$13:$E$1001,PCMSO!$B80,'C-E'!$H$13:$H$1001,PCMSO!J$12)","v":0},{"$f":"COUNTIFS('C-E'!$E$13:$E$1001,PCMSO!$B80,'C-E'!$H$13:$H$1001,PCMSO!K$12)","v":0}]
[6.8999999999999902E-5,null,null,null,null,null,0,6.8999999999999902E-5,{"$f":"COUNTIFS('C-E'!$E$13:$E$1001,PCMSO!B81)","v":0},{"$f":"COUNTIFS('C-E'!$E$13:$E$1001,PCMSO!$B81,'C-E'!$H$13:$H$1001,PCMSO!J$12)","v":0},{"$f":"COUNTIFS('C-E'!$E$13:$E$1001,PCMSO!$B81,'C-E'!$H$13:$H$1001,PCMSO!K$12)","v":0}]
[6.9999999999999899E-5,null,null,null,null,null,0,6.9999999999999899E-5,{"$f":"COUNTIFS('C-E'!$E$13:$E$1001,PCMSO!B82)","v":0},{"$f":"COUNTIFS('C-E'!$E$13:$E$1001,PCMSO!$B82,'C-E'!$H$13:$H$1001,PCMSO!J$12)","v":0},{"$f":"COUNTIFS('C-E'!$E$13:$E$1001,PCMSO!$B82,'C-E'!$H$13:$H$1001,PCMSO!K$12)","v":0}]
[7.0999999999999896E-5,null,null,null,null,null,0,7.0999999999999896E-5,{"$f":"COUNTIFS('C-E'!$E$13:$E$1001,PCMSO!B83)","v":0},{"$f":"COUNTIFS('C-E'!$E$13:$E$1001,PCMSO!$B83,'C-E'!$H$13:$H$1001,PCMSO!J$12)","v":0},{"$f":"COUNTIFS('C-E'!$E$13:$E$1001,PCMSO!$B83,'C-E'!$H$13:$H$1001,PCMSO!K$12)","v":0}]
[7.1999999999999893E-5,null,null,null,null,null,0,7.1999999999999893E-5,{"$f":"COUNTIFS('C-E'!$E$13:$E$1001,PCMSO!B84)","v":0},{"$f":"COUNTIFS('C-E'!$E$13:$E$1001,PCMSO!$B84,'C-E'!$H$13:$H$1001,PCMSO!J$12)","v":0},{"$f":"COUNTIFS('C-E'!$E$13:$E$1001,PCMSO!$B84,'C-E'!$H$13:$H$1001,PCMSO!K$12)","v":0}]
[7.2999999999999891E-5,null,null,null,null,null,0,7.2999999999999891E-5,{"$f":"COUNTIFS('C-E'!$E$13:$E$1001,PCMSO!B85)","v":0},{"$f":"COUNTIFS('C-E'!$E$13:$E$1001,PCMSO!$B85,'C-E'!$H$13:$H$1001,PCMSO!J$12)","v":0},{"$f":"COUNTIFS('C-E'!$E$13:$E$1001,PCMSO!$B85,'C-E'!$H$13:$H$1001,PCMSO!K$12)","v":0}]
[7.3999999999999888E-5,null,null,null,null,null,0,7.3999999999999888E-5,{"$f":"COUNTIFS('C-E'!$E$13:$E$1001,PCMSO!B86)","v":0},{"$f":"COUNTIFS('C-E'!$E$13:$E$1001,PCMSO!$B86,'C-E'!$H$13:$H$1001,PCMSO!J$12)","v":0},{"$f":"COUNTIFS('C-E'!$E$13:$E$1001,PCMSO!$B86,'C-E'!$H$13:$H$1001,PCMSO!K$12)","v":0}]
[7.4999999999999885E-5,null,null,null,null,null,0,7.4999999999999885E-5,{"$f":"COUNTIFS('C-E'!$E$13:$E$1001,PCMSO!B87)","v":0},{"$f":"COUNTIFS('C-E'!$E$13:$E$1001,PCMSO!$B87,'C-E'!$H$13:$H$1001,PCMSO!J$12)","v":0},{"$f":"COUNTIFS('C-E'!$E$13:$E$1001,PCMSO!$B87,'C-E'!$H$13:$H$1001,PCMSO!K$12)","v":0}]
[7.5999999999999882E-5,null,null,null,null,null,0,7.5999999999999882E-5,{"$f":"COUNTIFS('C-E'!$E$13:$E$1001,PCMSO!B88)","v":0},{"$f":"COUNTIFS('C-E'!$E$13:$E$1001,PCMSO!$B88,'C-E'!$H$13:$H$1001,PCMSO!J$12)","v":0},{"$f":"COUNTIFS('C-E'!$E$13:$E$1001,PCMSO!$B88,'C-E'!$H$13:$H$1001,PCMSO!K$12)","v":0}]
[7.6999999999999879E-5,null,null,null,null,null,0,7.6999999999999879E-5,{"$f":"COUNTIFS('C-E'!$E$13:$E$1001,PCMSO!B89)","v":0},{"$f":"COUNTIFS('C-E'!$E$13:$E$1001,PCMSO!$B89,'C-E'!$H$13:$H$1001,PCMSO!J$12)","v":0},{"$f":"COUNTIFS('C-E'!$E$13:$E$1001,PCMSO!$B89,'C-E'!$H$13:$H$1001,PCMSO!K$12)","v":0}]
[7.7999999999999877E-5,null,null,null,null,null,0,7.7999999999999877E-5,{"$f":"COUNTIFS('C-E'!$E$13:$E$1001,PCMSO!B90)","v":0},{"$f":"COUNTIFS('C-E'!$E$13:$E$1001,PCMSO!$B90,'C-E'!$H$13:$H$1001,PCMSO!J$12)","v":0},{"$f":"COUNTIFS('C-E'!$E$13:$E$1001,PCMSO!$B90,'C-E'!$H$13:$H$1001,PCMSO!K$12)","v":0}]
[7.8999999999999874E-5,null,null,null,null,null,0,7.8999999999999874E-5,{"$f":"COUNTIFS('C-E'!$E$13:$E$1001,PCMSO!B91)","v":0},{"$f":"COUNTIFS('C-E'!$E$13:$E$1001,PCMSO!$B91,'C-E'!$H$13:$H$1001,PCMSO!J$12)","v":0},{"$f":"COUNTIFS('C-E'!$E$13:$E$1001,PCMSO!$B91,'C-E'!$H$13:$H$1001,PCMSO!K$12)","v":0}]
[7.9999999999999871E-5,null,null,null,null,null,0,7.9999999999999871E-5,{"$f":"COUNTIFS('C-E'!$E$13:$E$1001,PCMSO!B92)","v":0},{"$f":"COUNTIFS('C-E'!$E$13:$E$1001,PCMSO!$B92,'C-E'!$H$13:$H$1001,PCMSO!J$12)","v":0},{"$f":"COUNTIFS('C-E'!$E$13:$E$1001,PCMSO!$B92,'C-E'!$H$13:$H$1001,PCMSO!K$12)","v":0}]
[8.0999999999999868E-5,null,null,null,null,null,0,8.0999999999999868E-5,{"$f":"COUNTIFS('C-E'!$E$13:$E$1001,PCMSO!B93)","v":0},{"$f":"COUNTIFS('C-E'!$E$13:$E$1001,PCMSO!$B93,'C-E'!$H$13:$H$1001,PCMSO!J$12)","v":0},{"$f":"COUNTIFS('C-E'!$E$13:$E$1001,PCMSO!$B93,'C-E'!$H$13:$H$1001,PCMSO!K$12)","v":0}]
[8.1999999999999865E-5,null,null,null,null,null,0,8.1999999999999865E-5,{"$f":"COUNTIFS('C-E'!$E$13:$E$1001,PCMSO!B94)","v":0},{"$f":"COUNTIFS('C-E'!$E$13:$E$1001,PCMSO!$B94,'C-E'!$H$13:$H$1001,PCMSO!J$12)","v":0},{"$f":"COUNTIFS('C-E'!$E$13:$E$1001,PCMSO!$B94,'C-E'!$H$13:$H$1001,PCMSO!K$12)","v":0}]
[8.2999999999999863E-5,null,null,null,null,null,0,8.2999999999999863E-5,{"$f":"COUNTIFS('C-E'!$E$13:$E$1001,PCMSO!B95)","v":0},{"$f":"COUNTIFS('C-E'!$E$13:$E$1001,PCMSO!$B95,'C-E'!$H$13:$H$1001,PCMSO!J$12)","v":0},{"$f":"COUNTIFS('C-E'!$E$13:$E$1001,PCMSO!$B95,'C-E'!$H$13:$H$1001,PCMSO!K$12)","v":0}]
[8.399999999999986E-5,null,null,null,null,null,0,8.399999999999986E-5,{"$f":"COUNTIFS('C-E'!$E$13:$E$1001,PCMSO!B96)","v":0},{"$f":"COUNTIFS('C-E'!$E$13:$E$1001,PCMSO!$B96,'C-E'!$H$13:$H$1001,PCMSO!J$12)","v":0},{"$f":"COUNTIFS('C-E'!$E$13:$E$1001,PCMSO!$B96,'C-E'!$H$13:$H$1001,PCMSO!K$12)","v":0}]
[8.4999999999999857E-5,null,null,null,null,null,0,8.4999999999999857E-5,{"$f":"COUNTIFS('C-E'!$E$13:$E$1001,PCMSO!B97)","v":0},{"$f":"COUNTIFS('C-E'!$E$13:$E$1001,PCMSO!$B97,'C-E'!$H$13:$H$1001,PCMSO!J$12)","v":0},{"$f":"COUNTIFS('C-E'!$E$13:$E$1001,PCMSO!$B97,'C-E'!$H$13:$H$1001,PCMSO!K$12)","v":0}]
[8.5999999999999854E-5,null,null,null,null,null,0,8.5999999999999854E-5,{"$f":"COUNTIFS('C-E'!$E$13:$E$1001,PCMSO!B98)","v":0},{"$f":"COUNTIFS('C-E'!$E$13:$E$1001,PCMSO!$B98,'C-E'!$H$13:$H$1001,PCMSO!J$12)","v":0},{"$f":"COUNTIFS('C-E'!$E$13:$E$1001,PCMSO!$B98,'C-E'!$H$13:$H$1001,PCMSO!K$12)","v":0}]
[8.6999999999999851E-5,null,null,null,null,null,0,8.6999999999999851E-5,{"$f":"COUNTIFS('C-E'!$E$13:$E$1001,PCMSO!B99)","v":0},{"$f":"COUNTIFS('C-E'!$E$13:$E$1001,PCMSO!$B99,'C-E'!$H$13:$H$1001,PCMSO!J$12)","v":0},{"$f":"COUNTIFS('C-E'!$E$13:$E$1001,PCMSO!$B99,'C-E'!$H$13:$H$1001,PCMSO!K$12)","v":0}]
[8.7999999999999849E-5,null,null,null,null,null,0,8.7999999999999849E-5,{"$f":"COUNTIFS('C-E'!$E$13:$E$1001,PCMSO!B100)","v":0},{"$f":"COUNTIFS('C-E'!$E$13:$E$1001,PCMSO!$B100,'C-E'!$H$13:$H$1001,PCMSO!J$12)","v":0},{"$f":"COUNTIFS('C-E'!$E$13:$E$1001,PCMSO!$B100,'C-E'!$H$13:$H$1001,PCMSO!K$12)","v":0}]
[8.8999999999999846E-5,null,null,null,null,null,0,8.8999999999999846E-5,{"$f":"COUNTIFS('C-E'!$E$13:$E$1001,PCMSO!B101)","v":0},{"$f":"COUNTIFS('C-E'!$E$13:$E$1001,PCMSO!$B101,'C-E'!$H$13:$H$1001,PCMSO!J$12)","v":0},{"$f":"COUNTIFS('C-E'!$E$13:$E$1001,PCMSO!$B101,'C-E'!$H$13:$H$1001,PCMSO!K$12)","v":0}]
[8.9999999999999843E-5,null,null,null,null,null,0,8.9999999999999843E-5,{"$f":"COUNTIFS('C-E'!$E$13:$E$1001,PCMSO!B102)","v":0},{"$f":"COUNTIFS('C-E'!$E$13:$E$1001,PCMSO!$B102,'C-E'!$H$13:$H$1001,PCMSO!J$12)","v":0},{"$f":"COUNTIFS('C-E'!$E$13:$E$1001,PCMSO!$B102,'C-E'!$H$13:$H$1001,PCMSO!K$12)","v":0}]
[9.099999999999984E-5,null,null,null,null,null,0,9.099999999999984E-5,{"$f":"COUNTIFS('C-E'!$E$13:$E$1001,PCMSO!B103)","v":0},{"$f":"COUNTIFS('C-E'!$E$13:$E$1001,PCMSO!$B103,'C-E'!$H$13:$H$1001,PCMSO!J$12)","v":0},{"$f":"COUNTIFS('C-E'!$E$13:$E$1001,PCMSO!$B103,'C-E'!$H$13:$H$1001,PCMSO!K$12)","v":0}]
[9.1999999999999837E-5,null,null,null,null,null,0,9.1999999999999837E-5,{"$f":"COUNTIFS('C-E'!$E$13:$E$1001,PCMSO!B104)","v":0},{"$f":"COUNTIFS('C-E'!$E$13:$E$1001,PCMSO!$B104,'C-E'!$H$13:$H$1001,PCMSO!J$12)","v":0},{"$f":"COUNTIFS('C-E'!$E$13:$E$1001,PCMSO!$B104,'C-E'!$H$13:$H$1001,PCMSO!K$12)","v":0}]
[9.2999999999999835E-5,null,null,null,null,null,0,9.2999999999999835E-5,{"$f":"COUNTIFS('C-E'!$E$13:$E$1001,PCMSO!B105)","v":0},{"$f":"COUNTIFS('C-E'!$E$13:$E$1001,PCMSO!$B105,'C-E'!$H$13:$H$1001,PCMSO!J$12)","v":0},{"$f":"COUNTIFS('C-E'!$E$13:$E$1001,PCMSO!$B105,'C-E'!$H$13:$H$1001,PCMSO!K$12)","v":0}]
[9.3999999999999832E-5,null,null,null,null,null,0,9.3999999999999832E-5,{"$f":"COUNTIFS('C-E'!$E$13:$E$1001,PCMSO!B106)","v":0},{"$f":"COUNTIFS('C-E'!$E$13:$E$1001,PCMSO!$B106,'C-E'!$H$13:$H$1001,PCMSO!J$12)","v":0},{"$f":"COUNTIFS('C-E'!$E$13:$E$1001,PCMSO!$B106,'C-E'!$H$13:$H$1001,PCMSO!K$12)","v":0}]
[9.4999999999999829E-5,null,null,null,null,null,0,9.4999999999999829E-5,{"$f":"COUNTIFS('C-E'!$E$13:$E$1001,PCMSO!B107)","v":0},{"$f":"COUNTIFS('C-E'!$E$13:$E$1001,PCMSO!$B107,'C-E'!$H$13:$H$1001,PCMSO!J$12)","v":0},{"$f":"COUNTIFS('C-E'!$E$13:$E$1001,PCMSO!$B107,'C-E'!$H$13:$H$1001,PCMSO!K$12)","v":0}]
[9.5999999999999826E-5,null,null,null,null,null,0,9.5999999999999826E-5,{"$f":"COUNTIFS('C-E'!$E$13:$E$1001,PCMSO!B108)","v":0},{"$f":"COUNTIFS('C-E'!$E$13:$E$1001,PCMSO!$B108,'C-E'!$H$13:$H$1001,PCMSO!J$12)","v":0},{"$f":"COUNTIFS('C-E'!$E$13:$E$1001,PCMSO!$B108,'C-E'!$H$13:$H$1001,PCMSO!K$12)","v":0}]
[9.6999999999999823E-5,null,null,null,null,null,0,9.6999999999999823E-5,{"$f":"COUNTIFS('C-E'!$E$13:$E$1001,PCMSO!B109)","v":0},{"$f":"COUNTIFS('C-E'!$E$13:$E$1001,PCMSO!$B109,'C-E'!$H$13:$H$1001,PCMSO!J$12)","v":0},{"$f":"COUNTIFS('C-E'!$E$13:$E$1001,PCMSO!$B109,'C-E'!$H$13:$H$1001,PCMSO!K$12)","v":0}]
[9.7999999999999821E-5,null,null,null,null,null,0,9.7999999999999821E-5,{"$f":"COUNTIFS('C-E'!$E$13:$E$1001,PCMSO!B110)","v":0},{"$f":"COUNTIFS('C-E'!$E$13:$E$1001,PCMSO!$B110,'C-E'!$H$13:$H$1001,PCMSO!J$12)","v":0},{"$f":"COUNTIFS('C-E'!$E$13:$E$1001,PCMSO!$B110,'C-E'!$H$13:$H$1001,PCMSO!K$12)","v":0}]
[9.8999999999999818E-5,null,null,null,null,null,0,9.8999999999999818E-5,{"$f":"COUNTIFS('C-E'!$E$13:$E$1001,PCMSO!B111)","v":0},{"$f":"COUNTIFS('C-E'!$E$13:$E$1001,PCMSO!$B111,'C-E'!$H$13:$H$1001,PCMSO!J$12)","v":0},{"$f":"COUNTIFS('C-E'!$E$13:$E$1001,PCMSO!$B111,'C-E'!$H$13:$H$1001,PCMSO!K$12)","v":0}]
[9.9999999999999815E-5,null,null,null,null,null,0,9.9999999999999815E-5,{"$f":"COUNTIFS('C-E'!$E$13:$E$1001,PCMSO!B112)","v":0},{"$f":"COUNTIFS('C-E'!$E$13:$E$1001,PCMSO!$B112,'C-E'!$H$13:$H$1001,PCMSO!J$12)","v":0},{"$f":"COUNTIFS('C-E'!$E$13:$E$1001,PCMSO!$B112,'C-E'!$H$13:$H$1001,PCMSO!K$12)","v":0}]
[1.0099999999999981E-4,null,null,null,null,null,0,1.0099999999999981E-4,{"$f":"COUNTIFS('C-E'!$E$13:$E$1001,PCMSO!B113)","v":0},{"$f":"COUNTIFS('C-E'!$E$13:$E$1001,PCMSO!$B113,'C-E'!$H$13:$H$1001,PCMSO!J$12)","v":0},{"$f":"COUNTIFS('C-E'!$E$13:$E$1001,PCMSO!$B113,'C-E'!$H$13:$H$1001,PCMSO!K$12)","v":0}]
[1.0199999999999981E-4,null,null,null,null,null,0,1.0199999999999981E-4,{"$f":"COUNTIFS('C-E'!$E$13:$E$1001,PCMSO!B114)","v":0},{"$f":"COUNTIFS('C-E'!$E$13:$E$1001,PCMSO!$B114,'C-E'!$H$13:$H$1001,PCMSO!J$12)","v":0},{"$f":"COUNTIFS('C-E'!$E$13:$E$1001,PCMSO!$B114,'C-E'!$H$13:$H$1001,PCMSO!K$12)","v":0}]
[1.0299999999999981E-4,null,null,null,null,null,0,1.0299999999999981E-4,{"$f":"COUNTIFS('C-E'!$E$13:$E$1001,PCMSO!B115)","v":0},{"$f":"COUNTIFS('C-E'!$E$13:$E$1001,PCMSO!$B115,'C-E'!$H$13:$H$1001,PCMSO!J$12)","v":0},{"$f":"COUNTIFS('C-E'!$E$13:$E$1001,PCMSO!$B115,'C-E'!$H$13:$H$1001,PCMSO!K$12)","v":0}]
[1.039999999999998E-4,null,null,null,null,null,0,1.039999999999998E-4,{"$f":"COUNTIFS('C-E'!$E$13:$E$1001,PCMSO!B116)","v":0},{"$f":"COUNTIFS('C-E'!$E$13:$E$1001,PCMSO!$B116,'C-E'!$H$13:$H$1001,PCMSO!J$12)","v":0},{"$f":"COUNTIFS('C-E'!$E$13:$E$1001,PCMSO!$B116,'C-E'!$H$13:$H$1001,PCMSO!K$12)","v":0}]
[1.049999999999998E-4,null,null,null,null,null,0,1.049999999999998E-4,{"$f":"COUNTIFS('C-E'!$E$13:$E$1001,PCMSO!B117)","v":0},{"$f":"COUNTIFS('C-E'!$E$13:$E$1001,PCMSO!$B117,'C-E'!$H$13:$H$1001,PCMSO!J$12)","v":0},{"$f":"COUNTIFS('C-E'!$E$13:$E$1001,PCMSO!$B117,'C-E'!$H$13:$H$1001,PCMSO!K$12)","v":0}]
[1.059999999999998E-4,null,null,null,null,null,0,1.059999999999998E-4,{"$f":"COUNTIFS('C-E'!$E$13:$E$1001,PCMSO!B118)","v":0},{"$f":"COUNTIFS('C-E'!$E$13:$E$1001,PCMSO!$B118,'C-E'!$H$13:$H$1001,PCMSO!J$12)","v":0},{"$f":"COUNTIFS('C-E'!$E$13:$E$1001,PCMSO!$B118,'C-E'!$H$13:$H$1001,PCMSO!K$12)","v":0}]
[1.069999999999998E-4,null,null,null,null,null,0,1.069999999999998E-4,{"$f":"COUNTIFS('C-E'!$E$13:$E$1001,PCMSO!B119)","v":0},{"$f":"COUNTIFS('C-E'!$E$13:$E$1001,PCMSO!$B119,'C-E'!$H$13:$H$1001,PCMSO!J$12)","v":0},{"$f":"COUNTIFS('C-E'!$E$13:$E$1001,PCMSO!$B119,'C-E'!$H$13:$H$1001,PCMSO!K$12)","v":0}]
[1.0799999999999979E-4,null,null,null,null,null,0,1.0799999999999979E-4,{"$f":"COUNTIFS('C-E'!$E$13:$E$1001,PCMSO!B120)","v":0},{"$f":"COUNTIFS('C-E'!$E$13:$E$1001,PCMSO!$B120,'C-E'!$H$13:$H$1001,PCMSO!J$12)","v":0},{"$f":"COUNTIFS('C-E'!$E$13:$E$1001,PCMSO!$B120,'C-E'!$H$13:$H$1001,PCMSO!K$12)","v":0}]
[1.0899999999999979E-4,null,null,null,null,null,0,1.0899999999999979E-4,{"$f":"COUNTIFS('C-E'!$E$13:$E$1001,PCMSO!B121)","v":0},{"$f":"COUNTIFS('C-E'!$E$13:$E$1001,PCMSO!$B121,'C-E'!$H$13:$H$1001,PCMSO!J$12)","v":0},{"$f":"COUNTIFS('C-E'!$E$13:$E$1001,PCMSO!$B121,'C-E'!$H$13:$H$1001,PCMSO!K$12)","v":0}]
[1.0999999999999979E-4,null,null,null,null,null,0,1.0999999999999979E-4,{"$f":"COUNTIFS('C-E'!$E$13:$E$1001,PCMSO!B122)","v":0},{"$f":"COUNTIFS('C-E'!$E$13:$E$1001,PCMSO!$B122,'C-E'!$H$13:$H$1001,PCMSO!J$12)","v":0},{"$f":"COUNTIFS('C-E'!$E$13:$E$1001,PCMSO!$B122,'C-E'!$H$13:$H$1001,PCMSO!K$12)","v":0}]
[1.1099999999999978E-4,null,null,null,null,null,0,1.1099999999999978E-4,{"$f":"COUNTIFS('C-E'!$E$13:$E$1001,PCMSO!B123)","v":0},{"$f":"COUNTIFS('C-E'!$E$13:$E$1001,PCMSO!$B123,'C-E'!$H$13:$H$1001,PCMSO!J$12)","v":0},{"$f":"COUNTIFS('C-E'!$E$13:$E$1001,PCMSO!$B123,'C-E'!$H$13:$H$1001,PCMSO!K$12)","v":0}]
[1.1199999999999978E-4,null,null,null,null,null,0,1.1199999999999978E-4,{"$f":"COUNTIFS('C-E'!$E$13:$E$1001,PCMSO!B124)","v":0},{"$f":"COUNTIFS('C-E'!$E$13:$E$1001,PCMSO!$B124,'C-E'!$H$13:$H$1001,PCMSO!J$12)","v":0},{"$f":"COUNTIFS('C-E'!$E$13:$E$1001,PCMSO!$B124,'C-E'!$H$13:$H$1001,PCMSO!K$12)","v":0}]
[1.1299999999999978E-4,null,null,null,null,null,0,1.1299999999999978E-4,{"$f":"COUNTIFS('C-E'!$E$13:$E$1001,PCMSO!B125)","v":0},{"$f":"COUNTIFS('C-E'!$E$13:$E$1001,PCMSO!$B125,'C-E'!$H$13:$H$1001,PCMSO!J$12)","v":0},{"$f":"COUNTIFS('C-E'!$E$13:$E$1001,PCMSO!$B125,'C-E'!$H$13:$H$1001,PCMSO!K$12)","v":0}]
[1.1399999999999978E-4,null,null,null,null,null,0,1.1399999999999978E-4,{"$f":"COUNTIFS('C-E'!$E$13:$E$1001,PCMSO!B126)","v":0},{"$f":"COUNTIFS('C-E'!$E$13:$E$1001,PCMSO!$B126,'C-E'!$H$13:$H$1001,PCMSO!J$12)","v":0},{"$f":"COUNTIFS('C-E'!$E$13:$E$1001,PCMSO!$B126,'C-E'!$H$13:$H$1001,PCMSO!K$12)","v":0}]
[1.1499999999999977E-4,null,null,null,null,null,0,1.1499999999999977E-4,{"$f":"COUNTIFS('C-E'!$E$13:$E$1001,PCMSO!B127)","v":0},{"$f":"COUNTIFS('C-E'!$E$13:$E$1001,PCMSO!$B127,'C-E'!$H$13:$H$1001,PCMSO!J$12)","v":0},{"$f":"COUNTIFS('C-E'!$E$13:$E$1001,PCMSO!$B127,'C-E'!$H$13:$H$1001,PCMSO!K$12)","v":0}]
[1.1599999999999977E-4,null,null,null,null,null,0,1.1599999999999977E-4,{"$f":"COUNTIFS('C-E'!$E$13:$E$1001,PCMSO!B128)","v":0},{"$f":"COUNTIFS('C-E'!$E$13:$E$1001,PCMSO!$B128,'C-E'!$H$13:$H$1001,PCMSO!J$12)","v":0},{"$f":"COUNTIFS('C-E'!$E$13:$E$1001,PCMSO!$B128,'C-E'!$H$13:$H$1001,PCMSO!K$12)","v":0}]
[1.1699999999999977E-4,null,null,null,null,null,0,1.1699999999999977E-4,{"$f":"COUNTIFS('C-E'!$E$13:$E$1001,PCMSO!B129)","v":0},{"$f":"COUNTIFS('C-E'!$E$13:$E$1001,PCMSO!$B129,'C-E'!$H$13:$H$1001,PCMSO!J$12)","v":0},{"$f":"COUNTIFS('C-E'!$E$13:$E$1001,PCMSO!$B129,'C-E'!$H$13:$H$1001,PCMSO!K$12)","v":0}]
[1.1799999999999976E-4,null,null,null,null,null,0,1.1799999999999976E-4,{"$f":"COUNTIFS('C-E'!$E$13:$E$1001,PCMSO!B130)","v":0},{"$f":"COUNTIFS('C-E'!$E$13:$E$1001,PCMSO!$B130,'C-E'!$H$13:$H$1001,PCMSO!J$12)","v":0},{"$f":"COUNTIFS('C-E'!$E$13:$E$1001,PCMSO!$B130,'C-E'!$H$13:$H$1001,PCMSO!K$12)","v":0}]
[1.1899999999999976E-4,null,null,null,null,null,0,1.1899999999999976E-4,{"$f":"COUNTIFS('C-E'!$E$13:$E$1001,PCMSO!B131)","v":0},{"$f":"COUNTIFS('C-E'!$E$13:$E$1001,PCMSO!$B131,'C-E'!$H$13:$H$1001,PCMSO!J$12)","v":0},{"$f":"COUNTIFS('C-E'!$E$13:$E$1001,PCMSO!$B131,'C-E'!$H$13:$H$1001,PCMSO!K$12)","v":0}]
[1.1999999999999976E-4,null,null,null,null,null,0,1.1999999999999976E-4,{"$f":"COUNTIFS('C-E'!$E$13:$E$1001,PCMSO!B132)","v":0},{"$f":"COUNTIFS('C-E'!$E$13:$E$1001,PCMSO!$B132,'C-E'!$H$13:$H$1001,PCMSO!J$12)","v":0},{"$f":"COUNTIFS('C-E'!$E$13:$E$1001,PCMSO!$B132,'C-E'!$H$13:$H$1001,PCMSO!K$12)","v":0}]
[1.2099999999999976E-4,null,null,null,null,null,0,1.2099999999999976E-4,{"$f":"COUNTIFS('C-E'!$E$13:$E$1001,PCMSO!B133)","v":0},{"$f":"COUNTIFS('C-E'!$E$13:$E$1001,PCMSO!$B133,'C-E'!$H$13:$H$1001,PCMSO!J$12)","v":0},{"$f":"COUNTIFS('C-E'!$E$13:$E$1001,PCMSO!$B133,'C-E'!$H$13:$H$1001,PCMSO!K$12)","v":0}]
[1.2199999999999975E-4,null,null,null,null,null,0,1.2199999999999975E-4,{"$f":"COUNTIFS('C-E'!$E$13:$E$1001,PCMSO!B134)","v":0},{"$f":"COUNTIFS('C-E'!$E$13:$E$1001,PCMSO!$B134,'C-E'!$H$13:$H$1001,PCMSO!J$12)","v":0},{"$f":"COUNTIFS('C-E'!$E$13:$E$1001,PCMSO!$B134,'C-E'!$H$13:$H$1001,PCMSO!K$12)","v":0}]
[1.2299999999999976E-4,null,null,null,null,null,0,1.2299999999999976E-4,{"$f":"COUNTIFS('C-E'!$E$13:$E$1001,PCMSO!B135)","v":0},{"$f":"COUNTIFS('C-E'!$E$13:$E$1001,PCMSO!$B135,'C-E'!$H$13:$H$1001,PCMSO!J$12)","v":0},{"$f":"COUNTIFS('C-E'!$E$13:$E$1001,PCMSO!$B135,'C-E'!$H$13:$H$1001,PCMSO!K$12)","v":0}]
[1.2399999999999976E-4,null,null,null,null,null,0,1.2399999999999976E-4,{"$f":"COUNTIFS('C-E'!$E$13:$E$1001,PCMSO!B136)","v":0},{"$f":"COUNTIFS('C-E'!$E$13:$E$1001,PCMSO!$B136,'C-E'!$H$13:$H$1001,PCMSO!J$12)","v":0},{"$f":"COUNTIFS('C-E'!$E$13:$E$1001,PCMSO!$B136,'C-E'!$H$13:$H$1001,PCMSO!K$12)","v":0}]
[1.2499999999999976E-4,null,null,null,null,null,0,1.2499999999999976E-4,{"$f":"COUNTIFS('C-E'!$E$13:$E$1001,PCMSO!B137)","v":0},{"$f":"COUNTIFS('C-E'!$E$13:$E$1001,PCMSO!$B137,'C-E'!$H$13:$H$1001,PCMSO!J$12)","v":0},{"$f":"COUNTIFS('C-E'!$E$13:$E$1001,PCMSO!$B137,'C-E'!$H$13:$H$1001,PCMSO!K$12)","v":0}]
[1.2599999999999976E-4,null,null,null,null,null,0,1.2599999999999976E-4,{"$f":"COUNTIFS('C-E'!$E$13:$E$1001,PCMSO!B138)","v":0},{"$f":"COUNTIFS('C-E'!$E$13:$E$1001,PCMSO!$B138,'C-E'!$H$13:$H$1001,PCMSO!J$12)","v":0},{"$f":"COUNTIFS('C-E'!$E$13:$E$1001,PCMSO!$B138,'C-E'!$H$13:$H$1001,PCMSO!K$12)","v":0}]
[1.2699999999999975E-4,null,null,null,null,null,0,1.2699999999999975E-4,{"$f":"COUNTIFS('C-E'!$E$13:$E$1001,PCMSO!B139)","v":0},{"$f":"COUNTIFS('C-E'!$E$13:$E$1001,PCMSO!$B139,'C-E'!$H$13:$H$1001,PCMSO!J$12)","v":0},{"$f":"COUNTIFS('C-E'!$E$13:$E$1001,PCMSO!$B139,'C-E'!$H$13:$H$1001,PCMSO!K$12)","v":0}]
[1.2799999999999975E-4,null,null,null,null,null,0,1.2799999999999975E-4,{"$f":"COUNTIFS('C-E'!$E$13:$E$1001,PCMSO!B140)","v":0},{"$f":"COUNTIFS('C-E'!$E$13:$E$1001,PCMSO!$B140,'C-E'!$H$13:$H$1001,PCMSO!J$12)","v":0},{"$f":"COUNTIFS('C-E'!$E$13:$E$1001,PCMSO!$B140,'C-E'!$H$13:$H$1001,PCMSO!K$12)","v":0}]
[{"$f":"SUM(H141:I141)","v":1.2899999999999975E-4},null,null,null,null,null,0,1.2899999999999975E-4,{"$f":"COUNTIFS('C-E'!$E$13:$E$1001,PCMSO!B141)","v":0},{"$f":"COUNTIFS('C-E'!$E$13:$E$1001,PCMSO!$B141,'C-E'!$H$13:$H$1001,PCMSO!J$12)","v":0},{"$f":"COUNTIFS('C-E'!$E$13:$E$1001,PCMSO!$B141,'C-E'!$H$13:$H$1001,PCMSO!K$12)","v":0}]
[1.2999999999999974E-4,null,null,null,null,null,{"$f":"B142","v":0},1.2999999999999974E-4,{"$f":"COUNTIFS('C-E'!$E$13:$E$1001,PCMSO!B142)","v":0},{"$f":"COUNTIFS('C-E'!$E$13:$E$1001,PCMSO!$B142,'C-E'!$H$13:$H$1001,PCMSO!J$12)","v":0},{"$f":"COUNTIFS('C-E'!$E$13:$E$1001,PCMSO!$B142,'C-E'!$H$13:$H$1001,PCMSO!K$12)","v":0}]
[1.3099999999999974E-4,null,null,null,null,null,0,{"$f":"H142+$H$13","v":1.3099999999999974E-4},{"$f":"COUNTIFS('C-E'!$E$13:$E$1001,PCMSO!B143)","v":0},{"$f":"COUNTIFS('C-E'!$E$13:$E$1001,PCMSO!$B143,'C-E'!$H$13:$H$1001,PCMSO!J$12)","v":0},{"$f":"COUNTIFS('C-E'!$E$13:$E$1001,PCMSO!$B143,'C-E'!$H$13:$H$1001,PCMSO!K$12)","v":0}]
[1.3199999999999974E-4,null,null,null,null,null,0,1.3199999999999974E-4,{"$f":"COUNTIFS('C-E'!$E$13:$E$1001,PCMSO!B144)","v":0},{"$f":"COUNTIFS('C-E'!$E$13:$E$1001,PCMSO!$B144,'C-E'!$H$13:$H$1001,PCMSO!J$12)","v":0},{"$f":"COUNTIFS('C-E'!$E$13:$E$1001,PCMSO!$B144,'C-E'!$H$13:$H$1001,PCMSO!K$12)","v":0}]
[1.3299999999999974E-4,null,null,null,null,null,0,1.3299999999999974E-4,{"$f":"COUNTIFS('C-E'!$E$13:$E$1001,PCMSO!B145)","v":0},{"$f":"COUNTIFS('C-E'!$E$13:$E$1001,PCMSO!$B145,'C-E'!$H$13:$H$1001,PCMSO!J$12)","v":0},{"$f":"COUNTIFS('C-E'!$E$13:$E$1001,PCMSO!$B145,'C-E'!$H$13:$H$1001,PCMSO!K$12)","v":0}]
[1.3399999999999973E-4,null,null,null,null,null,0,1.3399999999999973E-4,{"$f":"COUNTIFS('C-E'!$E$13:$E$1001,PCMSO!B146)","v":0},{"$f":"COUNTIFS('C-E'!$E$13:$E$1001,PCMSO!$B146,'C-E'!$H$13:$H$1001,PCMSO!J$12)","v":0},{"$f":"COUNTIFS('C-E'!$E$13:$E$1001,PCMSO!$B146,'C-E'!$H$13:$H$1001,PCMSO!K$12)","v":0}]
[1.3499999999999973E-4,null,null,null,null,null,0,1.3499999999999973E-4,{"$f":"COUNTIFS('C-E'!$E$13:$E$1001,PCMSO!B147)","v":0},{"$f":"COUNTIFS('C-E'!$E$13:$E$1001,PCMSO!$B147,'C-E'!$H$13:$H$1001,PCMSO!J$12)","v":0},{"$f":"COUNTIFS('C-E'!$E$13:$E$1001,PCMSO!$B147,'C-E'!$H$13:$H$1001,PCMSO!K$12)","v":0}]
[1.3599999999999973E-4,null,null,null,null,null,0,1.3599999999999973E-4,{"$f":"COUNTIFS('C-E'!$E$13:$E$1001,PCMSO!B148)","v":0},{"$f":"COUNTIFS('C-E'!$E$13:$E$1001,PCMSO!$B148,'C-E'!$H$13:$H$1001,PCMSO!J$12)","v":0},{"$f":"COUNTIFS('C-E'!$E$13:$E$1001,PCMSO!$B148,'C-E'!$H$13:$H$1001,PCMSO!K$12)","v":0}]
[1.3699999999999973E-4,null,null,null,null,null,0,1.3699999999999973E-4,{"$f":"COUNTIFS('C-E'!$E$13:$E$1001,PCMSO!B149)","v":0},{"$f":"COUNTIFS('C-E'!$E$13:$E$1001,PCMSO!$B149,'C-E'!$H$13:$H$1001,PCMSO!J$12)","v":0},{"$f":"COUNTIFS('C-E'!$E$13:$E$1001,PCMSO!$B149,'C-E'!$H$13:$H$1001,PCMSO!K$12)","v":0}]
[1.3799999999999972E-4,null,null,null,null,null,0,1.3799999999999972E-4,{"$f":"COUNTIFS('C-E'!$E$13:$E$1001,PCMSO!B150)","v":0},{"$f":"COUNTIFS('C-E'!$E$13:$E$1001,PCMSO!$B150,'C-E'!$H$13:$H$1001,PCMSO!J$12)","v":0},{"$f":"COUNTIFS('C-E'!$E$13:$E$1001,PCMSO!$B150,'C-E'!$H$13:$H$1001,PCMSO!K$12)","v":0}]
[1.3899999999999972E-4,null,null,null,null,null,0,1.3899999999999972E-4,{"$f":"COUNTIFS('C-E'!$E$13:$E$1001,PCMSO!B151)","v":0},{"$f":"COUNTIFS('C-E'!$E$13:$E$1001,PCMSO!$B151,'C-E'!$H$13:$H$1001,PCMSO!J$12)","v":0},{"$f":"COUNTIFS('C-E'!$E$13:$E$1001,PCMSO!$B151,'C-E'!$H$13:$H$1001,PCMSO!K$12)","v":0}]
[1.3999999999999972E-4,null,null,null,null,null,0,1.3999999999999972E-4,{"$f":"COUNTIFS('C-E'!$E$13:$E$1001,PCMSO!B152)","v":0},{"$f":"COUNTIFS('C-E'!$E$13:$E$1001,PCMSO!$B152,'C-E'!$H$13:$H$1001,PCMSO!J$12)","v":0},{"$f":"COUNTIFS('C-E'!$E$13:$E$1001,PCMSO!$B152,'C-E'!$H$13:$H$1001,PCMSO!K$12)","v":0}]
[1.4099999999999971E-4,null,null,null,null,null,0,1.4099999999999971E-4,{"$f":"COUNTIFS('C-E'!$E$13:$E$1001,PCMSO!B153)","v":0},{"$f":"COUNTIFS('C-E'!$E$13:$E$1001,PCMSO!$B153,'C-E'!$H$13:$H$1001,PCMSO!J$12)","v":0},{"$f":"COUNTIFS('C-E'!$E$13:$E$1001,PCMSO!$B153,'C-E'!$H$13:$H$1001,PCMSO!K$12)","v":0}]
[1.4199999999999971E-4,null,null,null,null,null,0,1.4199999999999971E-4,{"$f":"COUNTIFS('C-E'!$E$13:$E$1001,PCMSO!B154)","v":0},{"$f":"COUNTIFS('C-E'!$E$13:$E$1001,PCMSO!$B154,'C-E'!$H$13:$H$1001,PCMSO!J$12)","v":0},{"$f":"COUNTIFS('C-E'!$E$13:$E$1001,PCMSO!$B154,'C-E'!$H$13:$H$1001,PCMSO!K$12)","v":0}]
[1.4299999999999971E-4,null,null,null,null,null,0,1.4299999999999971E-4,{"$f":"COUNTIFS('C-E'!$E$13:$E$1001,PCMSO!B155)","v":0},{"$f":"COUNTIFS('C-E'!$E$13:$E$1001,PCMSO!$B155,'C-E'!$H$13:$H$1001,PCMSO!J$12)","v":0},{"$f":"COUNTIFS('C-E'!$E$13:$E$1001,PCMSO!$B155,'C-E'!$H$13:$H$1001,PCMSO!K$12)","v":0}]
[1.4399999999999971E-4,null,null,null,null,null,0,1.4399999999999971E-4,{"$f":"COUNTIFS('C-E'!$E$13:$E$1001,PCMSO!B156)","v":0},{"$f":"COUNTIFS('C-E'!$E$13:$E$1001,PCMSO!$B156,'C-E'!$H$13:$H$1001,PCMSO!J$12)","v":0},{"$f":"COUNTIFS('C-E'!$E$13:$E$1001,PCMSO!$B156,'C-E'!$H$13:$H$1001,PCMSO!K$12)","v":0}]
[1.449999999999997E-4,null,null,null,null,null,0,1.449999999999997E-4,{"$f":"COUNTIFS('C-E'!$E$13:$E$1001,PCMSO!B157)","v":0},{"$f":"COUNTIFS('C-E'!$E$13:$E$1001,PCMSO!$B157,'C-E'!$H$13:$H$1001,PCMSO!J$12)","v":0},{"$f":"COUNTIFS('C-E'!$E$13:$E$1001,PCMSO!$B157,'C-E'!$H$13:$H$1001,PCMSO!K$12)","v":0}]
[1.459999999999997E-4,null,null,null,null,null,0,1.459999999999997E-4,{"$f":"COUNTIFS('C-E'!$E$13:$E$1001,PCMSO!B158)","v":0},{"$f":"COUNTIFS('C-E'!$E$13:$E$1001,PCMSO!$B158,'C-E'!$H$13:$H$1001,PCMSO!J$12)","v":0},{"$f":"COUNTIFS('C-E'!$E$13:$E$1001,PCMSO!$B158,'C-E'!$H$13:$H$1001,PCMSO!K$12)","v":0}]
[1.469999999999997E-4,null,null,null,null,null,0,1.469999999999997E-4,{"$f":"COUNTIFS('C-E'!$E$13:$E$1001,PCMSO!B159)","v":0},{"$f":"COUNTIFS('C-E'!$E$13:$E$1001,PCMSO!$B159,'C-E'!$H$13:$H$1001,PCMSO!J$12)","v":0},{"$f":"COUNTIFS('C-E'!$E$13:$E$1001,PCMSO!$B159,'C-E'!$H$13:$H$1001,PCMSO!K$12)","v":0}]
[1.4799999999999969E-4,null,null,null,null,null,0,1.4799999999999969E-4,{"$f":"COUNTIFS('C-E'!$E$13:$E$1001,PCMSO!B160)","v":0},{"$f":"COUNTIFS('C-E'!$E$13:$E$1001,PCMSO!$B160,'C-E'!$H$13:$H$1001,PCMSO!J$12)","v":0},{"$f":"COUNTIFS('C-E'!$E$13:$E$1001,PCMSO!$B160,'C-E'!$H$13:$H$1001,PCMSO!K$12)","v":0}]
[1.4899999999999969E-4,null,null,null,null,null,0,1.4899999999999969E-4,{"$f":"COUNTIFS('C-E'!$E$13:$E$1001,PCMSO!B161)","v":0},{"$f":"COUNTIFS('C-E'!$E$13:$E$1001,PCMSO!$B161,'C-E'!$H$13:$H$1001,PCMSO!J$12)","v":0},{"$f":"COUNTIFS('C-E'!$E$13:$E$1001,PCMSO!$B161,'C-E'!$H$13:$H$1001,PCMSO!K$12)","v":0}]
[1.4999999999999969E-4,null,null,null,null,null,0,1.4999999999999969E-4,{"$f":"COUNTIFS('C-E'!$E$13:$E$1001,PCMSO!B162)","v":0},{"$f":"COUNTIFS('C-E'!$E$13:$E$1001,PCMSO!$B162,'C-E'!$H$13:$H$1001,PCMSO!J$12)","v":0},{"$f":"COUNTIFS('C-E'!$E$13:$E$1001,PCMSO!$B162,'C-E'!$H$13:$H$1001,PCMSO!K$12)","v":0}]
[1.5099999999999969E-4,null,null,null,null,null,0,1.5099999999999969E-4,{"$f":"COUNTIFS('C-E'!$E$13:$E$1001,PCMSO!B163)","v":0},{"$f":"COUNTIFS('C-E'!$E$13:$E$1001,PCMSO!$B163,'C-E'!$H$13:$H$1001,PCMSO!J$12)","v":0},{"$f":"COUNTIFS('C-E'!$E$13:$E$1001,PCMSO!$B163,'C-E'!$H$13:$H$1001,PCMSO!K$12)","v":0}]
[1.5199999999999968E-4,null,null,null,null,null,0,1.5199999999999968E-4,{"$f":"COUNTIFS('C-E'!$E$13:$E$1001,PCMSO!B164)","v":0},{"$f":"COUNTIFS('C-E'!$E$13:$E$1001,PCMSO!$B164,'C-E'!$H$13:$H$1001,PCMSO!J$12)","v":0},{"$f":"COUNTIFS('C-E'!$E$13:$E$1001,PCMSO!$B164,'C-E'!$H$13:$H$1001,PCMSO!K$12)","v":0}]
[1.5299999999999968E-4,null,null,null,null,null,0,1.5299999999999968E-4,{"$f":"COUNTIFS('C-E'!$E$13:$E$1001,PCMSO!B165)","v":0},{"$f":"COUNTIFS('C-E'!$E$13:$E$1001,PCMSO!$B165,'C-E'!$H$13:$H$1001,PCMSO!J$12)","v":0},{"$f":"COUNTIFS('C-E'!$E$13:$E$1001,PCMSO!$B165,'C-E'!$H$13:$H$1001,PCMSO!K$12)","v":0}]
[1.5399999999999968E-4,null,null,null,null,null,0,1.5399999999999968E-4,{"$f":"COUNTIFS('C-E'!$E$13:$E$1001,PCMSO!B166)","v":0},{"$f":"COUNTIFS('C-E'!$E$13:$E$1001,PCMSO!$B166,'C-E'!$H$13:$H$1001,PCMSO!J$12)","v":0},{"$f":"COUNTIFS('C-E'!$E$13:$E$1001,PCMSO!$B166,'C-E'!$H$13:$H$1001,PCMSO!K$12)","v":0}]
[1.5499999999999967E-4,null,null,null,null,null,0,1.5499999999999967E-4,{"$f":"COUNTIFS('C-E'!$E$13:$E$1001,PCMSO!B167)","v":0},{"$f":"COUNTIFS('C-E'!$E$13:$E$1001,PCMSO!$B167,'C-E'!$H$13:$H$1001,PCMSO!J$12)","v":0},{"$f":"COUNTIFS('C-E'!$E$13:$E$1001,PCMSO!$B167,'C-E'!$H$13:$H$1001,PCMSO!K$12)","v":0}]
[1.5599999999999967E-4,null,null,null,null,null,0,1.5599999999999967E-4,{"$f":"COUNTIFS('C-E'!$E$13:$E$1001,PCMSO!B168)","v":0},{"$f":"COUNTIFS('C-E'!$E$13:$E$1001,PCMSO!$B168,'C-E'!$H$13:$H$1001,PCMSO!J$12)","v":0},{"$f":"COUNTIFS('C-E'!$E$13:$E$1001,PCMSO!$B168,'C-E'!$H$13:$H$1001,PCMSO!K$12)","v":0}]
[1.5699999999999967E-4,null,null,null,null,null,0,1.5699999999999967E-4,{"$f":"COUNTIFS('C-E'!$E$13:$E$1001,PCMSO!B169)","v":0},{"$f":"COUNTIFS('C-E'!$E$13:$E$1001,PCMSO!$B169,'C-E'!$H$13:$H$1001,PCMSO!J$12)","v":0},{"$f":"COUNTIFS('C-E'!$E$13:$E$1001,PCMSO!$B169,'C-E'!$H$13:$H$1001,PCMSO!K$12)","v":0}]
[1.5799999999999967E-4,null,null,null,null,null,0,1.5799999999999967E-4,{"$f":"COUNTIFS('C-E'!$E$13:$E$1001,PCMSO!B170)","v":0},{"$f":"COUNTIFS('C-E'!$E$13:$E$1001,PCMSO!$B170,'C-E'!$H$13:$H$1001,PCMSO!J$12)","v":0},{"$f":"COUNTIFS('C-E'!$E$13:$E$1001,PCMSO!$B170,'C-E'!$H$13:$H$1001,PCMSO!K$12)","v":0}]
[1.5899999999999966E-4,null,null,null,null,null,0,1.5899999999999966E-4,{"$f":"COUNTIFS('C-E'!$E$13:$E$1001,PCMSO!B171)","v":0},{"$f":"COUNTIFS('C-E'!$E$13:$E$1001,PCMSO!$B171,'C-E'!$H$13:$H$1001,PCMSO!J$12)","v":0},{"$f":"COUNTIFS('C-E'!$E$13:$E$1001,PCMSO!$B171,'C-E'!$H$13:$H$1001,PCMSO!K$12)","v":0}]
[1.5999999999999966E-4,null,null,null,null,null,0,1.5999999999999966E-4,{"$f":"COUNTIFS('C-E'!$E$13:$E$1001,PCMSO!B172)","v":0},{"$f":"COUNTIFS('C-E'!$E$13:$E$1001,PCMSO!$B172,'C-E'!$H$13:$H$1001,PCMSO!J$12)","v":0},{"$f":"COUNTIFS('C-E'!$E$13:$E$1001,PCMSO!$B172,'C-E'!$H$13:$H$1001,PCMSO!K$12)","v":0}]
[1.6099999999999966E-4,null,null,null,null,null,0,1.6099999999999966E-4,{"$f":"COUNTIFS('C-E'!$E$13:$E$1001,PCMSO!B173)","v":0},{"$f":"COUNTIFS('C-E'!$E$13:$E$1001,PCMSO!$B173,'C-E'!$H$13:$H$1001,PCMSO!J$12)","v":0},{"$f":"COUNTIFS('C-E'!$E$13:$E$1001,PCMSO!$B173,'C-E'!$H$13:$H$1001,PCMSO!K$12)","v":0}]
[1.6199999999999966E-4,null,null,null,null,null,0,1.6199999999999966E-4,{"$f":"COUNTIFS('C-E'!$E$13:$E$1001,PCMSO!B174)","v":0},{"$f":"COUNTIFS('C-E'!$E$13:$E$1001,PCMSO!$B174,'C-E'!$H$13:$H$1001,PCMSO!J$12)","v":0},{"$f":"COUNTIFS('C-E'!$E$13:$E$1001,PCMSO!$B174,'C-E'!$H$13:$H$1001,PCMSO!K$12)","v":0}]
[1.6299999999999965E-4,null,null,null,null,null,0,1.6299999999999965E-4,{"$f":"COUNTIFS('C-E'!$E$13:$E$1001,PCMSO!B175)","v":0},{"$f":"COUNTIFS('C-E'!$E$13:$E$1001,PCMSO!$B175,'C-E'!$H$13:$H$1001,PCMSO!J$12)","v":0},{"$f":"COUNTIFS('C-E'!$E$13:$E$1001,PCMSO!$B175,'C-E'!$H$13:$H$1001,PCMSO!K$12)","v":0}]
[1.6399999999999965E-4,null,null,null,null,null,0,1.6399999999999965E-4,{"$f":"COUNTIFS('C-E'!$E$13:$E$1001,PCMSO!B176)","v":0},{"$f":"COUNTIFS('C-E'!$E$13:$E$1001,PCMSO!$B176,'C-E'!$H$13:$H$1001,PCMSO!J$12)","v":0},{"$f":"COUNTIFS('C-E'!$E$13:$E$1001,PCMSO!$B176,'C-E'!$H$13:$H$1001,PCMSO!K$12)","v":0}]
[1.6499999999999965E-4,null,null,null,null,null,0,1.6499999999999965E-4,{"$f":"COUNTIFS('C-E'!$E$13:$E$1001,PCMSO!B177)","v":0},{"$f":"COUNTIFS('C-E'!$E$13:$E$1001,PCMSO!$B177,'C-E'!$H$13:$H$1001,PCMSO!J$12)","v":0},{"$f":"COUNTIFS('C-E'!$E$13:$E$1001,PCMSO!$B177,'C-E'!$H$13:$H$1001,PCMSO!K$12)","v":0}]
[1.6599999999999964E-4,null,null,null,null,null,0,1.6599999999999964E-4,{"$f":"COUNTIFS('C-E'!$E$13:$E$1001,PCMSO!B178)","v":0},{"$f":"COUNTIFS('C-E'!$E$13:$E$1001,PCMSO!$B178,'C-E'!$H$13:$H$1001,PCMSO!J$12)","v":0},{"$f":"COUNTIFS('C-E'!$E$13:$E$1001,PCMSO!$B178,'C-E'!$H$13:$H$1001,PCMSO!K$12)","v":0}]
[1.6699999999999964E-4,null,null,null,null,null,0,1.6699999999999964E-4,{"$f":"COUNTIFS('C-E'!$E$13:$E$1001,PCMSO!B179)","v":0},{"$f":"COUNTIFS('C-E'!$E$13:$E$1001,PCMSO!$B179,'C-E'!$H$13:$H$1001,PCMSO!J$12)","v":0},{"$f":"COUNTIFS('C-E'!$E$13:$E$1001,PCMSO!$B179,'C-E'!$H$13:$H$1001,PCMSO!K$12)","v":0}]
[1.6799999999999964E-4,null,null,null,null,null,0,1.6799999999999964E-4,{"$f":"COUNTIFS('C-E'!$E$13:$E$1001,PCMSO!B180)","v":0},{"$f":"COUNTIFS('C-E'!$E$13:$E$1001,PCMSO!$B180,'C-E'!$H$13:$H$1001,PCMSO!J$12)","v":0},{"$f":"COUNTIFS('C-E'!$E$13:$E$1001,PCMSO!$B180,'C-E'!$H$13:$H$1001,PCMSO!K$12)","v":0}]
[1.6899999999999964E-4,null,null,null,null,null,0,1.6899999999999964E-4,{"$f":"COUNTIFS('C-E'!$E$13:$E$1001,PCMSO!B181)","v":0},{"$f":"COUNTIFS('C-E'!$E$13:$E$1001,PCMSO!$B181,'C-E'!$H$13:$H$1001,PCMSO!J$12)","v":0},{"$f":"COUNTIFS('C-E'!$E$13:$E$1001,PCMSO!$B181,'C-E'!$H$13:$H$1001,PCMSO!K$12)","v":0}]
[1.6999999999999963E-4,null,null,null,null,null,0,1.6999999999999963E-4,{"$f":"COUNTIFS('C-E'!$E$13:$E$1001,PCMSO!B182)","v":0},{"$f":"COUNTIFS('C-E'!$E$13:$E$1001,PCMSO!$B182,'C-E'!$H$13:$H$1001,PCMSO!J$12)","v":0},{"$f":"COUNTIFS('C-E'!$E$13:$E$1001,PCMSO!$B182,'C-E'!$H$13:$H$1001,PCMSO!K$12)","v":0}]
[1.7099999999999963E-4,null,null,null,null,null,0,1.7099999999999963E-4,{"$f":"COUNTIFS('C-E'!$E$13:$E$1001,PCMSO!B183)","v":0},{"$f":"COUNTIFS('C-E'!$E$13:$E$1001,PCMSO!$B183,'C-E'!$H$13:$H$1001,PCMSO!J$12)","v":0},{"$f":"COUNTIFS('C-E'!$E$13:$E$1001,PCMSO!$B183,'C-E'!$H$13:$H$1001,PCMSO!K$12)","v":0}]
[1.7199999999999963E-4,null,null,null,null,null,0,1.7199999999999963E-4,{"$f":"COUNTIFS('C-E'!$E$13:$E$1001,PCMSO!B184)","v":0},{"$f":"COUNTIFS('C-E'!$E$13:$E$1001,PCMSO!$B184,'C-E'!$H$13:$H$1001,PCMSO!J$12)","v":0},{"$f":"COUNTIFS('C-E'!$E$13:$E$1001,PCMSO!$B184,'C-E'!$H$13:$H$1001,PCMSO!K$12)","v":0}]
[1.7299999999999962E-4,null,null,null,null,null,0,1.7299999999999962E-4,{"$f":"COUNTIFS('C-E'!$E$13:$E$1001,PCMSO!B185)","v":0},{"$f":"COUNTIFS('C-E'!$E$13:$E$1001,PCMSO!$B185,'C-E'!$H$13:$H$1001,PCMSO!J$12)","v":0},{"$f":"COUNTIFS('C-E'!$E$13:$E$1001,PCMSO!$B185,'C-E'!$H$13:$H$1001,PCMSO!K$12)","v":0}]
[1.7399999999999962E-4,null,null,null,null,null,0,1.7399999999999962E-4,{"$f":"COUNTIFS('C-E'!$E$13:$E$1001,PCMSO!B186)","v":0},{"$f":"COUNTIFS('C-E'!$E$13:$E$1001,PCMSO!$B186,'C-E'!$H$13:$H$1001,PCMSO!J$12)","v":0},{"$f":"COUNTIFS('C-E'!$E$13:$E$1001,PCMSO!$B186,'C-E'!$H$13:$H$1001,PCMSO!K$12)","v":0}]
[1.7499999999999962E-4,null,null,null,null,null,0,1.7499999999999962E-4,{"$f":"COUNTIFS('C-E'!$E$13:$E$1001,PCMSO!B187)","v":0},{"$f":"COUNTIFS('C-E'!$E$13:$E$1001,PCMSO!$B187,'C-E'!$H$13:$H$1001,PCMSO!J$12)","v":0},{"$f":"COUNTIFS('C-E'!$E$13:$E$1001,PCMSO!$B187,'C-E'!$H$13:$H$1001,PCMSO!K$12)","v":0}]
[1.7599999999999962E-4,null,null,null,null,null,0,1.7599999999999962E-4,{"$f":"COUNTIFS('C-E'!$E$13:$E$1001,PCMSO!B188)","v":0},{"$f":"COUNTIFS('C-E'!$E$13:$E$1001,PCMSO!$B188,'C-E'!$H$13:$H$1001,PCMSO!J$12)","v":0},{"$f":"COUNTIFS('C-E'!$E$13:$E$1001,PCMSO!$B188,'C-E'!$H$13:$H$1001,PCMSO!K$12)","v":0}]
[1.7699999999999961E-4,null,null,null,null,null,0,1.7699999999999961E-4,{"$f":"COUNTIFS('C-E'!$E$13:$E$1001,PCMSO!B189)","v":0},{"$f":"COUNTIFS('C-E'!$E$13:$E$1001,PCMSO!$B189,'C-E'!$H$13:$H$1001,PCMSO!J$12)","v":0},{"$f":"COUNTIFS('C-E'!$E$13:$E$1001,PCMSO!$B189,'C-E'!$H$13:$H$1001,PCMSO!K$12)","v":0}]
[1.7799999999999961E-4,null,null,null,null,null,0,1.7799999999999961E-4,{"$f":"COUNTIFS('C-E'!$E$13:$E$1001,PCMSO!B190)","v":0},{"$f":"COUNTIFS('C-E'!$E$13:$E$1001,PCMSO!$B190,'C-E'!$H$13:$H$1001,PCMSO!J$12)","v":0},{"$f":"COUNTIFS('C-E'!$E$13:$E$1001,PCMSO!$B190,'C-E'!$H$13:$H$1001,PCMSO!K$12)","v":0}]
[1.7899999999999961E-4,null,null,null,null,null,0,1.7899999999999961E-4,{"$f":"COUNTIFS('C-E'!$E$13:$E$1001,PCMSO!B191)","v":0},{"$f":"COUNTIFS('C-E'!$E$13:$E$1001,PCMSO!$B191,'C-E'!$H$13:$H$1001,PCMSO!J$12)","v":0},{"$f":"COUNTIFS('C-E'!$E$13:$E$1001,PCMSO!$B191,'C-E'!$H$13:$H$1001,PCMSO!K$12)","v":0}]
[1.799999999999996E-4,null,null,null,null,null,0,1.799999999999996E-4,{"$f":"COUNTIFS('C-E'!$E$13:$E$1001,PCMSO!B192)","v":0},{"$f":"COUNTIFS('C-E'!$E$13:$E$1001,PCMSO!$B192,'C-E'!$H$13:$H$1001,PCMSO!J$12)","v":0},{"$f":"COUNTIFS('C-E'!$E$13:$E$1001,PCMSO!$B192,'C-E'!$H$13:$H$1001,PCMSO!K$12)","v":0}]
[1.809999999999996E-4,null,null,null,null,null,0,1.809999999999996E-4,{"$f":"COUNTIFS('C-E'!$E$13:$E$1001,PCMSO!B193)","v":0},{"$f":"COUNTIFS('C-E'!$E$13:$E$1001,PCMSO!$B193,'C-E'!$H$13:$H$1001,PCMSO!J$12)","v":0},{"$f":"COUNTIFS('C-E'!$E$13:$E$1001,PCMSO!$B193,'C-E'!$H$13:$H$1001,PCMSO!K$12)","v":0}]
[1.819999999999996E-4,null,null,null,null,null,0,1.819999999999996E-4,{"$f":"COUNTIFS('C-E'!$E$13:$E$1001,PCMSO!B194)","v":0},{"$f":"COUNTIFS('C-E'!$E$13:$E$1001,PCMSO!$B194,'C-E'!$H$13:$H$1001,PCMSO!J$12)","v":0},{"$f":"COUNTIFS('C-E'!$E$13:$E$1001,PCMSO!$B194,'C-E'!$H$13:$H$1001,PCMSO!K$12)","v":0}]
[1.829999999999996E-4,null,null,null,null,null,0,1.829999999999996E-4,{"$f":"COUNTIFS('C-E'!$E$13:$E$1001,PCMSO!B195)","v":0},{"$f":"COUNTIFS('C-E'!$E$13:$E$1001,PCMSO!$B195,'C-E'!$H$13:$H$1001,PCMSO!J$12)","v":0},{"$f":"COUNTIFS('C-E'!$E$13:$E$1001,PCMSO!$B195,'C-E'!$H$13:$H$1001,PCMSO!K$12)","v":0}]
[1.8399999999999959E-4,null,null,null,null,null,0,1.8399999999999959E-4,{"$f":"COUNTIFS('C-E'!$E$13:$E$1001,PCMSO!B196)","v":0},{"$f":"COUNTIFS('C-E'!$E$13:$E$1001,PCMSO!$B196,'C-E'!$H$13:$H$1001,PCMSO!J$12)","v":0},{"$f":"COUNTIFS('C-E'!$E$13:$E$1001,PCMSO!$B196,'C-E'!$H$13:$H$1001,PCMSO!K$12)","v":0}]
[1.8499999999999959E-4,null,null,null,null,null,0,1.8499999999999959E-4,{"$f":"COUNTIFS('C-E'!$E$13:$E$1001,PCMSO!B197)","v":0},{"$f":"COUNTIFS('C-E'!$E$13:$E$1001,PCMSO!$B197,'C-E'!$H$13:$H$1001,PCMSO!J$12)","v":0},{"$f":"COUNTIFS('C-E'!$E$13:$E$1001,PCMSO!$B197,'C-E'!$H$13:$H$1001,PCMSO!K$12)","v":0}]
[1.8599999999999959E-4,null,null,null,null,null,0,1.8599999999999959E-4,{"$f":"COUNTIFS('C-E'!$E$13:$E$1001,PCMSO!B198)","v":0},{"$f":"COUNTIFS('C-E'!$E$13:$E$1001,PCMSO!$B198,'C-E'!$H$13:$H$1001,PCMSO!J$12)","v":0},{"$f":"COUNTIFS('C-E'!$E$13:$E$1001,PCMSO!$B198,'C-E'!$H$13:$H$1001,PCMSO!K$12)","v":0}]
[1.8699999999999959E-4,null,null,null,null,null,0,1.8699999999999959E-4,{"$f":"COUNTIFS('C-E'!$E$13:$E$1001,PCMSO!B199)","v":0},{"$f":"COUNTIFS('C-E'!$E$13:$E$1001,PCMSO!$B199,'C-E'!$H$13:$H$1001,PCMSO!J$12)","v":0},{"$f":"COUNTIFS('C-E'!$E$13:$E$1001,PCMSO!$B199,'C-E'!$H$13:$H$1001,PCMSO!K$12)","v":0}]
[1.8799999999999958E-4,null,null,null,null,null,0,1.8799999999999958E-4,{"$f":"COUNTIFS('C-E'!$E$13:$E$1001,PCMSO!B200)","v":0},{"$f":"COUNTIFS('C-E'!$E$13:$E$1001,PCMSO!$B200,'C-E'!$H$13:$H$1001,PCMSO!J$12)","v":0},{"$f":"COUNTIFS('C-E'!$E$13:$E$1001,PCMSO!$B200,'C-E'!$H$13:$H$1001,PCMSO!K$12)","v":0}]
[1.8899999999999958E-4,null,null,null,null,null,0,1.8899999999999958E-4,{"$f":"COUNTIFS('C-E'!$E$13:$E$1001,PCMSO!B201)","v":0},{"$f":"COUNTIFS('C-E'!$E$13:$E$1001,PCMSO!$B201,'C-E'!$H$13:$H$1001,PCMSO!J$12)","v":0},{"$f":"COUNTIFS('C-E'!$E$13:$E$1001,PCMSO!$B201,'C-E'!$H$13:$H$1001,PCMSO!K$12)","v":0}]
[1.8999999999999958E-4,null,null,null,null,null,0,1.8999999999999958E-4,{"$f":"COUNTIFS('C-E'!$E$13:$E$1001,PCMSO!B202)","v":0},{"$f":"COUNTIFS('C-E'!$E$13:$E$1001,PCMSO!$B202,'C-E'!$H$13:$H$1001,PCMSO!J$12)","v":0},{"$f":"COUNTIFS('C-E'!$E$13:$E$1001,PCMSO!$B202,'C-E'!$H$13:$H$1001,PCMSO!K$12)","v":0}]
[1.9099999999999957E-4,null,null,null,null,null,0,1.9099999999999957E-4,{"$f":"COUNTIFS('C-E'!$E$13:$E$1001,PCMSO!B203)","v":0},{"$f":"COUNTIFS('C-E'!$E$13:$E$1001,PCMSO!$B203,'C-E'!$H$13:$H$1001,PCMSO!J$12)","v":0},{"$f":"COUNTIFS('C-E'!$E$13:$E$1001,PCMSO!$B203,'C-E'!$H$13:$H$1001,PCMSO!K$12)","v":0}]
[1.9199999999999957E-4,null,null,null,null,null,0,1.9199999999999957E-4,{"$f":"COUNTIFS('C-E'!$E$13:$E$1001,PCMSO!B204)","v":0},{"$f":"COUNTIFS('C-E'!$E$13:$E$1001,PCMSO!$B204,'C-E'!$H$13:$H$1001,PCMSO!J$12)","v":0},{"$f":"COUNTIFS('C-E'!$E$13:$E$1001,PCMSO!$B204,'C-E'!$H$13:$H$1001,PCMSO!K$12)","v":0}]
[{"$f":"SUM(H205:I205)","v":1.9299999999999957E-4},null,null,null,null,null,0,1.9299999999999957E-4,{"$f":"COUNTIFS('C-E'!$E$13:$E$1001,PCMSO!B205)","v":0},{"$f":"COUNTIFS('C-E'!$E$13:$E$1001,PCMSO!$B205,'C-E'!$H$13:$H$1001,PCMSO!J$12)","v":0},{"$f":"COUNTIFS('C-E'!$E$13:$E$1001,PCMSO!$B205,'C-E'!$H$13:$H$1001,PCMSO!K$12)","v":0}]
[1.9399999999999957E-4,null,null,null,null,null,{"$f":"B206","v":0},1.9399999999999957E-4,{"$f":"COUNTIFS('C-E'!$E$13:$E$1001,PCMSO!B206)","v":0},{"$f":"COUNTIFS('C-E'!$E$13:$E$1001,PCMSO!$B206,'C-E'!$H$13:$H$1001,PCMSO!J$12)","v":0},{"$f":"COUNTIFS('C-E'!$E$13:$E$1001,PCMSO!$B206,'C-E'!$H$13:$H$1001,PCMSO!K$12)","v":0}]
[1.9499999999999956E-4,null,null,null,null,null,0,{"$f":"H206+$H$13","v":1.9499999999999956E-4},{"$f":"COUNTIFS('C-E'!$E$13:$E$1001,PCMSO!B207)","v":0},{"$f":"COUNTIFS('C-E'!$E$13:$E$1001,PCMSO!$B207,'C-E'!$H$13:$H$1001,PCMSO!J$12)","v":0},{"$f":"COUNTIFS('C-E'!$E$13:$E$1001,PCMSO!$B207,'C-E'!$H$13:$H$1001,PCMSO!K$12)","v":0}]
[1.9599999999999956E-4,null,null,null,null,null,0,1.9599999999999956E-4,{"$f":"COUNTIFS('C-E'!$E$13:$E$1001,PCMSO!B208)","v":0},{"$f":"COUNTIFS('C-E'!$E$13:$E$1001,PCMSO!$B208,'C-E'!$H$13:$H$1001,PCMSO!J$12)","v":0},{"$f":"COUNTIFS('C-E'!$E$13:$E$1001,PCMSO!$B208,'C-E'!$H$13:$H$1001,PCMSO!K$12)","v":0}]
[1.9699999999999956E-4,null,null,null,null,null,0,1.9699999999999956E-4,{"$f":"COUNTIFS('C-E'!$E$13:$E$1001,PCMSO!B209)","v":0},{"$f":"COUNTIFS('C-E'!$E$13:$E$1001,PCMSO!$B209,'C-E'!$H$13:$H$1001,PCMSO!J$12)","v":0},{"$f":"COUNTIFS('C-E'!$E$13:$E$1001,PCMSO!$B209,'C-E'!$H$13:$H$1001,PCMSO!K$12)","v":0}]
[1.9799999999999955E-4,null,null,null,null,null,0,1.9799999999999955E-4,{"$f":"COUNTIFS('C-E'!$E$13:$E$1001,PCMSO!B210)","v":0},{"$f":"COUNTIFS('C-E'!$E$13:$E$1001,PCMSO!$B210,'C-E'!$H$13:$H$1001,PCMSO!J$12)","v":0},{"$f":"COUNTIFS('C-E'!$E$13:$E$1001,PCMSO!$B210,'C-E'!$H$13:$H$1001,PCMSO!K$12)","v":0}]
[1.9899999999999955E-4,null,null,null,null,null,0,1.9899999999999955E-4,{"$f":"COUNTIFS('C-E'!$E$13:$E$1001,PCMSO!B211)","v":0},{"$f":"COUNTIFS('C-E'!$E$13:$E$1001,PCMSO!$B211,'C-E'!$H$13:$H$1001,PCMSO!J$12)","v":0},{"$f":"COUNTIFS('C-E'!$E$13:$E$1001,PCMSO!$B211,'C-E'!$H$13:$H$1001,PCMSO!K$12)","v":0}]
[1.9999999999999955E-4,null,null,null,null,null,0,1.9999999999999955E-4,{"$f":"COUNTIFS('C-E'!$E$13:$E$1001,PCMSO!B212)","v":0},{"$f":"COUNTIFS('C-E'!$E$13:$E$1001,PCMSO!$B212,'C-E'!$H$13:$H$1001,PCMSO!J$12)","v":0},{"$f":"COUNTIFS('C-E'!$E$13:$E$1001,PCMSO!$B212,'C-E'!$H$13:$H$1001,PCMSO!K$12)","v":0}]
[2.0099999999999955E-4,null,null,null,null,null,0,2.0099999999999955E-4,{"$f":"COUNTIFS('C-E'!$E$13:$E$1001,PCMSO!B213)","v":0},{"$f":"COUNTIFS('C-E'!$E$13:$E$1001,PCMSO!$B213,'C-E'!$H$13:$H$1001,PCMSO!J$12)","v":0},{"$f":"COUNTIFS('C-E'!$E$13:$E$1001,PCMSO!$B213,'C-E'!$H$13:$H$1001,PCMSO!K$12)","v":0}]
[2.0199999999999954E-4,null,null,null,null,null,0,2.0199999999999954E-4,{"$f":"COUNTIFS('C-E'!$E$13:$E$1001,PCMSO!B214)","v":0},{"$f":"COUNTIFS('C-E'!$E$13:$E$1001,PCMSO!$B214,'C-E'!$H$13:$H$1001,PCMSO!J$12)","v":0},{"$f":"COUNTIFS('C-E'!$E$13:$E$1001,PCMSO!$B214,'C-E'!$H$13:$H$1001,PCMSO!K$12)","v":0}]
[2.0299999999999954E-4,null,null,null,null,null,0,2.0299999999999954E-4,{"$f":"COUNTIFS('C-E'!$E$13:$E$1001,PCMSO!B215)","v":0},{"$f":"COUNTIFS('C-E'!$E$13:$E$1001,PCMSO!$B215,'C-E'!$H$13:$H$1001,PCMSO!J$12)","v":0},{"$f":"COUNTIFS('C-E'!$E$13:$E$1001,PCMSO!$B215,'C-E'!$H$13:$H$1001,PCMSO!K$12)","v":0}]
[2.0399999999999954E-4,null,null,null,null,null,0,2.0399999999999954E-4,{"$f":"COUNTIFS('C-E'!$E$13:$E$1001,PCMSO!B216)","v":0},{"$f":"COUNTIFS('C-E'!$E$13:$E$1001,PCMSO!$B216,'C-E'!$H$13:$H$1001,PCMSO!J$12)","v":0},{"$f":"COUNTIFS('C-E'!$E$13:$E$1001,PCMSO!$B216,'C-E'!$H$13:$H$1001,PCMSO!K$12)","v":0}]
[2.0499999999999953E-4,null,null,null,null,null,0,2.0499999999999953E-4,{"$f":"COUNTIFS('C-E'!$E$13:$E$1001,PCMSO!B217)","v":0},{"$f":"COUNTIFS('C-E'!$E$13:$E$1001,PCMSO!$B217,'C-E'!$H$13:$H$1001,PCMSO!J$12)","v":0},{"$f":"COUNTIFS('C-E'!$E$13:$E$1001,PCMSO!$B217,'C-E'!$H$13:$H$1001,PCMSO!K$12)","v":0}]
[2.0599999999999953E-4,null,null,null,null,null,0,2.0599999999999953E-4,{"$f":"COUNTIFS('C-E'!$E$13:$E$1001,PCMSO!B218)","v":0},{"$f":"COUNTIFS('C-E'!$E$13:$E$1001,PCMSO!$B218,'C-E'!$H$13:$H$1001,PCMSO!J$12)","v":0},{"$f":"COUNTIFS('C-E'!$E$13:$E$1001,PCMSO!$B218,'C-E'!$H$13:$H$1001,PCMSO!K$12)","v":0}]
[2.0699999999999953E-4,null,null,null,null,null,0,2.0699999999999953E-4,{"$f":"COUNTIFS('C-E'!$E$13:$E$1001,PCMSO!B219)","v":0},{"$f":"COUNTIFS('C-E'!$E$13:$E$1001,PCMSO!$B219,'C-E'!$H$13:$H$1001,PCMSO!J$12)","v":0},{"$f":"COUNTIFS('C-E'!$E$13:$E$1001,PCMSO!$B219,'C-E'!$H$13:$H$1001,PCMSO!K$12)","v":0}]
[2.0799999999999953E-4,null,null,null,null,null,0,2.0799999999999953E-4,{"$f":"COUNTIFS('C-E'!$E$13:$E$1001,PCMSO!B220)","v":0},{"$f":"COUNTIFS('C-E'!$E$13:$E$1001,PCMSO!$B220,'C-E'!$H$13:$H$1001,PCMSO!J$12)","v":0},{"$f":"COUNTIFS('C-E'!$E$13:$E$1001,PCMSO!$B220,'C-E'!$H$13:$H$1001,PCMSO!K$12)","v":0}]
[2.0899999999999952E-4,null,null,null,null,null,0,2.0899999999999952E-4,{"$f":"COUNTIFS('C-E'!$E$13:$E$1001,PCMSO!B221)","v":0},{"$f":"COUNTIFS('C-E'!$E$13:$E$1001,PCMSO!$B221,'C-E'!$H$13:$H$1001,PCMSO!J$12)","v":0},{"$f":"COUNTIFS('C-E'!$E$13:$E$1001,PCMSO!$B221,'C-E'!$H$13:$H$1001,PCMSO!K$12)","v":0}]
[2.0999999999999952E-4,null,null,null,null,null,0,2.0999999999999952E-4,{"$f":"COUNTIFS('C-E'!$E$13:$E$1001,PCMSO!B222)","v":0},{"$f":"COUNTIFS('C-E'!$E$13:$E$1001,PCMSO!$B222,'C-E'!$H$13:$H$1001,PCMSO!J$12)","v":0},{"$f":"COUNTIFS('C-E'!$E$13:$E$1001,PCMSO!$B222,'C-E'!$H$13:$H$1001,PCMSO!K$12)","v":0}]
[2.1099999999999952E-4,null,null,null,null,null,0,2.1099999999999952E-4,{"$f":"COUNTIFS('C-E'!$E$13:$E$1001,PCMSO!B223)","v":0},{"$f":"COUNTIFS('C-E'!$E$13:$E$1001,PCMSO!$B223,'C-E'!$H$13:$H$1001,PCMSO!J$12)","v":0},{"$f":"COUNTIFS('C-E'!$E$13:$E$1001,PCMSO!$B223,'C-E'!$H$13:$H$1001,PCMSO!K$12)","v":0}]
[2.1199999999999952E-4,null,null,null,null,null,0,2.1199999999999952E-4,{"$f":"COUNTIFS('C-E'!$E$13:$E$1001,PCMSO!B224)","v":0},{"$f":"COUNTIFS('C-E'!$E$13:$E$1001,PCMSO!$B224,'C-E'!$H$13:$H$1001,PCMSO!J$12)","v":0},{"$f":"COUNTIFS('C-E'!$E$13:$E$1001,PCMSO!$B224,'C-E'!$H$13:$H$1001,PCMSO!K$12)","v":0}]
[2.1299999999999951E-4,null,null,null,null,null,0,2.1299999999999951E-4,{"$f":"COUNTIFS('C-E'!$E$13:$E$1001,PCMSO!B225)","v":0},{"$f":"COUNTIFS('C-E'!$E$13:$E$1001,PCMSO!$B225,'C-E'!$H$13:$H$1001,PCMSO!J$12)","v":0},{"$f":"COUNTIFS('C-E'!$E$13:$E$1001,PCMSO!$B225,'C-E'!$H$13:$H$1001,PCMSO!K$12)","v":0}]
[2.1399999999999951E-4,null,null,null,null,null,0,2.1399999999999951E-4,{"$f":"COUNTIFS('C-E'!$E$13:$E$1001,PCMSO!B226)","v":0},{"$f":"COUNTIFS('C-E'!$E$13:$E$1001,PCMSO!$B226,'C-E'!$H$13:$H$1001,PCMSO!J$12)","v":0},{"$f":"COUNTIFS('C-E'!$E$13:$E$1001,PCMSO!$B226,'C-E'!$H$13:$H$1001,PCMSO!K$12)","v":0}]
[2.1499999999999951E-4,null,null,null,null,null,0,2.1499999999999951E-4,{"$f":"COUNTIFS('C-E'!$E$13:$E$1001,PCMSO!B227)","v":0},{"$f":"COUNTIFS('C-E'!$E$13:$E$1001,PCMSO!$B227,'C-E'!$H$13:$H$1001,PCMSO!J$12)","v":0},{"$f":"COUNTIFS('C-E'!$E$13:$E$1001,PCMSO!$B227,'C-E'!$H$13:$H$1001,PCMSO!K$12)","v":0}]
[2.159999999999995E-4,null,null,null,null,null,0,2.159999999999995E-4,{"$f":"COUNTIFS('C-E'!$E$13:$E$1001,PCMSO!B228)","v":0},{"$f":"COUNTIFS('C-E'!$E$13:$E$1001,PCMSO!$B228,'C-E'!$H$13:$H$1001,PCMSO!J$12)","v":0},{"$f":"COUNTIFS('C-E'!$E$13:$E$1001,PCMSO!$B228,'C-E'!$H$13:$H$1001,PCMSO!K$12)","v":0}]
[2.169999999999995E-4,null,null,null,null,null,0,2.169999999999995E-4,{"$f":"COUNTIFS('C-E'!$E$13:$E$1001,PCMSO!B229)","v":0},{"$f":"COUNTIFS('C-E'!$E$13:$E$1001,PCMSO!$B229,'C-E'!$H$13:$H$1001,PCMSO!J$12)","v":0},{"$f":"COUNTIFS('C-E'!$E$13:$E$1001,PCMSO!$B229,'C-E'!$H$13:$H$1001,PCMSO!K$12)","v":0}]
[2.179999999999995E-4,null,null,null,null,null,0,2.179999999999995E-4,{"$f":"COUNTIFS('C-E'!$E$13:$E$1001,PCMSO!B230)","v":0},{"$f":"COUNTIFS('C-E'!$E$13:$E$1001,PCMSO!$B230,'C-E'!$H$13:$H$1001,PCMSO!J$12)","v":0},{"$f":"COUNTIFS('C-E'!$E$13:$E$1001,PCMSO!$B230,'C-E'!$H$13:$H$1001,PCMSO!K$12)","v":0}]
[2.189999999999995E-4,null,null,null,null,null,0,2.189999999999995E-4,{"$f":"COUNTIFS('C-E'!$E$13:$E$1001,PCMSO!B231)","v":0},{"$f":"COUNTIFS('C-E'!$E$13:$E$1001,PCMSO!$B231,'C-E'!$H$13:$H$1001,PCMSO!J$12)","v":0},{"$f":"COUNTIFS('C-E'!$E$13:$E$1001,PCMSO!$B231,'C-E'!$H$13:$H$1001,PCMSO!K$12)","v":0}]
[2.1999999999999949E-4,null,null,null,null,null,0,2.1999999999999949E-4,{"$f":"COUNTIFS('C-E'!$E$13:$E$1001,PCMSO!B232)","v":0},{"$f":"COUNTIFS('C-E'!$E$13:$E$1001,PCMSO!$B232,'C-E'!$H$13:$H$1001,PCMSO!J$12)","v":0},{"$f":"COUNTIFS('C-E'!$E$13:$E$1001,PCMSO!$B232,'C-E'!$H$13:$H$1001,PCMSO!K$12)","v":0}]
[2.2099999999999949E-4,null,null,null,null,null,0,2.2099999999999949E-4,{"$f":"COUNTIFS('C-E'!$E$13:$E$1001,PCMSO!B233)","v":0},{"$f":"COUNTIFS('C-E'!$E$13:$E$1001,PCMSO!$B233,'C-E'!$H$13:$H$1001,PCMSO!J$12)","v":0},{"$f":"COUNTIFS('C-E'!$E$13:$E$1001,PCMSO!$B233,'C-E'!$H$13:$H$1001,PCMSO!K$12)","v":0}]
[2.2199999999999949E-4,null,null,null,null,null,0,2.2199999999999949E-4,{"$f":"COUNTIFS('C-E'!$E$13:$E$1001,PCMSO!B234)","v":0},{"$f":"COUNTIFS('C-E'!$E$13:$E$1001,PCMSO!$B234,'C-E'!$H$13:$H$1001,PCMSO!J$12)","v":0},{"$f":"COUNTIFS('C-E'!$E$13:$E$1001,PCMSO!$B234,'C-E'!$H$13:$H$1001,PCMSO!K$12)","v":0}]
[2.2299999999999948E-4,null,null,null,null,null,0,2.2299999999999948E-4,{"$f":"COUNTIFS('C-E'!$E$13:$E$1001,PCMSO!B235)","v":0},{"$f":"COUNTIFS('C-E'!$E$13:$E$1001,PCMSO!$B235,'C-E'!$H$13:$H$1001,PCMSO!J$12)","v":0},{"$f":"COUNTIFS('C-E'!$E$13:$E$1001,PCMSO!$B235,'C-E'!$H$13:$H$1001,PCMSO!K$12)","v":0}]
[2.2399999999999948E-4,null,null,null,null,null,0,2.2399999999999948E-4,{"$f":"COUNTIFS('C-E'!$E$13:$E$1001,PCMSO!B236)","v":0},{"$f":"COUNTIFS('C-E'!$E$13:$E$1001,PCMSO!$B236,'C-E'!$H$13:$H$1001,PCMSO!J$12)","v":0},{"$f":"COUNTIFS('C-E'!$E$13:$E$1001,PCMSO!$B236,'C-E'!$H$13:$H$1001,PCMSO!K$12)","v":0}]
[2.2499999999999948E-4,null,null,null,null,null,0,2.2499999999999948E-4,{"$f":"COUNTIFS('C-E'!$E$13:$E$1001,PCMSO!B237)","v":0},{"$f":"COUNTIFS('C-E'!$E$13:$E$1001,PCMSO!$B237,'C-E'!$H$13:$H$1001,PCMSO!J$12)","v":0},{"$f":"COUNTIFS('C-E'!$E$13:$E$1001,PCMSO!$B237,'C-E'!$H$13:$H$1001,PCMSO!K$12)","v":0}]
[2.2599999999999948E-4,null,null,null,null,null,0,2.2599999999999948E-4,{"$f":"COUNTIFS('C-E'!$E$13:$E$1001,PCMSO!B238)","v":0},{"$f":"COUNTIFS('C-E'!$E$13:$E$1001,PCMSO!$B238,'C-E'!$H$13:$H$1001,PCMSO!J$12)","v":0},{"$f":"COUNTIFS('C-E'!$E$13:$E$1001,PCMSO!$B238,'C-E'!$H$13:$H$1001,PCMSO!K$12)","v":0}]
[2.2699999999999947E-4,null,null,null,null,null,0,2.2699999999999947E-4,{"$f":"COUNTIFS('C-E'!$E$13:$E$1001,PCMSO!B239)","v":0},{"$f":"COUNTIFS('C-E'!$E$13:$E$1001,PCMSO!$B239,'C-E'!$H$13:$H$1001,PCMSO!J$12)","v":0},{"$f":"COUNTIFS('C-E'!$E$13:$E$1001,PCMSO!$B239,'C-E'!$H$13:$H$1001,PCMSO!K$12)","v":0}]
[2.2799999999999947E-4,null,null,null,null,null,0,2.2799999999999947E-4,{"$f":"COUNTIFS('C-E'!$E$13:$E$1001,PCMSO!B240)","v":0},{"$f":"COUNTIFS('C-E'!$E$13:$E$1001,PCMSO!$B240,'C-E'!$H$13:$H$1001,PCMSO!J$12)","v":0},{"$f":"COUNTIFS('C-E'!$E$13:$E$1001,PCMSO!$B240,'C-E'!$H$13:$H$1001,PCMSO!K$12)","v":0}]
[2.2899999999999947E-4,null,null,null,null,null,0,2.2899999999999947E-4,{"$f":"COUNTIFS('C-E'!$E$13:$E$1001,PCMSO!B241)","v":0},{"$f":"COUNTIFS('C-E'!$E$13:$E$1001,PCMSO!$B241,'C-E'!$H$13:$H$1001,PCMSO!J$12)","v":0},{"$f":"COUNTIFS('C-E'!$E$13:$E$1001,PCMSO!$B241,'C-E'!$H$13:$H$1001,PCMSO!K$12)","v":0}]
[2.2999999999999946E-4,null,null,null,null,null,0,2.2999999999999946E-4,{"$f":"COUNTIFS('C-E'!$E$13:$E$1001,PCMSO!B242)","v":0},{"$f":"COUNTIFS('C-E'!$E$13:$E$1001,PCMSO!$B242,'C-E'!$H$13:$H$1001,PCMSO!J$12)","v":0},{"$f":"COUNTIFS('C-E'!$E$13:$E$1001,PCMSO!$B242,'C-E'!$H$13:$H$1001,PCMSO!K$12)","v":0}]
[2.3099999999999946E-4,null,null,null,null,null,0,2.3099999999999946E-4,{"$f":"COUNTIFS('C-E'!$E$13:$E$1001,PCMSO!B243)","v":0},{"$f":"COUNTIFS('C-E'!$E$13:$E$1001,PCMSO!$B243,'C-E'!$H$13:$H$1001,PCMSO!J$12)","v":0},{"$f":"COUNTIFS('C-E'!$E$13:$E$1001,PCMSO!$B243,'C-E'!$H$13:$H$1001,PCMSO!K$12)","v":0}]
[2.3199999999999946E-4,null,null,null,null,null,0,2.3199999999999946E-4,{"$f":"COUNTIFS('C-E'!$E$13:$E$1001,PCMSO!B244)","v":0},{"$f":"COUNTIFS('C-E'!$E$13:$E$1001,PCMSO!$B244,'C-E'!$H$13:$H$1001,PCMSO!J$12)","v":0},{"$f":"COUNTIFS('C-E'!$E$13:$E$1001,PCMSO!$B244,'C-E'!$H$13:$H$1001,PCMSO!K$12)","v":0}]
[2.3299999999999946E-4,null,null,null,null,null,0,2.3299999999999946E-4,{"$f":"COUNTIFS('C-E'!$E$13:$E$1001,PCMSO!B245)","v":0},{"$f":"COUNTIFS('C-E'!$E$13:$E$1001,PCMSO!$B245,'C-E'!$H$13:$H$1001,PCMSO!J$12)","v":0},{"$f":"COUNTIFS('C-E'!$E$13:$E$1001,PCMSO!$B245,'C-E'!$H$13:$H$1001,PCMSO!K$12)","v":0}]
[2.3399999999999945E-4,null,null,null,null,null,0,2.3399999999999945E-4,{"$f":"COUNTIFS('C-E'!$E$13:$E$1001,PCMSO!B246)","v":0},{"$f":"COUNTIFS('C-E'!$E$13:$E$1001,PCMSO!$B246,'C-E'!$H$13:$H$1001,PCMSO!J$12)","v":0},{"$f":"COUNTIFS('C-E'!$E$13:$E$1001,PCMSO!$B246,'C-E'!$H$13:$H$1001,PCMSO!K$12)","v":0}]
[2.3499999999999945E-4,null,null,null,null,null,0,2.3499999999999945E-4,{"$f":"COUNTIFS('C-E'!$E$13:$E$1001,PCMSO!B247)","v":0},{"$f":"COUNTIFS('C-E'!$E$13:$E$1001,PCMSO!$B247,'C-E'!$H$13:$H$1001,PCMSO!J$12)","v":0},{"$f":"COUNTIFS('C-E'!$E$13:$E$1001,PCMSO!$B247,'C-E'!$H$13:$H$1001,PCMSO!K$12)","v":0}]
[2.3599999999999945E-4,null,null,null,null,null,0,2.3599999999999945E-4,{"$f":"COUNTIFS('C-E'!$E$13:$E$1001,PCMSO!B248)","v":0},{"$f":"COUNTIFS('C-E'!$E$13:$E$1001,PCMSO!$B248,'C-E'!$H$13:$H$1001,PCMSO!J$12)","v":0},{"$f":"COUNTIFS('C-E'!$E$13:$E$1001,PCMSO!$B248,'C-E'!$H$13:$H$1001,PCMSO!K$12)","v":0}]
[2.3699999999999945E-4,null,null,null,null,null,0,2.3699999999999945E-4,{"$f":"COUNTIFS('C-E'!$E$13:$E$1001,PCMSO!B249)","v":0},{"$f":"COUNTIFS('C-E'!$E$13:$E$1001,PCMSO!$B249,'C-E'!$H$13:$H$1001,PCMSO!J$12)","v":0},{"$f":"COUNTIFS('C-E'!$E$13:$E$1001,PCMSO!$B249,'C-E'!$H$13:$H$1001,PCMSO!K$12)","v":0}]
[2.3799999999999944E-4,null,null,null,null,null,0,2.3799999999999944E-4,{"$f":"COUNTIFS('C-E'!$E$13:$E$1001,PCMSO!B250)","v":0},{"$f":"COUNTIFS('C-E'!$E$13:$E$1001,PCMSO!$B250,'C-E'!$H$13:$H$1001,PCMSO!J$12)","v":0},{"$f":"COUNTIFS('C-E'!$E$13:$E$1001,PCMSO!$B250,'C-E'!$H$13:$H$1001,PCMSO!K$12)","v":0}]
[2.3899999999999944E-4,null,null,null,null,null,0,2.3899999999999944E-4,{"$f":"COUNTIFS('C-E'!$E$13:$E$1001,PCMSO!B251)","v":0},{"$f":"COUNTIFS('C-E'!$E$13:$E$1001,PCMSO!$B251,'C-E'!$H$13:$H$1001,PCMSO!J$12)","v":0},{"$f":"COUNTIFS('C-E'!$E$13:$E$1001,PCMSO!$B251,'C-E'!$H$13:$H$1001,PCMSO!K$12)","v":0}]
[2.3999999999999944E-4,null,null,null,null,null,0,2.3999999999999944E-4,{"$f":"COUNTIFS('C-E'!$E$13:$E$1001,PCMSO!B252)","v":0},{"$f":"COUNTIFS('C-E'!$E$13:$E$1001,PCMSO!$B252,'C-E'!$H$13:$H$1001,PCMSO!J$12)","v":0},{"$f":"COUNTIFS('C-E'!$E$13:$E$1001,PCMSO!$B252,'C-E'!$H$13:$H$1001,PCMSO!K$12)","v":0}]
[2.4099999999999943E-4,null,null,null,null,null,0,2.4099999999999943E-4,{"$f":"COUNTIFS('C-E'!$E$13:$E$1001,PCMSO!B253)","v":0},{"$f":"COUNTIFS('C-E'!$E$13:$E$1001,PCMSO!$B253,'C-E'!$H$13:$H$1001,PCMSO!J$12)","v":0},{"$f":"COUNTIFS('C-E'!$E$13:$E$1001,PCMSO!$B253,'C-E'!$H$13:$H$1001,PCMSO!K$12)","v":0}]
[2.4199999999999943E-4,null,null,null,null,null,0,2.4199999999999943E-4,{"$f":"COUNTIFS('C-E'!$E$13:$E$1001,PCMSO!B254)","v":0},{"$f":"COUNTIFS('C-E'!$E$13:$E$1001,PCMSO!$B254,'C-E'!$H$13:$H$1001,PCMSO!J$12)","v":0},{"$f":"COUNTIFS('C-E'!$E$13:$E$1001,PCMSO!$B254,'C-E'!$H$13:$H$1001,PCMSO!K$12)","v":0}]
[2.4299999999999943E-4,null,null,null,null,null,0,2.4299999999999943E-4,{"$f":"COUNTIFS('C-E'!$E$13:$E$1001,PCMSO!B255)","v":0},{"$f":"COUNTIFS('C-E'!$E$13:$E$1001,PCMSO!$B255,'C-E'!$H$13:$H$1001,PCMSO!J$12)","v":0},{"$f":"COUNTIFS('C-E'!$E$13:$E$1001,PCMSO!$B255,'C-E'!$H$13:$H$1001,PCMSO!K$12)","v":0}]
[2.4399999999999943E-4,null,null,null,null,null,0,2.4399999999999943E-4,{"$f":"COUNTIFS('C-E'!$E$13:$E$1001,PCMSO!B256)","v":0},{"$f":"COUNTIFS('C-E'!$E$13:$E$1001,PCMSO!$B256,'C-E'!$H$13:$H$1001,PCMSO!J$12)","v":0},{"$f":"COUNTIFS('C-E'!$E$13:$E$1001,PCMSO!$B256,'C-E'!$H$13:$H$1001,PCMSO!K$12)","v":0}]
[2.4499999999999945E-4,null,null,null,null,null,0,2.4499999999999945E-4,{"$f":"COUNTIFS('C-E'!$E$13:$E$1001,PCMSO!B257)","v":0},{"$f":"COUNTIFS('C-E'!$E$13:$E$1001,PCMSO!$B257,'C-E'!$H$13:$H$1001,PCMSO!J$12)","v":0},{"$f":"COUNTIFS('C-E'!$E$13:$E$1001,PCMSO!$B257,'C-E'!$H$13:$H$1001,PCMSO!K$12)","v":0}]
[2.4599999999999947E-4,null,null,null,null,null,0,2.4599999999999947E-4,{"$f":"COUNTIFS('C-E'!$E$13:$E$1001,PCMSO!B258)","v":0},{"$f":"COUNTIFS('C-E'!$E$13:$E$1001,PCMSO!$B258,'C-E'!$H$13:$H$1001,PCMSO!J$12)","v":0},{"$f":"COUNTIFS('C-E'!$E$13:$E$1001,PCMSO!$B258,'C-E'!$H$13:$H$1001,PCMSO!K$12)","v":0}]
[2.469999999999995E-4,null,null,null,null,null,0,2.469999999999995E-4,{"$f":"COUNTIFS('C-E'!$E$13:$E$1001,PCMSO!B259)","v":0},{"$f":"COUNTIFS('C-E'!$E$13:$E$1001,PCMSO!$B259,'C-E'!$H$13:$H$1001,PCMSO!J$12)","v":0},{"$f":"COUNTIFS('C-E'!$E$13:$E$1001,PCMSO!$B259,'C-E'!$H$13:$H$1001,PCMSO!K$12)","v":0}]
[2.4799999999999952E-4,null,null,null,null,null,0,2.4799999999999952E-4,{"$f":"COUNTIFS('C-E'!$E$13:$E$1001,PCMSO!B260)","v":0},{"$f":"COUNTIFS('C-E'!$E$13:$E$1001,PCMSO!$B260,'C-E'!$H$13:$H$1001,PCMSO!J$12)","v":0},{"$f":"COUNTIFS('C-E'!$E$13:$E$1001,PCMSO!$B260,'C-E'!$H$13:$H$1001,PCMSO!K$12)","v":0}]
[2.4899999999999955E-4,null,null,null,null,null,0,2.4899999999999955E-4,{"$f":"COUNTIFS('C-E'!$E$13:$E$1001,PCMSO!B261)","v":0},{"$f":"COUNTIFS('C-E'!$E$13:$E$1001,PCMSO!$B261,'C-E'!$H$13:$H$1001,PCMSO!J$12)","v":0},{"$f":"COUNTIFS('C-E'!$E$13:$E$1001,PCMSO!$B261,'C-E'!$H$13:$H$1001,PCMSO!K$12)","v":0}]
[2.4999999999999957E-4,null,null,null,null,null,0,2.4999999999999957E-4,{"$f":"COUNTIFS('C-E'!$E$13:$E$1001,PCMSO!B262)","v":0},{"$f":"COUNTIFS('C-E'!$E$13:$E$1001,PCMSO!$B262,'C-E'!$H$13:$H$1001,PCMSO!J$12)","v":0},{"$f":"COUNTIFS('C-E'!$E$13:$E$1001,PCMSO!$B262,'C-E'!$H$13:$H$1001,PCMSO!K$12)","v":0}]
[2.509999999999996E-4,null,null,null,null,null,0,2.509999999999996E-4,{"$f":"COUNTIFS('C-E'!$E$13:$E$1001,PCMSO!B263)","v":0},{"$f":"COUNTIFS('C-E'!$E$13:$E$1001,PCMSO!$B263,'C-E'!$H$13:$H$1001,PCMSO!J$12)","v":0},{"$f":"COUNTIFS('C-E'!$E$13:$E$1001,PCMSO!$B263,'C-E'!$H$13:$H$1001,PCMSO!K$12)","v":0}]
[2.5199999999999962E-4,null,null,null,null,null,0,2.5199999999999962E-4,{"$f":"COUNTIFS('C-E'!$E$13:$E$1001,PCMSO!B264)","v":0},{"$f":"COUNTIFS('C-E'!$E$13:$E$1001,PCMSO!$B264,'C-E'!$H$13:$H$1001,PCMSO!J$12)","v":0},{"$f":"COUNTIFS('C-E'!$E$13:$E$1001,PCMSO!$B264,'C-E'!$H$13:$H$1001,PCMSO!K$12)","v":0}]
[2.5299999999999964E-4,null,null,null,null,null,0,2.5299999999999964E-4,{"$f":"COUNTIFS('C-E'!$E$13:$E$1001,PCMSO!B265)","v":0},{"$f":"COUNTIFS('C-E'!$E$13:$E$1001,PCMSO!$B265,'C-E'!$H$13:$H$1001,PCMSO!J$12)","v":0},{"$f":"COUNTIFS('C-E'!$E$13:$E$1001,PCMSO!$B265,'C-E'!$H$13:$H$1001,PCMSO!K$12)","v":0}]
[2.5399999999999967E-4,null,null,null,null,null,0,2.5399999999999967E-4,{"$f":"COUNTIFS('C-E'!$E$13:$E$1001,PCMSO!B266)","v":0},{"$f":"COUNTIFS('C-E'!$E$13:$E$1001,PCMSO!$B266,'C-E'!$H$13:$H$1001,PCMSO!J$12)","v":0},{"$f":"COUNTIFS('C-E'!$E$13:$E$1001,PCMSO!$B266,'C-E'!$H$13:$H$1001,PCMSO!K$12)","v":0}]
[2.5499999999999969E-4,null,null,null,null,null,0,2.5499999999999969E-4,{"$f":"COUNTIFS('C-E'!$E$13:$E$1001,PCMSO!B267)","v":0},{"$f":"COUNTIFS('C-E'!$E$13:$E$1001,PCMSO!$B267,'C-E'!$H$13:$H$1001,PCMSO!J$12)","v":0},{"$f":"COUNTIFS('C-E'!$E$13:$E$1001,PCMSO!$B267,'C-E'!$H$13:$H$1001,PCMSO!K$12)","v":0}]
[2.5599999999999972E-4,null,null,null,null,null,0,2.5599999999999972E-4,{"$f":"COUNTIFS('C-E'!$E$13:$E$1001,PCMSO!B268)","v":0},{"$f":"COUNTIFS('C-E'!$E$13:$E$1001,PCMSO!$B268,'C-E'!$H$13:$H$1001,PCMSO!J$12)","v":0},{"$f":"COUNTIFS('C-E'!$E$13:$E$1001,PCMSO!$B268,'C-E'!$H$13:$H$1001,PCMSO!K$12)","v":0}]
[{"$f":"SUM(H269:I269)","v":2.5699999999999974E-4},null,null,null,null,null,0,2.5699999999999974E-4,{"$f":"COUNTIFS('C-E'!$E$13:$E$1001,PCMSO!B269)","v":0},{"$f":"COUNTIFS('C-E'!$E$13:$E$1001,PCMSO!$B269,'C-E'!$H$13:$H$1001,PCMSO!J$12)","v":0},{"$f":"COUNTIFS('C-E'!$E$13:$E$1001,PCMSO!$B269,'C-E'!$H$13:$H$1001,PCMSO!K$12)","v":0}]
[2.5799999999999977E-4,null,null,null,null,null,{"$f":"B270","v":0},2.5799999999999977E-4,{"$f":"COUNTIFS('C-E'!$E$13:$E$1001,PCMSO!B270)","v":0},{"$f":"COUNTIFS('C-E'!$E$13:$E$1001,PCMSO!$B270,'C-E'!$H$13:$H$1001,PCMSO!J$12)","v":0},{"$f":"COUNTIFS('C-E'!$E$13:$E$1001,PCMSO!$B270,'C-E'!$H$13:$H$1001,PCMSO!K$12)","v":0}]
[2.5899999999999979E-4,null,null,null,null,null,0,{"$f":"H270+$H$13","v":2.5899999999999979E-4},{"$f":"COUNTIFS('C-E'!$E$13:$E$1001,PCMSO!B271)","v":0},{"$f":"COUNTIFS('C-E'!$E$13:$E$1001,PCMSO!$B271,'C-E'!$H$13:$H$1001,PCMSO!J$12)","v":0},{"$f":"COUNTIFS('C-E'!$E$13:$E$1001,PCMSO!$B271,'C-E'!$H$13:$H$1001,PCMSO!K$12)","v":0}]
[2.5999999999999981E-4,null,null,null,null,null,0,2.5999999999999981E-4,{"$f":"COUNTIFS('C-E'!$E$13:$E$1001,PCMSO!B272)","v":0},{"$f":"COUNTIFS('C-E'!$E$13:$E$1001,PCMSO!$B272,'C-E'!$H$13:$H$1001,PCMSO!J$12)","v":0},{"$f":"COUNTIFS('C-E'!$E$13:$E$1001,PCMSO!$B272,'C-E'!$H$13:$H$1001,PCMSO!K$12)","v":0}]
[2.6099999999999984E-4,null,null,null,null,null,0,2.6099999999999984E-4,{"$f":"COUNTIFS('C-E'!$E$13:$E$1001,PCMSO!B273)","v":0},{"$f":"COUNTIFS('C-E'!$E$13:$E$1001,PCMSO!$B273,'C-E'!$H$13:$H$1001,PCMSO!J$12)","v":0},{"$f":"COUNTIFS('C-E'!$E$13:$E$1001,PCMSO!$B273,'C-E'!$H$13:$H$1001,PCMSO!K$12)","v":0}]
[2.6199999999999986E-4,null,null,null,null,null,0,2.6199999999999986E-4,{"$f":"COUNTIFS('C-E'!$E$13:$E$1001,PCMSO!B274)","v":0},{"$f":"COUNTIFS('C-E'!$E$13:$E$1001,PCMSO!$B274,'C-E'!$H$13:$H$1001,PCMSO!J$12)","v":0},{"$f":"COUNTIFS('C-E'!$E$13:$E$1001,PCMSO!$B274,'C-E'!$H$13:$H$1001,PCMSO!K$12)","v":0}]
[2.6299999999999989E-4,null,null,null,null,null,0,2.6299999999999989E-4,{"$f":"COUNTIFS('C-E'!$E$13:$E$1001,PCMSO!B275)","v":0},{"$f":"COUNTIFS('C-E'!$E$13:$E$1001,PCMSO!$B275,'C-E'!$H$13:$H$1001,PCMSO!J$12)","v":0},{"$f":"COUNTIFS('C-E'!$E$13:$E$1001,PCMSO!$B275,'C-E'!$H$13:$H$1001,PCMSO!K$12)","v":0}]
[2.6399999999999991E-4,null,null,null,null,null,0,2.6399999999999991E-4,{"$f":"COUNTIFS('C-E'!$E$13:$E$1001,PCMSO!B276)","v":0},{"$f":"COUNTIFS('C-E'!$E$13:$E$1001,PCMSO!$B276,'C-E'!$H$13:$H$1001,PCMSO!J$12)","v":0},{"$f":"COUNTIFS('C-E'!$E$13:$E$1001,PCMSO!$B276,'C-E'!$H$13:$H$1001,PCMSO!K$12)","v":0}]
[2.6499999999999994E-4,null,null,null,null,null,0,2.6499999999999994E-4,{"$f":"COUNTIFS('C-E'!$E$13:$E$1001,PCMSO!B277)","v":0},{"$f":"COUNTIFS('C-E'!$E$13:$E$1001,PCMSO!$B277,'C-E'!$H$13:$H$1001,PCMSO!J$12)","v":0},{"$f":"COUNTIFS('C-E'!$E$13:$E$1001,PCMSO!$B277,'C-E'!$H$13:$H$1001,PCMSO!K$12)","v":0}]
[2.6599999999999996E-4,null,null,null,null,null,0,2.6599999999999996E-4,{"$f":"COUNTIFS('C-E'!$E$13:$E$1001,PCMSO!B278)","v":0},{"$f":"COUNTIFS('C-E'!$E$13:$E$1001,PCMSO!$B278,'C-E'!$H$13:$H$1001,PCMSO!J$12)","v":0},{"$f":"COUNTIFS('C-E'!$E$13:$E$1001,PCMSO!$B278,'C-E'!$H$13:$H$1001,PCMSO!K$12)","v":0}]
[2.6699999999999998E-4,null,null,null,null,null,0,2.6699999999999998E-4,{"$f":"COUNTIFS('C-E'!$E$13:$E$1001,PCMSO!B279)","v":0},{"$f":"COUNTIFS('C-E'!$E$13:$E$1001,PCMSO!$B279,'C-E'!$H$13:$H$1001,PCMSO!J$12)","v":0},{"$f":"COUNTIFS('C-E'!$E$13:$E$1001,PCMSO!$B279,'C-E'!$H$13:$H$1001,PCMSO!K$12)","v":0}]
[2.6800000000000001E-4,null,null,null,null,null,0,2.6800000000000001E-4,{"$f":"COUNTIFS('C-E'!$E$13:$E$1001,PCMSO!B280)","v":0},{"$f":"COUNTIFS('C-E'!$E$13:$E$1001,PCMSO!$B280,'C-E'!$H$13:$H$1001,PCMSO!J$12)","v":0},{"$f":"COUNTIFS('C-E'!$E$13:$E$1001,PCMSO!$B280,'C-E'!$H$13:$H$1001,PCMSO!K$12)","v":0}]
[2.6900000000000003E-4,null,null,null,null,null,0,2.6900000000000003E-4,{"$f":"COUNTIFS('C-E'!$E$13:$E$1001,PCMSO!B281)","v":0},{"$f":"COUNTIFS('C-E'!$E$13:$E$1001,PCMSO!$B281,'C-E'!$H$13:$H$1001,PCMSO!J$12)","v":0},{"$f":"COUNTIFS('C-E'!$E$13:$E$1001,PCMSO!$B281,'C-E'!$H$13:$H$1001,PCMSO!K$12)","v":0}]
[2.7000000000000006E-4,null,null,null,null,null,0,2.7000000000000006E-4,{"$f":"COUNTIFS('C-E'!$E$13:$E$1001,PCMSO!B282)","v":0},{"$f":"COUNTIFS('C-E'!$E$13:$E$1001,PCMSO!$B282,'C-E'!$H$13:$H$1001,PCMSO!J$12)","v":0},{"$f":"COUNTIFS('C-E'!$E$13:$E$1001,PCMSO!$B282,'C-E'!$H$13:$H$1001,PCMSO!K$12)","v":0}]
[2.7100000000000008E-4,null,null,null,null,null,0,2.7100000000000008E-4,{"$f":"COUNTIFS('C-E'!$E$13:$E$1001,PCMSO!B283)","v":0},{"$f":"COUNTIFS('C-E'!$E$13:$E$1001,PCMSO!$B283,'C-E'!$H$13:$H$1001,PCMSO!J$12)","v":0},{"$f":"COUNTIFS('C-E'!$E$13:$E$1001,PCMSO!$B283,'C-E'!$H$13:$H$1001,PCMSO!K$12)","v":0}]
[2.7200000000000011E-4,null,null,null,null,null,0,2.7200000000000011E-4,{"$f":"COUNTIFS('C-E'!$E$13:$E$1001,PCMSO!B284)","v":0},{"$f":"COUNTIFS('C-E'!$E$13:$E$1001,PCMSO!$B284,'C-E'!$H$13:$H$1001,PCMSO!J$12)","v":0},{"$f":"COUNTIFS('C-E'!$E$13:$E$1001,PCMSO!$B284,'C-E'!$H$13:$H$1001,PCMSO!K$12)","v":0}]
[2.7300000000000013E-4,null,null,null,null,null,0,2.7300000000000013E-4,{"$f":"COUNTIFS('C-E'!$E$13:$E$1001,PCMSO!B285)","v":0},{"$f":"COUNTIFS('C-E'!$E$13:$E$1001,PCMSO!$B285,'C-E'!$H$13:$H$1001,PCMSO!J$12)","v":0},{"$f":"COUNTIFS('C-E'!$E$13:$E$1001,PCMSO!$B285,'C-E'!$H$13:$H$1001,PCMSO!K$12)","v":0}]
[2.7400000000000015E-4,null,null,null,null,null,0,2.7400000000000015E-4,{"$f":"COUNTIFS('C-E'!$E$13:$E$1001,PCMSO!B286)","v":0},{"$f":"COUNTIFS('C-E'!$E$13:$E$1001,PCMSO!$B286,'C-E'!$H$13:$H$1001,PCMSO!J$12)","v":0},{"$f":"COUNTIFS('C-E'!$E$13:$E$1001,PCMSO!$B286,'C-E'!$H$13:$H$1001,PCMSO!K$12)","v":0}]
[2.7500000000000018E-4,null,null,null,null,null,0,2.7500000000000018E-4,{"$f":"COUNTIFS('C-E'!$E$13:$E$1001,PCMSO!B287)","v":0},{"$f":"COUNTIFS('C-E'!$E$13:$E$1001,PCMSO!$B287,'C-E'!$H$13:$H$1001,PCMSO!J$12)","v":0},{"$f":"COUNTIFS('C-E'!$E$13:$E$1001,PCMSO!$B287,'C-E'!$H$13:$H$1001,PCMSO!K$12)","v":0}]
[2.760000000000002E-4,null,null,null,null,null,0,2.760000000000002E-4,{"$f":"COUNTIFS('C-E'!$E$13:$E$1001,PCMSO!B288)","v":0},{"$f":"COUNTIFS('C-E'!$E$13:$E$1001,PCMSO!$B288,'C-E'!$H$13:$H$1001,PCMSO!J$12)","v":0},{"$f":"COUNTIFS('C-E'!$E$13:$E$1001,PCMSO!$B288,'C-E'!$H$13:$H$1001,PCMSO!K$12)","v":0}]
[2.7700000000000023E-4,null,null,null,null,null,0,2.7700000000000023E-4,{"$f":"COUNTIFS('C-E'!$E$13:$E$1001,PCMSO!B289)","v":0},{"$f":"COUNTIFS('C-E'!$E$13:$E$1001,PCMSO!$B289,'C-E'!$H$13:$H$1001,PCMSO!J$12)","v":0},{"$f":"COUNTIFS('C-E'!$E$13:$E$1001,PCMSO!$B289,'C-E'!$H$13:$H$1001,PCMSO!K$12)","v":0}]
[2.7800000000000025E-4,null,null,null,null,null,0,2.7800000000000025E-4,{"$f":"COUNTIFS('C-E'!$E$13:$E$1001,PCMSO!B290)","v":0},{"$f":"COUNTIFS('C-E'!$E$13:$E$1001,PCMSO!$B290,'C-E'!$H$13:$H$1001,PCMSO!J$12)","v":0},{"$f":"COUNTIFS('C-E'!$E$13:$E$1001,PCMSO!$B290,'C-E'!$H$13:$H$1001,PCMSO!K$12)","v":0}]
[2.7900000000000028E-4,null,null,null,null,null,0,2.7900000000000028E-4,{"$f":"COUNTIFS('C-E'!$E$13:$E$1001,PCMSO!B291)","v":0},{"$f":"COUNTIFS('C-E'!$E$13:$E$1001,PCMSO!$B291,'C-E'!$H$13:$H$1001,PCMSO!J$12)","v":0},{"$f":"COUNTIFS('C-E'!$E$13:$E$1001,PCMSO!$B291,'C-E'!$H$13:$H$1001,PCMSO!K$12)","v":0}]
[2.800000000000003E-4,null,null,null,null,null,0,2.800000000000003E-4,{"$f":"COUNTIFS('C-E'!$E$13:$E$1001,PCMSO!B292)","v":0},{"$f":"COUNTIFS('C-E'!$E$13:$E$1001,PCMSO!$B292,'C-E'!$H$13:$H$1001,PCMSO!J$12)","v":0},{"$f":"COUNTIFS('C-E'!$E$13:$E$1001,PCMSO!$B292,'C-E'!$H$13:$H$1001,PCMSO!K$12)","v":0}]
[2.8100000000000033E-4,null,null,null,null,null,0,2.8100000000000033E-4,{"$f":"COUNTIFS('C-E'!$E$13:$E$1001,PCMSO!B293)","v":0},{"$f":"COUNTIFS('C-E'!$E$13:$E$1001,PCMSO!$B293,'C-E'!$H$13:$H$1001,PCMSO!J$12)","v":0},{"$f":"COUNTIFS('C-E'!$E$13:$E$1001,PCMSO!$B293,'C-E'!$H$13:$H$1001,PCMSO!K$12)","v":0}]
[2.8200000000000035E-4,null,null,null,null,null,0,2.8200000000000035E-4,{"$f":"COUNTIFS('C-E'!$E$13:$E$1001,PCMSO!B294)","v":0},{"$f":"COUNTIFS('C-E'!$E$13:$E$1001,PCMSO!$B294,'C-E'!$H$13:$H$1001,PCMSO!J$12)","v":0},{"$f":"COUNTIFS('C-E'!$E$13:$E$1001,PCMSO!$B294,'C-E'!$H$13:$H$1001,PCMSO!K$12)","v":0}]
[2.8300000000000037E-4,null,null,null,null,null,0,2.8300000000000037E-4,{"$f":"COUNTIFS('C-E'!$E$13:$E$1001,PCMSO!B295)","v":0},{"$f":"COUNTIFS('C-E'!$E$13:$E$1001,PCMSO!$B295,'C-E'!$H$13:$H$1001,PCMSO!J$12)","v":0},{"$f":"COUNTIFS('C-E'!$E$13:$E$1001,PCMSO!$B295,'C-E'!$H$13:$H$1001,PCMSO!K$12)","v":0}]
[2.840000000000004E-4,null,null,null,null,null,0,2.840000000000004E-4,{"$f":"COUNTIFS('C-E'!$E$13:$E$1001,PCMSO!B296)","v":0},{"$f":"COUNTIFS('C-E'!$E$13:$E$1001,PCMSO!$B296,'C-E'!$H$13:$H$1001,PCMSO!J$12)","v":0},{"$f":"COUNTIFS('C-E'!$E$13:$E$1001,PCMSO!$B296,'C-E'!$H$13:$H$1001,PCMSO!K$12)","v":0}]
[2.8500000000000042E-4,null,null,null,null,null,0,2.8500000000000042E-4,{"$f":"COUNTIFS('C-E'!$E$13:$E$1001,PCMSO!B297)","v":0},{"$f":"COUNTIFS('C-E'!$E$13:$E$1001,PCMSO!$B297,'C-E'!$H$13:$H$1001,PCMSO!J$12)","v":0},{"$f":"COUNTIFS('C-E'!$E$13:$E$1001,PCMSO!$B297,'C-E'!$H$13:$H$1001,PCMSO!K$12)","v":0}]
[2.8600000000000045E-4,null,null,null,null,null,0,2.8600000000000045E-4,{"$f":"COUNTIFS('C-E'!$E$13:$E$1001,PCMSO!B298)","v":0},{"$f":"COUNTIFS('C-E'!$E$13:$E$1001,PCMSO!$B298,'C-E'!$H$13:$H$1001,PCMSO!J$12)","v":0},{"$f":"COUNTIFS('C-E'!$E$13:$E$1001,PCMSO!$B298,'C-E'!$H$13:$H$1001,PCMSO!K$12)","v":0}]
[2.8700000000000047E-4,null,null,null,null,null,0,2.8700000000000047E-4,{"$f":"COUNTIFS('C-E'!$E$13:$E$1001,PCMSO!B299)","v":0},{"$f":"COUNTIFS('C-E'!$E$13:$E$1001,PCMSO!$B299,'C-E'!$H$13:$H$1001,PCMSO!J$12)","v":0},{"$f":"COUNTIFS('C-E'!$E$13:$E$1001,PCMSO!$B299,'C-E'!$H$13:$H$1001,PCMSO!K$12)","v":0}]
[2.880000000000005E-4,null,null,null,null,null,0,2.880000000000005E-4,{"$f":"COUNTIFS('C-E'!$E$13:$E$1001,PCMSO!B300)","v":0},{"$f":"COUNTIFS('C-E'!$E$13:$E$1001,PCMSO!$B300,'C-E'!$H$13:$H$1001,PCMSO!J$12)","v":0},{"$f":"COUNTIFS('C-E'!$E$13:$E$1001,PCMSO!$B300,'C-E'!$H$13:$H$1001,PCMSO!K$12)","v":0}]
[2.8900000000000052E-4,null,null,null,null,null,0,2.8900000000000052E-4,{"$f":"COUNTIFS('C-E'!$E$13:$E$1001,PCMSO!B301)","v":0},{"$f":"COUNTIFS('C-E'!$E$13:$E$1001,PCMSO!$B301,'C-E'!$H$13:$H$1001,PCMSO!J$12)","v":0},{"$f":"COUNTIFS('C-E'!$E$13:$E$1001,PCMSO!$B301,'C-E'!$H$13:$H$1001,PCMSO!K$12)","v":0}]
[2.9000000000000054E-4,null,null,null,null,null,0,2.9000000000000054E-4,{"$f":"COUNTIFS('C-E'!$E$13:$E$1001,PCMSO!B302)","v":0},{"$f":"COUNTIFS('C-E'!$E$13:$E$1001,PCMSO!$B302,'C-E'!$H$13:$H$1001,PCMSO!J$12)","v":0},{"$f":"COUNTIFS('C-E'!$E$13:$E$1001,PCMSO!$B302,'C-E'!$H$13:$H$1001,PCMSO!K$12)","v":0}]
[2.9100000000000057E-4,null,null,null,null,null,0,2.9100000000000057E-4,{"$f":"COUNTIFS('C-E'!$E$13:$E$1001,PCMSO!B303)","v":0},{"$f":"COUNTIFS('C-E'!$E$13:$E$1001,PCMSO!$B303,'C-E'!$H$13:$H$1001,PCMSO!J$12)","v":0},{"$f":"COUNTIFS('C-E'!$E$13:$E$1001,PCMSO!$B303,'C-E'!$H$13:$H$1001,PCMSO!K$12)","v":0}]
[2.9200000000000059E-4,null,null,null,null,null,0,2.9200000000000059E-4,{"$f":"COUNTIFS('C-E'!$E$13:$E$1001,PCMSO!B304)","v":0},{"$f":"COUNTIFS('C-E'!$E$13:$E$1001,PCMSO!$B304,'C-E'!$H$13:$H$1001,PCMSO!J$12)","v":0},{"$f":"COUNTIFS('C-E'!$E$13:$E$1001,PCMSO!$B304,'C-E'!$H$13:$H$1001,PCMSO!K$12)","v":0}]
[2.9300000000000062E-4,null,null,null,null,null,0,2.9300000000000062E-4,{"$f":"COUNTIFS('C-E'!$E$13:$E$1001,PCMSO!B305)","v":0},{"$f":"COUNTIFS('C-E'!$E$13:$E$1001,PCMSO!$B305,'C-E'!$H$13:$H$1001,PCMSO!J$12)","v":0},{"$f":"COUNTIFS('C-E'!$E$13:$E$1001,PCMSO!$B305,'C-E'!$H$13:$H$1001,PCMSO!K$12)","v":0}]
[2.9400000000000064E-4,null,null,null,null,null,0,2.9400000000000064E-4,{"$f":"COUNTIFS('C-E'!$E$13:$E$1001,PCMSO!B306)","v":0},{"$f":"COUNTIFS('C-E'!$E$13:$E$1001,PCMSO!$B306,'C-E'!$H$13:$H$1001,PCMSO!J$12)","v":0},{"$f":"COUNTIFS('C-E'!$E$13:$E$1001,PCMSO!$B306,'C-E'!$H$13:$H$1001,PCMSO!K$12)","v":0}]
[2.9500000000000067E-4,null,null,null,null,null,0,2.9500000000000067E-4,{"$f":"COUNTIFS('C-E'!$E$13:$E$1001,PCMSO!B307)","v":0},{"$f":"COUNTIFS('C-E'!$E$13:$E$1001,PCMSO!$B307,'C-E'!$H$13:$H$1001,PCMSO!J$12)","v":0},{"$f":"COUNTIFS('C-E'!$E$13:$E$1001,PCMSO!$B307,'C-E'!$H$13:$H$1001,PCMSO!K$12)","v":0}]
[2.9600000000000069E-4,null,null,null,null,null,0,2.9600000000000069E-4,{"$f":"COUNTIFS('C-E'!$E$13:$E$1001,PCMSO!B308)","v":0},{"$f":"COUNTIFS('C-E'!$E$13:$E$1001,PCMSO!$B308,'C-E'!$H$13:$H$1001,PCMSO!J$12)","v":0},{"$f":"COUNTIFS('C-E'!$E$13:$E$1001,PCMSO!$B308,'C-E'!$H$13:$H$1001,PCMSO!K$12)","v":0}]
[2.9700000000000071E-4,null,null,null,null,null,0,2.9700000000000071E-4,{"$f":"COUNTIFS('C-E'!$E$13:$E$1001,PCMSO!B309)","v":0},{"$f":"COUNTIFS('C-E'!$E$13:$E$1001,PCMSO!$B309,'C-E'!$H$13:$H$1001,PCMSO!J$12)","v":0},{"$f":"COUNTIFS('C-E'!$E$13:$E$1001,PCMSO!$B309,'C-E'!$H$13:$H$1001,PCMSO!K$12)","v":0}]
[2.9800000000000074E-4,null,null,null,null,null,0,2.9800000000000074E-4,{"$f":"COUNTIFS('C-E'!$E$13:$E$1001,PCMSO!B310)","v":0},{"$f":"COUNTIFS('C-E'!$E$13:$E$1001,PCMSO!$B310,'C-E'!$H$13:$H$1001,PCMSO!J$12)","v":0},{"$f":"COUNTIFS('C-E'!$E$13:$E$1001,PCMSO!$B310,'C-E'!$H$13:$H$1001,PCMSO!K$12)","v":0}]
[2.9900000000000076E-4,null,null,null,null,null,0,2.9900000000000076E-4,{"$f":"COUNTIFS('C-E'!$E$13:$E$1001,PCMSO!B311)","v":0},{"$f":"COUNTIFS('C-E'!$E$13:$E$1001,PCMSO!$B311,'C-E'!$H$13:$H$1001,PCMSO!J$12)","v":0},{"$f":"COUNTIFS('C-E'!$E$13:$E$1001,PCMSO!$B311,'C-E'!$H$13:$H$1001,PCMSO!K$12)","v":0}]
[3.0000000000000079E-4,null,null,null,null,null,0,3.0000000000000079E-4,{"$f":"COUNTIFS('C-E'!$E$13:$E$1001,PCMSO!B312)","v":0},{"$f":"COUNTIFS('C-E'!$E$13:$E$1001,PCMSO!$B312,'C-E'!$H$13:$H$1001,PCMSO!J$12)","v":0},{"$f":"COUNTIFS('C-E'!$E$13:$E$1001,PCMSO!$B312,'C-E'!$H$13:$H$1001,PCMSO!K$12)","v":0}]
[3.0100000000000081E-4,null,null,null,null,null,0,3.0100000000000081E-4,{"$f":"COUNTIFS('C-E'!$E$13:$E$1001,PCMSO!B313)","v":0},{"$f":"COUNTIFS('C-E'!$E$13:$E$1001,PCMSO!$B313,'C-E'!$H$13:$H$1001,PCMSO!J$12)","v":0},{"$f":"COUNTIFS('C-E'!$E$13:$E$1001,PCMSO!$B313,'C-E'!$H$13:$H$1001,PCMSO!K$12)","v":0}]
[3.0200000000000084E-4,null,null,null,null,null,0,3.0200000000000084E-4,{"$f":"COUNTIFS('C-E'!$E$13:$E$1001,PCMSO!B314)","v":0},{"$f":"COUNTIFS('C-E'!$E$13:$E$1001,PCMSO!$B314,'C-E'!$H$13:$H$1001,PCMSO!J$12)","v":0},{"$f":"COUNTIFS('C-E'!$E$13:$E$1001,PCMSO!$B314,'C-E'!$H$13:$H$1001,PCMSO!K$12)","v":0}]
[3.0300000000000086E-4,null,null,null,null,null,0,3.0300000000000086E-4,{"$f":"COUNTIFS('C-E'!$E$13:$E$1001,PCMSO!B315)","v":0},{"$f":"COUNTIFS('C-E'!$E$13:$E$1001,PCMSO!$B315,'C-E'!$H$13:$H$1001,PCMSO!J$12)","v":0},{"$f":"COUNTIFS('C-E'!$E$13:$E$1001,PCMSO!$B315,'C-E'!$H$13:$H$1001,PCMSO!K$12)","v":0}]
[3.0400000000000088E-4,null,null,null,null,null,0,3.0400000000000088E-4,{"$f":"COUNTIFS('C-E'!$E$13:$E$1001,PCMSO!B316)","v":0},{"$f":"COUNTIFS('C-E'!$E$13:$E$1001,PCMSO!$B316,'C-E'!$H$13:$H$1001,PCMSO!J$12)","v":0},{"$f":"COUNTIFS('C-E'!$E$13:$E$1001,PCMSO!$B316,'C-E'!$H$13:$H$1001,PCMSO!K$12)","v":0}]
[3.0500000000000091E-4,null,null,null,null,null,0,3.0500000000000091E-4,{"$f":"COUNTIFS('C-E'!$E$13:$E$1001,PCMSO!B317)","v":0},{"$f":"COUNTIFS('C-E'!$E$13:$E$1001,PCMSO!$B317,'C-E'!$H$13:$H$1001,PCMSO!J$12)","v":0},{"$f":"COUNTIFS('C-E'!$E$13:$E$1001,PCMSO!$B317,'C-E'!$H$13:$H$1001,PCMSO!K$12)","v":0}]
[3.0600000000000093E-4,null,null,null,null,null,0,3.0600000000000093E-4,{"$f":"COUNTIFS('C-E'!$E$13:$E$1001,PCMSO!B318)","v":0},{"$f":"COUNTIFS('C-E'!$E$13:$E$1001,PCMSO!$B318,'C-E'!$H$13:$H$1001,PCMSO!J$12)","v":0},{"$f":"COUNTIFS('C-E'!$E$13:$E$1001,PCMSO!$B318,'C-E'!$H$13:$H$1001,PCMSO!K$12)","v":0}]
[3.0700000000000096E-4,null,null,null,null,null,0,3.0700000000000096E-4,{"$f":"COUNTIFS('C-E'!$E$13:$E$1001,PCMSO!B319)","v":0},{"$f":"COUNTIFS('C-E'!$E$13:$E$1001,PCMSO!$B319,'C-E'!$H$13:$H$1001,PCMSO!J$12)","v":0},{"$f":"COUNTIFS('C-E'!$E$13:$E$1001,PCMSO!$B319,'C-E'!$H$13:$H$1001,PCMSO!K$12)","v":0}]
[3.0800000000000098E-4,null,null,null,null,null,0,3.0800000000000098E-4,{"$f":"COUNTIFS('C-E'!$E$13:$E$1001,PCMSO!B320)","v":0},{"$f":"COUNTIFS('C-E'!$E$13:$E$1001,PCMSO!$B320,'C-E'!$H$13:$H$1001,PCMSO!J$12)","v":0},{"$f":"COUNTIFS('C-E'!$E$13:$E$1001,PCMSO!$B320,'C-E'!$H$13:$H$1001,PCMSO!K$12)","v":0}]
[3.0900000000000101E-4,null,null,null,null,null,0,3.0900000000000101E-4,{"$f":"COUNTIFS('C-E'!$E$13:$E$1001,PCMSO!B321)","v":0},{"$f":"COUNTIFS('C-E'!$E$13:$E$1001,PCMSO!$B321,'C-E'!$H$13:$H$1001,PCMSO!J$12)","v":0},{"$f":"COUNTIFS('C-E'!$E$13:$E$1001,PCMSO!$B321,'C-E'!$H$13:$H$1001,PCMSO!K$12)","v":0}]
[3.1000000000000103E-4,null,null,null,null,null,0,3.1000000000000103E-4,{"$f":"COUNTIFS('C-E'!$E$13:$E$1001,PCMSO!B322)","v":0},{"$f":"COUNTIFS('C-E'!$E$13:$E$1001,PCMSO!$B322,'C-E'!$H$13:$H$1001,PCMSO!J$12)","v":0},{"$f":"COUNTIFS('C-E'!$E$13:$E$1001,PCMSO!$B322,'C-E'!$H$13:$H$1001,PCMSO!K$12)","v":0}]
[3.1100000000000105E-4,null,null,null,null,null,0,3.1100000000000105E-4,{"$f":"COUNTIFS('C-E'!$E$13:$E$1001,PCMSO!B323)","v":0},{"$f":"COUNTIFS('C-E'!$E$13:$E$1001,PCMSO!$B323,'C-E'!$H$13:$H$1001,PCMSO!J$12)","v":0},{"$f":"COUNTIFS('C-E'!$E$13:$E$1001,PCMSO!$B323,'C-E'!$H$13:$H$1001,PCMSO!K$12)","v":0}]
[3.1200000000000108E-4,null,null,null,null,null,0,3.1200000000000108E-4,{"$f":"COUNTIFS('C-E'!$E$13:$E$1001,PCMSO!B324)","v":0},{"$f":"COUNTIFS('C-E'!$E$13:$E$1001,PCMSO!$B324,'C-E'!$H$13:$H$1001,PCMSO!J$12)","v":0},{"$f":"COUNTIFS('C-E'!$E$13:$E$1001,PCMSO!$B324,'C-E'!$H$13:$H$1001,PCMSO!K$12)","v":0}]
[3.130000000000011E-4,null,null,null,null,null,0,3.130000000000011E-4,{"$f":"COUNTIFS('C-E'!$E$13:$E$1001,PCMSO!B325)","v":0},{"$f":"COUNTIFS('C-E'!$E$13:$E$1001,PCMSO!$B325,'C-E'!$H$13:$H$1001,PCMSO!J$12)","v":0},{"$f":"COUNTIFS('C-E'!$E$13:$E$1001,PCMSO!$B325,'C-E'!$H$13:$H$1001,PCMSO!K$12)","v":0}]
[3.1400000000000113E-4,null,null,null,null,null,0,3.1400000000000113E-4,{"$f":"COUNTIFS('C-E'!$E$13:$E$1001,PCMSO!B326)","v":0},{"$f":"COUNTIFS('C-E'!$E$13:$E$1001,PCMSO!$B326,'C-E'!$H$13:$H$1001,PCMSO!J$12)","v":0},{"$f":"COUNTIFS('C-E'!$E$13:$E$1001,PCMSO!$B326,'C-E'!$H$13:$H$1001,PCMSO!K$12)","v":0}]
[3.1500000000000115E-4,null,null,null,null,null,0,3.1500000000000115E-4,{"$f":"COUNTIFS('C-E'!$E$13:$E$1001,PCMSO!B327)","v":0},{"$f":"COUNTIFS('C-E'!$E$13:$E$1001,PCMSO!$B327,'C-E'!$H$13:$H$1001,PCMSO!J$12)","v":0},{"$f":"COUNTIFS('C-E'!$E$13:$E$1001,PCMSO!$B327,'C-E'!$H$13:$H$1001,PCMSO!K$12)","v":0}]
[3.1600000000000118E-4,null,null,null,null,null,0,3.1600000000000118E-4,{"$f":"COUNTIFS('C-E'!$E$13:$E$1001,PCMSO!B328)","v":0},{"$f":"COUNTIFS('C-E'!$E$13:$E$1001,PCMSO!$B328,'C-E'!$H$13:$H$1001,PCMSO!J$12)","v":0},{"$f":"COUNTIFS('C-E'!$E$13:$E$1001,PCMSO!$B328,'C-E'!$H$13:$H$1001,PCMSO!K$12)","v":0}]
[3.170000000000012E-4,null,null,null,null,null,0,3.170000000000012E-4,{"$f":"COUNTIFS('C-E'!$E$13:$E$1001,PCMSO!B329)","v":0},{"$f":"COUNTIFS('C-E'!$E$13:$E$1001,PCMSO!$B329,'C-E'!$H$13:$H$1001,PCMSO!J$12)","v":0},{"$f":"COUNTIFS('C-E'!$E$13:$E$1001,PCMSO!$B329,'C-E'!$H$13:$H$1001,PCMSO!K$12)","v":0}]
[3.1800000000000122E-4,null,null,null,null,null,0,3.1800000000000122E-4,{"$f":"COUNTIFS('C-E'!$E$13:$E$1001,PCMSO!B330)","v":0},{"$f":"COUNTIFS('C-E'!$E$13:$E$1001,PCMSO!$B330,'C-E'!$H$13:$H$1001,PCMSO!J$12)","v":0},{"$f":"COUNTIFS('C-E'!$E$13:$E$1001,PCMSO!$B330,'C-E'!$H$13:$H$1001,PCMSO!K$12)","v":0}]
[3.1900000000000125E-4,null,null,null,null,null,0,3.1900000000000125E-4,{"$f":"COUNTIFS('C-E'!$E$13:$E$1001,PCMSO!B331)","v":0},{"$f":"COUNTIFS('C-E'!$E$13:$E$1001,PCMSO!$B331,'C-E'!$H$13:$H$1001,PCMSO!J$12)","v":0},{"$f":"COUNTIFS('C-E'!$E$13:$E$1001,PCMSO!$B331,'C-E'!$H$13:$H$1001,PCMSO!K$12)","v":0}]
[3.2000000000000127E-4,null,null,null,null,null,0,3.2000000000000127E-4,{"$f":"COUNTIFS('C-E'!$E$13:$E$1001,PCMSO!B332)","v":0},{"$f":"COUNTIFS('C-E'!$E$13:$E$1001,PCMSO!$B332,'C-E'!$H$13:$H$1001,PCMSO!J$12)","v":0},{"$f":"COUNTIFS('C-E'!$E$13:$E$1001,PCMSO!$B332,'C-E'!$H$13:$H$1001,PCMSO!K$12)","v":0}]
[{"$f":"SUM(H333:I333)","v":3.210000000000013E-4},null,null,null,null,null,0,3.210000000000013E-4,{"$f":"COUNTIFS('C-E'!$E$13:$E$1001,PCMSO!B333)","v":0},{"$f":"COUNTIFS('C-E'!$E$13:$E$1001,PCMSO!$B333,'C-E'!$H$13:$H$1001,PCMSO!J$12)","v":0},{"$f":"COUNTIFS('C-E'!$E$13:$E$1001,PCMSO!$B333,'C-E'!$H$13:$H$1001,PCMSO!K$12)","v":0}]
[3.2200000000000132E-4,null,null,null,null,null,{"$f":"B334","v":0},3.2200000000000132E-4,{"$f":"COUNTIFS('C-E'!$E$13:$E$1001,PCMSO!B334)","v":0},{"$f":"COUNTIFS('C-E'!$E$13:$E$1001,PCMSO!$B334,'C-E'!$H$13:$H$1001,PCMSO!J$12)","v":0},{"$f":"COUNTIFS('C-E'!$E$13:$E$1001,PCMSO!$B334,'C-E'!$H$13:$H$1001,PCMSO!K$12)","v":0}]
[3.2300000000000135E-4,null,null,null,null,null,0,{"$f":"H334+$H$13","v":3.2300000000000135E-4},{"$f":"COUNTIFS('C-E'!$E$13:$E$1001,PCMSO!B335)","v":0},{"$f":"COUNTIFS('C-E'!$E$13:$E$1001,PCMSO!$B335,'C-E'!$H$13:$H$1001,PCMSO!J$12)","v":0},{"$f":"COUNTIFS('C-E'!$E$13:$E$1001,PCMSO!$B335,'C-E'!$H$13:$H$1001,PCMSO!K$12)","v":0}]
[3.2400000000000137E-4,null,null,null,null,null,0,3.2400000000000137E-4,{"$f":"COUNTIFS('C-E'!$E$13:$E$1001,PCMSO!B336)","v":0},{"$f":"COUNTIFS('C-E'!$E$13:$E$1001,PCMSO!$B336,'C-E'!$H$13:$H$1001,PCMSO!J$12)","v":0},{"$f":"COUNTIFS('C-E'!$E$13:$E$1001,PCMSO!$B336,'C-E'!$H$13:$H$1001,PCMSO!K$12)","v":0}]
[3.2500000000000139E-4,null,null,null,null,null,0,3.2500000000000139E-4,{"$f":"COUNTIFS('C-E'!$E$13:$E$1001,PCMSO!B337)","v":0},{"$f":"COUNTIFS('C-E'!$E$13:$E$1001,PCMSO!$B337,'C-E'!$H$13:$H$1001,PCMSO!J$12)","v":0},{"$f":"COUNTIFS('C-E'!$E$13:$E$1001,PCMSO!$B337,'C-E'!$H$13:$H$1001,PCMSO!K$12)","v":0}]
[3.2600000000000142E-4,null,null,null,null,null,0,3.2600000000000142E-4,{"$f":"COUNTIFS('C-E'!$E$13:$E$1001,PCMSO!B338)","v":0},{"$f":"COUNTIFS('C-E'!$E$13:$E$1001,PCMSO!$B338,'C-E'!$H$13:$H$1001,PCMSO!J$12)","v":0},{"$f":"COUNTIFS('C-E'!$E$13:$E$1001,PCMSO!$B338,'C-E'!$H$13:$H$1001,PCMSO!K$12)","v":0}]
[3.2700000000000144E-4,null,null,null,null,null,0,3.2700000000000144E-4,{"$f":"COUNTIFS('C-E'!$E$13:$E$1001,PCMSO!B339)","v":0},{"$f":"COUNTIFS('C-E'!$E$13:$E$1001,PCMSO!$B339,'C-E'!$H$13:$H$1001,PCMSO!J$12)","v":0},{"$f":"COUNTIFS('C-E'!$E$13:$E$1001,PCMSO!$B339,'C-E'!$H$13:$H$1001,PCMSO!K$12)","v":0}]
[3.2800000000000147E-4,null,null,null,null,null,0,3.2800000000000147E-4,{"$f":"COUNTIFS('C-E'!$E$13:$E$1001,PCMSO!B340)","v":0},{"$f":"COUNTIFS('C-E'!$E$13:$E$1001,PCMSO!$B340,'C-E'!$H$13:$H$1001,PCMSO!J$12)","v":0},{"$f":"COUNTIFS('C-E'!$E$13:$E$1001,PCMSO!$B340,'C-E'!$H$13:$H$1001,PCMSO!K$12)","v":0}]
[3.2900000000000149E-4,null,null,null,null,null,0,3.2900000000000149E-4,{"$f":"COUNTIFS('C-E'!$E$13:$E$1001,PCMSO!B341)","v":0},{"$f":"COUNTIFS('C-E'!$E$13:$E$1001,PCMSO!$B341,'C-E'!$H$13:$H$1001,PCMSO!J$12)","v":0},{"$f":"COUNTIFS('C-E'!$E$13:$E$1001,PCMSO!$B341,'C-E'!$H$13:$H$1001,PCMSO!K$12)","v":0}]
[3.3000000000000152E-4,null,null,null,null,null,0,3.3000000000000152E-4,{"$f":"COUNTIFS('C-E'!$E$13:$E$1001,PCMSO!B342)","v":0},{"$f":"COUNTIFS('C-E'!$E$13:$E$1001,PCMSO!$B342,'C-E'!$H$13:$H$1001,PCMSO!J$12)","v":0},{"$f":"COUNTIFS('C-E'!$E$13:$E$1001,PCMSO!$B342,'C-E'!$H$13:$H$1001,PCMSO!K$12)","v":0}]
[3.3100000000000154E-4,null,null,null,null,null,0,3.3100000000000154E-4,{"$f":"COUNTIFS('C-E'!$E$13:$E$1001,PCMSO!B343)","v":0},{"$f":"COUNTIFS('C-E'!$E$13:$E$1001,PCMSO!$B343,'C-E'!$H$13:$H$1001,PCMSO!J$12)","v":0},{"$f":"COUNTIFS('C-E'!$E$13:$E$1001,PCMSO!$B343,'C-E'!$H$13:$H$1001,PCMSO!K$12)","v":0}]
[3.3200000000000156E-4,null,null,null,null,null,0,3.3200000000000156E-4,{"$f":"COUNTIFS('C-E'!$E$13:$E$1001,PCMSO!B344)","v":0},{"$f":"COUNTIFS('C-E'!$E$13:$E$1001,PCMSO!$B344,'C-E'!$H$13:$H$1001,PCMSO!J$12)","v":0},{"$f":"COUNTIFS('C-E'!$E$13:$E$1001,PCMSO!$B344,'C-E'!$H$13:$H$1001,PCMSO!K$12)","v":0}]
[3.3300000000000159E-4,null,null,null,null,null,0,3.3300000000000159E-4,{"$f":"COUNTIFS('C-E'!$E$13:$E$1001,PCMSO!B345)","v":0},{"$f":"COUNTIFS('C-E'!$E$13:$E$1001,PCMSO!$B345,'C-E'!$H$13:$H$1001,PCMSO!J$12)","v":0},{"$f":"COUNTIFS('C-E'!$E$13:$E$1001,PCMSO!$B345,'C-E'!$H$13:$H$1001,PCMSO!K$12)","v":0}]
[3.3400000000000161E-4,null,null,null,null,null,0,3.3400000000000161E-4,{"$f":"COUNTIFS('C-E'!$E$13:$E$1001,PCMSO!B346)","v":0},{"$f":"COUNTIFS('C-E'!$E$13:$E$1001,PCMSO!$B346,'C-E'!$H$13:$H$1001,PCMSO!J$12)","v":0},{"$f":"COUNTIFS('C-E'!$E$13:$E$1001,PCMSO!$B346,'C-E'!$H$13:$H$1001,PCMSO!K$12)","v":0}]
[3.3500000000000164E-4,null,null,null,null,null,0,3.3500000000000164E-4,{"$f":"COUNTIFS('C-E'!$E$13:$E$1001,PCMSO!B347)","v":0},{"$f":"COUNTIFS('C-E'!$E$13:$E$1001,PCMSO!$B347,'C-E'!$H$13:$H$1001,PCMSO!J$12)","v":0},{"$f":"COUNTIFS('C-E'!$E$13:$E$1001,PCMSO!$B347,'C-E'!$H$13:$H$1001,PCMSO!K$12)","v":0}]
[3.3600000000000166E-4,null,null,null,null,null,0,3.3600000000000166E-4,{"$f":"COUNTIFS('C-E'!$E$13:$E$1001,PCMSO!B348)","v":0},{"$f":"COUNTIFS('C-E'!$E$13:$E$1001,PCMSO!$B348,'C-E'!$H$13:$H$1001,PCMSO!J$12)","v":0},{"$f":"COUNTIFS('C-E'!$E$13:$E$1001,PCMSO!$B348,'C-E'!$H$13:$H$1001,PCMSO!K$12)","v":0}]
[3.3700000000000169E-4,null,null,null,null,null,0,3.3700000000000169E-4,{"$f":"COUNTIFS('C-E'!$E$13:$E$1001,PCMSO!B349)","v":0},{"$f":"COUNTIFS('C-E'!$E$13:$E$1001,PCMSO!$B349,'C-E'!$H$13:$H$1001,PCMSO!J$12)","v":0},{"$f":"COUNTIFS('C-E'!$E$13:$E$1001,PCMSO!$B349,'C-E'!$H$13:$H$1001,PCMSO!K$12)","v":0}]
[3.3800000000000171E-4,null,null,null,null,null,0,3.3800000000000171E-4,{"$f":"COUNTIFS('C-E'!$E$13:$E$1001,PCMSO!B350)","v":0},{"$f":"COUNTIFS('C-E'!$E$13:$E$1001,PCMSO!$B350,'C-E'!$H$13:$H$1001,PCMSO!J$12)","v":0},{"$f":"COUNTIFS('C-E'!$E$13:$E$1001,PCMSO!$B350,'C-E'!$H$13:$H$1001,PCMSO!K$12)","v":0}]
[3.3900000000000173E-4,null,null,null,null,null,0,3.3900000000000173E-4,{"$f":"COUNTIFS('C-E'!$E$13:$E$1001,PCMSO!B351)","v":0},{"$f":"COUNTIFS('C-E'!$E$13:$E$1001,PCMSO!$B351,'C-E'!$H$13:$H$1001,PCMSO!J$12)","v":0},{"$f":"COUNTIFS('C-E'!$E$13:$E$1001,PCMSO!$B351,'C-E'!$H$13:$H$1001,PCMSO!K$12)","v":0}]
[3.4000000000000176E-4,null,null,null,null,null,0,3.4000000000000176E-4,{"$f":"COUNTIFS('C-E'!$E$13:$E$1001,PCMSO!B352)","v":0},{"$f":"COUNTIFS('C-E'!$E$13:$E$1001,PCMSO!$B352,'C-E'!$H$13:$H$1001,PCMSO!J$12)","v":0},{"$f":"COUNTIFS('C-E'!$E$13:$E$1001,PCMSO!$B352,'C-E'!$H$13:$H$1001,PCMSO!K$12)","v":0}]
[3.4100000000000178E-4,null,null,null,null,null,0,3.4100000000000178E-4,{"$f":"COUNTIFS('C-E'!$E$13:$E$1001,PCMSO!B353)","v":0},{"$f":"COUNTIFS('C-E'!$E$13:$E$1001,PCMSO!$B353,'C-E'!$H$13:$H$1001,PCMSO!J$12)","v":0},{"$f":"COUNTIFS('C-E'!$E$13:$E$1001,PCMSO!$B353,'C-E'!$H$13:$H$1001,PCMSO!K$12)","v":0}]
[3.4200000000000181E-4,null,null,null,null,null,0,3.4200000000000181E-4,{"$f":"COUNTIFS('C-E'!$E$13:$E$1001,PCMSO!B354)","v":0},{"$f":"COUNTIFS('C-E'!$E$13:$E$1001,PCMSO!$B354,'C-E'!$H$13:$H$1001,PCMSO!J$12)","v":0},{"$f":"COUNTIFS('C-E'!$E$13:$E$1001,PCMSO!$B354,'C-E'!$H$13:$H$1001,PCMSO!K$12)","v":0}]
[3.4300000000000183E-4,null,null,null,null,null,0,3.4300000000000183E-4,{"$f":"COUNTIFS('C-E'!$E$13:$E$1001,PCMSO!B355)","v":0},{"$f":"COUNTIFS('C-E'!$E$13:$E$1001,PCMSO!$B355,'C-E'!$H$13:$H$1001,PCMSO!J$12)","v":0},{"$f":"COUNTIFS('C-E'!$E$13:$E$1001,PCMSO!$B355,'C-E'!$H$13:$H$1001,PCMSO!K$12)","v":0}]
[3.4400000000000186E-4,null,null,null,null,null,0,3.4400000000000186E-4,{"$f":"COUNTIFS('C-E'!$E$13:$E$1001,PCMSO!B356)","v":0},{"$f":"COUNTIFS('C-E'!$E$13:$E$1001,PCMSO!$B356,'C-E'!$H$13:$H$1001,PCMSO!J$12)","v":0},{"$f":"COUNTIFS('C-E'!$E$13:$E$1001,PCMSO!$B356,'C-E'!$H$13:$H$1001,PCMSO!K$12)","v":0}]
[3.4500000000000188E-4,null,null,null,null,null,0,3.4500000000000188E-4,{"$f":"COUNTIFS('C-E'!$E$13:$E$1001,PCMSO!B357)","v":0},{"$f":"COUNTIFS('C-E'!$E$13:$E$1001,PCMSO!$B357,'C-E'!$H$13:$H$1001,PCMSO!J$12)","v":0},{"$f":"COUNTIFS('C-E'!$E$13:$E$1001,PCMSO!$B357,'C-E'!$H$13:$H$1001,PCMSO!K$12)","v":0}]
[3.460000000000019E-4,null,null,null,null,null,0,3.460000000000019E-4,{"$f":"COUNTIFS('C-E'!$E$13:$E$1001,PCMSO!B358)","v":0},{"$f":"COUNTIFS('C-E'!$E$13:$E$1001,PCMSO!$B358,'C-E'!$H$13:$H$1001,PCMSO!J$12)","v":0},{"$f":"COUNTIFS('C-E'!$E$13:$E$1001,PCMSO!$B358,'C-E'!$H$13:$H$1001,PCMSO!K$12)","v":0}]
[3.4700000000000193E-4,null,null,null,null,null,0,3.4700000000000193E-4,{"$f":"COUNTIFS('C-E'!$E$13:$E$1001,PCMSO!B359)","v":0},{"$f":"COUNTIFS('C-E'!$E$13:$E$1001,PCMSO!$B359,'C-E'!$H$13:$H$1001,PCMSO!J$12)","v":0},{"$f":"COUNTIFS('C-E'!$E$13:$E$1001,PCMSO!$B359,'C-E'!$H$13:$H$1001,PCMSO!K$12)","v":0}]
[3.4800000000000195E-4,null,null,null,null,null,0,3.4800000000000195E-4,{"$f":"COUNTIFS('C-E'!$E$13:$E$1001,PCMSO!B360)","v":0},{"$f":"COUNTIFS('C-E'!$E$13:$E$1001,PCMSO!$B360,'C-E'!$H$13:$H$1001,PCMSO!J$12)","v":0},{"$f":"COUNTIFS('C-E'!$E$13:$E$1001,PCMSO!$B360,'C-E'!$H$13:$H$1001,PCMSO!K$12)","v":0}]
[3.4900000000000198E-4,null,null,null,null,null,0,3.4900000000000198E-4,{"$f":"COUNTIFS('C-E'!$E$13:$E$1001,PCMSO!B361)","v":0},{"$f":"COUNTIFS('C-E'!$E$13:$E$1001,PCMSO!$B361,'C-E'!$H$13:$H$1001,PCMSO!J$12)","v":0},{"$f":"COUNTIFS('C-E'!$E$13:$E$1001,PCMSO!$B361,'C-E'!$H$13:$H$1001,PCMSO!K$12)","v":0}]
[3.50000000000002E-4,null,null,null,null,null,0,3.50000000000002E-4,{"$f":"COUNTIFS('C-E'!$E$13:$E$1001,PCMSO!B362)","v":0},{"$f":"COUNTIFS('C-E'!$E$13:$E$1001,PCMSO!$B362,'C-E'!$H$13:$H$1001,PCMSO!J$12)","v":0},{"$f":"COUNTIFS('C-E'!$E$13:$E$1001,PCMSO!$B362,'C-E'!$H$13:$H$1001,PCMSO!K$12)","v":0}]
[3.5100000000000203E-4,null,null,null,null,null,0,3.5100000000000203E-4,{"$f":"COUNTIFS('C-E'!$E$13:$E$1001,PCMSO!B363)","v":0},{"$f":"COUNTIFS('C-E'!$E$13:$E$1001,PCMSO!$B363,'C-E'!$H$13:$H$1001,PCMSO!J$12)","v":0},{"$f":"COUNTIFS('C-E'!$E$13:$E$1001,PCMSO!$B363,'C-E'!$H$13:$H$1001,PCMSO!K$12)","v":0}]
[3.5200000000000205E-4,null,null,null,null,null,0,3.5200000000000205E-4,{"$f":"COUNTIFS('C-E'!$E$13:$E$1001,PCMSO!B364)","v":0},{"$f":"COUNTIFS('C-E'!$E$13:$E$1001,PCMSO!$B364,'C-E'!$H$13:$H$1001,PCMSO!J$12)","v":0},{"$f":"COUNTIFS('C-E'!$E$13:$E$1001,PCMSO!$B364,'C-E'!$H$13:$H$1001,PCMSO!K$12)","v":0}]
[3.5300000000000208E-4,null,null,null,null,null,0,3.5300000000000208E-4,{"$f":"COUNTIFS('C-E'!$E$13:$E$1001,PCMSO!B365)","v":0},{"$f":"COUNTIFS('C-E'!$E$13:$E$1001,PCMSO!$B365,'C-E'!$H$13:$H$1001,PCMSO!J$12)","v":0},{"$f":"COUNTIFS('C-E'!$E$13:$E$1001,PCMSO!$B365,'C-E'!$H$13:$H$1001,PCMSO!K$12)","v":0}]
[3.540000000000021E-4,null,null,null,null,null,0,3.540000000000021E-4,{"$f":"COUNTIFS('C-E'!$E$13:$E$1001,PCMSO!B366)","v":0},{"$f":"COUNTIFS('C-E'!$E$13:$E$1001,PCMSO!$B366,'C-E'!$H$13:$H$1001,PCMSO!J$12)","v":0},{"$f":"COUNTIFS('C-E'!$E$13:$E$1001,PCMSO!$B366,'C-E'!$H$13:$H$1001,PCMSO!K$12)","v":0}]
[3.5500000000000212E-4,null,null,null,null,null,0,3.5500000000000212E-4,{"$f":"COUNTIFS('C-E'!$E$13:$E$1001,PCMSO!B367)","v":0},{"$f":"COUNTIFS('C-E'!$E$13:$E$1001,PCMSO!$B367,'C-E'!$H$13:$H$1001,PCMSO!J$12)","v":0},{"$f":"COUNTIFS('C-E'!$E$13:$E$1001,PCMSO!$B367,'C-E'!$H$13:$H$1001,PCMSO!K$12)","v":0}]
[3.5600000000000215E-4,null,null,null,null,null,0,3.5600000000000215E-4,{"$f":"COUNTIFS('C-E'!$E$13:$E$1001,PCMSO!B368)","v":0},{"$f":"COUNTIFS('C-E'!$E$13:$E$1001,PCMSO!$B368,'C-E'!$H$13:$H$1001,PCMSO!J$12)","v":0},{"$f":"COUNTIFS('C-E'!$E$13:$E$1001,PCMSO!$B368,'C-E'!$H$13:$H$1001,PCMSO!K$12)","v":0}]
[3.5700000000000217E-4,null,null,null,null,null,0,3.5700000000000217E-4,{"$f":"COUNTIFS('C-E'!$E$13:$E$1001,PCMSO!B369)","v":0},{"$f":"COUNTIFS('C-E'!$E$13:$E$1001,PCMSO!$B369,'C-E'!$H$13:$H$1001,PCMSO!J$12)","v":0},{"$f":"COUNTIFS('C-E'!$E$13:$E$1001,PCMSO!$B369,'C-E'!$H$13:$H$1001,PCMSO!K$12)","v":0}]
[3.580000000000022E-4,null,null,null,null,null,0,3.580000000000022E-4,{"$f":"COUNTIFS('C-E'!$E$13:$E$1001,PCMSO!B370)","v":0},{"$f":"COUNTIFS('C-E'!$E$13:$E$1001,PCMSO!$B370,'C-E'!$H$13:$H$1001,PCMSO!J$12)","v":0},{"$f":"COUNTIFS('C-E'!$E$13:$E$1001,PCMSO!$B370,'C-E'!$H$13:$H$1001,PCMSO!K$12)","v":0}]
[3.5900000000000222E-4,null,null,null,null,null,0,3.5900000000000222E-4,{"$f":"COUNTIFS('C-E'!$E$13:$E$1001,PCMSO!B371)","v":0},{"$f":"COUNTIFS('C-E'!$E$13:$E$1001,PCMSO!$B371,'C-E'!$H$13:$H$1001,PCMSO!J$12)","v":0},{"$f":"COUNTIFS('C-E'!$E$13:$E$1001,PCMSO!$B371,'C-E'!$H$13:$H$1001,PCMSO!K$12)","v":0}]
[3.6000000000000225E-4,null,null,null,null,null,0,3.6000000000000225E-4,{"$f":"COUNTIFS('C-E'!$E$13:$E$1001,PCMSO!B372)","v":0},{"$f":"COUNTIFS('C-E'!$E$13:$E$1001,PCMSO!$B372,'C-E'!$H$13:$H$1001,PCMSO!J$12)","v":0},{"$f":"COUNTIFS('C-E'!$E$13:$E$1001,PCMSO!$B372,'C-E'!$H$13:$H$1001,PCMSO!K$12)","v":0}]
[3.6100000000000227E-4,null,null,null,null,null,0,3.6100000000000227E-4,{"$f":"COUNTIFS('C-E'!$E$13:$E$1001,PCMSO!B373)","v":0},{"$f":"COUNTIFS('C-E'!$E$13:$E$1001,PCMSO!$B373,'C-E'!$H$13:$H$1001,PCMSO!J$12)","v":0},{"$f":"COUNTIFS('C-E'!$E$13:$E$1001,PCMSO!$B373,'C-E'!$H$13:$H$1001,PCMSO!K$12)","v":0}]
[3.6200000000000229E-4,null,null,null,null,null,0,3.6200000000000229E-4,{"$f":"COUNTIFS('C-E'!$E$13:$E$1001,PCMSO!B374)","v":0},{"$f":"COUNTIFS('C-E'!$E$13:$E$1001,PCMSO!$B374,'C-E'!$H$13:$H$1001,PCMSO!J$12)","v":0},{"$f":"COUNTIFS('C-E'!$E$13:$E$1001,PCMSO!$B374,'C-E'!$H$13:$H$1001,PCMSO!K$12)","v":0}]
[3.6300000000000232E-4,null,null,null,null,null,0,3.6300000000000232E-4,{"$f":"COUNTIFS('C-E'!$E$13:$E$1001,PCMSO!B375)","v":0},{"$f":"COUNTIFS('C-E'!$E$13:$E$1001,PCMSO!$B375,'C-E'!$H$13:$H$1001,PCMSO!J$12)","v":0},{"$f":"COUNTIFS('C-E'!$E$13:$E$1001,PCMSO!$B375,'C-E'!$H$13:$H$1001,PCMSO!K$12)","v":0}]
[3.6400000000000234E-4,null,null,null,null,null,0,3.6400000000000234E-4,{"$f":"COUNTIFS('C-E'!$E$13:$E$1001,PCMSO!B376)","v":0},{"$f":"COUNTIFS('C-E'!$E$13:$E$1001,PCMSO!$B376,'C-E'!$H$13:$H$1001,PCMSO!J$12)","v":0},{"$f":"COUNTIFS('C-E'!$E$13:$E$1001,PCMSO!$B376,'C-E'!$H$13:$H$1001,PCMSO!K$12)","v":0}]
[3.6500000000000237E-4,null,null,null,null,null,0,3.6500000000000237E-4,{"$f":"COUNTIFS('C-E'!$E$13:$E$1001,PCMSO!B377)","v":0},{"$f":"COUNTIFS('C-E'!$E$13:$E$1001,PCMSO!$B377,'C-E'!$H$13:$H$1001,PCMSO!J$12)","v":0},{"$f":"COUNTIFS('C-E'!$E$13:$E$1001,PCMSO!$B377,'C-E'!$H$13:$H$1001,PCMSO!K$12)","v":0}]
[3.6600000000000239E-4,null,null,null,null,null,0,3.6600000000000239E-4,{"$f":"COUNTIFS('C-E'!$E$13:$E$1001,PCMSO!B378)","v":0},{"$f":"COUNTIFS('C-E'!$E$13:$E$1001,PCMSO!$B378,'C-E'!$H$13:$H$1001,PCMSO!J$12)","v":0},{"$f":"COUNTIFS('C-E'!$E$13:$E$1001,PCMSO!$B378,'C-E'!$H$13:$H$1001,PCMSO!K$12)","v":0}]
[3.6700000000000242E-4,null,null,null,null,null,0,3.6700000000000242E-4,{"$f":"COUNTIFS('C-E'!$E$13:$E$1001,PCMSO!B379)","v":0},{"$f":"COUNTIFS('C-E'!$E$13:$E$1001,PCMSO!$B379,'C-E'!$H$13:$H$1001,PCMSO!J$12)","v":0},{"$f":"COUNTIFS('C-E'!$E$13:$E$1001,PCMSO!$B379,'C-E'!$H$13:$H$1001,PCMSO!K$12)","v":0}]
[3.6800000000000244E-4,null,null,null,null,null,0,3.6800000000000244E-4,{"$f":"COUNTIFS('C-E'!$E$13:$E$1001,PCMSO!B380)","v":0},{"$f":"COUNTIFS('C-E'!$E$13:$E$1001,PCMSO!$B380,'C-E'!$H$13:$H$1001,PCMSO!J$12)","v":0},{"$f":"COUNTIFS('C-E'!$E$13:$E$1001,PCMSO!$B380,'C-E'!$H$13:$H$1001,PCMSO!K$12)","v":0}]
[3.6900000000000246E-4,null,null,null,null,null,0,3.6900000000000246E-4,{"$f":"COUNTIFS('C-E'!$E$13:$E$1001,PCMSO!B381)","v":0},{"$f":"COUNTIFS('C-E'!$E$13:$E$1001,PCMSO!$B381,'C-E'!$H$13:$H$1001,PCMSO!J$12)","v":0},{"$f":"COUNTIFS('C-E'!$E$13:$E$1001,PCMSO!$B381,'C-E'!$H$13:$H$1001,PCMSO!K$12)","v":0}]
[3.7000000000000249E-4,null,null,null,null,null,0,3.7000000000000249E-4,{"$f":"COUNTIFS('C-E'!$E$13:$E$1001,PCMSO!B382)","v":0},{"$f":"COUNTIFS('C-E'!$E$13:$E$1001,PCMSO!$B382,'C-E'!$H$13:$H$1001,PCMSO!J$12)","v":0},{"$f":"COUNTIFS('C-E'!$E$13:$E$1001,PCMSO!$B382,'C-E'!$H$13:$H$1001,PCMSO!K$12)","v":0}]
[3.7100000000000251E-4,null,null,null,null,null,0,3.7100000000000251E-4,{"$f":"COUNTIFS('C-E'!$E$13:$E$1001,PCMSO!B383)","v":0},{"$f":"COUNTIFS('C-E'!$E$13:$E$1001,PCMSO!$B383,'C-E'!$H$13:$H$1001,PCMSO!J$12)","v":0},{"$f":"COUNTIFS('C-E'!$E$13:$E$1001,PCMSO!$B383,'C-E'!$H$13:$H$1001,PCMSO!K$12)","v":0}]
[3.7200000000000254E-4,null,null,null,null,null,0,3.7200000000000254E-4,{"$f":"COUNTIFS('C-E'!$E$13:$E$1001,PCMSO!B384)","v":0},{"$f":"COUNTIFS('C-E'!$E$13:$E$1001,PCMSO!$B384,'C-E'!$H$13:$H$1001,PCMSO!J$12)","v":0},{"$f":"COUNTIFS('C-E'!$E$13:$E$1001,PCMSO!$B384,'C-E'!$H$13:$H$1001,PCMSO!K$12)","v":0}]
[3.7300000000000256E-4,null,null,null,null,null,0,3.7300000000000256E-4,{"$f":"COUNTIFS('C-E'!$E$13:$E$1001,PCMSO!B385)","v":0},{"$f":"COUNTIFS('C-E'!$E$13:$E$1001,PCMSO!$B385,'C-E'!$H$13:$H$1001,PCMSO!J$12)","v":0},{"$f":"COUNTIFS('C-E'!$E$13:$E$1001,PCMSO!$B385,'C-E'!$H$13:$H$1001,PCMSO!K$12)","v":0}]
[3.7400000000000259E-4,null,null,null,null,null,0,3.7400000000000259E-4,{"$f":"COUNTIFS('C-E'!$E$13:$E$1001,PCMSO!B386)","v":0},{"$f":"COUNTIFS('C-E'!$E$13:$E$1001,PCMSO!$B386,'C-E'!$H$13:$H$1001,PCMSO!J$12)","v":0},{"$f":"COUNTIFS('C-E'!$E$13:$E$1001,PCMSO!$B386,'C-E'!$H$13:$H$1001,PCMSO!K$12)","v":0}]
[3.7500000000000261E-4,null,null,null,null,null,0,3.7500000000000261E-4,{"$f":"COUNTIFS('C-E'!$E$13:$E$1001,PCMSO!B387)","v":0},{"$f":"COUNTIFS('C-E'!$E$13:$E$1001,PCMSO!$B387,'C-E'!$H$13:$H$1001,PCMSO!J$12)","v":0},{"$f":"COUNTIFS('C-E'!$E$13:$E$1001,PCMSO!$B387,'C-E'!$H$13:$H$1001,PCMSO!K$12)","v":0}]
[3.7600000000000263E-4,null,null,null,null,null,0,3.7600000000000263E-4,{"$f":"COUNTIFS('C-E'!$E$13:$E$1001,PCMSO!B388)","v":0},{"$f":"COUNTIFS('C-E'!$E$13:$E$1001,PCMSO!$B388,'C-E'!$H$13:$H$1001,PCMSO!J$12)","v":0},{"$f":"COUNTIFS('C-E'!$E$13:$E$1001,PCMSO!$B388,'C-E'!$H$13:$H$1001,PCMSO!K$12)","v":0}]
[3.7700000000000266E-4,null,null,null,null,null,0,3.7700000000000266E-4,{"$f":"COUNTIFS('C-E'!$E$13:$E$1001,PCMSO!B389)","v":0},{"$f":"COUNTIFS('C-E'!$E$13:$E$1001,PCMSO!$B389,'C-E'!$H$13:$H$1001,PCMSO!J$12)","v":0},{"$f":"COUNTIFS('C-E'!$E$13:$E$1001,PCMSO!$B389,'C-E'!$H$13:$H$1001,PCMSO!K$12)","v":0}]
[3.7800000000000268E-4,null,null,null,null,null,0,3.7800000000000268E-4,{"$f":"COUNTIFS('C-E'!$E$13:$E$1001,PCMSO!B390)","v":0},{"$f":"COUNTIFS('C-E'!$E$13:$E$1001,PCMSO!$B390,'C-E'!$H$13:$H$1001,PCMSO!J$12)","v":0},{"$f":"COUNTIFS('C-E'!$E$13:$E$1001,PCMSO!$B390,'C-E'!$H$13:$H$1001,PCMSO!K$12)","v":0}]
[3.7900000000000271E-4,null,null,null,null,null,0,3.7900000000000271E-4,{"$f":"COUNTIFS('C-E'!$E$13:$E$1001,PCMSO!B391)","v":0},{"$f":"COUNTIFS('C-E'!$E$13:$E$1001,PCMSO!$B391,'C-E'!$H$13:$H$1001,PCMSO!J$12)","v":0},{"$f":"COUNTIFS('C-E'!$E$13:$E$1001,PCMSO!$B391,'C-E'!$H$13:$H$1001,PCMSO!K$12)","v":0}]
[3.8000000000000273E-4,null,null,null,null,null,0,3.8000000000000273E-4,{"$f":"COUNTIFS('C-E'!$E$13:$E$1001,PCMSO!B392)","v":0},{"$f":"COUNTIFS('C-E'!$E$13:$E$1001,PCMSO!$B392,'C-E'!$H$13:$H$1001,PCMSO!J$12)","v":0},{"$f":"COUNTIFS('C-E'!$E$13:$E$1001,PCMSO!$B392,'C-E'!$H$13:$H$1001,PCMSO!K$12)","v":0}]
[3.8100000000000276E-4,null,null,null,null,null,0,3.8100000000000276E-4,{"$f":"COUNTIFS('C-E'!$E$13:$E$1001,PCMSO!B393)","v":0},{"$f":"COUNTIFS('C-E'!$E$13:$E$1001,PCMSO!$B393,'C-E'!$H$13:$H$1001,PCMSO!J$12)","v":0},{"$f":"COUNTIFS('C-E'!$E$13:$E$1001,PCMSO!$B393,'C-E'!$H$13:$H$1001,PCMSO!K$12)","v":0}]
[3.8200000000000278E-4,null,null,null,null,null,0,3.8200000000000278E-4,{"$f":"COUNTIFS('C-E'!$E$13:$E$1001,PCMSO!B394)","v":0},{"$f":"COUNTIFS('C-E'!$E$13:$E$1001,PCMSO!$B394,'C-E'!$H$13:$H$1001,PCMSO!J$12)","v":0},{"$f":"COUNTIFS('C-E'!$E$13:$E$1001,PCMSO!$B394,'C-E'!$H$13:$H$1001,PCMSO!K$12)","v":0}]
[3.830000000000028E-4,null,null,null,null,null,0,3.830000000000028E-4,{"$f":"COUNTIFS('C-E'!$E$13:$E$1001,PCMSO!B395)","v":0},{"$f":"COUNTIFS('C-E'!$E$13:$E$1001,PCMSO!$B395,'C-E'!$H$13:$H$1001,PCMSO!J$12)","v":0},{"$f":"COUNTIFS('C-E'!$E$13:$E$1001,PCMSO!$B395,'C-E'!$H$13:$H$1001,PCMSO!K$12)","v":0}]
[3.8400000000000283E-4,null,null,null,null,null,0,3.8400000000000283E-4,{"$f":"COUNTIFS('C-E'!$E$13:$E$1001,PCMSO!B396)","v":0},{"$f":"COUNTIFS('C-E'!$E$13:$E$1001,PCMSO!$B396,'C-E'!$H$13:$H$1001,PCMSO!J$12)","v":0},{"$f":"COUNTIFS('C-E'!$E$13:$E$1001,PCMSO!$B396,'C-E'!$H$13:$H$1001,PCMSO!K$12)","v":0}]
[{"$f":"SUM(H397:I397)","v":3.8500000000000285E-4},null,null,null,null,null,0,3.8500000000000285E-4,{"$f":"COUNTIFS('C-E'!$E$13:$E$1001,PCMSO!B397)","v":0},{"$f":"COUNTIFS('C-E'!$E$13:$E$1001,PCMSO!$B397,'C-E'!$H$13:$H$1001,PCMSO!J$12)","v":0},{"$f":"COUNTIFS('C-E'!$E$13:$E$1001,PCMSO!$B397,'C-E'!$H$13:$H$1001,PCMSO!K$12)","v":0}]
[3.8600000000000288E-4,null,null,null,null,null,{"$f":"B398","v":0},3.8600000000000288E-4,{"$f":"COUNTIFS('C-E'!$E$13:$E$1001,PCMSO!B398)","v":0},{"$f":"COUNTIFS('C-E'!$E$13:$E$1001,PCMSO!$B398,'C-E'!$H$13:$H$1001,PCMSO!J$12)","v":0},{"$f":"COUNTIFS('C-E'!$E$13:$E$1001,PCMSO!$B398,'C-E'!$H$13:$H$1001,PCMSO!K$12)","v":0}]
[3.870000000000029E-4,null,null,null,null,null,0,{"$f":"H398+$H$13","v":3.870000000000029E-4},{"$f":"COUNTIFS('C-E'!$E$13:$E$1001,PCMSO!B399)","v":0},{"$f":"COUNTIFS('C-E'!$E$13:$E$1001,PCMSO!$B399,'C-E'!$H$13:$H$1001,PCMSO!J$12)","v":0},{"$f":"COUNTIFS('C-E'!$E$13:$E$1001,PCMSO!$B399,'C-E'!$H$13:$H$1001,PCMSO!K$12)","v":0}]
[3.8800000000000293E-4,null,null,null,null,null,0,3.8800000000000293E-4,{"$f":"COUNTIFS('C-E'!$E$13:$E$1001,PCMSO!B400)","v":0},{"$f":"COUNTIFS('C-E'!$E$13:$E$1001,PCMSO!$B400,'C-E'!$H$13:$H$1001,PCMSO!J$12)","v":0},{"$f":"COUNTIFS('C-E'!$E$13:$E$1001,PCMSO!$B400,'C-E'!$H$13:$H$1001,PCMSO!K$12)","v":0}]
[3.8900000000000295E-4,null,null,null,null,null,0,3.8900000000000295E-4,{"$f":"COUNTIFS('C-E'!$E$13:$E$1001,PCMSO!B401)","v":0},{"$f":"COUNTIFS('C-E'!$E$13:$E$1001,PCMSO!$B401,'C-E'!$H$13:$H$1001,PCMSO!J$12)","v":0},{"$f":"COUNTIFS('C-E'!$E$13:$E$1001,PCMSO!$B401,'C-E'!$H$13:$H$1001,PCMSO!K$12)","v":0}]
[3.9000000000000297E-4,null,null,null,null,null,0,3.9000000000000297E-4,{"$f":"COUNTIFS('C-E'!$E$13:$E$1001,PCMSO!B402)","v":0},{"$f":"COUNTIFS('C-E'!$E$13:$E$1001,PCMSO!$B402,'C-E'!$H$13:$H$1001,PCMSO!J$12)","v":0},{"$f":"COUNTIFS('C-E'!$E$13:$E$1001,PCMSO!$B402,'C-E'!$H$13:$H$1001,PCMSO!K$12)","v":0}]
[3.91000000000003E-4,null,null,null,null,null,0,3.91000000000003E-4,{"$f":"COUNTIFS('C-E'!$E$13:$E$1001,PCMSO!B403)","v":0},{"$f":"COUNTIFS('C-E'!$E$13:$E$1001,PCMSO!$B403,'C-E'!$H$13:$H$1001,PCMSO!J$12)","v":0},{"$f":"COUNTIFS('C-E'!$E$13:$E$1001,PCMSO!$B403,'C-E'!$H$13:$H$1001,PCMSO!K$12)","v":0}]
[3.9200000000000302E-4,null,null,null,null,null,0,3.9200000000000302E-4,{"$f":"COUNTIFS('C-E'!$E$13:$E$1001,PCMSO!B404)","v":0},{"$f":"COUNTIFS('C-E'!$E$13:$E$1001,PCMSO!$B404,'C-E'!$H$13:$H$1001,PCMSO!J$12)","v":0},{"$f":"COUNTIFS('C-E'!$E$13:$E$1001,PCMSO!$B404,'C-E'!$H$13:$H$1001,PCMSO!K$12)","v":0}]
[3.9300000000000305E-4,null,null,null,null,null,0,3.9300000000000305E-4,{"$f":"COUNTIFS('C-E'!$E$13:$E$1001,PCMSO!B405)","v":0},{"$f":"COUNTIFS('C-E'!$E$13:$E$1001,PCMSO!$B405,'C-E'!$H$13:$H$1001,PCMSO!J$12)","v":0},{"$f":"COUNTIFS('C-E'!$E$13:$E$1001,PCMSO!$B405,'C-E'!$H$13:$H$1001,PCMSO!K$12)","v":0}]
[3.9400000000000307E-4,null,null,null,null,null,0,3.9400000000000307E-4,{"$f":"COUNTIFS('C-E'!$E$13:$E$1001,PCMSO!B406)","v":0},{"$f":"COUNTIFS('C-E'!$E$13:$E$1001,PCMSO!$B406,'C-E'!$H$13:$H$1001,PCMSO!J$12)","v":0},{"$f":"COUNTIFS('C-E'!$E$13:$E$1001,PCMSO!$B406,'C-E'!$H$13:$H$1001,PCMSO!K$12)","v":0}]
[3.950000000000031E-4,null,null,null,null,null,0,3.950000000000031E-4,{"$f":"COUNTIFS('C-E'!$E$13:$E$1001,PCMSO!B407)","v":0},{"$f":"COUNTIFS('C-E'!$E$13:$E$1001,PCMSO!$B407,'C-E'!$H$13:$H$1001,PCMSO!J$12)","v":0},{"$f":"COUNTIFS('C-E'!$E$13:$E$1001,PCMSO!$B407,'C-E'!$H$13:$H$1001,PCMSO!K$12)","v":0}]
[3.9600000000000312E-4,null,null,null,null,null,0,3.9600000000000312E-4,{"$f":"COUNTIFS('C-E'!$E$13:$E$1001,PCMSO!B408)","v":0},{"$f":"COUNTIFS('C-E'!$E$13:$E$1001,PCMSO!$B408,'C-E'!$H$13:$H$1001,PCMSO!J$12)","v":0},{"$f":"COUNTIFS('C-E'!$E$13:$E$1001,PCMSO!$B408,'C-E'!$H$13:$H$1001,PCMSO!K$12)","v":0}]
[3.9700000000000314E-4,null,null,null,null,null,0,3.9700000000000314E-4,{"$f":"COUNTIFS('C-E'!$E$13:$E$1001,PCMSO!B409)","v":0},{"$f":"COUNTIFS('C-E'!$E$13:$E$1001,PCMSO!$B409,'C-E'!$H$13:$H$1001,PCMSO!J$12)","v":0},{"$f":"COUNTIFS('C-E'!$E$13:$E$1001,PCMSO!$B409,'C-E'!$H$13:$H$1001,PCMSO!K$12)","v":0}]
[3.9800000000000317E-4,null,null,null,null,null,0,3.9800000000000317E-4,{"$f":"COUNTIFS('C-E'!$E$13:$E$1001,PCMSO!B410)","v":0},{"$f":"COUNTIFS('C-E'!$E$13:$E$1001,PCMSO!$B410,'C-E'!$H$13:$H$1001,PCMSO!J$12)","v":0},{"$f":"COUNTIFS('C-E'!$E$13:$E$1001,PCMSO!$B410,'C-E'!$H$13:$H$1001,PCMSO!K$12)","v":0}]
[3.9900000000000319E-4,null,null,null,null,null,0,3.9900000000000319E-4,{"$f":"COUNTIFS('C-E'!$E$13:$E$1001,PCMSO!B411)","v":0},{"$f":"COUNTIFS('C-E'!$E$13:$E$1001,PCMSO!$B411,'C-E'!$H$13:$H$1001,PCMSO!J$12)","v":0},{"$f":"COUNTIFS('C-E'!$E$13:$E$1001,PCMSO!$B411,'C-E'!$H$13:$H$1001,PCMSO!K$12)","v":0}]
[4.0000000000000322E-4,null,null,null,null,null,0,4.0000000000000322E-4,{"$f":"COUNTIFS('C-E'!$E$13:$E$1001,PCMSO!B412)","v":0},{"$f":"COUNTIFS('C-E'!$E$13:$E$1001,PCMSO!$B412,'C-E'!$H$13:$H$1001,PCMSO!J$12)","v":0},{"$f":"COUNTIFS('C-E'!$E$13:$E$1001,PCMSO!$B412,'C-E'!$H$13:$H$1001,PCMSO!K$12)","v":0}]
[4.0100000000000324E-4,null,null,null,null,null,0,4.0100000000000324E-4,{"$f":"COUNTIFS('C-E'!$E$13:$E$1001,PCMSO!B413)","v":0},{"$f":"COUNTIFS('C-E'!$E$13:$E$1001,PCMSO!$B413,'C-E'!$H$13:$H$1001,PCMSO!J$12)","v":0},{"$f":"COUNTIFS('C-E'!$E$13:$E$1001,PCMSO!$B413,'C-E'!$H$13:$H$1001,PCMSO!K$12)","v":0}]
[4.0200000000000327E-4,null,null,null,null,null,0,4.0200000000000327E-4,{"$f":"COUNTIFS('C-E'!$E$13:$E$1001,PCMSO!B414)","v":0},{"$f":"COUNTIFS('C-E'!$E$13:$E$1001,PCMSO!$B414,'C-E'!$H$13:$H$1001,PCMSO!J$12)","v":0},{"$f":"COUNTIFS('C-E'!$E$13:$E$1001,PCMSO!$B414,'C-E'!$H$13:$H$1001,PCMSO!K$12)","v":0}]
[4.0300000000000329E-4,null,null,null,null,null,0,4.0300000000000329E-4,{"$f":"COUNTIFS('C-E'!$E$13:$E$1001,PCMSO!B415)","v":0},{"$f":"COUNTIFS('C-E'!$E$13:$E$1001,PCMSO!$B415,'C-E'!$H$13:$H$1001,PCMSO!J$12)","v":0},{"$f":"COUNTIFS('C-E'!$E$13:$E$1001,PCMSO!$B415,'C-E'!$H$13:$H$1001,PCMSO!K$12)","v":0}]
[4.0400000000000331E-4,null,null,null,null,null,0,4.0400000000000331E-4,{"$f":"COUNTIFS('C-E'!$E$13:$E$1001,PCMSO!B416)","v":0},{"$f":"COUNTIFS('C-E'!$E$13:$E$1001,PCMSO!$B416,'C-E'!$H$13:$H$1001,PCMSO!J$12)","v":0},{"$f":"COUNTIFS('C-E'!$E$13:$E$1001,PCMSO!$B416,'C-E'!$H$13:$H$1001,PCMSO!K$12)","v":0}]
[4.0500000000000334E-4,null,null,null,null,null,0,4.0500000000000334E-4,{"$f":"COUNTIFS('C-E'!$E$13:$E$1001,PCMSO!B417)","v":0},{"$f":"COUNTIFS('C-E'!$E$13:$E$1001,PCMSO!$B417,'C-E'!$H$13:$H$1001,PCMSO!J$12)","v":0},{"$f":"COUNTIFS('C-E'!$E$13:$E$1001,PCMSO!$B417,'C-E'!$H$13:$H$1001,PCMSO!K$12)","v":0}]
[4.0600000000000336E-4,null,null,null,null,null,0,4.0600000000000336E-4,{"$f":"COUNTIFS('C-E'!$E$13:$E$1001,PCMSO!B418)","v":0},{"$f":"COUNTIFS('C-E'!$E$13:$E$1001,PCMSO!$B418,'C-E'!$H$13:$H$1001,PCMSO!J$12)","v":0},{"$f":"COUNTIFS('C-E'!$E$13:$E$1001,PCMSO!$B418,'C-E'!$H$13:$H$1001,PCMSO!K$12)","v":0}]
[4.0700000000000339E-4,null,null,null,null,null,0,4.0700000000000339E-4,{"$f":"COUNTIFS('C-E'!$E$13:$E$1001,PCMSO!B419)","v":0},{"$f":"COUNTIFS('C-E'!$E$13:$E$1001,PCMSO!$B419,'C-E'!$H$13:$H$1001,PCMSO!J$12)","v":0},{"$f":"COUNTIFS('C-E'!$E$13:$E$1001,PCMSO!$B419,'C-E'!$H$13:$H$1001,PCMSO!K$12)","v":0}]
[4.0800000000000341E-4,null,null,null,null,null,0,4.0800000000000341E-4,{"$f":"COUNTIFS('C-E'!$E$13:$E$1001,PCMSO!B420)","v":0},{"$f":"COUNTIFS('C-E'!$E$13:$E$1001,PCMSO!$B420,'C-E'!$H$13:$H$1001,PCMSO!J$12)","v":0},{"$f":"COUNTIFS('C-E'!$E$13:$E$1001,PCMSO!$B420,'C-E'!$H$13:$H$1001,PCMSO!K$12)","v":0}]
[4.0900000000000344E-4,null,null,null,null,null,0,4.0900000000000344E-4,{"$f":"COUNTIFS('C-E'!$E$13:$E$1001,PCMSO!B421)","v":0},{"$f":"COUNTIFS('C-E'!$E$13:$E$1001,PCMSO!$B421,'C-E'!$H$13:$H$1001,PCMSO!J$12)","v":0},{"$f":"COUNTIFS('C-E'!$E$13:$E$1001,PCMSO!$B421,'C-E'!$H$13:$H$1001,PCMSO!K$12)","v":0}]
[4.1000000000000346E-4,null,null,null,null,null,0,4.1000000000000346E-4,{"$f":"COUNTIFS('C-E'!$E$13:$E$1001,PCMSO!B422)","v":0},{"$f":"COUNTIFS('C-E'!$E$13:$E$1001,PCMSO!$B422,'C-E'!$H$13:$H$1001,PCMSO!J$12)","v":0},{"$f":"COUNTIFS('C-E'!$E$13:$E$1001,PCMSO!$B422,'C-E'!$H$13:$H$1001,PCMSO!K$12)","v":0}]
[4.1100000000000348E-4,null,null,null,null,null,0,4.1100000000000348E-4,{"$f":"COUNTIFS('C-E'!$E$13:$E$1001,PCMSO!B423)","v":0},{"$f":"COUNTIFS('C-E'!$E$13:$E$1001,PCMSO!$B423,'C-E'!$H$13:$H$1001,PCMSO!J$12)","v":0},{"$f":"COUNTIFS('C-E'!$E$13:$E$1001,PCMSO!$B423,'C-E'!$H$13:$H$1001,PCMSO!K$12)","v":0}]
[4.1200000000000351E-4,null,null,null,null,null,0,4.1200000000000351E-4,{"$f":"COUNTIFS('C-E'!$E$13:$E$1001,PCMSO!B424)","v":0},{"$f":"COUNTIFS('C-E'!$E$13:$E$1001,PCMSO!$B424,'C-E'!$H$13:$H$1001,PCMSO!J$12)","v":0},{"$f":"COUNTIFS('C-E'!$E$13:$E$1001,PCMSO!$B424,'C-E'!$H$13:$H$1001,PCMSO!K$12)","v":0}]
[4.1300000000000353E-4,null,null,null,null,null,0,4.1300000000000353E-4,{"$f":"COUNTIFS('C-E'!$E$13:$E$1001,PCMSO!B425)","v":0},{"$f":"COUNTIFS('C-E'!$E$13:$E$1001,PCMSO!$B425,'C-E'!$H$13:$H$1001,PCMSO!J$12)","v":0},{"$f":"COUNTIFS('C-E'!$E$13:$E$1001,PCMSO!$B425,'C-E'!$H$13:$H$1001,PCMSO!K$12)","v":0}]
[4.1400000000000356E-4,null,null,null,null,null,0,4.1400000000000356E-4,{"$f":"COUNTIFS('C-E'!$E$13:$E$1001,PCMSO!B426)","v":0},{"$f":"COUNTIFS('C-E'!$E$13:$E$1001,PCMSO!$B426,'C-E'!$H$13:$H$1001,PCMSO!J$12)","v":0},{"$f":"COUNTIFS('C-E'!$E$13:$E$1001,PCMSO!$B426,'C-E'!$H$13:$H$1001,PCMSO!K$12)","v":0}]
[4.1500000000000358E-4,null,null,null,null,null,0,4.1500000000000358E-4,{"$f":"COUNTIFS('C-E'!$E$13:$E$1001,PCMSO!B427)","v":0},{"$f":"COUNTIFS('C-E'!$E$13:$E$1001,PCMSO!$B427,'C-E'!$H$13:$H$1001,PCMSO!J$12)","v":0},{"$f":"COUNTIFS('C-E'!$E$13:$E$1001,PCMSO!$B427,'C-E'!$H$13:$H$1001,PCMSO!K$12)","v":0}]
[4.1600000000000361E-4,null,null,null,null,null,0,4.1600000000000361E-4,{"$f":"COUNTIFS('C-E'!$E$13:$E$1001,PCMSO!B428)","v":0},{"$f":"COUNTIFS('C-E'!$E$13:$E$1001,PCMSO!$B428,'C-E'!$H$13:$H$1001,PCMSO!J$12)","v":0},{"$f":"COUNTIFS('C-E'!$E$13:$E$1001,PCMSO!$B428,'C-E'!$H$13:$H$1001,PCMSO!K$12)","v":0}]
[4.1700000000000363E-4,null,null,null,null,null,0,4.1700000000000363E-4,{"$f":"COUNTIFS('C-E'!$E$13:$E$1001,PCMSO!B429)","v":0},{"$f":"COUNTIFS('C-E'!$E$13:$E$1001,PCMSO!$B429,'C-E'!$H$13:$H$1001,PCMSO!J$12)","v":0},{"$f":"COUNTIFS('C-E'!$E$13:$E$1001,PCMSO!$B429,'C-E'!$H$13:$H$1001,PCMSO!K$12)","v":0}]
[4.1800000000000366E-4,null,null,null,null,null,0,4.1800000000000366E-4,{"$f":"COUNTIFS('C-E'!$E$13:$E$1001,PCMSO!B430)","v":0},{"$f":"COUNTIFS('C-E'!$E$13:$E$1001,PCMSO!$B430,'C-E'!$H$13:$H$1001,PCMSO!J$12)","v":0},{"$f":"COUNTIFS('C-E'!$E$13:$E$1001,PCMSO!$B430,'C-E'!$H$13:$H$1001,PCMSO!K$12)","v":0}]
[4.1900000000000368E-4,null,null,null,null,null,0,4.1900000000000368E-4,{"$f":"COUNTIFS('C-E'!$E$13:$E$1001,PCMSO!B431)","v":0},{"$f":"COUNTIFS('C-E'!$E$13:$E$1001,PCMSO!$B431,'C-E'!$H$13:$H$1001,PCMSO!J$12)","v":0},{"$f":"COUNTIFS('C-E'!$E$13:$E$1001,PCMSO!$B431,'C-E'!$H$13:$H$1001,PCMSO!K$12)","v":0}]
[4.200000000000037E-4,null,null,null,null,null,0,4.200000000000037E-4,{"$f":"COUNTIFS('C-E'!$E$13:$E$1001,PCMSO!B432)","v":0},{"$f":"COUNTIFS('C-E'!$E$13:$E$1001,PCMSO!$B432,'C-E'!$H$13:$H$1001,PCMSO!J$12)","v":0},{"$f":"COUNTIFS('C-E'!$E$13:$E$1001,PCMSO!$B432,'C-E'!$H$13:$H$1001,PCMSO!K$12)","v":0}]
[4.2100000000000373E-4,null,null,null,null,null,0,4.2100000000000373E-4,{"$f":"COUNTIFS('C-E'!$E$13:$E$1001,PCMSO!B433)","v":0},{"$f":"COUNTIFS('C-E'!$E$13:$E$1001,PCMSO!$B433,'C-E'!$H$13:$H$1001,PCMSO!J$12)","v":0},{"$f":"COUNTIFS('C-E'!$E$13:$E$1001,PCMSO!$B433,'C-E'!$H$13:$H$1001,PCMSO!K$12)","v":0}]
[4.2200000000000375E-4,null,null,null,null,null,0,4.2200000000000375E-4,{"$f":"COUNTIFS('C-E'!$E$13:$E$1001,PCMSO!B434)","v":0},{"$f":"COUNTIFS('C-E'!$E$13:$E$1001,PCMSO!$B434,'C-E'!$H$13:$H$1001,PCMSO!J$12)","v":0},{"$f":"COUNTIFS('C-E'!$E$13:$E$1001,PCMSO!$B434,'C-E'!$H$13:$H$1001,PCMSO!K$12)","v":0}]
[4.2300000000000378E-4,null,null,null,null,null,0,4.2300000000000378E-4,{"$f":"COUNTIFS('C-E'!$E$13:$E$1001,PCMSO!B435)","v":0},{"$f":"COUNTIFS('C-E'!$E$13:$E$1001,PCMSO!$B435,'C-E'!$H$13:$H$1001,PCMSO!J$12)","v":0},{"$f":"COUNTIFS('C-E'!$E$13:$E$1001,PCMSO!$B435,'C-E'!$H$13:$H$1001,PCMSO!K$12)","v":0}]
[4.240000000000038E-4,null,null,null,null,null,0,4.240000000000038E-4,{"$f":"COUNTIFS('C-E'!$E$13:$E$1001,PCMSO!B436)","v":0},{"$f":"COUNTIFS('C-E'!$E$13:$E$1001,PCMSO!$B436,'C-E'!$H$13:$H$1001,PCMSO!J$12)","v":0},{"$f":"COUNTIFS('C-E'!$E$13:$E$1001,PCMSO!$B436,'C-E'!$H$13:$H$1001,PCMSO!K$12)","v":0}]
[4.2500000000000383E-4,null,null,null,null,null,0,4.2500000000000383E-4,{"$f":"COUNTIFS('C-E'!$E$13:$E$1001,PCMSO!B437)","v":0},{"$f":"COUNTIFS('C-E'!$E$13:$E$1001,PCMSO!$B437,'C-E'!$H$13:$H$1001,PCMSO!J$12)","v":0},{"$f":"COUNTIFS('C-E'!$E$13:$E$1001,PCMSO!$B437,'C-E'!$H$13:$H$1001,PCMSO!K$12)","v":0}]
[4.2600000000000385E-4,null,null,null,null,null,0,4.2600000000000385E-4,{"$f":"COUNTIFS('C-E'!$E$13:$E$1001,PCMSO!B438)","v":0},{"$f":"COUNTIFS('C-E'!$E$13:$E$1001,PCMSO!$B438,'C-E'!$H$13:$H$1001,PCMSO!J$12)","v":0},{"$f":"COUNTIFS('C-E'!$E$13:$E$1001,PCMSO!$B438,'C-E'!$H$13:$H$1001,PCMSO!K$12)","v":0}]
[4.2700000000000387E-4,null,null,null,null,null,0,4.2700000000000387E-4,{"$f":"COUNTIFS('C-E'!$E$13:$E$1001,PCMSO!B439)","v":0},{"$f":"COUNTIFS('C-E'!$E$13:$E$1001,PCMSO!$B439,'C-E'!$H$13:$H$1001,PCMSO!J$12)","v":0},{"$f":"COUNTIFS('C-E'!$E$13:$E$1001,PCMSO!$B439,'C-E'!$H$13:$H$1001,PCMSO!K$12)","v":0}]
[4.280000000000039E-4,null,null,null,null,null,0,4.280000000000039E-4,{"$f":"COUNTIFS('C-E'!$E$13:$E$1001,PCMSO!B440)","v":0},{"$f":"COUNTIFS('C-E'!$E$13:$E$1001,PCMSO!$B440,'C-E'!$H$13:$H$1001,PCMSO!J$12)","v":0},{"$f":"COUNTIFS('C-E'!$E$13:$E$1001,PCMSO!$B440,'C-E'!$H$13:$H$1001,PCMSO!K$12)","v":0}]
[4.2900000000000392E-4,null,null,null,null,null,0,4.2900000000000392E-4,{"$f":"COUNTIFS('C-E'!$E$13:$E$1001,PCMSO!B441)","v":0},{"$f":"COUNTIFS('C-E'!$E$13:$E$1001,PCMSO!$B441,'C-E'!$H$13:$H$1001,PCMSO!J$12)","v":0},{"$f":"COUNTIFS('C-E'!$E$13:$E$1001,PCMSO!$B441,'C-E'!$H$13:$H$1001,PCMSO!K$12)","v":0}]
[4.3000000000000395E-4,null,null,null,null,null,0,4.3000000000000395E-4,{"$f":"COUNTIFS('C-E'!$E$13:$E$1001,PCMSO!B442)","v":0},{"$f":"COUNTIFS('C-E'!$E$13:$E$1001,PCMSO!$B442,'C-E'!$H$13:$H$1001,PCMSO!J$12)","v":0},{"$f":"COUNTIFS('C-E'!$E$13:$E$1001,PCMSO!$B442,'C-E'!$H$13:$H$1001,PCMSO!K$12)","v":0}]
[4.3100000000000397E-4,null,null,null,null,null,0,4.3100000000000397E-4,{"$f":"COUNTIFS('C-E'!$E$13:$E$1001,PCMSO!B443)","v":0},{"$f":"COUNTIFS('C-E'!$E$13:$E$1001,PCMSO!$B443,'C-E'!$H$13:$H$1001,PCMSO!J$12)","v":0},{"$f":"COUNTIFS('C-E'!$E$13:$E$1001,PCMSO!$B443,'C-E'!$H$13:$H$1001,PCMSO!K$12)","v":0}]
[4.32000000000004E-4,null,null,null,null,null,0,4.32000000000004E-4,{"$f":"COUNTIFS('C-E'!$E$13:$E$1001,PCMSO!B444)","v":0},{"$f":"COUNTIFS('C-E'!$E$13:$E$1001,PCMSO!$B444,'C-E'!$H$13:$H$1001,PCMSO!J$12)","v":0},{"$f":"COUNTIFS('C-E'!$E$13:$E$1001,PCMSO!$B444,'C-E'!$H$13:$H$1001,PCMSO!K$12)","v":0}]
[4.3300000000000402E-4,null,null,null,null,null,0,4.3300000000000402E-4,{"$f":"COUNTIFS('C-E'!$E$13:$E$1001,PCMSO!B445)","v":0},{"$f":"COUNTIFS('C-E'!$E$13:$E$1001,PCMSO!$B445,'C-E'!$H$13:$H$1001,PCMSO!J$12)","v":0},{"$f":"COUNTIFS('C-E'!$E$13:$E$1001,PCMSO!$B445,'C-E'!$H$13:$H$1001,PCMSO!K$12)","v":0}]
[4.3400000000000404E-4,null,null,null,null,null,0,4.3400000000000404E-4,{"$f":"COUNTIFS('C-E'!$E$13:$E$1001,PCMSO!B446)","v":0},{"$f":"COUNTIFS('C-E'!$E$13:$E$1001,PCMSO!$B446,'C-E'!$H$13:$H$1001,PCMSO!J$12)","v":0},{"$f":"COUNTIFS('C-E'!$E$13:$E$1001,PCMSO!$B446,'C-E'!$H$13:$H$1001,PCMSO!K$12)","v":0}]
[4.3500000000000407E-4,null,null,null,null,null,0,4.3500000000000407E-4,{"$f":"COUNTIFS('C-E'!$E$13:$E$1001,PCMSO!B447)","v":0},{"$f":"COUNTIFS('C-E'!$E$13:$E$1001,PCMSO!$B447,'C-E'!$H$13:$H$1001,PCMSO!J$12)","v":0},{"$f":"COUNTIFS('C-E'!$E$13:$E$1001,PCMSO!$B447,'C-E'!$H$13:$H$1001,PCMSO!K$12)","v":0}]
[4.3600000000000409E-4,null,null,null,null,null,0,4.3600000000000409E-4,{"$f":"COUNTIFS('C-E'!$E$13:$E$1001,PCMSO!B448)","v":0},{"$f":"COUNTIFS('C-E'!$E$13:$E$1001,PCMSO!$B448,'C-E'!$H$13:$H$1001,PCMSO!J$12)","v":0},{"$f":"COUNTIFS('C-E'!$E$13:$E$1001,PCMSO!$B448,'C-E'!$H$13:$H$1001,PCMSO!K$12)","v":0}]
[4.3700000000000412E-4,null,null,null,null,null,0,4.3700000000000412E-4,{"$f":"COUNTIFS('C-E'!$E$13:$E$1001,PCMSO!B449)","v":0},{"$f":"COUNTIFS('C-E'!$E$13:$E$1001,PCMSO!$B449,'C-E'!$H$13:$H$1001,PCMSO!J$12)","v":0},{"$f":"COUNTIFS('C-E'!$E$13:$E$1001,PCMSO!$B449,'C-E'!$H$13:$H$1001,PCMSO!K$12)","v":0}]
[4.3800000000000414E-4,null,null,null,null,null,0,4.3800000000000414E-4,{"$f":"COUNTIFS('C-E'!$E$13:$E$1001,PCMSO!B450)","v":0},{"$f":"COUNTIFS('C-E'!$E$13:$E$1001,PCMSO!$B450,'C-E'!$H$13:$H$1001,PCMSO!J$12)","v":0},{"$f":"COUNTIFS('C-E'!$E$13:$E$1001,PCMSO!$B450,'C-E'!$H$13:$H$1001,PCMSO!K$12)","v":0}]
[4.3900000000000417E-4,null,null,null,null,null,0,4.3900000000000417E-4,{"$f":"COUNTIFS('C-E'!$E$13:$E$1001,PCMSO!B451)","v":0},{"$f":"COUNTIFS('C-E'!$E$13:$E$1001,PCMSO!$B451,'C-E'!$H$13:$H$1001,PCMSO!J$12)","v":0},{"$f":"COUNTIFS('C-E'!$E$13:$E$1001,PCMSO!$B451,'C-E'!$H$13:$H$1001,PCMSO!K$12)","v":0}]
[4.4000000000000419E-4,null,null,null,null,null,0,4.4000000000000419E-4,{"$f":"COUNTIFS('C-E'!$E$13:$E$1001,PCMSO!B452)","v":0},{"$f":"COUNTIFS('C-E'!$E$13:$E$1001,PCMSO!$B452,'C-E'!$H$13:$H$1001,PCMSO!J$12)","v":0},{"$f":"COUNTIFS('C-E'!$E$13:$E$1001,PCMSO!$B452,'C-E'!$H$13:$H$1001,PCMSO!K$12)","v":0}]
[4.4100000000000421E-4,null,null,null,null,null,0,4.4100000000000421E-4,{"$f":"COUNTIFS('C-E'!$E$13:$E$1001,PCMSO!B453)","v":0},{"$f":"COUNTIFS('C-E'!$E$13:$E$1001,PCMSO!$B453,'C-E'!$H$13:$H$1001,PCMSO!J$12)","v":0},{"$f":"COUNTIFS('C-E'!$E$13:$E$1001,PCMSO!$B453,'C-E'!$H$13:$H$1001,PCMSO!K$12)","v":0}]
[4.4200000000000424E-4,null,null,null,null,null,0,4.4200000000000424E-4,{"$f":"COUNTIFS('C-E'!$E$13:$E$1001,PCMSO!B454)","v":0},{"$f":"COUNTIFS('C-E'!$E$13:$E$1001,PCMSO!$B454,'C-E'!$H$13:$H$1001,PCMSO!J$12)","v":0},{"$f":"COUNTIFS('C-E'!$E$13:$E$1001,PCMSO!$B454,'C-E'!$H$13:$H$1001,PCMSO!K$12)","v":0}]
[4.4300000000000426E-4,null,null,null,null,null,0,4.4300000000000426E-4,{"$f":"COUNTIFS('C-E'!$E$13:$E$1001,PCMSO!B455)","v":0},{"$f":"COUNTIFS('C-E'!$E$13:$E$1001,PCMSO!$B455,'C-E'!$H$13:$H$1001,PCMSO!J$12)","v":0},{"$f":"COUNTIFS('C-E'!$E$13:$E$1001,PCMSO!$B455,'C-E'!$H$13:$H$1001,PCMSO!K$12)","v":0}]
[4.4400000000000429E-4,null,null,null,null,null,0,4.4400000000000429E-4,{"$f":"COUNTIFS('C-E'!$E$13:$E$1001,PCMSO!B456)","v":0},{"$f":"COUNTIFS('C-E'!$E$13:$E$1001,PCMSO!$B456,'C-E'!$H$13:$H$1001,PCMSO!J$12)","v":0},{"$f":"COUNTIFS('C-E'!$E$13:$E$1001,PCMSO!$B456,'C-E'!$H$13:$H$1001,PCMSO!K$12)","v":0}]
[4.4500000000000431E-4,null,null,null,null,null,0,4.4500000000000431E-4,{"$f":"COUNTIFS('C-E'!$E$13:$E$1001,PCMSO!B457)","v":0},{"$f":"COUNTIFS('C-E'!$E$13:$E$1001,PCMSO!$B457,'C-E'!$H$13:$H$1001,PCMSO!J$12)","v":0},{"$f":"COUNTIFS('C-E'!$E$13:$E$1001,PCMSO!$B457,'C-E'!$H$13:$H$1001,PCMSO!K$12)","v":0}]
[4.4600000000000434E-4,null,null,null,null,null,0,4.4600000000000434E-4,{"$f":"COUNTIFS('C-E'!$E$13:$E$1001,PCMSO!B458)","v":0},{"$f":"COUNTIFS('C-E'!$E$13:$E$1001,PCMSO!$B458,'C-E'!$H$13:$H$1001,PCMSO!J$12)","v":0},{"$f":"COUNTIFS('C-E'!$E$13:$E$1001,PCMSO!$B458,'C-E'!$H$13:$H$1001,PCMSO!K$12)","v":0}]
[4.4700000000000436E-4,null,null,null,null,null,0,4.4700000000000436E-4,{"$f":"COUNTIFS('C-E'!$E$13:$E$1001,PCMSO!B459)","v":0},{"$f":"COUNTIFS('C-E'!$E$13:$E$1001,PCMSO!$B459,'C-E'!$H$13:$H$1001,PCMSO!J$12)","v":0},{"$f":"COUNTIFS('C-E'!$E$13:$E$1001,PCMSO!$B459,'C-E'!$H$13:$H$1001,PCMSO!K$12)","v":0}]
[4.4800000000000438E-4,null,null,null,null,null,0,4.4800000000000438E-4,{"$f":"COUNTIFS('C-E'!$E$13:$E$1001,PCMSO!B460)","v":0},{"$f":"COUNTIFS('C-E'!$E$13:$E$1001,PCMSO!$B460,'C-E'!$H$13:$H$1001,PCMSO!J$12)","v":0},{"$f":"COUNTIFS('C-E'!$E$13:$E$1001,PCMSO!$B460,'C-E'!$H$13:$H$1001,PCMSO!K$12)","v":0}]
[{"$f":"SUM(H461:I461)","v":4.4900000000000441E-4},null,null,null,null,null,0,4.4900000000000441E-4,{"$f":"COUNTIFS('C-E'!$E$13:$E$1001,PCMSO!B461)","v":0},{"$f":"COUNTIFS('C-E'!$E$13:$E$1001,PCMSO!$B461,'C-E'!$H$13:$H$1001,PCMSO!J$12)","v":0},{"$f":"COUNTIFS('C-E'!$E$13:$E$1001,PCMSO!$B461,'C-E'!$H$13:$H$1001,PCMSO!K$12)","v":0}]
[4.5000000000000443E-4,null,null,null,null,null,{"$f":"B462","v":0},4.5000000000000443E-4,{"$f":"COUNTIFS('C-E'!$E$13:$E$1001,PCMSO!B462)","v":0},{"$f":"COUNTIFS('C-E'!$E$13:$E$1001,PCMSO!$B462,'C-E'!$H$13:$H$1001,PCMSO!J$12)","v":0},{"$f":"COUNTIFS('C-E'!$E$13:$E$1001,PCMSO!$B462,'C-E'!$H$13:$H$1001,PCMSO!K$12)","v":0}]
[4.5100000000000446E-4,null,null,null,null,null,0,{"$f":"H462+$H$13","v":4.5100000000000446E-4},{"$f":"COUNTIFS('C-E'!$E$13:$E$1001,PCMSO!B463)","v":0},{"$f":"COUNTIFS('C-E'!$E$13:$E$1001,PCMSO!$B463,'C-E'!$H$13:$H$1001,PCMSO!J$12)","v":0},{"$f":"COUNTIFS('C-E'!$E$13:$E$1001,PCMSO!$B463,'C-E'!$H$13:$H$1001,PCMSO!K$12)","v":0}]
[4.5200000000000448E-4,null,null,null,null,null,0,4.5200000000000448E-4,{"$f":"COUNTIFS('C-E'!$E$13:$E$1001,PCMSO!B464)","v":0},{"$f":"COUNTIFS('C-E'!$E$13:$E$1001,PCMSO!$B464,'C-E'!$H$13:$H$1001,PCMSO!J$12)","v":0},{"$f":"COUNTIFS('C-E'!$E$13:$E$1001,PCMSO!$B464,'C-E'!$H$13:$H$1001,PCMSO!K$12)","v":0}]
[4.5300000000000451E-4,null,null,null,null,null,0,4.5300000000000451E-4,{"$f":"COUNTIFS('C-E'!$E$13:$E$1001,PCMSO!B465)","v":0},{"$f":"COUNTIFS('C-E'!$E$13:$E$1001,PCMSO!$B465,'C-E'!$H$13:$H$1001,PCMSO!J$12)","v":0},{"$f":"COUNTIFS('C-E'!$E$13:$E$1001,PCMSO!$B465,'C-E'!$H$13:$H$1001,PCMSO!K$12)","v":0}]
[4.5400000000000453E-4,null,null,null,null,null,0,4.5400000000000453E-4,{"$f":"COUNTIFS('C-E'!$E$13:$E$1001,PCMSO!B466)","v":0},{"$f":"COUNTIFS('C-E'!$E$13:$E$1001,PCMSO!$B466,'C-E'!$H$13:$H$1001,PCMSO!J$12)","v":0},{"$f":"COUNTIFS('C-E'!$E$13:$E$1001,PCMSO!$B466,'C-E'!$H$13:$H$1001,PCMSO!K$12)","v":0}]
[4.5500000000000455E-4,null,null,null,null,null,0,4.5500000000000455E-4,{"$f":"COUNTIFS('C-E'!$E$13:$E$1001,PCMSO!B467)","v":0},{"$f":"COUNTIFS('C-E'!$E$13:$E$1001,PCMSO!$B467,'C-E'!$H$13:$H$1001,PCMSO!J$12)","v":0},{"$f":"COUNTIFS('C-E'!$E$13:$E$1001,PCMSO!$B467,'C-E'!$H$13:$H$1001,PCMSO!K$12)","v":0}]
[4.5600000000000458E-4,null,null,null,null,null,0,4.5600000000000458E-4,{"$f":"COUNTIFS('C-E'!$E$13:$E$1001,PCMSO!B468)","v":0},{"$f":"COUNTIFS('C-E'!$E$13:$E$1001,PCMSO!$B468,'C-E'!$H$13:$H$1001,PCMSO!J$12)","v":0},{"$f":"COUNTIFS('C-E'!$E$13:$E$1001,PCMSO!$B468,'C-E'!$H$13:$H$1001,PCMSO!K$12)","v":0}]
[4.570000000000046E-4,null,null,null,null,null,0,4.570000000000046E-4,{"$f":"COUNTIFS('C-E'!$E$13:$E$1001,PCMSO!B469)","v":0},{"$f":"COUNTIFS('C-E'!$E$13:$E$1001,PCMSO!$B469,'C-E'!$H$13:$H$1001,PCMSO!J$12)","v":0},{"$f":"COUNTIFS('C-E'!$E$13:$E$1001,PCMSO!$B469,'C-E'!$H$13:$H$1001,PCMSO!K$12)","v":0}]
[4.5800000000000463E-4,null,null,null,null,null,0,4.5800000000000463E-4,{"$f":"COUNTIFS('C-E'!$E$13:$E$1001,PCMSO!B470)","v":0},{"$f":"COUNTIFS('C-E'!$E$13:$E$1001,PCMSO!$B470,'C-E'!$H$13:$H$1001,PCMSO!J$12)","v":0},{"$f":"COUNTIFS('C-E'!$E$13:$E$1001,PCMSO!$B470,'C-E'!$H$13:$H$1001,PCMSO!K$12)","v":0}]
[4.5900000000000465E-4,null,null,null,null,null,0,4.5900000000000465E-4,{"$f":"COUNTIFS('C-E'!$E$13:$E$1001,PCMSO!B471)","v":0},{"$f":"COUNTIFS('C-E'!$E$13:$E$1001,PCMSO!$B471,'C-E'!$H$13:$H$1001,PCMSO!J$12)","v":0},{"$f":"COUNTIFS('C-E'!$E$13:$E$1001,PCMSO!$B471,'C-E'!$H$13:$H$1001,PCMSO!K$12)","v":0}]
[4.6000000000000468E-4,null,null,null,null,null,0,4.6000000000000468E-4,{"$f":"COUNTIFS('C-E'!$E$13:$E$1001,PCMSO!B472)","v":0},{"$f":"COUNTIFS('C-E'!$E$13:$E$1001,PCMSO!$B472,'C-E'!$H$13:$H$1001,PCMSO!J$12)","v":0},{"$f":"COUNTIFS('C-E'!$E$13:$E$1001,PCMSO!$B472,'C-E'!$H$13:$H$1001,PCMSO!K$12)","v":0}]
[4.610000000000047E-4,null,null,null,null,null,0,4.610000000000047E-4,{"$f":"COUNTIFS('C-E'!$E$13:$E$1001,PCMSO!B473)","v":0},{"$f":"COUNTIFS('C-E'!$E$13:$E$1001,PCMSO!$B473,'C-E'!$H$13:$H$1001,PCMSO!J$12)","v":0},{"$f":"COUNTIFS('C-E'!$E$13:$E$1001,PCMSO!$B473,'C-E'!$H$13:$H$1001,PCMSO!K$12)","v":0}]
[4.6200000000000472E-4,null,null,null,null,null,0,4.6200000000000472E-4,{"$f":"COUNTIFS('C-E'!$E$13:$E$1001,PCMSO!B474)","v":0},{"$f":"COUNTIFS('C-E'!$E$13:$E$1001,PCMSO!$B474,'C-E'!$H$13:$H$1001,PCMSO!J$12)","v":0},{"$f":"COUNTIFS('C-E'!$E$13:$E$1001,PCMSO!$B474,'C-E'!$H$13:$H$1001,PCMSO!K$12)","v":0}]
[4.6300000000000475E-4,null,null,null,null,null,0,4.6300000000000475E-4,{"$f":"COUNTIFS('C-E'!$E$13:$E$1001,PCMSO!B475)","v":0},{"$f":"COUNTIFS('C-E'!$E$13:$E$1001,PCMSO!$B475,'C-E'!$H$13:$H$1001,PCMSO!J$12)","v":0},{"$f":"COUNTIFS('C-E'!$E$13:$E$1001,PCMSO!$B475,'C-E'!$H$13:$H$1001,PCMSO!K$12)","v":0}]
[4.6400000000000477E-4,null,null,null,null,null,0,4.6400000000000477E-4,{"$f":"COUNTIFS('C-E'!$E$13:$E$1001,PCMSO!B476)","v":0},{"$f":"COUNTIFS('C-E'!$E$13:$E$1001,PCMSO!$B476,'C-E'!$H$13:$H$1001,PCMSO!J$12)","v":0},{"$f":"COUNTIFS('C-E'!$E$13:$E$1001,PCMSO!$B476,'C-E'!$H$13:$H$1001,PCMSO!K$12)","v":0}]
[4.650000000000048E-4,null,null,null,null,null,0,4.650000000000048E-4,{"$f":"COUNTIFS('C-E'!$E$13:$E$1001,PCMSO!B477)","v":0},{"$f":"COUNTIFS('C-E'!$E$13:$E$1001,PCMSO!$B477,'C-E'!$H$13:$H$1001,PCMSO!J$12)","v":0},{"$f":"COUNTIFS('C-E'!$E$13:$E$1001,PCMSO!$B477,'C-E'!$H$13:$H$1001,PCMSO!K$12)","v":0}]
[4.6600000000000482E-4,null,null,null,null,null,0,4.6600000000000482E-4,{"$f":"COUNTIFS('C-E'!$E$13:$E$1001,PCMSO!B478)","v":0},{"$f":"COUNTIFS('C-E'!$E$13:$E$1001,PCMSO!$B478,'C-E'!$H$13:$H$1001,PCMSO!J$12)","v":0},{"$f":"COUNTIFS('C-E'!$E$13:$E$1001,PCMSO!$B478,'C-E'!$H$13:$H$1001,PCMSO!K$12)","v":0}]
[4.6700000000000485E-4,null,null,null,null,null,0,4.6700000000000485E-4,{"$f":"COUNTIFS('C-E'!$E$13:$E$1001,PCMSO!B479)","v":0},{"$f":"COUNTIFS('C-E'!$E$13:$E$1001,PCMSO!$B479,'C-E'!$H$13:$H$1001,PCMSO!J$12)","v":0},{"$f":"COUNTIFS('C-E'!$E$13:$E$1001,PCMSO!$B479,'C-E'!$H$13:$H$1001,PCMSO!K$12)","v":0}]
[4.6800000000000487E-4,null,null,null,null,null,0,4.6800000000000487E-4,{"$f":"COUNTIFS('C-E'!$E$13:$E$1001,PCMSO!B480)","v":0},{"$f":"COUNTIFS('C-E'!$E$13:$E$1001,PCMSO!$B480,'C-E'!$H$13:$H$1001,PCMSO!J$12)","v":0},{"$f":"COUNTIFS('C-E'!$E$13:$E$1001,PCMSO!$B480,'C-E'!$H$13:$H$1001,PCMSO!K$12)","v":0}]
[4.6900000000000489E-4,null,null,null,null,null,0,4.6900000000000489E-4,{"$f":"COUNTIFS('C-E'!$E$13:$E$1001,PCMSO!B481)","v":0},{"$f":"COUNTIFS('C-E'!$E$13:$E$1001,PCMSO!$B481,'C-E'!$H$13:$H$1001,PCMSO!J$12)","v":0},{"$f":"COUNTIFS('C-E'!$E$13:$E$1001,PCMSO!$B481,'C-E'!$H$13:$H$1001,PCMSO!K$12)","v":0}]
[4.7000000000000492E-4,null,null,null,null,null,0,4.7000000000000492E-4,{"$f":"COUNTIFS('C-E'!$E$13:$E$1001,PCMSO!B482)","v":0},{"$f":"COUNTIFS('C-E'!$E$13:$E$1001,PCMSO!$B482,'C-E'!$H$13:$H$1001,PCMSO!J$12)","v":0},{"$f":"COUNTIFS('C-E'!$E$13:$E$1001,PCMSO!$B482,'C-E'!$H$13:$H$1001,PCMSO!K$12)","v":0}]
[4.7100000000000494E-4,null,null,null,null,null,0,4.7100000000000494E-4,{"$f":"COUNTIFS('C-E'!$E$13:$E$1001,PCMSO!B483)","v":0},{"$f":"COUNTIFS('C-E'!$E$13:$E$1001,PCMSO!$B483,'C-E'!$H$13:$H$1001,PCMSO!J$12)","v":0},{"$f":"COUNTIFS('C-E'!$E$13:$E$1001,PCMSO!$B483,'C-E'!$H$13:$H$1001,PCMSO!K$12)","v":0}]
[4.7200000000000497E-4,null,null,null,null,null,0,4.7200000000000497E-4,{"$f":"COUNTIFS('C-E'!$E$13:$E$1001,PCMSO!B484)","v":0},{"$f":"COUNTIFS('C-E'!$E$13:$E$1001,PCMSO!$B484,'C-E'!$H$13:$H$1001,PCMSO!J$12)","v":0},{"$f":"COUNTIFS('C-E'!$E$13:$E$1001,PCMSO!$B484,'C-E'!$H$13:$H$1001,PCMSO!K$12)","v":0}]
[4.7300000000000499E-4,null,null,null,null,null,0,4.7300000000000499E-4,{"$f":"COUNTIFS('C-E'!$E$13:$E$1001,PCMSO!B485)","v":0},{"$f":"COUNTIFS('C-E'!$E$13:$E$1001,PCMSO!$B485,'C-E'!$H$13:$H$1001,PCMSO!J$12)","v":0},{"$f":"COUNTIFS('C-E'!$E$13:$E$1001,PCMSO!$B485,'C-E'!$H$13:$H$1001,PCMSO!K$12)","v":0}]
[4.7400000000000502E-4,null,null,null,null,null,0,4.7400000000000502E-4,{"$f":"COUNTIFS('C-E'!$E$13:$E$1001,PCMSO!B486)","v":0},{"$f":"COUNTIFS('C-E'!$E$13:$E$1001,PCMSO!$B486,'C-E'!$H$13:$H$1001,PCMSO!J$12)","v":0},{"$f":"COUNTIFS('C-E'!$E$13:$E$1001,PCMSO!$B486,'C-E'!$H$13:$H$1001,PCMSO!K$12)","v":0}]
[4.7500000000000504E-4,null,null,null,null,null,0,4.7500000000000504E-4,{"$f":"COUNTIFS('C-E'!$E$13:$E$1001,PCMSO!B487)","v":0},{"$f":"COUNTIFS('C-E'!$E$13:$E$1001,PCMSO!$B487,'C-E'!$H$13:$H$1001,PCMSO!J$12)","v":0},{"$f":"COUNTIFS('C-E'!$E$13:$E$1001,PCMSO!$B487,'C-E'!$H$13:$H$1001,PCMSO!K$12)","v":0}]
[4.7600000000000506E-4,null,null,null,null,null,0,4.7600000000000506E-4,{"$f":"COUNTIFS('C-E'!$E$13:$E$1001,PCMSO!B488)","v":0},{"$f":"COUNTIFS('C-E'!$E$13:$E$1001,PCMSO!$B488,'C-E'!$H$13:$H$1001,PCMSO!J$12)","v":0},{"$f":"COUNTIFS('C-E'!$E$13:$E$1001,PCMSO!$B488,'C-E'!$H$13:$H$1001,PCMSO!K$12)","v":0}]
[4.7700000000000509E-4,null,null,null,null,null,0,4.7700000000000509E-4,{"$f":"COUNTIFS('C-E'!$E$13:$E$1001,PCMSO!B489)","v":0},{"$f":"COUNTIFS('C-E'!$E$13:$E$1001,PCMSO!$B489,'C-E'!$H$13:$H$1001,PCMSO!J$12)","v":0},{"$f":"COUNTIFS('C-E'!$E$13:$E$1001,PCMSO!$B489,'C-E'!$H$13:$H$1001,PCMSO!K$12)","v":0}]
[4.7800000000000511E-4,null,null,null,null,null,0,4.7800000000000511E-4,{"$f":"COUNTIFS('C-E'!$E$13:$E$1001,PCMSO!B490)","v":0},{"$f":"COUNTIFS('C-E'!$E$13:$E$1001,PCMSO!$B490,'C-E'!$H$13:$H$1001,PCMSO!J$12)","v":0},{"$f":"COUNTIFS('C-E'!$E$13:$E$1001,PCMSO!$B490,'C-E'!$H$13:$H$1001,PCMSO!K$12)","v":0}]
[4.7900000000000514E-4,null,null,null,null,null,0,4.7900000000000514E-4,{"$f":"COUNTIFS('C-E'!$E$13:$E$1001,PCMSO!B491)","v":0},{"$f":"COUNTIFS('C-E'!$E$13:$E$1001,PCMSO!$B491,'C-E'!$H$13:$H$1001,PCMSO!J$12)","v":0},{"$f":"COUNTIFS('C-E'!$E$13:$E$1001,PCMSO!$B491,'C-E'!$H$13:$H$1001,PCMSO!K$12)","v":0}]
[4.8000000000000516E-4,null,null,null,null,null,0,4.8000000000000516E-4,{"$f":"COUNTIFS('C-E'!$E$13:$E$1001,PCMSO!B492)","v":0},{"$f":"COUNTIFS('C-E'!$E$13:$E$1001,PCMSO!$B492,'C-E'!$H$13:$H$1001,PCMSO!J$12)","v":0},{"$f":"COUNTIFS('C-E'!$E$13:$E$1001,PCMSO!$B492,'C-E'!$H$13:$H$1001,PCMSO!K$12)","v":0}]
[4.8100000000000519E-4,null,null,null,null,null,0,4.8100000000000519E-4,{"$f":"COUNTIFS('C-E'!$E$13:$E$1001,PCMSO!B493)","v":0},{"$f":"COUNTIFS('C-E'!$E$13:$E$1001,PCMSO!$B493,'C-E'!$H$13:$H$1001,PCMSO!J$12)","v":0},{"$f":"COUNTIFS('C-E'!$E$13:$E$1001,PCMSO!$B493,'C-E'!$H$13:$H$1001,PCMSO!K$12)","v":0}]
[4.8200000000000521E-4,null,null,null,null,null,0,4.8200000000000521E-4,{"$f":"COUNTIFS('C-E'!$E$13:$E$1001,PCMSO!B494)","v":0},{"$f":"COUNTIFS('C-E'!$E$13:$E$1001,PCMSO!$B494,'C-E'!$H$13:$H$1001,PCMSO!J$12)","v":0},{"$f":"COUNTIFS('C-E'!$E$13:$E$1001,PCMSO!$B494,'C-E'!$H$13:$H$1001,PCMSO!K$12)","v":0}]
[4.8300000000000524E-4,null,null,null,null,null,0,4.8300000000000524E-4,{"$f":"COUNTIFS('C-E'!$E$13:$E$1001,PCMSO!B495)","v":0},{"$f":"COUNTIFS('C-E'!$E$13:$E$1001,PCMSO!$B495,'C-E'!$H$13:$H$1001,PCMSO!J$12)","v":0},{"$f":"COUNTIFS('C-E'!$E$13:$E$1001,PCMSO!$B495,'C-E'!$H$13:$H$1001,PCMSO!K$12)","v":0}]
[4.8400000000000526E-4,null,null,null,null,null,0,4.8400000000000526E-4,{"$f":"COUNTIFS('C-E'!$E$13:$E$1001,PCMSO!B496)","v":0},{"$f":"COUNTIFS('C-E'!$E$13:$E$1001,PCMSO!$B496,'C-E'!$H$13:$H$1001,PCMSO!J$12)","v":0},{"$f":"COUNTIFS('C-E'!$E$13:$E$1001,PCMSO!$B496,'C-E'!$H$13:$H$1001,PCMSO!K$12)","v":0}]
[4.8500000000000528E-4,null,null,null,null,null,0,4.8500000000000528E-4,{"$f":"COUNTIFS('C-E'!$E$13:$E$1001,PCMSO!B497)","v":0},{"$f":"COUNTIFS('C-E'!$E$13:$E$1001,PCMSO!$B497,'C-E'!$H$13:$H$1001,PCMSO!J$12)","v":0},{"$f":"COUNTIFS('C-E'!$E$13:$E$1001,PCMSO!$B497,'C-E'!$H$13:$H$1001,PCMSO!K$12)","v":0}]
[4.8600000000000531E-4,null,null,null,null,null,0,4.8600000000000531E-4,{"$f":"COUNTIFS('C-E'!$E$13:$E$1001,PCMSO!B498)","v":0},{"$f":"COUNTIFS('C-E'!$E$13:$E$1001,PCMSO!$B498,'C-E'!$H$13:$H$1001,PCMSO!J$12)","v":0},{"$f":"COUNTIFS('C-E'!$E$13:$E$1001,PCMSO!$B498,'C-E'!$H$13:$H$1001,PCMSO!K$12)","v":0}]
[4.8700000000000533E-4,null,null,null,null,null,0,4.8700000000000533E-4,{"$f":"COUNTIFS('C-E'!$E$13:$E$1001,PCMSO!B499)","v":0},{"$f":"COUNTIFS('C-E'!$E$13:$E$1001,PCMSO!$B499,'C-E'!$H$13:$H$1001,PCMSO!J$12)","v":0},{"$f":"COUNTIFS('C-E'!$E$13:$E$1001,PCMSO!$B499,'C-E'!$H$13:$H$1001,PCMSO!K$12)","v":0}]
[4.8800000000000536E-4,null,null,null,null,null,0,4.8800000000000536E-4,{"$f":"COUNTIFS('C-E'!$E$13:$E$1001,PCMSO!B500)","v":0},{"$f":"COUNTIFS('C-E'!$E$13:$E$1001,PCMSO!$B500,'C-E'!$H$13:$H$1001,PCMSO!J$12)","v":0},{"$f":"COUNTIFS('C-E'!$E$13:$E$1001,PCMSO!$B500,'C-E'!$H$13:$H$1001,PCMSO!K$12)","v":0}]
[4.8900000000000538E-4,null,null,null,null,null,0,4.8900000000000538E-4,{"$f":"COUNTIFS('C-E'!$E$13:$E$1001,PCMSO!B501)","v":0},{"$f":"COUNTIFS('C-E'!$E$13:$E$1001,PCMSO!$B501,'C-E'!$H$13:$H$1001,PCMSO!J$12)","v":0},{"$f":"COUNTIFS('C-E'!$E$13:$E$1001,PCMSO!$B501,'C-E'!$H$13:$H$1001,PCMSO!K$12)","v":0}]
[4.9000000000000541E-4,null,null,null,null,null,0,4.9000000000000541E-4,{"$f":"COUNTIFS('C-E'!$E$13:$E$1001,PCMSO!B502)","v":0},{"$f":"COUNTIFS('C-E'!$E$13:$E$1001,PCMSO!$B502,'C-E'!$H$13:$H$1001,PCMSO!J$12)","v":0},{"$f":"COUNTIFS('C-E'!$E$13:$E$1001,PCMSO!$B502,'C-E'!$H$13:$H$1001,PCMSO!K$12)","v":0}]
[4.9100000000000543E-4,null,null,null,null,null,0,4.9100000000000543E-4,{"$f":"COUNTIFS('C-E'!$E$13:$E$1001,PCMSO!B503)","v":0},{"$f":"COUNTIFS('C-E'!$E$13:$E$1001,PCMSO!$B503,'C-E'!$H$13:$H$1001,PCMSO!J$12)","v":0},{"$f":"COUNTIFS('C-E'!$E$13:$E$1001,PCMSO!$B503,'C-E'!$H$13:$H$1001,PCMSO!K$12)","v":0}]
[4.9200000000000545E-4,null,null,null,null,null,0,4.9200000000000545E-4,{"$f":"COUNTIFS('C-E'!$E$13:$E$1001,PCMSO!B504)","v":0},{"$f":"COUNTIFS('C-E'!$E$13:$E$1001,PCMSO!$B504,'C-E'!$H$13:$H$1001,PCMSO!J$12)","v":0},{"$f":"COUNTIFS('C-E'!$E$13:$E$1001,PCMSO!$B504,'C-E'!$H$13:$H$1001,PCMSO!K$12)","v":0}]
[4.9300000000000548E-4,null,null,null,null,null,0,4.9300000000000548E-4,{"$f":"COUNTIFS('C-E'!$E$13:$E$1001,PCMSO!B505)","v":0},{"$f":"COUNTIFS('C-E'!$E$13:$E$1001,PCMSO!$B505,'C-E'!$H$13:$H$1001,PCMSO!J$12)","v":0},{"$f":"COUNTIFS('C-E'!$E$13:$E$1001,PCMSO!$B505,'C-E'!$H$13:$H$1001,PCMSO!K$12)","v":0}]
[4.940000000000055E-4,null,null,null,null,null,0,4.940000000000055E-4,{"$f":"COUNTIFS('C-E'!$E$13:$E$1001,PCMSO!B506)","v":0},{"$f":"COUNTIFS('C-E'!$E$13:$E$1001,PCMSO!$B506,'C-E'!$H$13:$H$1001,PCMSO!J$12)","v":0},{"$f":"COUNTIFS('C-E'!$E$13:$E$1001,PCMSO!$B506,'C-E'!$H$13:$H$1001,PCMSO!K$12)","v":0}]
[4.9500000000000553E-4,null,null,null,null,null,0,4.9500000000000553E-4,{"$f":"COUNTIFS('C-E'!$E$13:$E$1001,PCMSO!B507)","v":0},{"$f":"COUNTIFS('C-E'!$E$13:$E$1001,PCMSO!$B507,'C-E'!$H$13:$H$1001,PCMSO!J$12)","v":0},{"$f":"COUNTIFS('C-E'!$E$13:$E$1001,PCMSO!$B507,'C-E'!$H$13:$H$1001,PCMSO!K$12)","v":0}]
[4.9600000000000555E-4,null,null,null,null,null,0,4.9600000000000555E-4,{"$f":"COUNTIFS('C-E'!$E$13:$E$1001,PCMSO!B508)","v":0},{"$f":"COUNTIFS('C-E'!$E$13:$E$1001,PCMSO!$B508,'C-E'!$H$13:$H$1001,PCMSO!J$12)","v":0},{"$f":"COUNTIFS('C-E'!$E$13:$E$1001,PCMSO!$B508,'C-E'!$H$13:$H$1001,PCMSO!K$12)","v":0}]
[4.9700000000000558E-4,null,null,null,null,null,0,4.9700000000000558E-4,{"$f":"COUNTIFS('C-E'!$E$13:$E$1001,PCMSO!B509)","v":0},{"$f":"COUNTIFS('C-E'!$E$13:$E$1001,PCMSO!$B509,'C-E'!$H$13:$H$1001,PCMSO!J$12)","v":0},{"$f":"COUNTIFS('C-E'!$E$13:$E$1001,PCMSO!$B509,'C-E'!$H$13:$H$1001,PCMSO!K$12)","v":0}]
[4.980000000000056E-4,null,null,null,null,null,0,4.980000000000056E-4,{"$f":"COUNTIFS('C-E'!$E$13:$E$1001,PCMSO!B510)","v":0},{"$f":"COUNTIFS('C-E'!$E$13:$E$1001,PCMSO!$B510,'C-E'!$H$13:$H$1001,PCMSO!J$12)","v":0},{"$f":"COUNTIFS('C-E'!$E$13:$E$1001,PCMSO!$B510,'C-E'!$H$13:$H$1001,PCMSO!K$12)","v":0}]
[4.9900000000000562E-4,null,null,null,null,null,0,4.9900000000000562E-4,{"$f":"COUNTIFS('C-E'!$E$13:$E$1001,PCMSO!B511)","v":0},{"$f":"COUNTIFS('C-E'!$E$13:$E$1001,PCMSO!$B511,'C-E'!$H$13:$H$1001,PCMSO!J$12)","v":0},{"$f":"COUNTIFS('C-E'!$E$13:$E$1001,PCMSO!$B511,'C-E'!$H$13:$H$1001,PCMSO!K$12)","v":0}]
[5.0000000000000565E-4,null,null,null,null,null,0,5.0000000000000565E-4,{"$f":"COUNTIFS('C-E'!$E$13:$E$1001,PCMSO!B512)","v":0},{"$f":"COUNTIFS('C-E'!$E$13:$E$1001,PCMSO!$B512,'C-E'!$H$13:$H$1001,PCMSO!J$12)","v":0},{"$f":"COUNTIFS('C-E'!$E$13:$E$1001,PCMSO!$B512,'C-E'!$H$13:$H$1001,PCMSO!K$12)","v":0}]
[5.0100000000000567E-4,null,null,null,null,null,0,5.0100000000000567E-4,{"$f":"COUNTIFS('C-E'!$E$13:$E$1001,PCMSO!B513)","v":0},{"$f":"COUNTIFS('C-E'!$E$13:$E$1001,PCMSO!$B513,'C-E'!$H$13:$H$1001,PCMSO!J$12)","v":0},{"$f":"COUNTIFS('C-E'!$E$13:$E$1001,PCMSO!$B513,'C-E'!$H$13:$H$1001,PCMSO!K$12)","v":0}]
[5.020000000000057E-4,null,null,null,null,null,0,5.020000000000057E-4,{"$f":"COUNTIFS('C-E'!$E$13:$E$1001,PCMSO!B514)","v":0},{"$f":"COUNTIFS('C-E'!$E$13:$E$1001,PCMSO!$B514,'C-E'!$H$13:$H$1001,PCMSO!J$12)","v":0},{"$f":"COUNTIFS('C-E'!$E$13:$E$1001,PCMSO!$B514,'C-E'!$H$13:$H$1001,PCMSO!K$12)","v":0}]
[5.0300000000000572E-4,null,null,null,null,null,0,5.0300000000000572E-4,{"$f":"COUNTIFS('C-E'!$E$13:$E$1001,PCMSO!B515)","v":0},{"$f":"COUNTIFS('C-E'!$E$13:$E$1001,PCMSO!$B515,'C-E'!$H$13:$H$1001,PCMSO!J$12)","v":0},{"$f":"COUNTIFS('C-E'!$E$13:$E$1001,PCMSO!$B515,'C-E'!$H$13:$H$1001,PCMSO!K$12)","v":0}]
[5.0400000000000575E-4,null,null,null,null,null,0,5.0400000000000575E-4,{"$f":"COUNTIFS('C-E'!$E$13:$E$1001,PCMSO!B516)","v":0},{"$f":"COUNTIFS('C-E'!$E$13:$E$1001,PCMSO!$B516,'C-E'!$H$13:$H$1001,PCMSO!J$12)","v":0},{"$f":"COUNTIFS('C-E'!$E$13:$E$1001,PCMSO!$B516,'C-E'!$H$13:$H$1001,PCMSO!K$12)","v":0}]
[5.0500000000000577E-4,null,null,null,null,null,0,5.0500000000000577E-4,{"$f":"COUNTIFS('C-E'!$E$13:$E$1001,PCMSO!B517)","v":0},{"$f":"COUNTIFS('C-E'!$E$13:$E$1001,PCMSO!$B517,'C-E'!$H$13:$H$1001,PCMSO!J$12)","v":0},{"$f":"COUNTIFS('C-E'!$E$13:$E$1001,PCMSO!$B517,'C-E'!$H$13:$H$1001,PCMSO!K$12)","v":0}]
[5.0600000000000579E-4,null,null,null,null,null,0,5.0600000000000579E-4,{"$f":"COUNTIFS('C-E'!$E$13:$E$1001,PCMSO!B518)","v":0},{"$f":"COUNTIFS('C-E'!$E$13:$E$1001,PCMSO!$B518,'C-E'!$H$13:$H$1001,PCMSO!J$12)","v":0},{"$f":"COUNTIFS('C-E'!$E$13:$E$1001,PCMSO!$B518,'C-E'!$H$13:$H$1001,PCMSO!K$12)","v":0}]
[5.0700000000000582E-4,null,null,null,null,null,0,5.0700000000000582E-4,{"$f":"COUNTIFS('C-E'!$E$13:$E$1001,PCMSO!B519)","v":0},{"$f":"COUNTIFS('C-E'!$E$13:$E$1001,PCMSO!$B519,'C-E'!$H$13:$H$1001,PCMSO!J$12)","v":0},{"$f":"COUNTIFS('C-E'!$E$13:$E$1001,PCMSO!$B519,'C-E'!$H$13:$H$1001,PCMSO!K$12)","v":0}]
[5.0800000000000584E-4,null,null,null,null,null,0,5.0800000000000584E-4,{"$f":"COUNTIFS('C-E'!$E$13:$E$1001,PCMSO!B520)","v":0},{"$f":"COUNTIFS('C-E'!$E$13:$E$1001,PCMSO!$B520,'C-E'!$H$13:$H$1001,PCMSO!J$12)","v":0},{"$f":"COUNTIFS('C-E'!$E$13:$E$1001,PCMSO!$B520,'C-E'!$H$13:$H$1001,PCMSO!K$12)","v":0}]
[5.0900000000000587E-4,null,null,null,null,null,0,5.0900000000000587E-4,{"$f":"COUNTIFS('C-E'!$E$13:$E$1001,PCMSO!B521)","v":0},{"$f":"COUNTIFS('C-E'!$E$13:$E$1001,PCMSO!$B521,'C-E'!$H$13:$H$1001,PCMSO!J$12)","v":0},{"$f":"COUNTIFS('C-E'!$E$13:$E$1001,PCMSO!$B521,'C-E'!$H$13:$H$1001,PCMSO!K$12)","v":0}]
[5.1000000000000589E-4,null,null,null,null,null,0,5.1000000000000589E-4,{"$f":"COUNTIFS('C-E'!$E$13:$E$1001,PCMSO!B522)","v":0},{"$f":"COUNTIFS('C-E'!$E$13:$E$1001,PCMSO!$B522,'C-E'!$H$13:$H$1001,PCMSO!J$12)","v":0},{"$f":"COUNTIFS('C-E'!$E$13:$E$1001,PCMSO!$B522,'C-E'!$H$13:$H$1001,PCMSO!K$12)","v":0}]
[5.1100000000000592E-4,null,null,null,null,null,0,5.1100000000000592E-4,{"$f":"COUNTIFS('C-E'!$E$13:$E$1001,PCMSO!B523)","v":0},{"$f":"COUNTIFS('C-E'!$E$13:$E$1001,PCMSO!$B523,'C-E'!$H$13:$H$1001,PCMSO!J$12)","v":0},{"$f":"COUNTIFS('C-E'!$E$13:$E$1001,PCMSO!$B523,'C-E'!$H$13:$H$1001,PCMSO!K$12)","v":0}]
[5.1200000000000594E-4,null,null,null,null,null,0,5.1200000000000594E-4,{"$f":"COUNTIFS('C-E'!$E$13:$E$1001,PCMSO!B524)","v":0},{"$f":"COUNTIFS('C-E'!$E$13:$E$1001,PCMSO!$B524,'C-E'!$H$13:$H$1001,PCMSO!J$12)","v":0},{"$f":"COUNTIFS('C-E'!$E$13:$E$1001,PCMSO!$B524,'C-E'!$H$13:$H$1001,PCMSO!K$12)","v":0}]
[{"$f":"SUM(H525:I525)","v":5.1300000000000596E-4},null,null,null,null,null,0,5.1300000000000596E-4,{"$f":"COUNTIFS('C-E'!$E$13:$E$1001,PCMSO!B525)","v":0},{"$f":"COUNTIFS('C-E'!$E$13:$E$1001,PCMSO!$B525,'C-E'!$H$13:$H$1001,PCMSO!J$12)","v":0},{"$f":"COUNTIFS('C-E'!$E$13:$E$1001,PCMSO!$B525,'C-E'!$H$13:$H$1001,PCMSO!K$12)","v":0}]
[5.1400000000000599E-4,null,null,null,null,null,{"$f":"B526","v":0},5.1400000000000599E-4,{"$f":"COUNTIFS('C-E'!$E$13:$E$1001,PCMSO!B526)","v":0},{"$f":"COUNTIFS('C-E'!$E$13:$E$1001,PCMSO!$B526,'C-E'!$H$13:$H$1001,PCMSO!J$12)","v":0},{"$f":"COUNTIFS('C-E'!$E$13:$E$1001,PCMSO!$B526,'C-E'!$H$13:$H$1001,PCMSO!K$12)","v":0}]
[5.1500000000000601E-4,null,null,null,null,null,0,{"$f":"H526+$H$13","v":5.1500000000000601E-4},{"$f":"COUNTIFS('C-E'!$E$13:$E$1001,PCMSO!B527)","v":0},{"$f":"COUNTIFS('C-E'!$E$13:$E$1001,PCMSO!$B527,'C-E'!$H$13:$H$1001,PCMSO!J$12)","v":0},{"$f":"COUNTIFS('C-E'!$E$13:$E$1001,PCMSO!$B527,'C-E'!$H$13:$H$1001,PCMSO!K$12)","v":0}]
[5.1600000000000604E-4,null,null,null,null,null,0,5.1600000000000604E-4,{"$f":"COUNTIFS('C-E'!$E$13:$E$1001,PCMSO!B528)","v":0},{"$f":"COUNTIFS('C-E'!$E$13:$E$1001,PCMSO!$B528,'C-E'!$H$13:$H$1001,PCMSO!J$12)","v":0},{"$f":"COUNTIFS('C-E'!$E$13:$E$1001,PCMSO!$B528,'C-E'!$H$13:$H$1001,PCMSO!K$12)","v":0}]
[5.1700000000000606E-4,null,null,null,null,null,0,5.1700000000000606E-4,{"$f":"COUNTIFS('C-E'!$E$13:$E$1001,PCMSO!B529)","v":0},{"$f":"COUNTIFS('C-E'!$E$13:$E$1001,PCMSO!$B529,'C-E'!$H$13:$H$1001,PCMSO!J$12)","v":0},{"$f":"COUNTIFS('C-E'!$E$13:$E$1001,PCMSO!$B529,'C-E'!$H$13:$H$1001,PCMSO!K$12)","v":0}]
[5.1800000000000609E-4,null,null,null,null,null,0,5.1800000000000609E-4,{"$f":"COUNTIFS('C-E'!$E$13:$E$1001,PCMSO!B530)","v":0},{"$f":"COUNTIFS('C-E'!$E$13:$E$1001,PCMSO!$B530,'C-E'!$H$13:$H$1001,PCMSO!J$12)","v":0},{"$f":"COUNTIFS('C-E'!$E$13:$E$1001,PCMSO!$B530,'C-E'!$H$13:$H$1001,PCMSO!K$12)","v":0}]
[5.1900000000000611E-4,null,null,null,null,null,0,5.1900000000000611E-4,{"$f":"COUNTIFS('C-E'!$E$13:$E$1001,PCMSO!B531)","v":0},{"$f":"COUNTIFS('C-E'!$E$13:$E$1001,PCMSO!$B531,'C-E'!$H$13:$H$1001,PCMSO!J$12)","v":0},{"$f":"COUNTIFS('C-E'!$E$13:$E$1001,PCMSO!$B531,'C-E'!$H$13:$H$1001,PCMSO!K$12)","v":0}]
[5.2000000000000613E-4,null,null,null,null,null,0,5.2000000000000613E-4,{"$f":"COUNTIFS('C-E'!$E$13:$E$1001,PCMSO!B532)","v":0},{"$f":"COUNTIFS('C-E'!$E$13:$E$1001,PCMSO!$B532,'C-E'!$H$13:$H$1001,PCMSO!J$12)","v":0},{"$f":"COUNTIFS('C-E'!$E$13:$E$1001,PCMSO!$B532,'C-E'!$H$13:$H$1001,PCMSO!K$12)","v":0}]
[5.2100000000000616E-4,null,null,null,null,null,0,5.2100000000000616E-4,{"$f":"COUNTIFS('C-E'!$E$13:$E$1001,PCMSO!B533)","v":0},{"$f":"COUNTIFS('C-E'!$E$13:$E$1001,PCMSO!$B533,'C-E'!$H$13:$H$1001,PCMSO!J$12)","v":0},{"$f":"COUNTIFS('C-E'!$E$13:$E$1001,PCMSO!$B533,'C-E'!$H$13:$H$1001,PCMSO!K$12)","v":0}]
[5.2200000000000618E-4,null,null,null,null,null,0,5.2200000000000618E-4,{"$f":"COUNTIFS('C-E'!$E$13:$E$1001,PCMSO!B534)","v":0},{"$f":"COUNTIFS('C-E'!$E$13:$E$1001,PCMSO!$B534,'C-E'!$H$13:$H$1001,PCMSO!J$12)","v":0},{"$f":"COUNTIFS('C-E'!$E$13:$E$1001,PCMSO!$B534,'C-E'!$H$13:$H$1001,PCMSO!K$12)","v":0}]
[5.2300000000000621E-4,null,null,null,null,null,0,5.2300000000000621E-4,{"$f":"COUNTIFS('C-E'!$E$13:$E$1001,PCMSO!B535)","v":0},{"$f":"COUNTIFS('C-E'!$E$13:$E$1001,PCMSO!$B535,'C-E'!$H$13:$H$1001,PCMSO!J$12)","v":0},{"$f":"COUNTIFS('C-E'!$E$13:$E$1001,PCMSO!$B535,'C-E'!$H$13:$H$1001,PCMSO!K$12)","v":0}]
[5.2400000000000623E-4,null,null,null,null,null,0,5.2400000000000623E-4,{"$f":"COUNTIFS('C-E'!$E$13:$E$1001,PCMSO!B536)","v":0},{"$f":"COUNTIFS('C-E'!$E$13:$E$1001,PCMSO!$B536,'C-E'!$H$13:$H$1001,PCMSO!J$12)","v":0},{"$f":"COUNTIFS('C-E'!$E$13:$E$1001,PCMSO!$B536,'C-E'!$H$13:$H$1001,PCMSO!K$12)","v":0}]
[5.2500000000000626E-4,null,null,null,null,null,0,5.2500000000000626E-4,{"$f":"COUNTIFS('C-E'!$E$13:$E$1001,PCMSO!B537)","v":0},{"$f":"COUNTIFS('C-E'!$E$13:$E$1001,PCMSO!$B537,'C-E'!$H$13:$H$1001,PCMSO!J$12)","v":0},{"$f":"COUNTIFS('C-E'!$E$13:$E$1001,PCMSO!$B537,'C-E'!$H$13:$H$1001,PCMSO!K$12)","v":0}]
[5.2600000000000628E-4,null,null,null,null,null,0,5.2600000000000628E-4,{"$f":"COUNTIFS('C-E'!$E$13:$E$1001,PCMSO!B538)","v":0},{"$f":"COUNTIFS('C-E'!$E$13:$E$1001,PCMSO!$B538,'C-E'!$H$13:$H$1001,PCMSO!J$12)","v":0},{"$f":"COUNTIFS('C-E'!$E$13:$E$1001,PCMSO!$B538,'C-E'!$H$13:$H$1001,PCMSO!K$12)","v":0}]
[5.270000000000063E-4,null,null,null,null,null,0,5.270000000000063E-4,{"$f":"COUNTIFS('C-E'!$E$13:$E$1001,PCMSO!B539)","v":0},{"$f":"COUNTIFS('C-E'!$E$13:$E$1001,PCMSO!$B539,'C-E'!$H$13:$H$1001,PCMSO!J$12)","v":0},{"$f":"COUNTIFS('C-E'!$E$13:$E$1001,PCMSO!$B539,'C-E'!$H$13:$H$1001,PCMSO!K$12)","v":0}]
[5.2800000000000633E-4,null,null,null,null,null,0,5.2800000000000633E-4,{"$f":"COUNTIFS('C-E'!$E$13:$E$1001,PCMSO!B540)","v":0},{"$f":"COUNTIFS('C-E'!$E$13:$E$1001,PCMSO!$B540,'C-E'!$H$13:$H$1001,PCMSO!J$12)","v":0},{"$f":"COUNTIFS('C-E'!$E$13:$E$1001,PCMSO!$B540,'C-E'!$H$13:$H$1001,PCMSO!K$12)","v":0}]
[5.2900000000000635E-4,null,null,null,null,null,0,5.2900000000000635E-4,{"$f":"COUNTIFS('C-E'!$E$13:$E$1001,PCMSO!B541)","v":0},{"$f":"COUNTIFS('C-E'!$E$13:$E$1001,PCMSO!$B541,'C-E'!$H$13:$H$1001,PCMSO!J$12)","v":0},{"$f":"COUNTIFS('C-E'!$E$13:$E$1001,PCMSO!$B541,'C-E'!$H$13:$H$1001,PCMSO!K$12)","v":0}]
[5.3000000000000638E-4,null,null,null,null,null,0,5.3000000000000638E-4,{"$f":"COUNTIFS('C-E'!$E$13:$E$1001,PCMSO!B542)","v":0},{"$f":"COUNTIFS('C-E'!$E$13:$E$1001,PCMSO!$B542,'C-E'!$H$13:$H$1001,PCMSO!J$12)","v":0},{"$f":"COUNTIFS('C-E'!$E$13:$E$1001,PCMSO!$B542,'C-E'!$H$13:$H$1001,PCMSO!K$12)","v":0}]
[5.310000000000064E-4,null,null,null,null,null,0,5.310000000000064E-4,{"$f":"COUNTIFS('C-E'!$E$13:$E$1001,PCMSO!B543)","v":0},{"$f":"COUNTIFS('C-E'!$E$13:$E$1001,PCMSO!$B543,'C-E'!$H$13:$H$1001,PCMSO!J$12)","v":0},{"$f":"COUNTIFS('C-E'!$E$13:$E$1001,PCMSO!$B543,'C-E'!$H$13:$H$1001,PCMSO!K$12)","v":0}]
[5.3200000000000643E-4,null,null,null,null,null,0,5.3200000000000643E-4,{"$f":"COUNTIFS('C-E'!$E$13:$E$1001,PCMSO!B544)","v":0},{"$f":"COUNTIFS('C-E'!$E$13:$E$1001,PCMSO!$B544,'C-E'!$H$13:$H$1001,PCMSO!J$12)","v":0},{"$f":"COUNTIFS('C-E'!$E$13:$E$1001,PCMSO!$B544,'C-E'!$H$13:$H$1001,PCMSO!K$12)","v":0}]
[5.3300000000000645E-4,null,null,null,null,null,0,5.3300000000000645E-4,{"$f":"COUNTIFS('C-E'!$E$13:$E$1001,PCMSO!B545)","v":0},{"$f":"COUNTIFS('C-E'!$E$13:$E$1001,PCMSO!$B545,'C-E'!$H$13:$H$1001,PCMSO!J$12)","v":0},{"$f":"COUNTIFS('C-E'!$E$13:$E$1001,PCMSO!$B545,'C-E'!$H$13:$H$1001,PCMSO!K$12)","v":0}]
[5.3400000000000647E-4,null,null,null,null,null,0,5.3400000000000647E-4,{"$f":"COUNTIFS('C-E'!$E$13:$E$1001,PCMSO!B546)","v":0},{"$f":"COUNTIFS('C-E'!$E$13:$E$1001,PCMSO!$B546,'C-E'!$H$13:$H$1001,PCMSO!J$12)","v":0},{"$f":"COUNTIFS('C-E'!$E$13:$E$1001,PCMSO!$B546,'C-E'!$H$13:$H$1001,PCMSO!K$12)","v":0}]
[5.350000000000065E-4,null,null,null,null,null,0,5.350000000000065E-4,{"$f":"COUNTIFS('C-E'!$E$13:$E$1001,PCMSO!B547)","v":0},{"$f":"COUNTIFS('C-E'!$E$13:$E$1001,PCMSO!$B547,'C-E'!$H$13:$H$1001,PCMSO!J$12)","v":0},{"$f":"COUNTIFS('C-E'!$E$13:$E$1001,PCMSO!$B547,'C-E'!$H$13:$H$1001,PCMSO!K$12)","v":0}]
[5.3600000000000652E-4,null,null,null,null,null,0,5.3600000000000652E-4,{"$f":"COUNTIFS('C-E'!$E$13:$E$1001,PCMSO!B548)","v":0},{"$f":"COUNTIFS('C-E'!$E$13:$E$1001,PCMSO!$B548,'C-E'!$H$13:$H$1001,PCMSO!J$12)","v":0},{"$f":"COUNTIFS('C-E'!$E$13:$E$1001,PCMSO!$B548,'C-E'!$H$13:$H$1001,PCMSO!K$12)","v":0}]
[5.3700000000000655E-4,null,null,null,null,null,0,5.3700000000000655E-4,{"$f":"COUNTIFS('C-E'!$E$13:$E$1001,PCMSO!B549)","v":0},{"$f":"COUNTIFS('C-E'!$E$13:$E$1001,PCMSO!$B549,'C-E'!$H$13:$H$1001,PCMSO!J$12)","v":0},{"$f":"COUNTIFS('C-E'!$E$13:$E$1001,PCMSO!$B549,'C-E'!$H$13:$H$1001,PCMSO!K$12)","v":0}]
[5.3800000000000657E-4,null,null,null,null,null,0,5.3800000000000657E-4,{"$f":"COUNTIFS('C-E'!$E$13:$E$1001,PCMSO!B550)","v":0},{"$f":"COUNTIFS('C-E'!$E$13:$E$1001,PCMSO!$B550,'C-E'!$H$13:$H$1001,PCMSO!J$12)","v":0},{"$f":"COUNTIFS('C-E'!$E$13:$E$1001,PCMSO!$B550,'C-E'!$H$13:$H$1001,PCMSO!K$12)","v":0}]
[5.390000000000066E-4,null,null,null,null,null,0,5.390000000000066E-4,{"$f":"COUNTIFS('C-E'!$E$13:$E$1001,PCMSO!B551)","v":0},{"$f":"COUNTIFS('C-E'!$E$13:$E$1001,PCMSO!$B551,'C-E'!$H$13:$H$1001,PCMSO!J$12)","v":0},{"$f":"COUNTIFS('C-E'!$E$13:$E$1001,PCMSO!$B551,'C-E'!$H$13:$H$1001,PCMSO!K$12)","v":0}]
[5.4000000000000662E-4,null,null,null,null,null,0,5.4000000000000662E-4,{"$f":"COUNTIFS('C-E'!$E$13:$E$1001,PCMSO!B552)","v":0},{"$f":"COUNTIFS('C-E'!$E$13:$E$1001,PCMSO!$B552,'C-E'!$H$13:$H$1001,PCMSO!J$12)","v":0},{"$f":"COUNTIFS('C-E'!$E$13:$E$1001,PCMSO!$B552,'C-E'!$H$13:$H$1001,PCMSO!K$12)","v":0}]
[5.4100000000000664E-4,null,null,null,null,null,0,5.4100000000000664E-4,{"$f":"COUNTIFS('C-E'!$E$13:$E$1001,PCMSO!B553)","v":0},{"$f":"COUNTIFS('C-E'!$E$13:$E$1001,PCMSO!$B553,'C-E'!$H$13:$H$1001,PCMSO!J$12)","v":0},{"$f":"COUNTIFS('C-E'!$E$13:$E$1001,PCMSO!$B553,'C-E'!$H$13:$H$1001,PCMSO!K$12)","v":0}]
[5.4200000000000667E-4,null,null,null,null,null,0,5.4200000000000667E-4,{"$f":"COUNTIFS('C-E'!$E$13:$E$1001,PCMSO!B554)","v":0},{"$f":"COUNTIFS('C-E'!$E$13:$E$1001,PCMSO!$B554,'C-E'!$H$13:$H$1001,PCMSO!J$12)","v":0},{"$f":"COUNTIFS('C-E'!$E$13:$E$1001,PCMSO!$B554,'C-E'!$H$13:$H$1001,PCMSO!K$12)","v":0}]
[5.4300000000000669E-4,null,null,null,null,null,0,5.4300000000000669E-4,{"$f":"COUNTIFS('C-E'!$E$13:$E$1001,PCMSO!B555)","v":0},{"$f":"COUNTIFS('C-E'!$E$13:$E$1001,PCMSO!$B555,'C-E'!$H$13:$H$1001,PCMSO!J$12)","v":0},{"$f":"COUNTIFS('C-E'!$E$13:$E$1001,PCMSO!$B555,'C-E'!$H$13:$H$1001,PCMSO!K$12)","v":0}]
[5.4400000000000672E-4,null,null,null,null,null,0,5.4400000000000672E-4,{"$f":"COUNTIFS('C-E'!$E$13:$E$1001,PCMSO!B556)","v":0},{"$f":"COUNTIFS('C-E'!$E$13:$E$1001,PCMSO!$B556,'C-E'!$H$13:$H$1001,PCMSO!J$12)","v":0},{"$f":"COUNTIFS('C-E'!$E$13:$E$1001,PCMSO!$B556,'C-E'!$H$13:$H$1001,PCMSO!K$12)","v":0}]
[5.4500000000000674E-4,null,null,null,null,null,0,5.4500000000000674E-4,{"$f":"COUNTIFS('C-E'!$E$13:$E$1001,PCMSO!B557)","v":0},{"$f":"COUNTIFS('C-E'!$E$13:$E$1001,PCMSO!$B557,'C-E'!$H$13:$H$1001,PCMSO!J$12)","v":0},{"$f":"COUNTIFS('C-E'!$E$13:$E$1001,PCMSO!$B557,'C-E'!$H$13:$H$1001,PCMSO!K$12)","v":0}]
[5.4600000000000677E-4,null,null,null,null,null,0,5.4600000000000677E-4,{"$f":"COUNTIFS('C-E'!$E$13:$E$1001,PCMSO!B558)","v":0},{"$f":"COUNTIFS('C-E'!$E$13:$E$1001,PCMSO!$B558,'C-E'!$H$13:$H$1001,PCMSO!J$12)","v":0},{"$f":"COUNTIFS('C-E'!$E$13:$E$1001,PCMSO!$B558,'C-E'!$H$13:$H$1001,PCMSO!K$12)","v":0}]
[5.4700000000000679E-4,null,null,null,null,null,0,5.4700000000000679E-4,{"$f":"COUNTIFS('C-E'!$E$13:$E$1001,PCMSO!B559)","v":0},{"$f":"COUNTIFS('C-E'!$E$13:$E$1001,PCMSO!$B559,'C-E'!$H$13:$H$1001,PCMSO!J$12)","v":0},{"$f":"COUNTIFS('C-E'!$E$13:$E$1001,PCMSO!$B559,'C-E'!$H$13:$H$1001,PCMSO!K$12)","v":0}]
[5.4800000000000681E-4,null,null,null,null,null,0,5.4800000000000681E-4,{"$f":"COUNTIFS('C-E'!$E$13:$E$1001,PCMSO!B560)","v":0},{"$f":"COUNTIFS('C-E'!$E$13:$E$1001,PCMSO!$B560,'C-E'!$H$13:$H$1001,PCMSO!J$12)","v":0},{"$f":"COUNTIFS('C-E'!$E$13:$E$1001,PCMSO!$B560,'C-E'!$H$13:$H$1001,PCMSO!K$12)","v":0}]
[5.4900000000000684E-4,null,null,null,null,null,0,5.4900000000000684E-4,{"$f":"COUNTIFS('C-E'!$E$13:$E$1001,PCMSO!B561)","v":0},{"$f":"COUNTIFS('C-E'!$E$13:$E$1001,PCMSO!$B561,'C-E'!$H$13:$H$1001,PCMSO!J$12)","v":0},{"$f":"COUNTIFS('C-E'!$E$13:$E$1001,PCMSO!$B561,'C-E'!$H$13:$H$1001,PCMSO!K$12)","v":0}]
[5.5000000000000686E-4,null,null,null,null,null,0,5.5000000000000686E-4,{"$f":"COUNTIFS('C-E'!$E$13:$E$1001,PCMSO!B562)","v":0},{"$f":"COUNTIFS('C-E'!$E$13:$E$1001,PCMSO!$B562,'C-E'!$H$13:$H$1001,PCMSO!J$12)","v":0},{"$f":"COUNTIFS('C-E'!$E$13:$E$1001,PCMSO!$B562,'C-E'!$H$13:$H$1001,PCMSO!K$12)","v":0}]
[5.5100000000000689E-4,null,null,null,null,null,0,5.5100000000000689E-4,{"$f":"COUNTIFS('C-E'!$E$13:$E$1001,PCMSO!B563)","v":0},{"$f":"COUNTIFS('C-E'!$E$13:$E$1001,PCMSO!$B563,'C-E'!$H$13:$H$1001,PCMSO!J$12)","v":0},{"$f":"COUNTIFS('C-E'!$E$13:$E$1001,PCMSO!$B563,'C-E'!$H$13:$H$1001,PCMSO!K$12)","v":0}]
[5.5200000000000691E-4,null,null,null,null,null,0,5.5200000000000691E-4,{"$f":"COUNTIFS('C-E'!$E$13:$E$1001,PCMSO!B564)","v":0},{"$f":"COUNTIFS('C-E'!$E$13:$E$1001,PCMSO!$B564,'C-E'!$H$13:$H$1001,PCMSO!J$12)","v":0},{"$f":"COUNTIFS('C-E'!$E$13:$E$1001,PCMSO!$B564,'C-E'!$H$13:$H$1001,PCMSO!K$12)","v":0}]
[5.5300000000000694E-4,null,null,null,null,null,0,5.5300000000000694E-4,{"$f":"COUNTIFS('C-E'!$E$13:$E$1001,PCMSO!B565)","v":0},{"$f":"COUNTIFS('C-E'!$E$13:$E$1001,PCMSO!$B565,'C-E'!$H$13:$H$1001,PCMSO!J$12)","v":0},{"$f":"COUNTIFS('C-E'!$E$13:$E$1001,PCMSO!$B565,'C-E'!$H$13:$H$1001,PCMSO!K$12)","v":0}]
[5.5400000000000696E-4,null,null,null,null,null,0,5.5400000000000696E-4,{"$f":"COUNTIFS('C-E'!$E$13:$E$1001,PCMSO!B566)","v":0},{"$f":"COUNTIFS('C-E'!$E$13:$E$1001,PCMSO!$B566,'C-E'!$H$13:$H$1001,PCMSO!J$12)","v":0},{"$f":"COUNTIFS('C-E'!$E$13:$E$1001,PCMSO!$B566,'C-E'!$H$13:$H$1001,PCMSO!K$12)","v":0}]
[5.5500000000000699E-4,null,null,null,null,null,0,5.5500000000000699E-4,{"$f":"COUNTIFS('C-E'!$E$13:$E$1001,PCMSO!B567)","v":0},{"$f":"COUNTIFS('C-E'!$E$13:$E$1001,PCMSO!$B567,'C-E'!$H$13:$H$1001,PCMSO!J$12)","v":0},{"$f":"COUNTIFS('C-E'!$E$13:$E$1001,PCMSO!$B567,'C-E'!$H$13:$H$1001,PCMSO!K$12)","v":0}]
[5.5600000000000701E-4,null,null,null,null,null,0,5.5600000000000701E-4,{"$f":"COUNTIFS('C-E'!$E$13:$E$1001,PCMSO!B568)","v":0},{"$f":"COUNTIFS('C-E'!$E$13:$E$1001,PCMSO!$B568,'C-E'!$H$13:$H$1001,PCMSO!J$12)","v":0},{"$f":"COUNTIFS('C-E'!$E$13:$E$1001,PCMSO!$B568,'C-E'!$H$13:$H$1001,PCMSO!K$12)","v":0}]
[5.5700000000000703E-4,null,null,null,null,null,0,5.5700000000000703E-4,{"$f":"COUNTIFS('C-E'!$E$13:$E$1001,PCMSO!B569)","v":0},{"$f":"COUNTIFS('C-E'!$E$13:$E$1001,PCMSO!$B569,'C-E'!$H$13:$H$1001,PCMSO!J$12)","v":0},{"$f":"COUNTIFS('C-E'!$E$13:$E$1001,PCMSO!$B569,'C-E'!$H$13:$H$1001,PCMSO!K$12)","v":0}]
[5.5800000000000706E-4,null,null,null,null,null,0,5.5800000000000706E-4,{"$f":"COUNTIFS('C-E'!$E$13:$E$1001,PCMSO!B570)","v":0},{"$f":"COUNTIFS('C-E'!$E$13:$E$1001,PCMSO!$B570,'C-E'!$H$13:$H$1001,PCMSO!J$12)","v":0},{"$f":"COUNTIFS('C-E'!$E$13:$E$1001,PCMSO!$B570,'C-E'!$H$13:$H$1001,PCMSO!K$12)","v":0}]
[5.5900000000000708E-4,null,null,null,null,null,0,5.5900000000000708E-4,{"$f":"COUNTIFS('C-E'!$E$13:$E$1001,PCMSO!B571)","v":0},{"$f":"COUNTIFS('C-E'!$E$13:$E$1001,PCMSO!$B571,'C-E'!$H$13:$H$1001,PCMSO!J$12)","v":0},{"$f":"COUNTIFS('C-E'!$E$13:$E$1001,PCMSO!$B571,'C-E'!$H$13:$H$1001,PCMSO!K$12)","v":0}]
[5.6000000000000711E-4,null,null,null,null,null,0,5.6000000000000711E-4,{"$f":"COUNTIFS('C-E'!$E$13:$E$1001,PCMSO!B572)","v":0},{"$f":"COUNTIFS('C-E'!$E$13:$E$1001,PCMSO!$B572,'C-E'!$H$13:$H$1001,PCMSO!J$12)","v":0},{"$f":"COUNTIFS('C-E'!$E$13:$E$1001,PCMSO!$B572,'C-E'!$H$13:$H$1001,PCMSO!K$12)","v":0}]
[5.6100000000000713E-4,null,null,null,null,null,0,5.6100000000000713E-4,{"$f":"COUNTIFS('C-E'!$E$13:$E$1001,PCMSO!B573)","v":0},{"$f":"COUNTIFS('C-E'!$E$13:$E$1001,PCMSO!$B573,'C-E'!$H$13:$H$1001,PCMSO!J$12)","v":0},{"$f":"COUNTIFS('C-E'!$E$13:$E$1001,PCMSO!$B573,'C-E'!$H$13:$H$1001,PCMSO!K$12)","v":0}]
[5.6200000000000716E-4,null,null,null,null,null,0,5.6200000000000716E-4,{"$f":"COUNTIFS('C-E'!$E$13:$E$1001,PCMSO!B574)","v":0},{"$f":"COUNTIFS('C-E'!$E$13:$E$1001,PCMSO!$B574,'C-E'!$H$13:$H$1001,PCMSO!J$12)","v":0},{"$f":"COUNTIFS('C-E'!$E$13:$E$1001,PCMSO!$B574,'C-E'!$H$13:$H$1001,PCMSO!K$12)","v":0}]
[5.6300000000000718E-4,null,null,null,null,null,0,5.6300000000000718E-4,{"$f":"COUNTIFS('C-E'!$E$13:$E$1001,PCMSO!B575)","v":0},{"$f":"COUNTIFS('C-E'!$E$13:$E$1001,PCMSO!$B575,'C-E'!$H$13:$H$1001,PCMSO!J$12)","v":0},{"$f":"COUNTIFS('C-E'!$E$13:$E$1001,PCMSO!$B575,'C-E'!$H$13:$H$1001,PCMSO!K$12)","v":0}]
[5.640000000000072E-4,null,null,null,null,null,0,5.640000000000072E-4,{"$f":"COUNTIFS('C-E'!$E$13:$E$1001,PCMSO!B576)","v":0},{"$f":"COUNTIFS('C-E'!$E$13:$E$1001,PCMSO!$B576,'C-E'!$H$13:$H$1001,PCMSO!J$12)","v":0},{"$f":"COUNTIFS('C-E'!$E$13:$E$1001,PCMSO!$B576,'C-E'!$H$13:$H$1001,PCMSO!K$12)","v":0}]
[5.6500000000000723E-4,null,null,null,null,null,0,5.6500000000000723E-4,{"$f":"COUNTIFS('C-E'!$E$13:$E$1001,PCMSO!B577)","v":0},{"$f":"COUNTIFS('C-E'!$E$13:$E$1001,PCMSO!$B577,'C-E'!$H$13:$H$1001,PCMSO!J$12)","v":0},{"$f":"COUNTIFS('C-E'!$E$13:$E$1001,PCMSO!$B577,'C-E'!$H$13:$H$1001,PCMSO!K$12)","v":0}]
[5.6600000000000725E-4,null,null,null,null,null,0,5.6600000000000725E-4,{"$f":"COUNTIFS('C-E'!$E$13:$E$1001,PCMSO!B578)","v":0},{"$f":"COUNTIFS('C-E'!$E$13:$E$1001,PCMSO!$B578,'C-E'!$H$13:$H$1001,PCMSO!J$12)","v":0},{"$f":"COUNTIFS('C-E'!$E$13:$E$1001,PCMSO!$B578,'C-E'!$H$13:$H$1001,PCMSO!K$12)","v":0}]
[5.6700000000000728E-4,null,null,null,null,null,0,5.6700000000000728E-4,{"$f":"COUNTIFS('C-E'!$E$13:$E$1001,PCMSO!B579)","v":0},{"$f":"COUNTIFS('C-E'!$E$13:$E$1001,PCMSO!$B579,'C-E'!$H$13:$H$1001,PCMSO!J$12)","v":0},{"$f":"COUNTIFS('C-E'!$E$13:$E$1001,PCMSO!$B579,'C-E'!$H$13:$H$1001,PCMSO!K$12)","v":0}]
[5.680000000000073E-4,null,null,null,null,null,0,5.680000000000073E-4,{"$f":"COUNTIFS('C-E'!$E$13:$E$1001,PCMSO!B580)","v":0},{"$f":"COUNTIFS('C-E'!$E$13:$E$1001,PCMSO!$B580,'C-E'!$H$13:$H$1001,PCMSO!J$12)","v":0},{"$f":"COUNTIFS('C-E'!$E$13:$E$1001,PCMSO!$B580,'C-E'!$H$13:$H$1001,PCMSO!K$12)","v":0}]
[5.6900000000000733E-4,null,null,null,null,null,0,5.6900000000000733E-4,{"$f":"COUNTIFS('C-E'!$E$13:$E$1001,PCMSO!B581)","v":0},{"$f":"COUNTIFS('C-E'!$E$13:$E$1001,PCMSO!$B581,'C-E'!$H$13:$H$1001,PCMSO!J$12)","v":0},{"$f":"COUNTIFS('C-E'!$E$13:$E$1001,PCMSO!$B581,'C-E'!$H$13:$H$1001,PCMSO!K$12)","v":0}]
[5.7000000000000735E-4,null,null,null,null,null,0,5.7000000000000735E-4,{"$f":"COUNTIFS('C-E'!$E$13:$E$1001,PCMSO!B582)","v":0},{"$f":"COUNTIFS('C-E'!$E$13:$E$1001,PCMSO!$B582,'C-E'!$H$13:$H$1001,PCMSO!J$12)","v":0},{"$f":"COUNTIFS('C-E'!$E$13:$E$1001,PCMSO!$B582,'C-E'!$H$13:$H$1001,PCMSO!K$12)","v":0}]
[5.7100000000000737E-4,null,null,null,null,null,0,5.7100000000000737E-4,{"$f":"COUNTIFS('C-E'!$E$13:$E$1001,PCMSO!B583)","v":0},{"$f":"COUNTIFS('C-E'!$E$13:$E$1001,PCMSO!$B583,'C-E'!$H$13:$H$1001,PCMSO!J$12)","v":0},{"$f":"COUNTIFS('C-E'!$E$13:$E$1001,PCMSO!$B583,'C-E'!$H$13:$H$1001,PCMSO!K$12)","v":0}]
[5.720000000000074E-4,null,null,null,null,null,0,5.720000000000074E-4,{"$f":"COUNTIFS('C-E'!$E$13:$E$1001,PCMSO!B584)","v":0},{"$f":"COUNTIFS('C-E'!$E$13:$E$1001,PCMSO!$B584,'C-E'!$H$13:$H$1001,PCMSO!J$12)","v":0},{"$f":"COUNTIFS('C-E'!$E$13:$E$1001,PCMSO!$B584,'C-E'!$H$13:$H$1001,PCMSO!K$12)","v":0}]
[5.7300000000000742E-4,null,null,null,null,null,0,5.7300000000000742E-4,{"$f":"COUNTIFS('C-E'!$E$13:$E$1001,PCMSO!B585)","v":0},{"$f":"COUNTIFS('C-E'!$E$13:$E$1001,PCMSO!$B585,'C-E'!$H$13:$H$1001,PCMSO!J$12)","v":0},{"$f":"COUNTIFS('C-E'!$E$13:$E$1001,PCMSO!$B585,'C-E'!$H$13:$H$1001,PCMSO!K$12)","v":0}]
[5.7400000000000745E-4,null,null,null,null,null,0,5.7400000000000745E-4,{"$f":"COUNTIFS('C-E'!$E$13:$E$1001,PCMSO!B586)","v":0},{"$f":"COUNTIFS('C-E'!$E$13:$E$1001,PCMSO!$B586,'C-E'!$H$13:$H$1001,PCMSO!J$12)","v":0},{"$f":"COUNTIFS('C-E'!$E$13:$E$1001,PCMSO!$B586,'C-E'!$H$13:$H$1001,PCMSO!K$12)","v":0}]
[5.7500000000000747E-4,null,null,null,null,null,0,5.7500000000000747E-4,{"$f":"COUNTIFS('C-E'!$E$13:$E$1001,PCMSO!B587)","v":0},{"$f":"COUNTIFS('C-E'!$E$13:$E$1001,PCMSO!$B587,'C-E'!$H$13:$H$1001,PCMSO!J$12)","v":0},{"$f":"COUNTIFS('C-E'!$E$13:$E$1001,PCMSO!$B587,'C-E'!$H$13:$H$1001,PCMSO!K$12)","v":0}]
[5.760000000000075E-4,null,null,null,null,null,0,5.760000000000075E-4,{"$f":"COUNTIFS('C-E'!$E$13:$E$1001,PCMSO!B588)","v":0},{"$f":"COUNTIFS('C-E'!$E$13:$E$1001,PCMSO!$B588,'C-E'!$H$13:$H$1001,PCMSO!J$12)","v":0},{"$f":"COUNTIFS('C-E'!$E$13:$E$1001,PCMSO!$B588,'C-E'!$H$13:$H$1001,PCMSO!K$12)","v":0}]
[{"$f":"SUM(H589:I589)","v":5.7700000000000752E-4},null,null,null,null,null,0,5.7700000000000752E-4,{"$f":"COUNTIFS('C-E'!$E$13:$E$1001,PCMSO!B589)","v":0},{"$f":"COUNTIFS('C-E'!$E$13:$E$1001,PCMSO!$B589,'C-E'!$H$13:$H$1001,PCMSO!J$12)","v":0},{"$f":"COUNTIFS('C-E'!$E$13:$E$1001,PCMSO!$B589,'C-E'!$H$13:$H$1001,PCMSO!K$12)","v":0}]
[5.7800000000000754E-4,null,null,null,null,null,{"$f":"B590","v":0},5.7800000000000754E-4,{"$f":"COUNTIFS('C-E'!$E$13:$E$1001,PCMSO!B590)","v":0},{"$f":"COUNTIFS('C-E'!$E$13:$E$1001,PCMSO!$B590,'C-E'!$H$13:$H$1001,PCMSO!J$12)","v":0},{"$f":"COUNTIFS('C-E'!$E$13:$E$1001,PCMSO!$B590,'C-E'!$H$13:$H$1001,PCMSO!K$12)","v":0}]
[5.7900000000000757E-4,null,null,null,null,null,0,{"$f":"H590+$H$13","v":5.7900000000000757E-4},{"$f":"COUNTIFS('C-E'!$E$13:$E$1001,PCMSO!B591)","v":0},{"$f":"COUNTIFS('C-E'!$E$13:$E$1001,PCMSO!$B591,'C-E'!$H$13:$H$1001,PCMSO!J$12)","v":0},{"$f":"COUNTIFS('C-E'!$E$13:$E$1001,PCMSO!$B591,'C-E'!$H$13:$H$1001,PCMSO!K$12)","v":0}]
[5.8000000000000759E-4,null,null,null,null,null,0,5.8000000000000759E-4,{"$f":"COUNTIFS('C-E'!$E$13:$E$1001,PCMSO!B592)","v":0},{"$f":"COUNTIFS('C-E'!$E$13:$E$1001,PCMSO!$B592,'C-E'!$H$13:$H$1001,PCMSO!J$12)","v":0},{"$f":"COUNTIFS('C-E'!$E$13:$E$1001,PCMSO!$B592,'C-E'!$H$13:$H$1001,PCMSO!K$12)","v":0}]
[5.8100000000000762E-4,null,null,null,null,null,0,5.8100000000000762E-4,{"$f":"COUNTIFS('C-E'!$E$13:$E$1001,PCMSO!B593)","v":0},{"$f":"COUNTIFS('C-E'!$E$13:$E$1001,PCMSO!$B593,'C-E'!$H$13:$H$1001,PCMSO!J$12)","v":0},{"$f":"COUNTIFS('C-E'!$E$13:$E$1001,PCMSO!$B593,'C-E'!$H$13:$H$1001,PCMSO!K$12)","v":0}]
[5.8200000000000764E-4,null,null,null,null,null,0,5.8200000000000764E-4,{"$f":"COUNTIFS('C-E'!$E$13:$E$1001,PCMSO!B594)","v":0},{"$f":"COUNTIFS('C-E'!$E$13:$E$1001,PCMSO!$B594,'C-E'!$H$13:$H$1001,PCMSO!J$12)","v":0},{"$f":"COUNTIFS('C-E'!$E$13:$E$1001,PCMSO!$B594,'C-E'!$H$13:$H$1001,PCMSO!K$12)","v":0}]
[5.8300000000000767E-4,null,null,null,null,null,0,5.8300000000000767E-4,{"$f":"COUNTIFS('C-E'!$E$13:$E$1001,PCMSO!B595)","v":0},{"$f":"COUNTIFS('C-E'!$E$13:$E$1001,PCMSO!$B595,'C-E'!$H$13:$H$1001,PCMSO!J$12)","v":0},{"$f":"COUNTIFS('C-E'!$E$13:$E$1001,PCMSO!$B595,'C-E'!$H$13:$H$1001,PCMSO!K$12)","v":0}]
[5.8400000000000769E-4,null,null,null,null,null,0,5.8400000000000769E-4,{"$f":"COUNTIFS('C-E'!$E$13:$E$1001,PCMSO!B596)","v":0},{"$f":"COUNTIFS('C-E'!$E$13:$E$1001,PCMSO!$B596,'C-E'!$H$13:$H$1001,PCMSO!J$12)","v":0},{"$f":"COUNTIFS('C-E'!$E$13:$E$1001,PCMSO!$B596,'C-E'!$H$13:$H$1001,PCMSO!K$12)","v":0}]
[5.8500000000000771E-4,null,null,null,null,null,0,5.8500000000000771E-4,{"$f":"COUNTIFS('C-E'!$E$13:$E$1001,PCMSO!B597)","v":0},{"$f":"COUNTIFS('C-E'!$E$13:$E$1001,PCMSO!$B597,'C-E'!$H$13:$H$1001,PCMSO!J$12)","v":0},{"$f":"COUNTIFS('C-E'!$E$13:$E$1001,PCMSO!$B597,'C-E'!$H$13:$H$1001,PCMSO!K$12)","v":0}]
[5.8600000000000774E-4,null,null,null,null,null,0,5.8600000000000774E-4,{"$f":"COUNTIFS('C-E'!$E$13:$E$1001,PCMSO!B598)","v":0},{"$f":"COUNTIFS('C-E'!$E$13:$E$1001,PCMSO!$B598,'C-E'!$H$13:$H$1001,PCMSO!J$12)","v":0},{"$f":"COUNTIFS('C-E'!$E$13:$E$1001,PCMSO!$B598,'C-E'!$H$13:$H$1001,PCMSO!K$12)","v":0}]
[5.8700000000000776E-4,null,null,null,null,null,0,5.8700000000000776E-4,{"$f":"COUNTIFS('C-E'!$E$13:$E$1001,PCMSO!B599)","v":0},{"$f":"COUNTIFS('C-E'!$E$13:$E$1001,PCMSO!$B599,'C-E'!$H$13:$H$1001,PCMSO!J$12)","v":0},{"$f":"COUNTIFS('C-E'!$E$13:$E$1001,PCMSO!$B599,'C-E'!$H$13:$H$1001,PCMSO!K$12)","v":0}]
[5.8800000000000779E-4,null,null,null,null,null,0,5.8800000000000779E-4,{"$f":"COUNTIFS('C-E'!$E$13:$E$1001,PCMSO!B600)","v":0},{"$f":"COUNTIFS('C-E'!$E$13:$E$1001,PCMSO!$B600,'C-E'!$H$13:$H$1001,PCMSO!J$12)","v":0},{"$f":"COUNTIFS('C-E'!$E$13:$E$1001,PCMSO!$B600,'C-E'!$H$13:$H$1001,PCMSO!K$12)","v":0}]
[5.8900000000000781E-4,null,null,null,null,null,0,5.8900000000000781E-4,{"$f":"COUNTIFS('C-E'!$E$13:$E$1001,PCMSO!B601)","v":0},{"$f":"COUNTIFS('C-E'!$E$13:$E$1001,PCMSO!$B601,'C-E'!$H$13:$H$1001,PCMSO!J$12)","v":0},{"$f":"COUNTIFS('C-E'!$E$13:$E$1001,PCMSO!$B601,'C-E'!$H$13:$H$1001,PCMSO!K$12)","v":0}]
[5.9000000000000784E-4,null,null,null,null,null,0,5.9000000000000784E-4,{"$f":"COUNTIFS('C-E'!$E$13:$E$1001,PCMSO!B602)","v":0},{"$f":"COUNTIFS('C-E'!$E$13:$E$1001,PCMSO!$B602,'C-E'!$H$13:$H$1001,PCMSO!J$12)","v":0},{"$f":"COUNTIFS('C-E'!$E$13:$E$1001,PCMSO!$B602,'C-E'!$H$13:$H$1001,PCMSO!K$12)","v":0}]
[5.9100000000000786E-4,null,null,null,null,null,0,5.9100000000000786E-4,{"$f":"COUNTIFS('C-E'!$E$13:$E$1001,PCMSO!B603)","v":0},{"$f":"COUNTIFS('C-E'!$E$13:$E$1001,PCMSO!$B603,'C-E'!$H$13:$H$1001,PCMSO!J$12)","v":0},{"$f":"COUNTIFS('C-E'!$E$13:$E$1001,PCMSO!$B603,'C-E'!$H$13:$H$1001,PCMSO!K$12)","v":0}]
[5.9200000000000788E-4,null,null,null,null,null,0,5.9200000000000788E-4,{"$f":"COUNTIFS('C-E'!$E$13:$E$1001,PCMSO!B604)","v":0},{"$f":"COUNTIFS('C-E'!$E$13:$E$1001,PCMSO!$B604,'C-E'!$H$13:$H$1001,PCMSO!J$12)","v":0},{"$f":"COUNTIFS('C-E'!$E$13:$E$1001,PCMSO!$B604,'C-E'!$H$13:$H$1001,PCMSO!K$12)","v":0}]
[5.9300000000000791E-4,null,null,null,null,null,0,5.9300000000000791E-4,{"$f":"COUNTIFS('C-E'!$E$13:$E$1001,PCMSO!B605)","v":0},{"$f":"COUNTIFS('C-E'!$E$13:$E$1001,PCMSO!$B605,'C-E'!$H$13:$H$1001,PCMSO!J$12)","v":0},{"$f":"COUNTIFS('C-E'!$E$13:$E$1001,PCMSO!$B605,'C-E'!$H$13:$H$1001,PCMSO!K$12)","v":0}]
[5.9400000000000793E-4,null,null,null,null,null,0,5.9400000000000793E-4,{"$f":"COUNTIFS('C-E'!$E$13:$E$1001,PCMSO!B606)","v":0},{"$f":"COUNTIFS('C-E'!$E$13:$E$1001,PCMSO!$B606,'C-E'!$H$13:$H$1001,PCMSO!J$12)","v":0},{"$f":"COUNTIFS('C-E'!$E$13:$E$1001,PCMSO!$B606,'C-E'!$H$13:$H$1001,PCMSO!K$12)","v":0}]
[5.9500000000000796E-4,null,null,null,null,null,0,5.9500000000000796E-4,{"$f":"COUNTIFS('C-E'!$E$13:$E$1001,PCMSO!B607)","v":0},{"$f":"COUNTIFS('C-E'!$E$13:$E$1001,PCMSO!$B607,'C-E'!$H$13:$H$1001,PCMSO!J$12)","v":0},{"$f":"COUNTIFS('C-E'!$E$13:$E$1001,PCMSO!$B607,'C-E'!$H$13:$H$1001,PCMSO!K$12)","v":0}]
[5.9600000000000798E-4,null,null,null,null,null,0,5.9600000000000798E-4,{"$f":"COUNTIFS('C-E'!$E$13:$E$1001,PCMSO!B608)","v":0},{"$f":"COUNTIFS('C-E'!$E$13:$E$1001,PCMSO!$B608,'C-E'!$H$13:$H$1001,PCMSO!J$12)","v":0},{"$f":"COUNTIFS('C-E'!$E$13:$E$1001,PCMSO!$B608,'C-E'!$H$13:$H$1001,PCMSO!K$12)","v":0}]
[5.9700000000000801E-4,null,null,null,null,null,0,5.9700000000000801E-4,{"$f":"COUNTIFS('C-E'!$E$13:$E$1001,PCMSO!B609)","v":0},{"$f":"COUNTIFS('C-E'!$E$13:$E$1001,PCMSO!$B609,'C-E'!$H$13:$H$1001,PCMSO!J$12)","v":0},{"$f":"COUNTIFS('C-E'!$E$13:$E$1001,PCMSO!$B609,'C-E'!$H$13:$H$1001,PCMSO!K$12)","v":0}]
[5.9800000000000803E-4,null,null,null,null,null,0,5.9800000000000803E-4,{"$f":"COUNTIFS('C-E'!$E$13:$E$1001,PCMSO!B610)","v":0},{"$f":"COUNTIFS('C-E'!$E$13:$E$1001,PCMSO!$B610,'C-E'!$H$13:$H$1001,PCMSO!J$12)","v":0},{"$f":"COUNTIFS('C-E'!$E$13:$E$1001,PCMSO!$B610,'C-E'!$H$13:$H$1001,PCMSO!K$12)","v":0}]
[5.9900000000000805E-4,null,null,null,null,null,0,5.9900000000000805E-4,{"$f":"COUNTIFS('C-E'!$E$13:$E$1001,PCMSO!B611)","v":0},{"$f":"COUNTIFS('C-E'!$E$13:$E$1001,PCMSO!$B611,'C-E'!$H$13:$H$1001,PCMSO!J$12)","v":0},{"$f":"COUNTIFS('C-E'!$E$13:$E$1001,PCMSO!$B611,'C-E'!$H$13:$H$1001,PCMSO!K$12)","v":0}]
[6.0000000000000808E-4,null,null,null,null,null,0,6.0000000000000808E-4,{"$f":"COUNTIFS('C-E'!$E$13:$E$1001,PCMSO!B612)","v":0},{"$f":"COUNTIFS('C-E'!$E$13:$E$1001,PCMSO!$B612,'C-E'!$H$13:$H$1001,PCMSO!J$12)","v":0},{"$f":"COUNTIFS('C-E'!$E$13:$E$1001,PCMSO!$B612,'C-E'!$H$13:$H$1001,PCMSO!K$12)","v":0}]
[6.010000000000081E-4,null,null,null,null,null,0,6.010000000000081E-4,{"$f":"COUNTIFS('C-E'!$E$13:$E$1001,PCMSO!B613)","v":0},{"$f":"COUNTIFS('C-E'!$E$13:$E$1001,PCMSO!$B613,'C-E'!$H$13:$H$1001,PCMSO!J$12)","v":0},{"$f":"COUNTIFS('C-E'!$E$13:$E$1001,PCMSO!$B613,'C-E'!$H$13:$H$1001,PCMSO!K$12)","v":0}]
[6.0200000000000813E-4,null,null,null,null,null,0,6.0200000000000813E-4,{"$f":"COUNTIFS('C-E'!$E$13:$E$1001,PCMSO!B614)","v":0},{"$f":"COUNTIFS('C-E'!$E$13:$E$1001,PCMSO!$B614,'C-E'!$H$13:$H$1001,PCMSO!J$12)","v":0},{"$f":"COUNTIFS('C-E'!$E$13:$E$1001,PCMSO!$B614,'C-E'!$H$13:$H$1001,PCMSO!K$12)","v":0}]
[null,"a","a","a","a",null,"a","a","a","a","a","a","a","a","a","a","a","a","a","a","a"]

{"sheet":"C-A","index":5,"n_rows":1014,"n_cols":16,"rows_kept":1014,"cut":false,"hidden":false,"merged":[]}
[]
[]
[]
[]
[]
[]
[]
[]
[]
[]
[]
[null,"Data","Relacionado a que risco","Colaborador","Área","Causa do acidente","Situação da vítima","Estava com o equipamento de segurança necessário?",null,null,null,null,"mês",null,null,"total de acidentes"]
[null,"2020-09-25","r 1","João Pedro",{"$f":"IF(D13=\"\",\"\",VLOOKUP(D13,CAD_AREA!$CB$13:$CD$113,3,FALSE))","v":"PROD"},"cochilou","Ferida","Sim",null,1,"Janeiro",null,{"$f":"IF(B13=\"\",\"\",VLOOKUP(MONTH(B13),$J$13:$K$24,2,FALSE))","v":"Setembro"},null,null,{"$f":"COUNTA($M$13:$M$1013)-COUNTBLANK($M$13:$M$1013)","v":1}]
[null,null,null,null,{"$f":"IF(D14=\"\",\"\",VLOOKUP(D14,CAD_AREA!$CB$13:$CD$113,3,FALSE))","v":""},null,null,null,null,2,"Fevereiro",null,{"$f":"IF(B14=\"\",\"\",VLOOKUP(MONTH(B14),$J$13:$K$24,2,FALSE))","v":""}]
[null,null,null,null,{"$f":"IF(D15=\"\",\"\",VLOOKUP(D15,CAD_AREA!$CB$13:$CD$113,3,FALSE))","v":""},null,null,null,null,3,"Março",null,""]
[null,null,null,null,{"$f":"IF(D16=\"\",\"\",VLOOKUP(D16,CAD_AREA!$CB$13:$CD$113,3,FALSE))","v":""},null,null,null,null,4,"Abril",null,""]
[null,null,null,null,{"$f":"IF(D17=\"\",\"\",VLOOKUP(D17,CAD_AREA!$CB$13:$CD$113,3,FALSE))","v":""},null,null,null,null,5,"Maio",null,""]
[null,null,null,null,{"$f":"IF(D18=\"\",\"\",VLOOKUP(D18,CAD_AREA!$CB$13:$CD$113,3,FALSE))","v":""},null,null,null,null,6,"Junho",null,""]
[null,null,null,null,{"$f":"IF(D19=\"\",\"\",VLOOKUP(D19,CAD_AREA!$CB$13:$CD$113,3,FALSE))","v":""},null,null,null,null,7,"Julho",null,""]
[null,null,null,null,{"$f":"IF(D20=\"\",\"\",VLOOKUP(D20,CAD_AREA!$CB$13:$CD$113,3,FALSE))","v":""},null,null,null,null,8,"Agosto",null,""]
[null,null,null,null,{"$f":"IF(D21=\"\",\"\",VLOOKUP(D21,CAD_AREA!$CB$13:$CD$113,3,FALSE))","v":""},null,null,null,null,9,"Setembro",null,""]
[null,null,null,null,{"$f":"IF(D22=\"\",\"\",VLOOKUP(D22,CAD_AREA!$CB$13:$CD$113,3,FALSE))","v":""},null,null,null,null,10,"Outubro",null,""]
[null,null,null,null,{"$f":"IF(D23=\"\",\"\",VLOOKUP(D23,CAD_AREA!$CB$13:$CD$113,3,FALSE))","v":""},null,null,null,null,11,"Novembro",null,""]
[null,null,null,null,{"$f":"IF(D24=\"\",\"\",VLOOKUP(D24,CAD_AREA!$CB$13:$CD$113,3,FALSE))","v":""},null,null,null,null,12,"Dezembro",null,""]
[null,null,null,null,{"$f":"IF(D25=\"\",\"\",VLOOKUP(D25,CAD_AREA!$CB$13:$CD$113,3,FALSE))","v":""},null,null,null,null,null,null,null,""]
[null,null,null,null,{"$f":"IF(D26=\"\",\"\",VLOOKUP(D26,CAD_AREA!$CB$13:$CD$113,3,FALSE))","v":""},null,null,null,null,null,null,null,""]
[null,null,null,null,{"$f":"IF(D27=\"\",\"\",VLOOKUP(D27,CAD_AREA!$CB$13:$CD$113,3,FALSE))","v":""},null,null,null,null,null,null,null,""]
[null,null,null,null,{"$f":"IF(D28=\"\",\"\",VLOOKUP(D28,CAD_AREA!$CB$13:$CD$113,3,FALSE))","v":""},null,null,null,null,null,null,null,""]
[null,null,null,null,{"$f":"IF(D29=\"\",\"\",VLOOKUP(D29,CAD_AREA!$CB$13:$CD$113,3,FALSE))","v":""},null,null,null,null,null,null,null,""]
[null,null,null,null,{"$f":"IF(D30=\"\",\"\",VLOOKUP(D30,CAD_AREA!$CB$13:$CD$113,3,FALSE))","v":""},null,null,null,null,null,null,null,""]
[null,null,null,null,{"$f":"IF(D31=\"\",\"\",VLOOKUP(D31,CAD_AREA!$CB$13:$CD$113,3,FALSE))","v":""},null,null,null,null,null,null,null,""]
[null,null,null,null,{"$f":"IF(D32=\"\",\"\",VLOOKUP(D32,CAD_AREA!$CB$13:$CD$113,3,FALSE))","v":""},null,null,null,null,null,null,null,""]
[null,null,null,null,{"$f":"IF(D33=\"\",\"\",VLOOKUP(D33,CAD_AREA!$CB$13:$CD$113,3,FALSE))","v":""},null,null,null,null,null,null,null,""]
[null,null,null,null,{"$f":"IF(D34=\"\",\"\",VLOOKUP(D34,CAD_AREA!$CB$13:$CD$113,3,FALSE))","v":""},null,null,null,null,null,null,null,""]
[null,null,null,null,{"$f":"IF(D35=\"\",\"\",VLOOKUP(D35,CAD_AREA!$CB$13:$CD$113,3,FALSE))","v":""},null,null,null,null,null,null,null,""]
[null,null,null,null,{"$f":"IF(D36=\"\",\"\",VLOOKUP(D36,CAD_AREA!$CB$13:$CD$113,3,FALSE))","v":""},null,null,null,null,null,null,null,""]
[null,null,null,null,{"$f":"IF(D37=\"\",\"\",VLOOKUP(D37,CAD_AREA!$CB$13:$CD$113,3,FALSE))","v":""},null,null,null,null,null,null,null,""]
[null,null,null,null,{"$f":"IF(D38=\"\",\"\",VLOOKUP(D38,CAD_AREA!$CB$13:$CD$113,3,FALSE))","v":""},null,null,null,null,null,null,null,""]
[null,null,null,null,{"$f":"IF(D39=\"\",\"\",VLOOKUP(D39,CAD_AREA!$CB$13:$CD$113,3,FALSE))","v":""},null,null,null,null,null,null,null,""]
[null,null,null,null,{"$f":"IF(D40=\"\",\"\",VLOOKUP(D40,CAD_AREA!$CB$13:$CD$113,3,FALSE))","v":""},null,null,null,null,null,null,null,""]
[null,null,null,null,{"$f":"IF(D41=\"\",\"\",VLOOKUP(D41,CAD_AREA!$CB$13:$CD$113,3,FALSE))","v":""},null,null,null,null,null,null,null,""]
[null,null,null,null,{"$f":"IF(D42=\"\",\"\",VLOOKUP(D42,CAD_AREA!$CB$13:$CD$113,3,FALSE))","v":""},null,null,null,null,null,null,null,""]
[null,null,null,null,{"$f":"IF(D43=\"\",\"\",VLOOKUP(D43,CAD_AREA!$CB$13:$CD$113,3,FALSE))","v":""},null,null,null,null,null,null,null,""]
[null,null,null,null,{"$f":"IF(D44=\"\",\"\",VLOOKUP(D44,CAD_AREA!$CB$13:$CD$113,3,FALSE))","v":""},null,null,null,null,null,null,null,""]
[null,null,null,null,{"$f":"IF(D45=\"\",\"\",VLOOKUP(D45,CAD_AREA!$CB$13:$CD$113,3,FALSE))","v":""},null,null,null,null,null,null,null,""]
[null,null,null,null,{"$f":"IF(D46=\"\",\"\",VLOOKUP(D46,CAD_AREA!$CB$13:$CD$113,3,FALSE))","v":""},null,null,null,null,null,null,null,""]
[null,null,null,null,{"$f":"IF(D47=\"\",\"\",VLOOKUP(D47,CAD_AREA!$CB$13:$CD$113,3,FALSE))","v":""},null,null,null,null,null,null,null,""]
[null,null,null,null,{"$f":"IF(D48=\"\",\"\",VLOOKUP(D48,CAD_AREA!$CB$13:$CD$113,3,FALSE))","v":""},null,null,null,null,null,null,null,""]
[null,null,null,null,{"$f":"IF(D49=\"\",\"\",VLOOKUP(D49,CAD_AREA!$CB$13:$CD$113,3,FALSE))","v":""},null,null,null,null,null,null,null,""]
[null,null,null,null,{"$f":"IF(D50=\"\",\"\",VLOOKUP(D50,CAD_AREA!$CB$13:$CD$113,3,FALSE))","v":""},null,null,null,null,null,null,null,""]
[null,null,null,null,{"$f":"IF(D51=\"\",\"\",VLOOKUP(D51,CAD_AREA!$CB$13:$CD$113,3,FALSE))","v":""},null,null,null,null,null,null,null,""]
[null,null,null,null,{"$f":"IF(D52=\"\",\"\",VLOOKUP(D52,CAD_AREA!$CB$13:$CD$113,3,FALSE))","v":""},null,null,null,null,null,null,null,""]
[null,null,null,null,{"$f":"IF(D53=\"\",\"\",VLOOKUP(D53,CAD_AREA!$CB$13:$CD$113,3,FALSE))","v":""},null,null,null,null,null,null,null,""]
[null,null,null,null,{"$f":"IF(D54=\"\",\"\",VLOOKUP(D54,CAD_AREA!$CB$13:$CD$113,3,FALSE))","v":""},null,null,null,null,null,null,null,""]
[null,null,null,null,{"$f":"IF(D55=\"\",\"\",VLOOKUP(D55,CAD_AREA!$CB$13:$CD$113,3,FALSE))","v":""},null,null,null,null,null,null,null,""]
[null,null,null,null,{"$f":"IF(D56=\"\",\"\",VLOOKUP(D56,CAD_AREA!$CB$13:$CD$113,3,FALSE))","v":""},null,null,null,null,null,null,null,""]
[null,null,null,null,{"$f":"IF(D57=\"\",\"\",VLOOKUP(D57,CAD_AREA!$CB$13:$CD$113,3,FALSE))","v":""},null,null,null,null,null,null,null,""]
[null,null,null,null,{"$f":"IF(D58=\"\",\"\",VLOOKUP(D58,CAD_AREA!$CB$13:$CD$113,3,FALSE))","v":""},null,null,null,null,null,null,null,""]
[null,null,null,null,{"$f":"IF(D59=\"\",\"\",VLOOKUP(D59,CAD_AREA!$CB$13:$CD$113,3,FALSE))","v":""},null,null,null,null,null,null,null,""]
[null,null,null,null,{"$f":"IF(D60=\"\",\"\",VLOOKUP(D60,CAD_AREA!$CB$13:$CD$113,3,FALSE))","v":""},null,null,null,null,null,null,null,""]
[null,null,null,null,{"$f":"IF(D61=\"\",\"\",VLOOKUP(D61,CAD_AREA!$CB$13:$CD$113,3,FALSE))","v":""},null,null,null,null,null,null,null,""]
[null,null,null,null,{"$f":"IF(D62=\"\",\"\",VLOOKUP(D62,CAD_AREA!$CB$13:$CD$113,3,FALSE))","v":""},null,null,null,null,null,null,null,""]
[null,null,null,null,{"$f":"IF(D63=\"\",\"\",VLOOKUP(D63,CAD_AREA!$CB$13:$CD$113,3,FALSE))","v":""},null,null,null,null,null,null,null,""]
[null,null,null,null,{"$f":"IF(D64=\"\",\"\",VLOOKUP(D64,CAD_AREA!$CB$13:$CD$113,3,FALSE))","v":""},null,null,null,null,null,null,null,""]
[null,null,null,null,{"$f":"IF(D65=\"\",\"\",VLOOKUP(D65,CAD_AREA!$CB$13:$CD$113,3,FALSE))","v":""},null,null,null,null,null,null,null,""]
[null,null,null,null,{"$f":"IF(D66=\"\",\"\",VLOOKUP(D66,CAD_AREA!$CB$13:$CD$113,3,FALSE))","v":""},null,null,null,null,null,null,null,""]
[null,null,null,null,{"$f":"IF(D67=\"\",\"\",VLOOKUP(D67,CAD_AREA!$CB$13:$CD$113,3,FALSE))","v":""},null,null,null,null,null,null,null,""]
[null,null,null,null,{"$f":"IF(D68=\"\",\"\",VLOOKUP(D68,CAD_AREA!$CB$13:$CD$113,3,FALSE))","v":""},null,null,null,null,null,null,null,""]
[null,null,null,null,{"$f":"IF(D69=\"\",\"\",VLOOKUP(D69,CAD_AREA!$CB$13:$CD$113,3,FALSE))","v":""},null,null,null,null,null,null,null,""]
[null,null,null,null,{"$f":"IF(D70=\"\",\"\",VLOOKUP(D70,CAD_AREA!$CB$13:$CD$113,3,FALSE))","v":""},null,null,null,null,null,null,null,""]
[null,null,null,null,{"$f":"IF(D71=\"\",\"\",VLOOKUP(D71,CAD_AREA!$CB$13:$CD$113,3,FALSE))","v":""},null,null,null,null,null,null,null,""]
[null,null,null,null,{"$f":"IF(D72=\"\",\"\",VLOOKUP(D72,CAD_AREA!$CB$13:$CD$113,3,FALSE))","v":""},null,null,null,null,null,null,null,""]
[null,null,null,null,{"$f":"IF(D73=\"\",\"\",VLOOKUP(D73,CAD_AREA!$CB$13:$CD$113,3,FALSE))","v":""},null,null,null,null,null,null,null,""]
[null,null,null,null,{"$f":"IF(D74=\"\",\"\",VLOOKUP(D74,CAD_AREA!$CB$13:$CD$113,3,FALSE))","v":""},null,null,null,null,null,null,null,""]
[null,null,null,null,{"$f":"IF(D75=\"\",\"\",VLOOKUP(D75,CAD_AREA!$CB$13:$CD$113,3,FALSE))","v":""},null,null,null,null,null,null,null,""]
[null,null,null,null,{"$f":"IF(D76=\"\",\"\",VLOOKUP(D76,CAD_AREA!$CB$13:$CD$113,3,FALSE))","v":""},null,null,null,null,null,null,null,""]
[null,null,null,null,{"$f":"IF(D77=\"\",\"\",VLOOKUP(D77,CAD_AREA!$CB$13:$CD$113,3,FALSE))","v":""},null,null,null,null,null,null,null,""]
[null,null,null,null,{"$f":"IF(D78=\"\",\"\",VLOOKUP(D78,CAD_AREA!$CB$13:$CD$113,3,FALSE))","v":""},null,null,null,null,null,null,null,{"$f":"IF(B78=\"\",\"\",VLOOKUP(MONTH(B78),$J$13:$K$24,2,FALSE))","v":""}]
[null,null,null,null,{"$f":"IF(D79=\"\",\"\",VLOOKUP(D79,CAD_AREA!$CB$13:$CD$113,3,FALSE))","v":""},null,null,null,null,null,null,null,""]
[null,null,null,null,{"$f":"IF(D80=\"\",\"\",VLOOKUP(D80,CAD_AREA!$CB$13:$CD$113,3,FALSE))","v":""},null,null,null,null,null,null,null,""]
[null,null,null,null,{"$f":"IF(D81=\"\",\"\",VLOOKUP(D81,CAD_AREA!$CB$13:$CD$113,3,FALSE))","v":""},null,null,null,null,null,null,null,""]
[null,null,null,null,{"$f":"IF(D82=\"\",\"\",VLOOKUP(D82,CAD_AREA!$CB$13:$CD$113,3,FALSE))","v":""},null,null,null,null,null,null,null,""]
[null,null,null,null,{"$f":"IF(D83=\"\",\"\",VLOOKUP(D83,CAD_AREA!$CB$13:$CD$113,3,FALSE))","v":""},null,null,null,null,null,null,null,""]
[null,null,null,null,{"$f":"IF(D84=\"\",\"\",VLOOKUP(D84,CAD_AREA!$CB$13:$CD$113,3,FALSE))","v":""},null,null,null,null,null,null,null,""]
[null,null,null,null,{"$f":"IF(D85=\"\",\"\",VLOOKUP(D85,CAD_AREA!$CB$13:$CD$113,3,FALSE))","v":""},null,null,null,null,null,null,null,""]
[null,null,null,null,{"$f":"IF(D86=\"\",\"\",VLOOKUP(D86,CAD_AREA!$CB$13:$CD$113,3,FALSE))","v":""},null,null,null,null,null,null,null,""]
[null,null,null,null,{"$f":"IF(D87=\"\",\"\",VLOOKUP(D87,CAD_AREA!$CB$13:$CD$113,3,FALSE))","v":""},null,null,null,null,null,null,null,""]
[null,null,null,null,{"$f":"IF(D88=\"\",\"\",VLOOKUP(D88,CAD_AREA!$CB$13:$CD$113,3,FALSE))","v":""},null,null,null,null,null,null,null,""]
[null,null,null,null,{"$f":"IF(D89=\"\",\"\",VLOOKUP(D89,CAD_AREA!$CB$13:$CD$113,3,FALSE))","v":""},null,null,null,null,null,null,null,""]
[null,null,null,null,{"$f":"IF(D90=\"\",\"\",VLOOKUP(D90,CAD_AREA!$CB$13:$CD$113,3,FALSE))","v":""},null,null,null,null,null,null,null,""]
[null,null,null,null,{"$f":"IF(D91=\"\",\"\",VLOOKUP(D91,CAD_AREA!$CB$13:$CD$113,3,FALSE))","v":""},null,null,null,null,null,null,null,""]
[null,null,null,null,{"$f":"IF(D92=\"\",\"\",VLOOKUP(D92,CAD_AREA!$CB$13:$CD$113,3,FALSE))","v":""},null,null,null,null,null,null,null,""]
[null,null,null,null,{"$f":"IF(D93=\"\",\"\",VLOOKUP(D93,CAD_AREA!$CB$13:$CD$113,3,FALSE))","v":""},null,null,null,null,null,null,null,""]
[null,null,null,null,{"$f":"IF(D94=\"\",\"\",VLOOKUP(D94,CAD_AREA!$CB$13:$CD$113,3,FALSE))","v":""},null,null,null,null,null,null,null,""]
[null,null,null,null,{"$f":"IF(D95=\"\",\"\",VLOOKUP(D95,CAD_AREA!$CB$13:$CD$113,3,FALSE))","v":""},null,null,null,null,null,null,null,""]
[null,null,null,null,{"$f":"IF(D96=\"\",\"\",VLOOKUP(D96,CAD_AREA!$CB$13:$CD$113,3,FALSE))","v":""},null,null,null,null,null,null,null,""]
[null,null,null,null,{"$f":"IF(D97=\"\",\"\",VLOOKUP(D97,CAD_AREA!$CB$13:$CD$113,3,FALSE))","v":""},null,null,null,null,null,null,null,""]
[null,null,null,null,{"$f":"IF(D98=\"\",\"\",VLOOKUP(D98,CAD_AREA!$CB$13:$CD$113,3,FALSE))","v":""},null,null,null,null,null,null,null,""]
[null,null,null,null,{"$f":"IF(D99=\"\",\"\",VLOOKUP(D99,CAD_AREA!$CB$13:$CD$113,3,FALSE))","v":""},null,null,null,null,null,null,null,""]
[null,null,null,null,{"$f":"IF(D100=\"\",\"\",VLOOKUP(D100,CAD_AREA!$CB$13:$CD$113,3,FALSE))","v":""},null,null,null,null,null,null,null,""]
[null,null,null,null,{"$f":"IF(D101=\"\",\"\",VLOOKUP(D101,CAD_AREA!$CB$13:$CD$113,3,FALSE))","v":""},null,null,null,null,null,null,null,""]
[null,null,null,null,{"$f":"IF(D102=\"\",\"\",VLOOKUP(D102,CAD_AREA!$CB$13:$CD$113,3,FALSE))","v":""},null,null,null,null,null,null,null,""]
[null,null,null,null,{"$f":"IF(D103=\"\",\"\",VLOOKUP(D103,CAD_AREA!$CB$13:$CD$113,3,FALSE))","v":""},null,null,null,null,null,null,null,""]
[null,null,null,null,{"$f":"IF(D104=\"\",\"\",VLOOKUP(D104,CAD_AREA!$CB$13:$CD$113,3,FALSE))","v":""},null,null,null,null,null,null,null,""]
[null,null,null,null,{"$f":"IF(D105=\"\",\"\",VLOOKUP(D105,CAD_AREA!$CB$13:$CD$113,3,FALSE))","v":""},null,null,null,null,null,null,null,""]
[null,null,null,null,{"$f":"IF(D106=\"\",\"\",VLOOKUP(D106,CAD_AREA!$CB$13:$CD$113,3,FALSE))","v":""},null,null,null,null,null,null,null,""]
[null,null,null,null,{"$f":"IF(D107=\"\",\"\",VLOOKUP(D107,CAD_AREA!$CB$13:$CD$113,3,FALSE))","v":""},null,null,null,null,null,null,null,""]
[null,null,null,null,{"$f":"IF(D108=\"\",\"\",VLOOKUP(D108,CAD_AREA!$CB$13:$CD$113,3,FALSE))","v":""},null,null,null,null,null,null,null,""]
[null,null,null,null,{"$f":"IF(D109=\"\",\"\",VLOOKUP(D109,CAD_AREA!$CB$13:$CD$113,3,FALSE))","v":""},null,null,null,null,null,null,null,""]
[null,null,null,null,{"$f":"IF(D110=\"\",\"\",VLOOKUP(D110,CAD_AREA!$CB$13:$CD$113,3,FALSE))","v":""},null,null,null,null,null,null,null,""]
[null,null,null,null,{"$f":"IF(D111=\"\",\"\",VLOOKUP(D111,CAD_AREA!$CB$13:$CD$113,3,FALSE))","v":""},null,null,null,null,null,null,null,""]
[null,null,null,null,{"$f":"IF(D112=\"\",\"\",VLOOKUP(D112,CAD_AREA!$CB$13:$CD$113,3,FALSE))","v":""},null,null,null,null,null,null,null,""]
[null,null,null,null,{"$f":"IF(D113=\"\",\"\",VLOOKUP(D113,CAD_AREA!$CB$13:$CD$113,3,FALSE))","v":""},null,null,null,null,null,null,null,""]
[null,null,null,null,{"$f":"IF(D114=\"\",\"\",VLOOKUP(D114,CAD_AREA!$CB$13:$CD$113,3,FALSE))","v":""},null,null,null,null,null,null,null,""]
[null,null,null,null,{"$f":"IF(D115=\"\",\"\",VLOOKUP(D115,CAD_AREA!$CB$13:$CD$113,3,FALSE))","v":""},null,null,null,null,null,null,null,""]
[null,null,null,null,{"$f":"IF(D116=\"\",\"\",VLOOKUP(D116,CAD_AREA!$CB$13:$CD$113,3,FALSE))","v":""},null,null,null,null,null,null,null,""]
[null,null,null,null,{"$f":"IF(D117=\"\",\"\",VLOOKUP(D117,CAD_AREA!$CB$13:$CD$113,3,FALSE))","v":""},null,null,null,null,null,null,null,""]
[null,null,null,null,{"$f":"IF(D118=\"\",\"\",VLOOKUP(D118,CAD_AREA!$CB$13:$CD$113,3,FALSE))","v":""},null,null,null,null,null,null,null,""]
[null,null,null,null,{"$f":"IF(D119=\"\",\"\",VLOOKUP(D119,CAD_AREA!$CB$13:$CD$113,3,FALSE))","v":""},null,null,null,null,null,null,null,""]
[null,null,null,null,{"$f":"IF(D120=\"\",\"\",VLOOKUP(D120,CAD_AREA!$CB$13:$CD$113,3,FALSE))","v":""},null,null,null,null,null,null,null,""]
[null,null,null,null,{"$f":"IF(D121=\"\",\"\",VLOOKUP(D121,CAD_AREA!$CB$13:$CD$113,3,FALSE))","v":""},null,null,null,null,null,null,null,""]
[null,null,null,null,{"$f":"IF(D122=\"\",\"\",VLOOKUP(D122,CAD_AREA!$CB$13:$CD$113,3,FALSE))","v":""},null,null,null,null,null,null,null,""]
[null,null,null,null,{"$f":"IF(D123=\"\",\"\",VLOOKUP(D123,CAD_AREA!$CB$13:$CD$113,3,FALSE))","v":""},null,null,null,null,null,null,null,""]
[null,null,null,null,{"$f":"IF(D124=\"\",\"\",VLOOKUP(D124,CAD_AREA!$CB$13:$CD$113,3,FALSE))","v":""},null,null,null,null,null,null,null,""]
[null,null,null,null,{"$f":"IF(D125=\"\",\"\",VLOOKUP(D125,CAD_AREA!$CB$13:$CD$113,3,FALSE))","v":""},null,null,null,null,null,null,null,""]
[null,null,null,null,{"$f":"IF(D126=\"\",\"\",VLOOKUP(D126,CAD_AREA!$CB$13:$CD$113,3,FALSE))","v":""},null,null,null,null,null,null,null,""]
[null,null,null,null,{"$f":"IF(D127=\"\",\"\",VLOOKUP(D127,CAD_AREA!$CB$13:$CD$113,3,FALSE))","v":""},null,null,null,null,null,null,null,""]
[null,null,null,null,{"$f":"IF(D128=\"\",\"\",VLOOKUP(D128,CAD_AREA!$CB$13:$CD$113,3,FALSE))","v":""},null,null,null,null,null,null,null,""]
[null,null,null,null,{"$f":"IF(D129=\"\",\"\",VLOOKUP(D129,CAD_AREA!$CB$13:$CD$113,3,FALSE))","v":""},null,null,null,null,null,null,null,""]
[null,null,null,null,{"$f":"IF(D130=\"\",\"\",VLOOKUP(D130,CAD_AREA!$CB$13:$CD$113,3,FALSE))","v":""},null,null,null,null,null,null,null,""]
[null,null,null,null,{"$f":"IF(D131=\"\",\"\",VLOOKUP(D131,CAD_AREA!$CB$13:$CD$113,3,FALSE))","v":""},null,null,null,null,null,null,null,""]
[null,null,null,null,{"$f":"IF(D132=\"\",\"\",VLOOKUP(D132,CAD_AREA!$CB$13:$CD$113,3,FALSE))","v":""},null,null,null,null,null,null,null,""]
[null,null,null,null,{"$f":"IF(D133=\"\",\"\",VLOOKUP(D133,CAD_AREA!$CB$13:$CD$113,3,FALSE))","v":""},null,null,null,null,null,null,null,""]
[null,null,null,null,{"$f":"IF(D134=\"\",\"\",VLOOKUP(D134,CAD_AREA!$CB$13:$CD$113,3,FALSE))","v":""},null,null,null,null,null,null,null,""]
[null,null,null,null,{"$f":"IF(D135=\"\",\"\",VLOOKUP(D135,CAD_AREA!$CB$13:$CD$113,3,FALSE))","v":""},null,null,null,null,null,null,null,""]
[null,null,null,null,{"$f":"IF(D136=\"\",\"\",VLOOKUP(D136,CAD_AREA!$CB$13:$CD$113,3,FALSE))","v":""},null,null,null,null,null,null,null,""]
[null,null,null,null,{"$f":"IF(D137=\"\",\"\",VLOOKUP(D137,CAD_AREA!$CB$13:$CD$113,3,FALSE))","v":""},null,null,null,null,null,null,null,""]
[null,null,null,null,{"$f":"IF(D138=\"\",\"\",VLOOKUP(D138,CAD_AREA!$CB$13:$CD$113,3,FALSE))","v":""},null,null,null,null,null,null,null,""]
[null,null,null,null,{"$f":"IF(D139=\"\",\"\",VLOOKUP(D139,CAD_AREA!$CB$13:$CD$113,3,FALSE))","v":""},null,null,null,null,null,null,null,""]
[null,null,null,null,{"$f":"IF(D140=\"\",\"\",VLOOKUP(D140,CAD_AREA!$CB$13:$CD$113,3,FALSE))","v":""},null,null,null,null,null,null,null,""]
[null,null,null,null,{"$f":"IF(D141=\"\",\"\",VLOOKUP(D141,CAD_AREA!$CB$13:$CD$113,3,FALSE))","v":""},null,null,null,null,null,null,null,""]
[null,null,null,null,{"$f":"IF(D142=\"\",\"\",VLOOKUP(D142,CAD_AREA!$CB$13:$CD$113,3,FALSE))","v":""},null,null,null,null,null,null,null,{"$f":"IF(B142=\"\",\"\",VLOOKUP(MONTH(B142),$J$13:$K$24,2,FALSE))","v":""}]
[null,null,null,null,{"$f":"IF(D143=\"\",\"\",VLOOKUP(D143,CAD_AREA!$CB$13:$CD$113,3,FALSE))","v":""},null,null,null,null,null,null,null,""]
[null,null,null,null,{"$f":"IF(D144=\"\",\"\",VLOOKUP(D144,CAD_AREA!$CB$13:$CD$113,3,FALSE))","v":""},null,null,null,null,null,null,null,""]
[null,null,null,null,{"$f":"IF(D145=\"\",\"\",VLOOKUP(D145,CAD_AREA!$CB$13:$CD$113,3,FALSE))","v":""},null,null,null,null,null,null,null,""]
[null,null,null,null,{"$f":"IF(D146=\"\",\"\",VLOOKUP(D146,CAD_AREA!$CB$13:$CD$113,3,FALSE))","v":""},null,null,null,null,null,null,null,""]
[null,null,null,null,{"$f":"IF(D147=\"\",\"\",VLOOKUP(D147,CAD_AREA!$CB$13:$CD$113,3,FALSE))","v":""},null,null,null,null,null,null,null,""]
[null,null,null,null,{"$f":"IF(D148=\"\",\"\",VLOOKUP(D148,CAD_AREA!$CB$13:$CD$113,3,FALSE))","v":""},null,null,null,null,null,null,null,""]
[null,null,null,null,{"$f":"IF(D149=\"\",\"\",VLOOKUP(D149,CAD_AREA!$CB$13:$CD$113,3,FALSE))","v":""},null,null,null,null,null,null,null,""]
[null,null,null,null,{"$f":"IF(D150=\"\",\"\",VLOOKUP(D150,CAD_AREA!$CB$13:$CD$113,3,FALSE))","v":""},null,null,null,null,null,null,null,""]
[null,null,null,null,{"$f":"IF(D151=\"\",\"\",VLOOKUP(D151,CAD_AREA!$CB$13:$CD$113,3,FALSE))","v":""},null,null,null,null,null,null,null,""]
[null,null,null,null,{"$f":"IF(D152=\"\",\"\",VLOOKUP(D152,CAD_AREA!$CB$13:$CD$113,3,FALSE))","v":""},null,null,null,null,null,null,null,""]
[null,null,null,null,{"$f":"IF(D153=\"\",\"\",VLOOKUP(D153,CAD_AREA!$CB$13:$CD$113,3,FALSE))","v":""},null,null,null,null,null,null,null,""]
[null,null,null,null,{"$f":"IF(D154=\"\",\"\",VLOOKUP(D154,CAD_AREA!$CB$13:$CD$113,3,FALSE))","v":""},null,null,null,null,null,null,null,""]
[null,null,null,null,{"$f":"IF(D155=\"\",\"\",VLOOKUP(D155,CAD_AREA!$CB$13:$CD$113,3,FALSE))","v":""},null,null,null,null,null,null,null,""]
[null,null,null,null,{"$f":"IF(D156=\"\",\"\",VLOOKUP(D156,CAD_AREA!$CB$13:$CD$113,3,FALSE))","v":""},null,null,null,null,null,null,null,""]
[null,null,null,null,{"$f":"IF(D157=\"\",\"\",VLOOKUP(D157,CAD_AREA!$CB$13:$CD$113,3,FALSE))","v":""},null,null,null,null,null,null,null,""]
[null,null,null,null,{"$f":"IF(D158=\"\",\"\",VLOOKUP(D158,CAD_AREA!$CB$13:$CD$113,3,FALSE))","v":""},null,null,null,null,null,null,null,""]
[null,null,null,null,{"$f":"IF(D159=\"\",\"\",VLOOKUP(D159,CAD_AREA!$CB$13:$CD$113,3,FALSE))","v":""},null,null,null,null,null,null,null,""]
[null,null,null,null,{"$f":"IF(D160=\"\",\"\",VLOOKUP(D160,CAD_AREA!$CB$13:$CD$113,3,FALSE))","v":""},null,null,null,null,null,null,null,""]
[null,null,null,null,{"$f":"IF(D161=\"\",\"\",VLOOKUP(D161,CAD_AREA!$CB$13:$CD$113,3,FALSE))","v":""},null,null,null,null,null,null,null,""]
[null,null,null,null,{"$f":"IF(D162=\"\",\"\",VLOOKUP(D162,CAD_AREA!$CB$13:$CD$113,3,FALSE))","v":""},null,null,null,null,null,null,null,""]
[null,null,null,null,{"$f":"IF(D163=\"\",\"\",VLOOKUP(D163,CAD_AREA!$CB$13:$CD$113,3,FALSE))","v":""},null,null,null,null,null,null,null,""]
[null,null,null,null,{"$f":"IF(D164=\"\",\"\",VLOOKUP(D164,CAD_AREA!$CB$13:$CD$113,3,FALSE))","v":""},null,null,null,null,null,null,null,""]
[null,null,null,null,{"$f":"IF(D165=\"\",\"\",VLOOKUP(D165,CAD_AREA!$CB$13:$CD$113,3,FALSE))","v":""},null,null,null,null,null,null,null,""]
[null,null,null,null,{"$f":"IF(D166=\"\",\"\",VLOOKUP(D166,CAD_AREA!$CB$13:$CD$113,3,FALSE))","v":""},null,null,null,null,null,null,null,""]
[null,null,null,null,{"$f":"IF(D167=\"\",\"\",VLOOKUP(D167,CAD_AREA!$CB$13:$CD$113,3,FALSE))","v":""},null,null,null,null,null,null,null,""]
[null,null,null,null,{"$f":"IF(D168=\"\",\"\",VLOOKUP(D168,CAD_AREA!$CB$13:$CD$113,3,FALSE))","v":""},null,null,null,null,null,null,null,""]
[null,null,null,null,{"$f":"IF(D169=\"\",\"\",VLOOKUP(D169,CAD_AREA!$CB$13:$CD$113,3,FALSE))","v":""},null,null,null,null,null,null,null,""]
[null,null,null,null,{"$f":"IF(D170=\"\",\"\",VLOOKUP(D170,CAD_AREA!$CB$13:$CD$113,3,FALSE))","v":""},null,null,null,null,null,null,null,""]
[null,null,null,null,{"$f":"IF(D171=\"\",\"\",VLOOKUP(D171,CAD_AREA!$CB$13:$CD$113,3,FALSE))","v":""},null,null,null,null,null,null,null,""]
[null,null,null,null,{"$f":"IF(D172=\"\",\"\",VLOOKUP(D172,CAD_AREA!$CB$13:$CD$113,3,FALSE))","v":""},null,null,null,null,null,null,null,""]
[null,null,null,null,{"$f":"IF(D173=\"\",\"\",VLOOKUP(D173,CAD_AREA!$CB$13:$CD$113,3,FALSE))","v":""},null,null,null,null,null,null,null,""]
[null,null,null,null,{"$f":"IF(D174=\"\",\"\",VLOOKUP(D174,CAD_AREA!$CB$13:$CD$113,3,FALSE))","v":""},null,null,null,null,null,null,null,""]
[null,null,null,null,{"$f":"IF(D175=\"\",\"\",VLOOKUP(D175,CAD_AREA!$CB$13:$CD$113,3,FALSE))","v":""},null,null,null,null,null,null,null,""]
[null,null,null,null,{"$f":"IF(D176=\"\",\"\",VLOOKUP(D176,CAD_AREA!$CB$13:$CD$113,3,FALSE))","v":""},null,null,null,null,null,null,null,""]
[null,null,null,null,{"$f":"IF(D177=\"\",\"\",VLOOKUP(D177,CAD_AREA!$CB$13:$CD$113,3,FALSE))","v":""},null,null,null,null,null,null,null,""]
[null,null,null,null,{"$f":"IF(D178=\"\",\"\",VLOOKUP(D178,CAD_AREA!$CB$13:$CD$113,3,FALSE))","v":""},null,null,null,null,null,null,null,""]
[null,null,null,null,{"$f":"IF(D179=\"\",\"\",VLOOKUP(D179,CAD_AREA!$CB$13:$CD$113,3,FALSE))","v":""},null,null,null,null,null,null,null,""]
[null,null,null,null,{"$f":"IF(D180=\"\",\"\",VLOOKUP(D180,CAD_AREA!$CB$13:$CD$113,3,FALSE))","v":""},null,null,null,null,null,null,null,""]
[null,null,null,null,{"$f":"IF(D181=\"\",\"\",VLOOKUP(D181,CAD_AREA!$CB$13:$CD$113,3,FALSE))","v":""},null,null,null,null,null,null,null,""]
[null,null,null,null,{"$f":"IF(D182=\"\",\"\",VLOOKUP(D182,CAD_AREA!$CB$13:$CD$113,3,FALSE))","v":""},null,null,null,null,null,null,null,""]
[null,null,null,null,{"$f":"IF(D183=\"\",\"\",VLOOKUP(D183,CAD_AREA!$CB$13:$CD$113,3,FALSE))","v":""},null,null,null,null,null,null,null,""]
[null,null,null,null,{"$f":"IF(D184=\"\",\"\",VLOOKUP(D184,CAD_AREA!$CB$13:$CD$113,3,FALSE))","v":""},null,null,null,null,null,null,null,""]
[null,null,null,null,{"$f":"IF(D185=\"\",\"\",VLOOKUP(D185,CAD_AREA!$CB$13:$CD$113,3,FALSE))","v":""},null,null,null,null,null,null,null,""]
[null,null,null,null,{"$f":"IF(D186=\"\",\"\",VLOOKUP(D186,CAD_AREA!$CB$13:$CD$113,3,FALSE))","v":""},null,null,null,null,null,null,null,""]
[null,null,null,null,{"$f":"IF(D187=\"\",\"\",VLOOKUP(D187,CAD_AREA!$CB$13:$CD$113,3,FALSE))","v":""},null,null,null,null,null,null,null,""]
[null,null,null,null,{"$f":"IF(D188=\"\",\"\",VLOOKUP(D188,CAD_AREA!$CB$13:$CD$113,3,FALSE))","v":""},null,null,null,null,null,null,null,""]
[null,null,null,null,{"$f":"IF(D189=\"\",\"\",VLOOKUP(D189,CAD_AREA!$CB$13:$CD$113,3,FALSE))","v":""},null,null,null,null,null,null,null,""]
[null,null,null,null,{"$f":"IF(D190=\"\",\"\",VLOOKUP(D190,CAD_AREA!$CB$13:$CD$113,3,FALSE))","v":""},null,null,null,null,null,null,null,""]
[null,null,null,null,{"$f":"IF(D191=\"\",\"\",VLOOKUP(D191,CAD_AREA!$CB$13:$CD$113,3,FALSE))","v":""},null,null,null,null,null,null,null,""]
[null,null,null,null,{"$f":"IF(D192=\"\",\"\",VLOOKUP(D192,CAD_AREA!$CB$13:$CD$113,3,FALSE))","v":""},null,null,null,null,null,null,null,""]
[null,null,null,null,{"$f":"IF(D193=\"\",\"\",VLOOKUP(D193,CAD_AREA!$CB$13:$CD$113,3,FALSE))","v":""},null,null,null,null,null,null,null,""]
[null,null,null,null,{"$f":"IF(D194=\"\",\"\",VLOOKUP(D194,CAD_AREA!$CB$13:$CD$113,3,FALSE))","v":""},null,null,null,null,null,null,null,""]
[null,null,null,null,{"$f":"IF(D195=\"\",\"\",VLOOKUP(D195,CAD_AREA!$CB$13:$CD$113,3,FALSE))","v":""},null,null,null,null,null,null,null,""]
[null,null,null,null,{"$f":"IF(D196=\"\",\"\",VLOOKUP(D196,CAD_AREA!$CB$13:$CD$113,3,FALSE))","v":""},null,null,null,null,null,null,null,""]
[null,null,null,null,{"$f":"IF(D197=\"\",\"\",VLOOKUP(D197,CAD_AREA!$CB$13:$CD$113,3,FALSE))","v":""},null,null,null,null,null,null,null,""]
[null,null,null,null,{"$f":"IF(D198=\"\",\"\",VLOOKUP(D198,CAD_AREA!$CB$13:$CD$113,3,FALSE))","v":""},null,null,null,null,null,null,null,""]
[null,null,null,null,{"$f":"IF(D199=\"\",\"\",VLOOKUP(D199,CAD_AREA!$CB$13:$CD$113,3,FALSE))","v":""},null,null,null,null,null,null,null,""]
[null,null,null,null,{"$f":"IF(D200=\"\",\"\",VLOOKUP(D200,CAD_AREA!$CB$13:$CD$113,3,FALSE))","v":""},null,null,null,null,null,null,null,""]
[null,null,null,null,{"$f":"IF(D201=\"\",\"\",VLOOKUP(D201,CAD_AREA!$CB$13:$CD$113,3,FALSE))","v":""},null,null,null,null,null,null,null,""]
[null,null,null,null,{"$f":"IF(D202=\"\",\"\",VLOOKUP(D202,CAD_AREA!$CB$13:$CD$113,3,FALSE))","v":""},null,null,null,null,null,null,null,""]
[null,null,null,null,{"$f":"IF(D203=\"\",\"\",VLOOKUP(D203,CAD_AREA!$CB$13:$CD$113,3,FALSE))","v":""},null,null,null,null,null,null,null,""]
[null,null,null,null,{"$f":"IF(D204=\"\",\"\",VLOOKUP(D204,CAD_AREA!$CB$13:$CD$113,3,FALSE))","v":""},null,null,null,null,null,null,null,""]
[null,null,null,null,{"$f":"IF(D205=\"\",\"\",VLOOKUP(D205,CAD_AREA!$CB$13:$CD$113,3,FALSE))","v":""},null,null,null,null,null,null,null,""]
[null,null,null,null,{"$f":"IF(D206=\"\",\"\",VLOOKUP(D206,CAD_AREA!$CB$13:$CD$113,3,FALSE))","v":""},null,null,null,null,null,null,null,{"$f":"IF(B206=\"\",\"\",VLOOKUP(MONTH(B206),$J$13:$K$24,2,FALSE))","v":""}]
[null,null,null,null,{"$f":"IF(D207=\"\",\"\",VLOOKUP(D207,CAD_AREA!$CB$13:$CD$113,3,FALSE))","v":""},null,null,null,null,null,null,null,""]
[null,null,null,null,{"$f":"IF(D208=\"\",\"\",VLOOKUP(D208,CAD_AREA!$CB$13:$CD$113,3,FALSE))","v":""},null,null,null,null,null,null,null,""]
[null,null,null,null,{"$f":"IF(D209=\"\",\"\",VLOOKUP(D209,CAD_AREA!$CB$13:$CD$113,3,FALSE))","v":""},null,null,null,null,null,null,null,""]
[null,null,null,null,{"$f":"IF(D210=\"\",\"\",VLOOKUP(D210,CAD_AREA!$CB$13:$CD$113,3,FALSE))","v":""},null,null,null,null,null,null,null,""]
[null,null,null,null,{"$f":"IF(D211=\"\",\"\",VLOOKUP(D211,CAD_AREA!$CB$13:$CD$113,3,FALSE))","v":""},null,null,null,null,null,null,null,""]
[null,null,null,null,{"$f":"IF(D212=\"\",\"\",VLOOKUP(D212,CAD_AREA!$CB$13:$CD$113,3,FALSE))","v":""},null,null,null,null,null,null,null,""]
[null,null,null,null,{"$f":"IF(D213=\"\",\"\",VLOOKUP(D213,CAD_AREA!$CB$13:$CD$113,3,FALSE))","v":""},null,null,null,null,null,null,null,""]
[null,null,null,null,{"$f":"IF(D214=\"\",\"\",VLOOKUP(D214,CAD_AREA!$CB$13:$CD$113,3,FALSE))","v":""},null,null,null,null,null,null,null,""]
[null,null,null,null,{"$f":"IF(D215=\"\",\"\",VLOOKUP(D215,CAD_AREA!$CB$13:$CD$113,3,FALSE))","v":""},null,null,null,null,null,null,null,""]
[null,null,null,null,{"$f":"IF(D216=\"\",\"\",VLOOKUP(D216,CAD_AREA!$CB$13:$CD$113,3,FALSE))","v":""},null,null,null,null,null,null,null,""]
[null,null,null,null,{"$f":"IF(D217=\"\",\"\",VLOOKUP(D217,CAD_AREA!$CB$13:$CD$113,3,FALSE))","v":""},null,null,null,null,null,null,null,""]
[null,null,null,null,{"$f":"IF(D218=\"\",\"\",VLOOKUP(D218,CAD_AREA!$CB$13:$CD$113,3,FALSE))","v":""},null,null,null,null,null,null,null,""]
[null,null,null,null,{"$f":"IF(D219=\"\",\"\",VLOOKUP(D219,CAD_AREA!$CB$13:$CD$113,3,FALSE))","v":""},null,null,null,null,null,null,null,""]
[null,null,null,null,{"$f":"IF(D220=\"\",\"\",VLOOKUP(D220,CAD_AREA!$CB$13:$CD$113,3,FALSE))","v":""},null,null,null,null,null,null,null,""]
[null,null,null,null,{"$f":"IF(D221=\"\",\"\",VLOOKUP(D221,CAD_AREA!$CB$13:$CD$113,3,FALSE))","v":""},null,null,null,null,null,null,null,""]
[null,null,null,null,{"$f":"IF(D222=\"\",\"\",VLOOKUP(D222,CAD_AREA!$CB$13:$CD$113,3,FALSE))","v":""},null,null,null,null,null,null,null,""]
[null,null,null,null,{"$f":"IF(D223=\"\",\"\",VLOOKUP(D223,CAD_AREA!$CB$13:$CD$113,3,FALSE))","v":""},null,null,null,null,null,null,null,""]
[null,null,null,null,{"$f":"IF(D224=\"\",\"\",VLOOKUP(D224,CAD_AREA!$CB$13:$CD$113,3,FALSE))","v":""},null,null,null,null,null,null,null,""]
[null,null,null,null,{"$f":"IF(D225=\"\",\"\",VLOOKUP(D225,CAD_AREA!$CB$13:$CD$113,3,FALSE))","v":""},null,null,null,null,null,null,null,""]
[null,null,null,null,{"$f":"IF(D226=\"\",\"\",VLOOKUP(D226,CAD_AREA!$CB$13:$CD$113,3,FALSE))","v":""},null,null,null,null,null,null,null,""]
[null,null,null,null,{"$f":"IF(D227=\"\",\"\",VLOOKUP(D227,CAD_AREA!$CB$13:$CD$113,3,FALSE))","v":""},null,null,null,null,null,null,null,""]
[null,null,null,null,{"$f":"IF(D228=\"\",\"\",VLOOKUP(D228,CAD_AREA!$CB$13:$CD$113,3,FALSE))","v":""},null,null,null,null,null,null,null,""]
[null,null,null,null,{"$f":"IF(D229=\"\",\"\",VLOOKUP(D229,CAD_AREA!$CB$13:$CD$113,3,FALSE))","v":""},null,null,null,null,null,null,null,""]
[null,null,null,null,{"$f":"IF(D230=\"\",\"\",VLOOKUP(D230,CAD_AREA!$CB$13:$CD$113,3,FALSE))","v":""},null,null,null,null,null,null,null,""]
[null,null,null,null,{"$f":"IF(D231=\"\",\"\",VLOOKUP(D231,CAD_AREA!$CB$13:$CD$113,3,FALSE))","v":""},null,null,null,null,null,null,null,""]
[null,null,null,null,{"$f":"IF(D232=\"\",\"\",VLOOKUP(D232,CAD_AREA!$CB$13:$CD$113,3,FALSE))","v":""},null,null,null,null,null,null,null,""]
[null,null,null,null,{"$f":"IF(D233=\"\",\"\",VLOOKUP(D233,CAD_AREA!$CB$13:$CD$113,3,FALSE))","v":""},null,null,null,null,null,null,null,""]
[null,null,null,null,{"$f":"IF(D234=\"\",\"\",VLOOKUP(D234,CAD_AREA!$CB$13:$CD$113,3,FALSE))","v":""},null,null,null,null,null,null,null,""]
[null,null,null,null,{"$f":"IF(D235=\"\",\"\",VLOOKUP(D235,CAD_AREA!$CB$13:$CD$113,3,FALSE))","v":""},null,null,null,null,null,null,null,""]
[null,null,null,null,{"$f":"IF(D236=\"\",\"\",VLOOKUP(D236,CAD_AREA!$CB$13:$CD$113,3,FALSE))","v":""},null,null,null,null,null,null,null,""]
[null,null,null,null,{"$f":"IF(D237=\"\",\"\",VLOOKUP(D237,CAD_AREA!$CB$13:$CD$113,3,FALSE))","v":""},null,null,null,null,null,null,null,""]
[null,null,null,null,{"$f":"IF(D238=\"\",\"\",VLOOKUP(D238,CAD_AREA!$CB$13:$CD$113,3,FALSE))","v":""},null,null,null,null,null,null,null,""]
[null,null,null,null,{"$f":"IF(D239=\"\",\"\",VLOOKUP(D239,CAD_AREA!$CB$13:$CD$113,3,FALSE))","v":""},null,null,null,null,null,null,null,""]
[null,null,null,null,{"$f":"IF(D240=\"\",\"\",VLOOKUP(D240,CAD_AREA!$CB$13:$CD$113,3,FALSE))","v":""},null,null,null,null,null,null,null,""]
[null,null,null,null,{"$f":"IF(D241=\"\",\"\",VLOOKUP(D241,CAD_AREA!$CB$13:$CD$113,3,FALSE))","v":""},null,null,null,null,null,null,null,""]
[null,null,null,null,{"$f":"IF(D242=\"\",\"\",VLOOKUP(D242,CAD_AREA!$CB$13:$CD$113,3,FALSE))","v":""},null,null,null,null,null,null,null,""]
[null,null,null,null,{"$f":"IF(D243=\"\",\"\",VLOOKUP(D243,CAD_AREA!$CB$13:$CD$113,3,FALSE))","v":""},null,null,null,null,null,null,null,""]
[null,null,null,null,{"$f":"IF(D244=\"\",\"\",VLOOKUP(D244,CAD_AREA!$CB$13:$CD$113,3,FALSE))","v":""},null,null,null,null,null,null,null,""]
[null,null,null,null,{"$f":"IF(D245=\"\",\"\",VLOOKUP(D245,CAD_AREA!$CB$13:$CD$113,3,FALSE))","v":""},null,null,null,null,null,null,null,""]
[null,null,null,null,{"$f":"IF(D246=\"\",\"\",VLOOKUP(D246,CAD_AREA!$CB$13:$CD$113,3,FALSE))","v":""},null,null,null,null,null,null,null,""]
[null,null,null,null,{"$f":"IF(D247=\"\",\"\",VLOOKUP(D247,CAD_AREA!$CB$13:$CD$113,3,FALSE))","v":""},null,null,null,null,null,null,null,""]
[null,null,null,null,{"$f":"IF(D248=\"\",\"\",VLOOKUP(D248,CAD_AREA!$CB$13:$CD$113,3,FALSE))","v":""},null,null,null,null,null,null,null,""]
[null,null,null,null,{"$f":"IF(D249=\"\",\"\",VLOOKUP(D249,CAD_AREA!$CB$13:$CD$113,3,FALSE))","v":""},null,null,null,null,null,null,null,""]
[null,null,null,null,{"$f":"IF(D250=\"\",\"\",VLOOKUP(D250,CAD_AREA!$CB$13:$CD$113,3,FALSE))","v":""},null,null,null,null,null,null,null,""]
[null,null,null,null,{"$f":"IF(D251=\"\",\"\",VLOOKUP(D251,CAD_AREA!$CB$13:$CD$113,3,FALSE))","v":""},null,null,null,null,null,null,null,""]
[null,null,null,null,{"$f":"IF(D252=\"\",\"\",VLOOKUP(D252,CAD_AREA!$CB$13:$CD$113,3,FALSE))","v":""},null,null,null,null,null,null,null,""]
[null,null,null,null,{"$f":"IF(D253=\"\",\"\",VLOOKUP(D253,CAD_AREA!$CB$13:$CD$113,3,FALSE))","v":""},null,null,null,null,null,null,null,""]
[null,null,null,null,{"$f":"IF(D254=\"\",\"\",VLOOKUP(D254,CAD_AREA!$CB$13:$CD$113,3,FALSE))","v":""},null,null,null,null,null,null,null,""]
[null,null,null,null,{"$f":"IF(D255=\"\",\"\",VLOOKUP(D255,CAD_AREA!$CB$13:$CD$113,3,FALSE))","v":""},null,null,null,null,null,null,null,""]
[null,null,null,null,{"$f":"IF(D256=\"\",\"\",VLOOKUP(D256,CAD_AREA!$CB$13:$CD$113,3,FALSE))","v":""},null,null,null,null,null,null,null,""]
[null,null,null,null,{"$f":"IF(D257=\"\",\"\",VLOOKUP(D257,CAD_AREA!$CB$13:$CD$113,3,FALSE))","v":""},null,null,null,null,null,null,null,""]
[null,null,null,null,{"$f":"IF(D258=\"\",\"\",VLOOKUP(D258,CAD_AREA!$CB$13:$CD$113,3,FALSE))","v":""},null,null,null,null,null,null,null,""]
[null,null,null,null,{"$f":"IF(D259=\"\",\"\",VLOOKUP(D259,CAD_AREA!$CB$13:$CD$113,3,FALSE))","v":""},null,null,null,null,null,null,null,""]
[null,null,null,null,{"$f":"IF(D260=\"\",\"\",VLOOKUP(D260,CAD_AREA!$CB$13:$CD$113,3,FALSE))","v":""},null,null,null,null,null,null,null,""]
[null,null,null,null,{"$f":"IF(D261=\"\",\"\",VLOOKUP(D261,CAD_AREA!$CB$13:$CD$113,3,FALSE))","v":""},null,null,null,null,null,null,null,""]
[null,null,null,null,{"$f":"IF(D262=\"\",\"\",VLOOKUP(D262,CAD_AREA!$CB$13:$CD$113,3,FALSE))","v":""},null,null,null,null,null,null,null,""]
[null,null,null,null,{"$f":"IF(D263=\"\",\"\",VLOOKUP(D263,CAD_AREA!$CB$13:$CD$113,3,FALSE))","v":""},null,null,null,null,null,null,null,""]
[null,null,null,null,{"$f":"IF(D264=\"\",\"\",VLOOKUP(D264,CAD_AREA!$CB$13:$CD$113,3,FALSE))","v":""},null,null,null,null,null,null,null,""]
[null,null,null,null,{"$f":"IF(D265=\"\",\"\",VLOOKUP(D265,CAD_AREA!$CB$13:$CD$113,3,FALSE))","v":""},null,null,null,null,null,null,null,""]
[null,null,null,null,{"$f":"IF(D266=\"\",\"\",VLOOKUP(D266,CAD_AREA!$CB$13:$CD$113,3,FALSE))","v":""},null,null,null,null,null,null,null,""]
[null,null,null,null,{"$f":"IF(D267=\"\",\"\",VLOOKUP(D267,CAD_AREA!$CB$13:$CD$113,3,FALSE))","v":""},null,null,null,null,null,null,null,""]
[null,null,null,null,{"$f":"IF(D268=\"\",\"\",VLOOKUP(D268,CAD_AREA!$CB$13:$CD$113,3,FALSE))","v":""},null,null,null,null,null,null,null,""]
[null,null,null,null,{"$f":"IF(D269=\"\",\"\",VLOOKUP(D269,CAD_AREA!$CB$13:$CD$113,3,FALSE))","v":""},null,null,null,null,null,null,null,""]
[null,null,null,null,{"$f":"IF(D270=\"\",\"\",VLOOKUP(D270,CAD_AREA!$CB$13:$CD$113,3,FALSE))","v":""},null,null,null,null,null,null,null,{"$f":"IF(B270=\"\",\"\",VLOOKUP(MONTH(B270),$J$13:$K$24,2,FALSE))","v":""}]
[null,null,null,null,{"$f":"IF(D271=\"\",\"\",VLOOKUP(D271,CAD_AREA!$CB$13:$CD$113,3,FALSE))","v":""},null,null,null,null,null,null,null,""]
[null,null,null,null,{"$f":"IF(D272=\"\",\"\",VLOOKUP(D272,CAD_AREA!$CB$13:$CD$113,3,FALSE))","v":""},null,null,null,null,null,null,null,""]
[null,null,null,null,{"$f":"IF(D273=\"\",\"\",VLOOKUP(D273,CAD_AREA!$CB$13:$CD$113,3,FALSE))","v":""},null,null,null,null,null,null,null,""]
[null,null,null,null,{"$f":"IF(D274=\"\",\"\",VLOOKUP(D274,CAD_AREA!$CB$13:$CD$113,3,FALSE))","v":""},null,null,null,null,null,null,null,""]
[null,null,null,null,{"$f":"IF(D275=\"\",\"\",VLOOKUP(D275,CAD_AREA!$CB$13:$CD$113,3,FALSE))","v":""},null,null,null,null,null,null,null,""]
[null,null,null,null,{"$f":"IF(D276=\"\",\"\",VLOOKUP(D276,CAD_AREA!$CB$13:$CD$113,3,FALSE))","v":""},null,null,null,null,null,null,null,""]
[null,null,null,null,{"$f":"IF(D277=\"\",\"\",VLOOKUP(D277,CAD_AREA!$CB$13:$CD$113,3,FALSE))","v":""},null,null,null,null,null,null,null,""]
[null,null,null,null,{"$f":"IF(D278=\"\",\"\",VLOOKUP(D278,CAD_AREA!$CB$13:$CD$113,3,FALSE))","v":""},null,null,null,null,null,null,null,""]
[null,null,null,null,{"$f":"IF(D279=\"\",\"\",VLOOKUP(D279,CAD_AREA!$CB$13:$CD$113,3,FALSE))","v":""},null,null,null,null,null,null,null,""]
[null,null,null,null,{"$f":"IF(D280=\"\",\"\",VLOOKUP(D280,CAD_AREA!$CB$13:$CD$113,3,FALSE))","v":""},null,null,null,null,null,null,null,""]
[null,null,null,null,{"$f":"IF(D281=\"\",\"\",VLOOKUP(D281,CAD_AREA!$CB$13:$CD$113,3,FALSE))","v":""},null,null,null,null,null,null,null,""]
[null,null,null,null,{"$f":"IF(D282=\"\",\"\",VLOOKUP(D282,CAD_AREA!$CB$13:$CD$113,3,FALSE))","v":""},null,null,null,null,null,null,null,""]
[null,null,null,null,{"$f":"IF(D283=\"\",\"\",VLOOKUP(D283,CAD_AREA!$CB$13:$CD$113,3,FALSE))","v":""},null,null,null,null,null,null,null,""]
[null,null,null,null,{"$f":"IF(D284=\"\",\"\",VLOOKUP(D284,CAD_AREA!$CB$13:$CD$113,3,FALSE))","v":""},null,null,null,null,null,null,null,""]
[null,null,null,null,{"$f":"IF(D285=\"\",\"\",VLOOKUP(D285,CAD_AREA!$CB$13:$CD$113,3,FALSE))","v":""},null,null,null,null,null,null,null,""]
[null,null,null,null,{"$f":"IF(D286=\"\",\"\",VLOOKUP(D286,CAD_AREA!$CB$13:$CD$113,3,FALSE))","v":""},null,null,null,null,null,null,null,""]
[null,null,null,null,{"$f":"IF(D287=\"\",\"\",VLOOKUP(D287,CAD_AREA!$CB$13:$CD$113,3,FALSE))","v":""},null,null,null,null,null,null,null,""]
[null,null,null,null,{"$f":"IF(D288=\"\",\"\",VLOOKUP(D288,CAD_AREA!$CB$13:$CD$113,3,FALSE))","v":""},null,null,null,null,null,null,null,""]
[null,null,null,null,{"$f":"IF(D289=\"\",\"\",VLOOKUP(D289,CAD_AREA!$CB$13:$CD$113,3,FALSE))","v":""},null,null,null,null,null,null,null,""]
[null,null,null,null,{"$f":"IF(D290=\"\",\"\",VLOOKUP(D290,CAD_AREA!$CB$13:$CD$113,3,FALSE))","v":""},null,null,null,null,null,null,null,""]
[null,null,null,null,{"$f":"IF(D291=\"\",\"\",VLOOKUP(D291,CAD_AREA!$CB$13:$CD$113,3,FALSE))","v":""},null,null,null,null,null,null,null,""]
[null,null,null,null,{"$f":"IF(D292=\"\",\"\",VLOOKUP(D292,CAD_AREA!$CB$13:$CD$113,3,FALSE))","v":""},null,null,null,null,null,null,null,""]
[null,null,null,null,{"$f":"IF(D293=\"\",\"\",VLOOKUP(D293,CAD_AREA!$CB$13:$CD$113,3,FALSE))","v":""},null,null,null,null,null,null,null,""]
[null,null,null,null,{"$f":"IF(D294=\"\",\"\",VLOOKUP(D294,CAD_AREA!$CB$13:$CD$113,3,FALSE))","v":""},null,null,null,null,null,null,null,""]
[null,null,null,null,{"$f":"IF(D295=\"\",\"\",VLOOKUP(D295,CAD_AREA!$CB$13:$CD$113,3,FALSE))","v":""},null,null,null,null,null,null,null,""]
[null,null,null,null,{"$f":"IF(D296=\"\",\"\",VLOOKUP(D296,CAD_AREA!$CB$13:$CD$113,3,FALSE))","v":""},null,null,null,null,null,null,null,""]
[null,null,null,null,{"$f":"IF(D297=\"\",\"\",VLOOKUP(D297,CAD_AREA!$CB$13:$CD$113,3,FALSE))","v":""},null,null,null,null,null,null,null,""]
[null,null,null,null,{"$f":"IF(D298=\"\",\"\",VLOOKUP(D298,CAD_AREA!$CB$13:$CD$113,3,FALSE))","v":""},null,null,null,null,null,null,null,""]
[null,null,null,null,{"$f":"IF(D299=\"\",\"\",VLOOKUP(D299,CAD_AREA!$CB$13:$CD$113,3,FALSE))","v":""},null,null,null,null,null,null,null,""]
[null,null,null,null,{"$f":"IF(D300=\"\",\"\",VLOOKUP(D300,CAD_AREA!$CB$13:$CD$113,3,FALSE))","v":""},null,null,null,null,null,null,null,""]
[null,null,null,null,{"$f":"IF(D301=\"\",\"\",VLOOKUP(D301,CAD_AREA!$CB$13:$CD$113,3,FALSE))","v":""},null,null,null,null,null,null,null,""]
[null,null,null,null,{"$f":"IF(D302=\"\",\"\",VLOOKUP(D302,CAD_AREA!$CB$13:$CD$113,3,FALSE))","v":""},null,null,null,null,null,null,null,""]
[null,null,null,null,{"$f":"IF(D303=\"\",\"\",VLOOKUP(D303,CAD_AREA!$CB$13:$CD$113,3,FALSE))","v":""},null,null,null,null,null,null,null,""]
[null,null,null,null,{"$f":"IF(D304=\"\",\"\",VLOOKUP(D304,CAD_AREA!$CB$13:$CD$113,3,FALSE))","v":""},null,null,null,null,null,null,null,""]
[null,null,null,null,{"$f":"IF(D305=\"\",\"\",VLOOKUP(D305,CAD_AREA!$CB$13:$CD$113,3,FALSE))","v":""},null,null,null,null,null,null,null,""]
[null,null,null,null,{"$f":"IF(D306=\"\",\"\",VLOOKUP(D306,CAD_AREA!$CB$13:$CD$113,3,FALSE))","v":""},null,null,null,null,null,null,null,""]
[null,null,null,null,{"$f":"IF(D307=\"\",\"\",VLOOKUP(D307,CAD_AREA!$CB$13:$CD$113,3,FALSE))","v":""},null,null,null,null,null,null,null,""]
[null,null,null,null,{"$f":"IF(D308=\"\",\"\",VLOOKUP(D308,CAD_AREA!$CB$13:$CD$113,3,FALSE))","v":""},null,null,null,null,null,null,null,""]
[null,null,null,null,{"$f":"IF(D309=\"\",\"\",VLOOKUP(D309,CAD_AREA!$CB$13:$CD$113,3,FALSE))","v":""},null,null,null,null,null,null,null,""]
[null,null,null,null,{"$f":"IF(D310=\"\",\"\",VLOOKUP(D310,CAD_AREA!$CB$13:$CD$113,3,FALSE))","v":""},null,null,null,null,null,null,null,""]
[null,null,null,null,{"$f":"IF(D311=\"\",\"\",VLOOKUP(D311,CAD_AREA!$CB$13:$CD$113,3,FALSE))","v":""},null,null,null,null,null,null,null,""]
[null,null,null,null,{"$f":"IF(D312=\"\",\"\",VLOOKUP(D312,CAD_AREA!$CB$13:$CD$113,3,FALSE))","v":""},null,null,null,null,null,null,null,""]
[null,null,null,null,{"$f":"IF(D313=\"\",\"\",VLOOKUP(D313,CAD_AREA!$CB$13:$CD$113,3,FALSE))","v":""},null,null,null,null,null,null,null,""]
[null,null,null,null,{"$f":"IF(D314=\"\",\"\",VLOOKUP(D314,CAD_AREA!$CB$13:$CD$113,3,FALSE))","v":""},null,null,null,null,null,null,null,""]
[null,null,null,null,{"$f":"IF(D315=\"\",\"\",VLOOKUP(D315,CAD_AREA!$CB$13:$CD$113,3,FALSE))","v":""},null,null,null,null,null,null,null,""]
[null,null,null,null,{"$f":"IF(D316=\"\",\"\",VLOOKUP(D316,CAD_AREA!$CB$13:$CD$113,3,FALSE))","v":""},null,null,null,null,null,null,null,""]
[null,null,null,null,{"$f":"IF(D317=\"\",\"\",VLOOKUP(D317,CAD_AREA!$CB$13:$CD$113,3,FALSE))","v":""},null,null,null,null,null,null,null,""]
[null,null,null,null,{"$f":"IF(D318=\"\",\"\",VLOOKUP(D318,CAD_AREA!$CB$13:$CD$113,3,FALSE))","v":""},null,null,null,null,null,null,null,""]
[null,null,null,null,{"$f":"IF(D319=\"\",\"\",VLOOKUP(D319,CAD_AREA!$CB$13:$CD$113,3,FALSE))","v":""},null,null,null,null,null,null,null,""]
[null,null,null,null,{"$f":"IF(D320=\"\",\"\",VLOOKUP(D320,CAD_AREA!$CB$13:$CD$113,3,FALSE))","v":""},null,null,null,null,null,null,null,""]
[null,null,null,null,{"$f":"IF(D321=\"\",\"\",VLOOKUP(D321,CAD_AREA!$CB$13:$CD$113,3,FALSE))","v":""},null,null,null,null,null,null,null,""]
[null,null,null,null,{"$f":"IF(D322=\"\",\"\",VLOOKUP(D322,CAD_AREA!$CB$13:$CD$113,3,FALSE))","v":""},null,null,null,null,null,null,null,""]
[null,null,null,null,{"$f":"IF(D323=\"\",\"\",VLOOKUP(D323,CAD_AREA!$CB$13:$CD$113,3,FALSE))","v":""},null,null,null,null,null,null,null,""]
[null,null,null,null,{"$f":"IF(D324=\"\",\"\",VLOOKUP(D324,CAD_AREA!$CB$13:$CD$113,3,FALSE))","v":""},null,null,null,null,null,null,null,""]
[null,null,null,null,{"$f":"IF(D325=\"\",\"\",VLOOKUP(D325,CAD_AREA!$CB$13:$CD$113,3,FALSE))","v":""},null,null,null,null,null,null,null,""]
[null,null,null,null,{"$f":"IF(D326=\"\",\"\",VLOOKUP(D326,CAD_AREA!$CB$13:$CD$113,3,FALSE))","v":""},null,null,null,null,null,null,null,""]
[null,null,null,null,{"$f":"IF(D327=\"\",\"\",VLOOKUP(D327,CAD_AREA!$CB$13:$CD$113,3,FALSE))","v":""},null,null,null,null,null,null,null,""]
[null,null,null,null,{"$f":"IF(D328=\"\",\"\",VLOOKUP(D328,CAD_AREA!$CB$13:$CD$113,3,FALSE))","v":""},null,null,null,null,null,null,null,""]
[null,null,null,null,{"$f":"IF(D329=\"\",\"\",VLOOKUP(D329,CAD_AREA!$CB$13:$CD$113,3,FALSE))","v":""},null,null,null,null,null,null,null,""]
[null,null,null,null,{"$f":"IF(D330=\"\",\"\",VLOOKUP(D330,CAD_AREA!$CB$13:$CD$113,3,FALSE))","v":""},null,null,null,null,null,null,null,""]
[null,null,null,null,{"$f":"IF(D331=\"\",\"\",VLOOKUP(D331,CAD_AREA!$CB$13:$CD$113,3,FALSE))","v":""},null,null,null,null,null,null,null,""]
[null,null,null,null,{"$f":"IF(D332=\"\",\"\",VLOOKUP(D332,CAD_AREA!$CB$13:$CD$113,3,FALSE))","v":""},null,null,null,null,null,null,null,""]
[null,null,null,null,{"$f":"IF(D333=\"\",\"\",VLOOKUP(D333,CAD_AREA!$CB$13:$CD$113,3,FALSE))","v":""},null,null,null,null,null,null,null,""]
[null,null,null,null,{"$f":"IF(D334=\"\",\"\",VLOOKUP(D334,CAD_AREA!$CB$13:$CD$113,3,FALSE))","v":""},null,null,null,null,null,null,null,{"$f":"IF(B334=\"\",\"\",VLOOKUP(MONTH(B334),$J$13:$K$24,2,FALSE))","v":""}]
[null,null,null,null,{"$f":"IF(D335=\"\",\"\",VLOOKUP(D335,CAD_AREA!$CB$13:$CD$113,3,FALSE))","v":""},null,null,null,null,null,null,null,""]
[null,null,null,null,{"$f":"IF(D336=\"\",\"\",VLOOKUP(D336,CAD_AREA!$CB$13:$CD$113,3,FALSE))","v":""},null,null,null,null,null,null,null,""]
[null,null,null,null,{"$f":"IF(D337=\"\",\"\",VLOOKUP(D337,CAD_AREA!$CB$13:$CD$113,3,FALSE))","v":""},null,null,null,null,null,null,null,""]
[null,null,null,null,{"$f":"IF(D338=\"\",\"\",VLOOKUP(D338,CAD_AREA!$CB$13:$CD$113,3,FALSE))","v":""},null,null,null,null,null,null,null,""]
[null,null,null,null,{"$f":"IF(D339=\"\",\"\",VLOOKUP(D339,CAD_AREA!$CB$13:$CD$113,3,FALSE))","v":""},null,null,null,null,null,null,null,""]
[null,null,null,null,{"$f":"IF(D340=\"\",\"\",VLOOKUP(D340,CAD_AREA!$CB$13:$CD$113,3,FALSE))","v":""},null,null,null,null,null,null,null,""]
[null,null,null,null,{"$f":"IF(D341=\"\",\"\",VLOOKUP(D341,CAD_AREA!$CB$13:$CD$113,3,FALSE))","v":""},null,null,null,null,null,null,null,""]
[null,null,null,null,{"$f":"IF(D342=\"\",\"\",VLOOKUP(D342,CAD_AREA!$CB$13:$CD$113,3,FALSE))","v":""},null,null,null,null,null,null,null,""]
[null,null,null,null,{"$f":"IF(D343=\"\",\"\",VLOOKUP(D343,CAD_AREA!$CB$13:$CD$113,3,FALSE))","v":""},null,null,null,null,null,null,null,""]
[null,null,null,null,{"$f":"IF(D344=\"\",\"\",VLOOKUP(D344,CAD_AREA!$CB$13:$CD$113,3,FALSE))","v":""},null,null,null,null,null,null,null,""]
[null,null,null,null,{"$f":"IF(D345=\"\",\"\",VLOOKUP(D345,CAD_AREA!$CB$13:$CD$113,3,FALSE))","v":""},null,null,null,null,null,null,null,""]
[null,null,null,null,{"$f":"IF(D346=\"\",\"\",VLOOKUP(D346,CAD_AREA!$CB$13:$CD$113,3,FALSE))","v":""},null,null,null,null,null,null,null,""]
[null,null,null,null,{"$f":"IF(D347=\"\",\"\",VLOOKUP(D347,CAD_AREA!$CB$13:$CD$113,3,FALSE))","v":""},null,null,null,null,null,null,null,""]
[null,null,null,null,{"$f":"IF(D348=\"\",\"\",VLOOKUP(D348,CAD_AREA!$CB$13:$CD$113,3,FALSE))","v":""},null,null,null,null,null,null,null,""]
[null,null,null,null,{"$f":"IF(D349=\"\",\"\",VLOOKUP(D349,CAD_AREA!$CB$13:$CD$113,3,FALSE))","v":""},null,null,null,null,null,null,null,""]
[null,null,null,null,{"$f":"IF(D350=\"\",\"\",VLOOKUP(D350,CAD_AREA!$CB$13:$CD$113,3,FALSE))","v":""},null,null,null,null,null,null,null,""]
[null,null,null,null,{"$f":"IF(D351=\"\",\"\",VLOOKUP(D351,CAD_AREA!$CB$13:$CD$113,3,FALSE))","v":""},null,null,null,null,null,null,null,""]
[null,null,null,null,{"$f":"IF(D352=\"\",\"\",VLOOKUP(D352,CAD_AREA!$CB$13:$CD$113,3,FALSE))","v":""},null,null,null,null,null,null,null,""]
[null,null,null,null,{"$f":"IF(D353=\"\",\"\",VLOOKUP(D353,CAD_AREA!$CB$13:$CD$113,3,FALSE))","v":""},null,null,null,null,null,null,null,""]
[null,null,null,null,{"$f":"IF(D354=\"\",\"\",VLOOKUP(D354,CAD_AREA!$CB$13:$CD$113,3,FALSE))","v":""},null,null,null,null,null,null,null,""]
[null,null,null,null,{"$f":"IF(D355=\"\",\"\",VLOOKUP(D355,CAD_AREA!$CB$13:$CD$113,3,FALSE))","v":""},null,null,null,null,null,null,null,""]
[null,null,null,null,{"$f":"IF(D356=\"\",\"\",VLOOKUP(D356,CAD_AREA!$CB$13:$CD$113,3,FALSE))","v":""},null,null,null,null,null,null,null,""]
[null,null,null,null,{"$f":"IF(D357=\"\",\"\",VLOOKUP(D357,CAD_AREA!$CB$13:$CD$113,3,FALSE))","v":""},null,null,null,null,null,null,null,""]
[null,null,null,null,{"$f":"IF(D358=\"\",\"\",VLOOKUP(D358,CAD_AREA!$CB$13:$CD$113,3,FALSE))","v":""},null,null,null,null,null,null,null,""]
[null,null,null,null,{"$f":"IF(D359=\"\",\"\",VLOOKUP(D359,CAD_AREA!$CB$13:$CD$113,3,FALSE))","v":""},null,null,null,null,null,null,null,""]
[null,null,null,null,{"$f":"IF(D360=\"\",\"\",VLOOKUP(D360,CAD_AREA!$CB$13:$CD$113,3,FALSE))","v":""},null,null,null,null,null,null,null,""]
[null,null,null,null,{"$f":"IF(D361=\"\",\"\",VLOOKUP(D361,CAD_AREA!$CB$13:$CD$113,3,FALSE))","v":""},null,null,null,null,null,null,null,""]
[null,null,null,null,{"$f":"IF(D362=\"\",\"\",VLOOKUP(D362,CAD_AREA!$CB$13:$CD$113,3,FALSE))","v":""},null,null,null,null,null,null,null,""]
[null,null,null,null,{"$f":"IF(D363=\"\",\"\",VLOOKUP(D363,CAD_AREA!$CB$13:$CD$113,3,FALSE))","v":""},null,null,null,null,null,null,null,""]
[null,null,null,null,{"$f":"IF(D364=\"\",\"\",VLOOKUP(D364,CAD_AREA!$CB$13:$CD$113,3,FALSE))","v":""},null,null,null,null,null,null,null,""]
[null,null,null,null,{"$f":"IF(D365=\"\",\"\",VLOOKUP(D365,CAD_AREA!$CB$13:$CD$113,3,FALSE))","v":""},null,null,null,null,null,null,null,""]
[null,null,null,null,{"$f":"IF(D366=\"\",\"\",VLOOKUP(D366,CAD_AREA!$CB$13:$CD$113,3,FALSE))","v":""},null,null,null,null,null,null,null,""]
[null,null,null,null,{"$f":"IF(D367=\"\",\"\",VLOOKUP(D367,CAD_AREA!$CB$13:$CD$113,3,FALSE))","v":""},null,null,null,null,null,null,null,""]
[null,null,null,null,{"$f":"IF(D368=\"\",\"\",VLOOKUP(D368,CAD_AREA!$CB$13:$CD$113,3,FALSE))","v":""},null,null,null,null,null,null,null,""]
[null,null,null,null,{"$f":"IF(D369=\"\",\"\",VLOOKUP(D369,CAD_AREA!$CB$13:$CD$113,3,FALSE))","v":""},null,null,null,null,null,null,null,""]
[null,null,null,null,{"$f":"IF(D370=\"\",\"\",VLOOKUP(D370,CAD_AREA!$CB$13:$CD$113,3,FALSE))","v":""},null,null,null,null,null,null,null,""]
[null,null,null,null,{"$f":"IF(D371=\"\",\"\",VLOOKUP(D371,CAD_AREA!$CB$13:$CD$113,3,FALSE))","v":""},null,null,null,null,null,null,null,""]
[null,null,null,null,{"$f":"IF(D372=\"\",\"\",VLOOKUP(D372,CAD_AREA!$CB$13:$CD$113,3,FALSE))","v":""},null,null,null,null,null,null,null,""]
[null,null,null,null,{"$f":"IF(D373=\"\",\"\",VLOOKUP(D373,CAD_AREA!$CB$13:$CD$113,3,FALSE))","v":""},null,null,null,null,null,null,null,""]
[null,null,null,null,{"$f":"IF(D374=\"\",\"\",VLOOKUP(D374,CAD_AREA!$CB$13:$CD$113,3,FALSE))","v":""},null,null,null,null,null,null,null,""]
[null,null,null,null,{"$f":"IF(D375=\"\",\"\",VLOOKUP(D375,CAD_AREA!$CB$13:$CD$113,3,FALSE))","v":""},null,null,null,null,null,null,null,""]
[null,null,null,null,{"$f":"IF(D376=\"\",\"\",VLOOKUP(D376,CAD_AREA!$CB$13:$CD$113,3,FALSE))","v":""},null,null,null,null,null,null,null,""]
[null,null,null,null,{"$f":"IF(D377=\"\",\"\",VLOOKUP(D377,CAD_AREA!$CB$13:$CD$113,3,FALSE))","v":""},null,null,null,null,null,null,null,""]
[null,null,null,null,{"$f":"IF(D378=\"\",\"\",VLOOKUP(D378,CAD_AREA!$CB$13:$CD$113,3,FALSE))","v":""},null,null,null,null,null,null,null,""]
[null,null,null,null,{"$f":"IF(D379=\"\",\"\",VLOOKUP(D379,CAD_AREA!$CB$13:$CD$113,3,FALSE))","v":""},null,null,null,null,null,null,null,""]
[null,null,null,null,{"$f":"IF(D380=\"\",\"\",VLOOKUP(D380,CAD_AREA!$CB$13:$CD$113,3,FALSE))","v":""},null,null,null,null,null,null,null,""]
[null,null,null,null,{"$f":"IF(D381=\"\",\"\",VLOOKUP(D381,CAD_AREA!$CB$13:$CD$113,3,FALSE))","v":""},null,null,null,null,null,null,null,""]
[null,null,null,null,{"$f":"IF(D382=\"\",\"\",VLOOKUP(D382,CAD_AREA!$CB$13:$CD$113,3,FALSE))","v":""},null,null,null,null,null,null,null,""]
[null,null,null,null,{"$f":"IF(D383=\"\",\"\",VLOOKUP(D383,CAD_AREA!$CB$13:$CD$113,3,FALSE))","v":""},null,null,null,null,null,null,null,""]
[null,null,null,null,{"$f":"IF(D384=\"\",\"\",VLOOKUP(D384,CAD_AREA!$CB$13:$CD$113,3,FALSE))","v":""},null,null,null,null,null,null,null,""]
[null,null,null,null,{"$f":"IF(D385=\"\",\"\",VLOOKUP(D385,CAD_AREA!$CB$13:$CD$113,3,FALSE))","v":""},null,null,null,null,null,null,null,""]
[null,null,null,null,{"$f":"IF(D386=\"\",\"\",VLOOKUP(D386,CAD_AREA!$CB$13:$CD$113,3,FALSE))","v":""},null,null,null,null,null,null,null,""]
[null,null,null,null,{"$f":"IF(D387=\"\",\"\",VLOOKUP(D387,CAD_AREA!$CB$13:$CD$113,3,FALSE))","v":""},null,null,null,null,null,null,null,""]
[null,null,null,null,{"$f":"IF(D388=\"\",\"\",VLOOKUP(D388,CAD_AREA!$CB$13:$CD$113,3,FALSE))","v":""},null,null,null,null,null,null,null,""]
[null,null,null,null,{"$f":"IF(D389=\"\",\"\",VLOOKUP(D389,CAD_AREA!$CB$13:$CD$113,3,FALSE))","v":""},null,null,null,null,null,null,null,""]
[null,null,null,null,{"$f":"IF(D390=\"\",\"\",VLOOKUP(D390,CAD_AREA!$CB$13:$CD$113,3,FALSE))","v":""},null,null,null,null,null,null,null,""]
[null,null,null,null,{"$f":"IF(D391=\"\",\"\",VLOOKUP(D391,CAD_AREA!$CB$13:$CD$113,3,FALSE))","v":""},null,null,null,null,null,null,null,""]
[null,null,null,null,{"$f":"IF(D392=\"\",\"\",VLOOKUP(D392,CAD_AREA!$CB$13:$CD$113,3,FALSE))","v":""},null,null,null,null,null,null,null,""]
[null,null,null,null,{"$f":"IF(D393=\"\",\"\",VLOOKUP(D393,CAD_AREA!$CB$13:$CD$113,3,FALSE))","v":""},null,null,null,null,null,null,null,""]
[null,null,null,null,{"$f":"IF(D394=\"\",\"\",VLOOKUP(D394,CAD_AREA!$CB$13:$CD$113,3,FALSE))","v":""},null,null,null,null,null,null,null,""]
[null,null,null,null,{"$f":"IF(D395=\"\",\"\",VLOOKUP(D395,CAD_AREA!$CB$13:$CD$113,3,FALSE))","v":""},null,null,null,null,null,null,null,""]
[null,null,null,null,{"$f":"IF(D396=\"\",\"\",VLOOKUP(D396,CAD_AREA!$CB$13:$CD$113,3,FALSE))","v":""},null,null,null,null,null,null,null,""]
[null,null,null,null,{"$f":"IF(D397=\"\",\"\",VLOOKUP(D397,CAD_AREA!$CB$13:$CD$113,3,FALSE))","v":""},null,null,null,null,null,null,null,""]
[null,null,null,null,{"$f":"IF(D398=\"\",\"\",VLOOKUP(D398,CAD_AREA!$CB$13:$CD$113,3,FALSE))","v":""},null,null,null,null,null,null,null,{"$f":"IF(B398=\"\",\"\",VLOOKUP(MONTH(B398),$J$13:$K$24,2,FALSE))","v":""}]
[null,null,null,null,{"$f":"IF(D399=\"\",\"\",VLOOKUP(D399,CAD_AREA!$CB$13:$CD$113,3,FALSE))","v":""},null,null,null,null,null,null,null,""]
[null,null,null,null,{"$f":"IF(D400=\"\",\"\",VLOOKUP(D400,CAD_AREA!$CB$13:$CD$113,3,FALSE))","v":""},null,null,null,null,null,null,null,""]
[null,null,null,null,{"$f":"IF(D401=\"\",\"\",VLOOKUP(D401,CAD_AREA!$CB$13:$CD$113,3,FALSE))","v":""},null,null,null,null,null,null,null,""]
[null,null,null,null,{"$f":"IF(D402=\"\",\"\",VLOOKUP(D402,CAD_AREA!$CB$13:$CD$113,3,FALSE))","v":""},null,null,null,null,null,null,null,""]
[null,null,null,null,{"$f":"IF(D403=\"\",\"\",VLOOKUP(D403,CAD_AREA!$CB$13:$CD$113,3,FALSE))","v":""},null,null,null,null,null,null,null,""]
[null,null,null,null,{"$f":"IF(D404=\"\",\"\",VLOOKUP(D404,CAD_AREA!$CB$13:$CD$113,3,FALSE))","v":""},null,null,null,null,null,null,null,""]
[null,null,null,null,{"$f":"IF(D405=\"\",\"\",VLOOKUP(D405,CAD_AREA!$CB$13:$CD$113,3,FALSE))","v":""},null,null,null,null,null,null,null,""]
[null,null,null,null,{"$f":"IF(D406=\"\",\"\",VLOOKUP(D406,CAD_AREA!$CB$13:$CD$113,3,FALSE))","v":""},null,null,null,null,null,null,null,""]
[null,null,null,null,{"$f":"IF(D407=\"\",\"\",VLOOKUP(D407,CAD_AREA!$CB$13:$CD$113,3,FALSE))","v":""},null,null,null,null,null,null,null,""]
[null,null,null,null,{"$f":"IF(D408=\"\",\"\",VLOOKUP(D408,CAD_AREA!$CB$13:$CD$113,3,FALSE))","v":""},null,null,null,null,null,null,null,""]
[null,null,null,null,{"$f":"IF(D409=\"\",\"\",VLOOKUP(D409,CAD_AREA!$CB$13:$CD$113,3,FALSE))","v":""},null,null,null,null,null,null,null,""]
[null,null,null,null,{"$f":"IF(D410=\"\",\"\",VLOOKUP(D410,CAD_AREA!$CB$13:$CD$113,3,FALSE))","v":""},null,null,null,null,null,null,null,""]
[null,null,null,null,{"$f":"IF(D411=\"\",\"\",VLOOKUP(D411,CAD_AREA!$CB$13:$CD$113,3,FALSE))","v":""},null,null,null,null,null,null,null,""]
[null,null,null,null,{"$f":"IF(D412=\"\",\"\",VLOOKUP(D412,CAD_AREA!$CB$13:$CD$113,3,FALSE))","v":""},null,null,null,null,null,null,null,""]
[null,null,null,null,{"$f":"IF(D413=\"\",\"\",VLOOKUP(D413,CAD_AREA!$CB$13:$CD$113,3,FALSE))","v":""},null,null,null,null,null,null,null,""]
[null,null,null,null,{"$f":"IF(D414=\"\",\"\",VLOOKUP(D414,CAD_AREA!$CB$13:$CD$113,3,FALSE))","v":""},null,null,null,null,null,null,null,""]
[null,null,null,null,{"$f":"IF(D415=\"\",\"\",VLOOKUP(D415,CAD_AREA!$CB$13:$CD$113,3,FALSE))","v":""},null,null,null,null,null,null,null,""]
[null,null,null,null,{"$f":"IF(D416=\"\",\"\",VLOOKUP(D416,CAD_AREA!$CB$13:$CD$113,3,FALSE))","v":""},null,null,null,null,null,null,null,""]
[null,null,null,null,{"$f":"IF(D417=\"\",\"\",VLOOKUP(D417,CAD_AREA!$CB$13:$CD$113,3,FALSE))","v":""},null,null,null,null,null,null,null,""]
[null,null,null,null,{"$f":"IF(D418=\"\",\"\",VLOOKUP(D418,CAD_AREA!$CB$13:$CD$113,3,FALSE))","v":""},null,null,null,null,null,null,null,""]
[null,null,null,null,{"$f":"IF(D419=\"\",\"\",VLOOKUP(D419,CAD_AREA!$CB$13:$CD$113,3,FALSE))","v":""},null,null,null,null,null,null,null,""]
[null,null,null,null,{"$f":"IF(D420=\"\",\"\",VLOOKUP(D420,CAD_AREA!$CB$13:$CD$113,3,FALSE))","v":""},null,null,null,null,null,null,null,""]
[null,null,null,null,{"$f":"IF(D421=\"\",\"\",VLOOKUP(D421,CAD_AREA!$CB$13:$CD$113,3,FALSE))","v":""},null,null,null,null,null,null,null,""]
[null,null,null,null,{"$f":"IF(D422=\"\",\"\",VLOOKUP(D422,CAD_AREA!$CB$13:$CD$113,3,FALSE))","v":""},null,null,null,null,null,null,null,""]
[null,null,null,null,{"$f":"IF(D423=\"\",\"\",VLOOKUP(D423,CAD_AREA!$CB$13:$CD$113,3,FALSE))","v":""},null,null,null,null,null,null,null,""]
[null,null,null,null,{"$f":"IF(D424=\"\",\"\",VLOOKUP(D424,CAD_AREA!$CB$13:$CD$113,3,FALSE))","v":""},null,null,null,null,null,null,null,""]
[null,null,null,null,{"$f":"IF(D425=\"\",\"\",VLOOKUP(D425,CAD_AREA!$CB$13:$CD$113,3,FALSE))","v":""},null,null,null,null,null,null,null,""]
[null,null,null,null,{"$f":"IF(D426=\"\",\"\",VLOOKUP(D426,CAD_AREA!$CB$13:$CD$113,3,FALSE))","v":""},null,null,null,null,null,null,null,""]
[null,null,null,null,{"$f":"IF(D427=\"\",\"\",VLOOKUP(D427,CAD_AREA!$CB$13:$CD$113,3,FALSE))","v":""},null,null,null,null,null,null,null,""]
[null,null,null,null,{"$f":"IF(D428=\"\",\"\",VLOOKUP(D428,CAD_AREA!$CB$13:$CD$113,3,FALSE))","v":""},null,null,null,null,null,null,null,""]
[null,null,null,null,{"$f":"IF(D429=\"\",\"\",VLOOKUP(D429,CAD_AREA!$CB$13:$CD$113,3,FALSE))","v":""},null,null,null,null,null,null,null,""]
[null,null,null,null,{"$f":"IF(D430=\"\",\"\",VLOOKUP(D430,CAD_AREA!$CB$13:$CD$113,3,FALSE))","v":""},null,null,null,null,null,null,null,""]
[null,null,null,null,{"$f":"IF(D431=\"\",\"\",VLOOKUP(D431,CAD_AREA!$CB$13:$CD$113,3,FALSE))","v":""},null,null,null,null,null,null,null,""]
[null,null,null,null,{"$f":"IF(D432=\"\",\"\",VLOOKUP(D432,CAD_AREA!$CB$13:$CD$113,3,FALSE))","v":""},null,null,null,null,null,null,null,""]
[null,null,null,null,{"$f":"IF(D433=\"\",\"\",VLOOKUP(D433,CAD_AREA!$CB$13:$CD$113,3,FALSE))","v":""},null,null,null,null,null,null,null,""]
[null,null,null,null,{"$f":"IF(D434=\"\",\"\",VLOOKUP(D434,CAD_AREA!$CB$13:$CD$113,3,FALSE))","v":""},null,null,null,null,null,null,null,""]
[null,null,null,null,{"$f":"IF(D435=\"\",\"\",VLOOKUP(D435,CAD_AREA!$CB$13:$CD$113,3,FALSE))","v":""},null,null,null,null,null,null,null,""]
[null,null,null,null,{"$f":"IF(D436=\"\",\"\",VLOOKUP(D436,CAD_AREA!$CB$13:$CD$113,3,FALSE))","v":""},null,null,null,null,null,null,null,""]
[null,null,null,null,{"$f":"IF(D437=\"\",\"\",VLOOKUP(D437,CAD_AREA!$CB$13:$CD$113,3,FALSE))","v":""},null,null,null,null,null,null,null,""]
[null,null,null,null,{"$f":"IF(D438=\"\",\"\",VLOOKUP(D438,CAD_AREA!$CB$13:$CD$113,3,FALSE))","v":""},null,null,null,null,null,null,null,""]
[null,null,null,null,{"$f":"IF(D439=\"\",\"\",VLOOKUP(D439,CAD_AREA!$CB$13:$CD$113,3,FALSE))","v":""},null,null,null,null,null,null,null,""]
[null,null,null,null,{"$f":"IF(D440=\"\",\"\",VLOOKUP(D440,CAD_AREA!$CB$13:$CD$113,3,FALSE))","v":""},null,null,null,null,null,null,null,""]
[null,null,null,null,{"$f":"IF(D441=\"\",\"\",VLOOKUP(D441,CAD_AREA!$CB$13:$CD$113,3,FALSE))","v":""},null,null,null,null,null,null,null,""]
[null,null,null,null,{"$f":"IF(D442=\"\",\"\",VLOOKUP(D442,CAD_AREA!$CB$13:$CD$113,3,FALSE))","v":""},null,null,null,null,null,null,null,""]
[null,null,null,null,{"$f":"IF(D443=\"\",\"\",VLOOKUP(D443,CAD_AREA!$CB$13:$CD$113,3,FALSE))","v":""},null,null,null,null,null,null,null,""]
[null,null,null,null,{"$f":"IF(D444=\"\",\"\",VLOOKUP(D444,CAD_AREA!$CB$13:$CD$113,3,FALSE))","v":""},null,null,null,null,null,null,null,""]
[null,null,null,null,{"$f":"IF(D445=\"\",\"\",VLOOKUP(D445,CAD_AREA!$CB$13:$CD$113,3,FALSE))","v":""},null,null,null,null,null,null,null,""]
[null,null,null,null,{"$f":"IF(D446=\"\",\"\",VLOOKUP(D446,CAD_AREA!$CB$13:$CD$113,3,FALSE))","v":""},null,null,null,null,null,null,null,""]
[null,null,null,null,{"$f":"IF(D447=\"\",\"\",VLOOKUP(D447,CAD_AREA!$CB$13:$CD$113,3,FALSE))","v":""},null,null,null,null,null,null,null,""]
[null,null,null,null,{"$f":"IF(D448=\"\",\"\",VLOOKUP(D448,CAD_AREA!$CB$13:$CD$113,3,FALSE))","v":""},null,null,null,null,null,null,null,""]
[null,null,null,null,{"$f":"IF(D449=\"\",\"\",VLOOKUP(D449,CAD_AREA!$CB$13:$CD$113,3,FALSE))","v":""},null,null,null,null,null,null,null,""]
[null,null,null,null,{"$f":"IF(D450=\"\",\"\",VLOOKUP(D450,CAD_AREA!$CB$13:$CD$113,3,FALSE))","v":""},null,null,null,null,null,null,null,""]
[null,null,null,null,{"$f":"IF(D451=\"\",\"\",VLOOKUP(D451,CAD_AREA!$CB$13:$CD$113,3,FALSE))","v":""},null,null,null,null,null,null,null,""]
[null,null,null,null,{"$f":"IF(D452=\"\",\"\",VLOOKUP(D452,CAD_AREA!$CB$13:$CD$113,3,FALSE))","v":""},null,null,null,null,null,null,null,""]
[null,null,null,null,{"$f":"IF(D453=\"\",\"\",VLOOKUP(D453,CAD_AREA!$CB$13:$CD$113,3,FALSE))","v":""},null,null,null,null,null,null,null,""]
[null,null,null,null,{"$f":"IF(D454=\"\",\"\",VLOOKUP(D454,CAD_AREA!$CB$13:$CD$113,3,FALSE))","v":""},null,null,null,null,null,null,null,""]
[null,null,null,null,{"$f":"IF(D455=\"\",\"\",VLOOKUP(D455,CAD_AREA!$CB$13:$CD$113,3,FALSE))","v":""},null,null,null,null,null,null,null,""]
[null,null,null,null,{"$f":"IF(D456=\"\",\"\",VLOOKUP(D456,CAD_AREA!$CB$13:$CD$113,3,FALSE))","v":""},null,null,null,null,null,null,null,""]
[null,null,null,null,{"$f":"IF(D457=\"\",\"\",VLOOKUP(D457,CAD_AREA!$CB$13:$CD$113,3,FALSE))","v":""},null,null,null,null,null,null,null,""]
[null,null,null,null,{"$f":"IF(D458=\"\",\"\",VLOOKUP(D458,CAD_AREA!$CB$13:$CD$113,3,FALSE))","v":""},null,null,null,null,null,null,null,""]
[null,null,null,null,{"$f":"IF(D459=\"\",\"\",VLOOKUP(D459,CAD_AREA!$CB$13:$CD$113,3,FALSE))","v":""},null,null,null,null,null,null,null,""]
[null,null,null,null,{"$f":"IF(D460=\"\",\"\",VLOOKUP(D460,CAD_AREA!$CB$13:$CD$113,3,FALSE))","v":""},null,null,null,null,null,null,null,""]
[null,null,null,null,{"$f":"IF(D461=\"\",\"\",VLOOKUP(D461,CAD_AREA!$CB$13:$CD$113,3,FALSE))","v":""},null,null,null,null,null,null,null,""]
[null,null,null,null,{"$f":"IF(D462=\"\",\"\",VLOOKUP(D462,CAD_AREA!$CB$13:$CD$113,3,FALSE))","v":""},null,null,null,null,null,null,null,{"$f":"IF(B462=\"\",\"\",VLOOKUP(MONTH(B462),$J$13:$K$24,2,FALSE))","v":""}]
[null,null,null,null,{"$f":"IF(D463=\"\",\"\",VLOOKUP(D463,CAD_AREA!$CB$13:$CD$113,3,FALSE))","v":""},null,null,null,null,null,null,null,""]
[null,null,null,null,{"$f":"IF(D464=\"\",\"\",VLOOKUP(D464,CAD_AREA!$CB$13:$CD$113,3,FALSE))","v":""},null,null,null,null,null,null,null,""]
[null,null,null,null,{"$f":"IF(D465=\"\",\"\",VLOOKUP(D465,CAD_AREA!$CB$13:$CD$113,3,FALSE))","v":""},null,null,null,null,null,null,null,""]
[null,null,null,null,{"$f":"IF(D466=\"\",\"\",VLOOKUP(D466,CAD_AREA!$CB$13:$CD$113,3,FALSE))","v":""},null,null,null,null,null,null,null,""]
[null,null,null,null,{"$f":"IF(D467=\"\",\"\",VLOOKUP(D467,CAD_AREA!$CB$13:$CD$113,3,FALSE))","v":""},null,null,null,null,null,null,null,""]
[null,null,null,null,{"$f":"IF(D468=\"\",\"\",VLOOKUP(D468,CAD_AREA!$CB$13:$CD$113,3,FALSE))","v":""},null,null,null,null,null,null,null,""]
[null,null,null,null,{"$f":"IF(D469=\"\",\"\",VLOOKUP(D469,CAD_AREA!$CB$13:$CD$113,3,FALSE))","v":""},null,null,null,null,null,null,null,""]
[null,null,null,null,{"$f":"IF(D470=\"\",\"\",VLOOKUP(D470,CAD_AREA!$CB$13:$CD$113,3,FALSE))","v":""},null,null,null,null,null,null,null,""]
[null,null,null,null,{"$f":"IF(D471=\"\",\"\",VLOOKUP(D471,CAD_AREA!$CB$13:$CD$113,3,FALSE))","v":""},null,null,null,null,null,null,null,""]
[null,null,null,null,{"$f":"IF(D472=\"\",\"\",VLOOKUP(D472,CAD_AREA!$CB$13:$CD$113,3,FALSE))","v":""},null,null,null,null,null,null,null,""]
[null,null,null,null,{"$f":"IF(D473=\"\",\"\",VLOOKUP(D473,CAD_AREA!$CB$13:$CD$113,3,FALSE))","v":""},null,null,null,null,null,null,null,""]
[null,null,null,null,{"$f":"IF(D474=\"\",\"\",VLOOKUP(D474,CAD_AREA!$CB$13:$CD$113,3,FALSE))","v":""},null,null,null,null,null,null,null,""]
[null,null,null,null,{"$f":"IF(D475=\"\",\"\",VLOOKUP(D475,CAD_AREA!$CB$13:$CD$113,3,FALSE))","v":""},null,null,null,null,null,null,null,""]
[null,null,null,null,{"$f":"IF(D476=\"\",\"\",VLOOKUP(D476,CAD_AREA!$CB$13:$CD$113,3,FALSE))","v":""},null,null,null,null,null,null,null,""]
[null,null,null,null,{"$f":"IF(D477=\"\",\"\",VLOOKUP(D477,CAD_AREA!$CB$13:$CD$113,3,FALSE))","v":""},null,null,null,null,null,null,null,""]
[null,null,null,null,{"$f":"IF(D478=\"\",\"\",VLOOKUP(D478,CAD_AREA!$CB$13:$CD$113,3,FALSE))","v":""},null,null,null,null,null,null,null,""]
[null,null,null,null,{"$f":"IF(D479=\"\",\"\",VLOOKUP(D479,CAD_AREA!$CB$13:$CD$113,3,FALSE))","v":""},null,null,null,null,null,null,null,""]
[null,null,null,null,{"$f":"IF(D480=\"\",\"\",VLOOKUP(D480,CAD_AREA!$CB$13:$CD$113,3,FALSE))","v":""},null,null,null,null,null,null,null,""]
[null,null,null,null,{"$f":"IF(D481=\"\",\"\",VLOOKUP(D481,CAD_AREA!$CB$13:$CD$113,3,FALSE))","v":""},null,null,null,null,null,null,null,""]
[null,null,null,null,{"$f":"IF(D482=\"\",\"\",VLOOKUP(D482,CAD_AREA!$CB$13:$CD$113,3,FALSE))","v":""},null,null,null,null,null,null,null,""]
[null,null,null,null,{"$f":"IF(D483=\"\",\"\",VLOOKUP(D483,CAD_AREA!$CB$13:$CD$113,3,FALSE))","v":""},null,null,null,null,null,null,null,""]
[null,null,null,null,{"$f":"IF(D484=\"\",\"\",VLOOKUP(D484,CAD_AREA!$CB$13:$CD$113,3,FALSE))","v":""},null,null,null,null,null,null,null,""]
[null,null,null,null,{"$f":"IF(D485=\"\",\"\",VLOOKUP(D485,CAD_AREA!$CB$13:$CD$113,3,FALSE))","v":""},null,null,null,null,null,null,null,""]
[null,null,null,null,{"$f":"IF(D486=\"\",\"\",VLOOKUP(D486,CAD_AREA!$CB$13:$CD$113,3,FALSE))","v":""},null,null,null,null,null,null,null,""]
[null,null,null,null,{"$f":"IF(D487=\"\",\"\",VLOOKUP(D487,CAD_AREA!$CB$13:$CD$113,3,FALSE))","v":""},null,null,null,null,null,null,null,""]
[null,null,null,null,{"$f":"IF(D488=\"\",\"\",VLOOKUP(D488,CAD_AREA!$CB$13:$CD$113,3,FALSE))","v":""},null,null,null,null,null,null,null,""]
[null,null,null,null,{"$f":"IF(D489=\"\",\"\",VLOOKUP(D489,CAD_AREA!$CB$13:$CD$113,3,FALSE))","v":""},null,null,null,null,null,null,null,""]
[null,null,null,null,{"$f":"IF(D490=\"\",\"\",VLOOKUP(D490,CAD_AREA!$CB$13:$CD$113,3,FALSE))","v":""},null,null,null,null,null,null,null,""]
[null,null,null,null,{"$f":"IF(D491=\"\",\"\",VLOOKUP(D491,CAD_AREA!$CB$13:$CD$113,3,FALSE))","v":""},null,null,null,null,null,null,null,""]
[null,null,null,null,{"$f":"IF(D492=\"\",\"\",VLOOKUP(D492,CAD_AREA!$CB$13:$CD$113,3,FALSE))","v":""},null,null,null,null,null,null,null,""]
[null,null,null,null,{"$f":"IF(D493=\"\",\"\",VLOOKUP(D493,CAD_AREA!$CB$13:$CD$113,3,FALSE))","v":""},null,null,null,null,null,null,null,""]
[null,null,null,null,{"$f":"IF(D494=\"\",\"\",VLOOKUP(D494,CAD_AREA!$CB$13:$CD$113,3,FALSE))","v":""},null,null,null,null,null,null,null,""]
[null,null,null,null,{"$f":"IF(D495=\"\",\"\",VLOOKUP(D495,CAD_AREA!$CB$13:$CD$113,3,FALSE))","v":""},null,null,null,null,null,null,null,""]
[null,null,null,null,{"$f":"IF(D496=\"\",\"\",VLOOKUP(D496,CAD_AREA!$CB$13:$CD$113,3,FALSE))","v":""},null,null,null,null,null,null,null,""]
[null,null,null,null,{"$f":"IF(D497=\"\",\"\",VLOOKUP(D497,CAD_AREA!$CB$13:$CD$113,3,FALSE))","v":""},null,null,null,null,null,null,null,""]
[null,null,null,null,{"$f":"IF(D498=\"\",\"\",VLOOKUP(D498,CAD_AREA!$CB$13:$CD$113,3,FALSE))","v":""},null,null,null,null,null,null,null,""]
[null,null,null,null,{"$f":"IF(D499=\"\",\"\",VLOOKUP(D499,CAD_AREA!$CB$13:$CD$113,3,FALSE))","v":""},null,null,null,null,null,null,null,""]
[null,null,null,null,{"$f":"IF(D500=\"\",\"\",VLOOKUP(D500,CAD_AREA!$CB$13:$CD$113,3,FALSE))","v":""},null,null,null,null,null,null,null,""]
[null,null,null,null,{"$f":"IF(D501=\"\",\"\",VLOOKUP(D501,CAD_AREA!$CB$13:$CD$113,3,FALSE))","v":""},null,null,null,null,null,null,null,""]
[null,null,null,null,{"$f":"IF(D502=\"\",\"\",VLOOKUP(D502,CAD_AREA!$CB$13:$CD$113,3,FALSE))","v":""},null,null,null,null,null,null,null,""]
[null,null,null,null,{"$f":"IF(D503=\"\",\"\",VLOOKUP(D503,CAD_AREA!$CB$13:$CD$113,3,FALSE))","v":""},null,null,null,null,null,null,null,""]
[null,null,null,null,{"$f":"IF(D504=\"\",\"\",VLOOKUP(D504,CAD_AREA!$CB$13:$CD$113,3,FALSE))","v":""},null,null,null,null,null,null,null,""]
[null,null,null,null,{"$f":"IF(D505=\"\",\"\",VLOOKUP(D505,CAD_AREA!$CB$13:$CD$113,3,FALSE))","v":""},null,null,null,null,null,null,null,""]
[null,null,null,null,{"$f":"IF(D506=\"\",\"\",VLOOKUP(D506,CAD_AREA!$CB$13:$CD$113,3,FALSE))","v":""},null,null,null,null,null,null,null,""]
[null,null,null,null,{"$f":"IF(D507=\"\",\"\",VLOOKUP(D507,CAD_AREA!$CB$13:$CD$113,3,FALSE))","v":""},null,null,null,null,null,null,null,""]
[null,null,null,null,{"$f":"IF(D508=\"\",\"\",VLOOKUP(D508,CAD_AREA!$CB$13:$CD$113,3,FALSE))","v":""},null,null,null,null,null,null,null,""]
[null,null,null,null,{"$f":"IF(D509=\"\",\"\",VLOOKUP(D509,CAD_AREA!$CB$13:$CD$113,3,FALSE))","v":""},null,null,null,null,null,null,null,""]
[null,null,null,null,{"$f":"IF(D510=\"\",\"\",VLOOKUP(D510,CAD_AREA!$CB$13:$CD$113,3,FALSE))","v":""},null,null,null,null,null,null,null,""]
[null,null,null,null,{"$f":"IF(D511=\"\",\"\",VLOOKUP(D511,CAD_AREA!$CB$13:$CD$113,3,FALSE))","v":""},null,null,null,null,null,null,null,""]
[null,null,null,null,{"$f":"IF(D512=\"\",\"\",VLOOKUP(D512,CAD_AREA!$CB$13:$CD$113,3,FALSE))","v":""},null,null,null,null,null,null,null,""]
[null,null,null,null,{"$f":"IF(D513=\"\",\"\",VLOOKUP(D513,CAD_AREA!$CB$13:$CD$113,3,FALSE))","v":""},null,null,null,null,null,null,null,""]
[null,null,null,null,{"$f":"IF(D514=\"\",\"\",VLOOKUP(D514,CAD_AREA!$CB$13:$CD$113,3,FALSE))","v":""},null,null,null,null,null,null,null,""]
[null,null,null,null,{"$f":"IF(D515=\"\",\"\",VLOOKUP(D515,CAD_AREA!$CB$13:$CD$113,3,FALSE))","v":""},null,null,null,null,null,null,null,""]
[null,null,null,null,{"$f":"IF(D516=\"\",\"\",VLOOKUP(D516,CAD_AREA!$CB$13:$CD$113,3,FALSE))","v":""},null,null,null,null,null,null,null,""]
[null,null,null,null,{"$f":"IF(D517=\"\",\"\",VLOOKUP(D517,CAD_AREA!$CB$13:$CD$113,3,FALSE))","v":""},null,null,null,null,null,null,null,""]
[null,null,null,null,{"$f":"IF(D518=\"\",\"\",VLOOKUP(D518,CAD_AREA!$CB$13:$CD$113,3,FALSE))","v":""},null,null,null,null,null,null,null,""]
[null,null,null,null,{"$f":"IF(D519=\"\",\"\",VLOOKUP(D519,CAD_AREA!$CB$13:$CD$113,3,FALSE))","v":""},null,null,null,null,null,null,null,""]
[null,null,null,null,{"$f":"IF(D520=\"\",\"\",VLOOKUP(D520,CAD_AREA!$CB$13:$CD$113,3,FALSE))","v":""},null,null,null,null,null,null,null,""]
[null,null,null,null,{"$f":"IF(D521=\"\",\"\",VLOOKUP(D521,CAD_AREA!$CB$13:$CD$113,3,FALSE))","v":""},null,null,null,null,null,null,null,""]
[null,null,null,null,{"$f":"IF(D522=\"\",\"\",VLOOKUP(D522,CAD_AREA!$CB$13:$CD$113,3,FALSE))","v":""},null,null,null,null,null,null,null,""]
[null,null,null,null,{"$f":"IF(D523=\"\",\"\",VLOOKUP(D523,CAD_AREA!$CB$13:$CD$113,3,FALSE))","v":""},null,null,null,null,null,null,null,""]
[null,null,null,null,{"$f":"IF(D524=\"\",\"\",VLOOKUP(D524,CAD_AREA!$CB$13:$CD$113,3,FALSE))","v":""},null,null,null,null,null,null,null,""]
[null,null,null,null,{"$f":"IF(D525=\"\",\"\",VLOOKUP(D525,CAD_AREA!$CB$13:$CD$113,3,FALSE))","v":""},null,null,null,null,null,null,null,""]
[null,null,null,null,{"$f":"IF(D526=\"\",\"\",VLOOKUP(D526,CAD_AREA!$CB$13:$CD$113,3,FALSE))","v":""},null,null,null,null,null,null,null,{"$f":"IF(B526=\"\",\"\",VLOOKUP(MONTH(B526),$J$13:$K$24,2,FALSE))","v":""}]
[null,null,null,null,{"$f":"IF(D527=\"\",\"\",VLOOKUP(D527,CAD_AREA!$CB$13:$CD$113,3,FALSE))","v":""},null,null,null,null,null,null,null,""]
[null,null,null,null,{"$f":"IF(D528=\"\",\"\",VLOOKUP(D528,CAD_AREA!$CB$13:$CD$113,3,FALSE))","v":""},null,null,null,null,null,null,null,""]
[null,null,null,null,{"$f":"IF(D529=\"\",\"\",VLOOKUP(D529,CAD_AREA!$CB$13:$CD$113,3,FALSE))","v":""},null,null,null,null,null,null,null,""]
[null,null,null,null,{"$f":"IF(D530=\"\",\"\",VLOOKUP(D530,CAD_AREA!$CB$13:$CD$113,3,FALSE))","v":""},null,null,null,null,null,null,null,""]
[null,null,null,null,{"$f":"IF(D531=\"\",\"\",VLOOKUP(D531,CAD_AREA!$CB$13:$CD$113,3,FALSE))","v":""},null,null,null,null,null,null,null,""]
[null,null,null,null,{"$f":"IF(D532=\"\",\"\",VLOOKUP(D532,CAD_AREA!$CB$13:$CD$113,3,FALSE))","v":""},null,null,null,null,null,null,null,""]
[null,null,null,null,{"$f":"IF(D533=\"\",\"\",VLOOKUP(D533,CAD_AREA!$CB$13:$CD$113,3,FALSE))","v":""},null,null,null,null,null,null,null,""]
[null,null,null,null,{"$f":"IF(D534=\"\",\"\",VLOOKUP(D534,CAD_AREA!$CB$13:$CD$113,3,FALSE))","v":""},null,null,null,null,null,null,null,""]
[null,null,null,null,{"$f":"IF(D535=\"\",\"\",VLOOKUP(D535,CAD_AREA!$CB$13:$CD$113,3,FALSE))","v":""},null,null,null,null,null,null,null,""]
[null,null,null,null,{"$f":"IF(D536=\"\",\"\",VLOOKUP(D536,CAD_AREA!$CB$13:$CD$113,3,FALSE))","v":""},null,null,null,null,null,null,null,""]
[null,null,null,null,{"$f":"IF(D537=\"\",\"\",VLOOKUP(D537,CAD_AREA!$CB$13:$CD$113,3,FALSE))","v":""},null,null,null,null,null,null,null,""]
[null,null,null,null,{"$f":"IF(D538=\"\",\"\",VLOOKUP(D538,CAD_AREA!$CB$13:$CD$113,3,FALSE))","v":""},null,null,null,null,null,null,null,""]
[null,null,null,null,{"$f":"IF(D539=\"\",\"\",VLOOKUP(D539,CAD_AREA!$CB$13:$CD$113,3,FALSE))","v":""},null,null,null,null,null,null,null,""]
[null,null,null,null,{"$f":"IF(D540=\"\",\"\",VLOOKUP(D540,CAD_AREA!$CB$13:$CD$113,3,FALSE))","v":""},null,null,null,null,null,null,null,""]
[null,null,null,null,{"$f":"IF(D541=\"\",\"\",VLOOKUP(D541,CAD_AREA!$CB$13:$CD$113,3,FALSE))","v":""},null,null,null,null,null,null,null,""]
[null,null,null,null,{"$f":"IF(D542=\"\",\"\",VLOOKUP(D542,CAD_AREA!$CB$13:$CD$113,3,FALSE))","v":""},null,null,null,null,null,null,null,""]
[null,null,null,null,{"$f":"IF(D543=\"\",\"\",VLOOKUP(D543,CAD_AREA!$CB$13:$CD$113,3,FALSE))","v":""},null,null,null,null,null,null,null,""]
[null,null,null,null,{"$f":"IF(D544=\"\",\"\",VLOOKUP(D544,CAD_AREA!$CB$13:$CD$113,3,FALSE))","v":""},null,null,null,null,null,null,null,""]
[null,null,null,null,{"$f":"IF(D545=\"\",\"\",VLOOKUP(D545,CAD_AREA!$CB$13:$CD$113,3,FALSE))","v":""},null,null,null,null,null,null,null,""]
[null,null,null,null,{"$f":"IF(D546=\"\",\"\",VLOOKUP(D546,CAD_AREA!$CB$13:$CD$113,3,FALSE))","v":""},null,null,null,null,null,null,null,""]
[null,null,null,null,{"$f":"IF(D547=\"\",\"\",VLOOKUP(D547,CAD_AREA!$CB$13:$CD$113,3,FALSE))","v":""},null,null,null,null,null,null,null,""]
[null,null,null,null,{"$f":"IF(D548=\"\",\"\",VLOOKUP(D548,CAD_AREA!$CB$13:$CD$113,3,FALSE))","v":""},null,null,null,null,null,null,null,""]
[null,null,null,null,{"$f":"IF(D549=\"\",\"\",VLOOKUP(D549,CAD_AREA!$CB$13:$CD$113,3,FALSE))","v":""},null,null,null,null,null,null,null,""]
[null,null,null,null,{"$f":"IF(D550=\"\",\"\",VLOOKUP(D550,CAD_AREA!$CB$13:$CD$113,3,FALSE))","v":""},null,null,null,null,null,null,null,""]
[null,null,null,null,{"$f":"IF(D551=\"\",\"\",VLOOKUP(D551,CAD_AREA!$CB$13:$CD$113,3,FALSE))","v":""},null,null,null,null,null,null,null,""]
[null,null,null,null,{"$f":"IF(D552=\"\",\"\",VLOOKUP(D552,CAD_AREA!$CB$13:$CD$113,3,FALSE))","v":""},null,null,null,null,null,null,null,""]
[null,null,null,null,{"$f":"IF(D553=\"\",\"\",VLOOKUP(D553,CAD_AREA!$CB$13:$CD$113,3,FALSE))","v":""},null,null,null,null,null,null,null,""]
[null,null,null,null,{"$f":"IF(D554=\"\",\"\",VLOOKUP(D554,CAD_AREA!$CB$13:$CD$113,3,FALSE))","v":""},null,null,null,null,null,null,null,""]
[null,null,null,null,{"$f":"IF(D555=\"\",\"\",VLOOKUP(D555,CAD_AREA!$CB$13:$CD$113,3,FALSE))","v":""},null,null,null,null,null,null,null,""]
[null,null,null,null,{"$f":"IF(D556=\"\",\"\",VLOOKUP(D556,CAD_AREA!$CB$13:$CD$113,3,FALSE))","v":""},null,null,null,null,null,null,null,""]
[null,null,null,null,{"$f":"IF(D557=\"\",\"\",VLOOKUP(D557,CAD_AREA!$CB$13:$CD$113,3,FALSE))","v":""},null,null,null,null,null,null,null,""]
[null,null,null,null,{"$f":"IF(D558=\"\",\"\",VLOOKUP(D558,CAD_AREA!$CB$13:$CD$113,3,FALSE))","v":""},null,null,null,null,null,null,null,""]
[null,null,null,null,{"$f":"IF(D559=\"\",\"\",VLOOKUP(D559,CAD_AREA!$CB$13:$CD$113,3,FALSE))","v":""},null,null,null,null,null,null,null,""]
[null,null,null,null,{"$f":"IF(D560=\"\",\"\",VLOOKUP(D560,CAD_AREA!$CB$13:$CD$113,3,FALSE))","v":""},null,null,null,null,null,null,null,""]
[null,null,null,null,{"$f":"IF(D561=\"\",\"\",VLOOKUP(D561,CAD_AREA!$CB$13:$CD$113,3,FALSE))","v":""},null,null,null,null,null,null,null,""]
[null,null,null,null,{"$f":"IF(D562=\"\",\"\",VLOOKUP(D562,CAD_AREA!$CB$13:$CD$113,3,FALSE))","v":""},null,null,null,null,null,null,null,""]
[null,null,null,null,{"$f":"IF(D563=\"\",\"\",VLOOKUP(D563,CAD_AREA!$CB$13:$CD$113,3,FALSE))","v":""},null,null,null,null,null,null,null,""]
[null,null,null,null,{"$f":"IF(D564=\"\",\"\",VLOOKUP(D564,CAD_AREA!$CB$13:$CD$113,3,FALSE))","v":""},null,null,null,null,null,null,null,""]
[null,null,null,null,{"$f":"IF(D565=\"\",\"\",VLOOKUP(D565,CAD_AREA!$CB$13:$CD$113,3,FALSE))","v":""},null,null,null,null,null,null,null,""]
[null,null,null,null,{"$f":"IF(D566=\"\",\"\",VLOOKUP(D566,CAD_AREA!$CB$13:$CD$113,3,FALSE))","v":""},null,null,null,null,null,null,null,""]
[null,null,null,null,{"$f":"IF(D567=\"\",\"\",VLOOKUP(D567,CAD_AREA!$CB$13:$CD$113,3,FALSE))","v":""},null,null,null,null,null,null,null,""]
[null,null,null,null,{"$f":"IF(D568=\"\",\"\",VLOOKUP(D568,CAD_AREA!$CB$13:$CD$113,3,FALSE))","v":""},null,null,null,null,null,null,null,""]
[null,null,null,null,{"$f":"IF(D569=\"\",\"\",VLOOKUP(D569,CAD_AREA!$CB$13:$CD$113,3,FALSE))","v":""},null,null,null,null,null,null,null,""]
[null,null,null,null,{"$f":"IF(D570=\"\",\"\",VLOOKUP(D570,CAD_AREA!$CB$13:$CD$113,3,FALSE))","v":""},null,null,null,null,null,null,null,""]
[null,null,null,null,{"$f":"IF(D571=\"\",\"\",VLOOKUP(D571,CAD_AREA!$CB$13:$CD$113,3,FALSE))","v":""},null,null,null,null,null,null,null,""]
[null,null,null,null,{"$f":"IF(D572=\"\",\"\",VLOOKUP(D572,CAD_AREA!$CB$13:$CD$113,3,FALSE))","v":""},null,null,null,null,null,null,null,""]
[null,null,null,null,{"$f":"IF(D573=\"\",\"\",VLOOKUP(D573,CAD_AREA!$CB$13:$CD$113,3,FALSE))","v":""},null,null,null,null,null,null,null,""]
[null,null,null,null,{"$f":"IF(D574=\"\",\"\",VLOOKUP(D574,CAD_AREA!$CB$13:$CD$113,3,FALSE))","v":""},null,null,null,null,null,null,null,""]
[null,null,null,null,{"$f":"IF(D575=\"\",\"\",VLOOKUP(D575,CAD_AREA!$CB$13:$CD$113,3,FALSE))","v":""},null,null,null,null,null,null,null,""]
[null,null,null,null,{"$f":"IF(D576=\"\",\"\",VLOOKUP(D576,CAD_AREA!$CB$13:$CD$113,3,FALSE))","v":""},null,null,null,null,null,null,null,""]
[null,null,null,null,{"$f":"IF(D577=\"\",\"\",VLOOKUP(D577,CAD_AREA!$CB$13:$CD$113,3,FALSE))","v":""},null,null,null,null,null,null,null,""]
[null,null,null,null,{"$f":"IF(D578=\"\",\"\",VLOOKUP(D578,CAD_AREA!$CB$13:$CD$113,3,FALSE))","v":""},null,null,null,null,null,null,null,""]
[null,null,null,null,{"$f":"IF(D579=\"\",\"\",VLOOKUP(D579,CAD_AREA!$CB$13:$CD$113,3,FALSE))","v":""},null,null,null,null,null,null,null,""]
[null,null,null,null,{"$f":"IF(D580=\"\",\"\",VLOOKUP(D580,CAD_AREA!$CB$13:$CD$113,3,FALSE))","v":""},null,null,null,null,null,null,null,""]
[null,null,null,null,{"$f":"IF(D581=\"\",\"\",VLOOKUP(D581,CAD_AREA!$CB$13:$CD$113,3,FALSE))","v":""},null,null,null,null,null,null,null,""]
[null,null,null,null,{"$f":"IF(D582=\"\",\"\",VLOOKUP(D582,CAD_AREA!$CB$13:$CD$113,3,FALSE))","v":""},null,null,null,null,null,null,null,""]
[null,null,null,null,{"$f":"IF(D583=\"\",\"\",VLOOKUP(D583,CAD_AREA!$CB$13:$CD$113,3,FALSE))","v":""},null,null,null,null,null,null,null,""]
[null,null,null,null,{"$f":"IF(D584=\"\",\"\",VLOOKUP(D584,CAD_AREA!$CB$13:$CD$113,3,FALSE))","v":""},null,null,null,null,null,null,null,""]
[null,null,null,null,{"$f":"IF(D585=\"\",\"\",VLOOKUP(D585,CAD_AREA!$CB$13:$CD$113,3,FALSE))","v":""},null,null,null,null,null,null,null,""]
[null,null,null,null,{"$f":"IF(D586=\"\",\"\",VLOOKUP(D586,CAD_AREA!$CB$13:$CD$113,3,FALSE))","v":""},null,null,null,null,null,null,null,""]
[null,null,null,null,{"$f":"IF(D587=\"\",\"\",VLOOKUP(D587,CAD_AREA!$CB$13:$CD$113,3,FALSE))","v":""},null,null,null,null,null,null,null,""]
[null,null,null,null,{"$f":"IF(D588=\"\",\"\",VLOOKUP(D588,CAD_AREA!$CB$13:$CD$113,3,FALSE))","v":""},null,null,null,null,null,null,null,""]
[null,null,null,null,{"$f":"IF(D589=\"\",\"\",VLOOKUP(D589,CAD_AREA!$CB$13:$CD$113,3,FALSE))","v":""},null,null,null,null,null,null,null,""]
[null,null,null,null,{"$f":"IF(D590=\"\",\"\",VLOOKUP(D590,CAD_AREA!$CB$13:$CD$113,3,FALSE))","v":""},null,null,null,null,null,null,null,{"$f":"IF(B590=\"\",\"\",VLOOKUP(MONTH(B590),$J$13:$K$24,2,FALSE))","v":""}]
[null,null,null,null,{"$f":"IF(D591=\"\",\"\",VLOOKUP(D591,CAD_AREA!$CB$13:$CD$113,3,FALSE))","v":""},null,null,null,null,null,null,null,""]
[null,null,null,null,{"$f":"IF(D592=\"\",\"\",VLOOKUP(D592,CAD_AREA!$CB$13:$CD$113,3,FALSE))","v":""},null,null,null,null,null,null,null,""]
[null,null,null,null,{"$f":"IF(D593=\"\",\"\",VLOOKUP(D593,CAD_AREA!$CB$13:$CD$113,3,FALSE))","v":""},null,null,null,null,null,null,null,""]
[null,null,null,null,{"$f":"IF(D594=\"\",\"\",VLOOKUP(D594,CAD_AREA!$CB$13:$CD$113,3,FALSE))","v":""},null,null,null,null,null,null,null,""]
[null,null,null,null,{"$f":"IF(D595=\"\",\"\",VLOOKUP(D595,CAD_AREA!$CB$13:$CD$113,3,FALSE))","v":""},null,null,null,null,null,null,null,""]
[null,null,null,null,{"$f":"IF(D596=\"\",\"\",VLOOKUP(D596,CAD_AREA!$CB$13:$CD$113,3,FALSE))","v":""},null,null,null,null,null,null,null,""]
[null,null,null,null,{"$f":"IF(D597=\"\",\"\",VLOOKUP(D597,CAD_AREA!$CB$13:$CD$113,3,FALSE))","v":""},null,null,null,null,null,null,null,""]
[null,null,null,null,{"$f":"IF(D598=\"\",\"\",VLOOKUP(D598,CAD_AREA!$CB$13:$CD$113,3,FALSE))","v":""},null,null,null,null,null,null,null,""]
[null,null,null,null,{"$f":"IF(D599=\"\",\"\",VLOOKUP(D599,CAD_AREA!$CB$13:$CD$113,3,FALSE))","v":""},null,null,null,null,null,null,null,""]
[null,null,null,null,{"$f":"IF(D600=\"\",\"\",VLOOKUP(D600,CAD_AREA!$CB$13:$CD$113,3,FALSE))","v":""},null,null,null,null,null,null,null,""]
[null,null,null,null,{"$f":"IF(D601=\"\",\"\",VLOOKUP(D601,CAD_AREA!$CB$13:$CD$113,3,FALSE))","v":""},null,null,null,null,null,null,null,""]
[null,null,null,null,{"$f":"IF(D602=\"\",\"\",VLOOKUP(D602,CAD_AREA!$CB$13:$CD$113,3,FALSE))","v":""},null,null,null,null,null,null,null,""]
[null,null,null,null,{"$f":"IF(D603=\"\",\"\",VLOOKUP(D603,CAD_AREA!$CB$13:$CD$113,3,FALSE))","v":""},null,null,null,null,null,null,null,""]
[null,null,null,null,{"$f":"IF(D604=\"\",\"\",VLOOKUP(D604,CAD_AREA!$CB$13:$CD$113,3,FALSE))","v":""},null,null,null,null,null,null,null,""]
[null,null,null,null,{"$f":"IF(D605=\"\",\"\",VLOOKUP(D605,CAD_AREA!$CB$13:$CD$113,3,FALSE))","v":""},null,null,null,null,null,null,null,""]
[null,null,null,null,{"$f":"IF(D606=\"\",\"\",VLOOKUP(D606,CAD_AREA!$CB$13:$CD$113,3,FALSE))","v":""},null,null,null,null,null,null,null,""]
[null,null,null,null,{"$f":"IF(D607=\"\",\"\",VLOOKUP(D607,CAD_AREA!$CB$13:$CD$113,3,FALSE))","v":""},null,null,null,null,null,null,null,""]
[null,null,null,null,{"$f":"IF(D608=\"\",\"\",VLOOKUP(D608,CAD_AREA!$CB$13:$CD$113,3,FALSE))","v":""},null,null,null,null,null,null,null,""]
[null,null,null,null,{"$f":"IF(D609=\"\",\"\",VLOOKUP(D609,CAD_AREA!$CB$13:$CD$113,3,FALSE))","v":""},null,null,null,null,null,null,null,""]
[null,null,null,null,{"$f":"IF(D610=\"\",\"\",VLOOKUP(D610,CAD_AREA!$CB$13:$CD$113,3,FALSE))","v":""},null,null,null,null,null,null,null,""]
[null,null,null,null,{"$f":"IF(D611=\"\",\"\",VLOOKUP(D611,CAD_AREA!$CB$13:$CD$113,3,FALSE))","v":""},null,null,null,null,null,null,null,""]
[null,null,null,null,{"$f":"IF(D612=\"\",\"\",VLOOKUP(D612,CAD_AREA!$CB$13:$CD$113,3,FALSE))","v":""},null,null,null,null,null,null,null,""]
[null,null,null,null,{"$f":"IF(D613=\"\",\"\",VLOOKUP(D613,CAD_AREA!$CB$13:$CD$113,3,FALSE))","v":""},null,null,null,null,null,null,null,""]
[null,null,null,null,{"$f":"IF(D614=\"\",\"\",VLOOKUP(D614,CAD_AREA!$CB$13:$CD$113,3,FALSE))","v":""},null,null,null,null,null,null,null,""]
[null,null,null,null,{"$f":"IF(D615=\"\",\"\",VLOOKUP(D615,CAD_AREA!$CB$13:$CD$113,3,FALSE))","v":""},null,null,null,null,null,null,null,""]
[null,null,null,null,{"$f":"IF(D616=\"\",\"\",VLOOKUP(D616,CAD_AREA!$CB$13:$CD$113,3,FALSE))","v":""},null,null,null,null,null,null,null,""]
[null,null,null,null,{"$f":"IF(D617=\"\",\"\",VLOOKUP(D617,CAD_AREA!$CB$13:$CD$113,3,FALSE))","v":""},null,null,null,null,null,null,null,""]
[null,null,null,null,{"$f":"IF(D618=\"\",\"\",VLOOKUP(D618,CAD_AREA!$CB$13:$CD$113,3,FALSE))","v":""},null,null,null,null,null,null,null,""]
[null,null,null,null,{"$f":"IF(D619=\"\",\"\",VLOOKUP(D619,CAD_AREA!$CB$13:$CD$113,3,FALSE))","v":""},null,null,null,null,null,null,null,""]
[null,null,null,null,{"$f":"IF(D620=\"\",\"\",VLOOKUP(D620,CAD_AREA!$CB$13:$CD$113,3,FALSE))","v":""},null,null,null,null,null,null,null,""]
[null,null,null,null,{"$f":"IF(D621=\"\",\"\",VLOOKUP(D621,CAD_AREA!$CB$13:$CD$113,3,FALSE))","v":""},null,null,null,null,null,null,null,""]
[null,null,null,null,{"$f":"IF(D622=\"\",\"\",VLOOKUP(D622,CAD_AREA!$CB$13:$CD$113,3,FALSE))","v":""},null,null,null,null,null,null,null,""]
[null,null,null,null,{"$f":"IF(D623=\"\",\"\",VLOOKUP(D623,CAD_AREA!$CB$13:$CD$113,3,FALSE))","v":""},null,null,null,null,null,null,null,""]
[null,null,null,null,{"$f":"IF(D624=\"\",\"\",VLOOKUP(D624,CAD_AREA!$CB$13:$CD$113,3,FALSE))","v":""},null,null,null,null,null,null,null,""]
[null,null,null,null,{"$f":"IF(D625=\"\",\"\",VLOOKUP(D625,CAD_AREA!$CB$13:$CD$113,3,FALSE))","v":""},null,null,null,null,null,null,null,""]
[null,null,null,null,{"$f":"IF(D626=\"\",\"\",VLOOKUP(D626,CAD_AREA!$CB$13:$CD$113,3,FALSE))","v":""},null,null,null,null,null,null,null,""]
[null,null,null,null,{"$f":"IF(D627=\"\",\"\",VLOOKUP(D627,CAD_AREA!$CB$13:$CD$113,3,FALSE))","v":""},null,null,null,null,null,null,null,""]
[null,null,null,null,{"$f":"IF(D628=\"\",\"\",VLOOKUP(D628,CAD_AREA!$CB$13:$CD$113,3,FALSE))","v":""},null,null,null,null,null,null,null,""]
[null,null,null,null,{"$f":"IF(D629=\"\",\"\",VLOOKUP(D629,CAD_AREA!$CB$13:$CD$113,3,FALSE))","v":""},null,null,null,null,null,null,null,""]
[null,null,null,null,{"$f":"IF(D630=\"\",\"\",VLOOKUP(D630,CAD_AREA!$CB$13:$CD$113,3,FALSE))","v":""},null,null,null,null,null,null,null,""]
[null,null,null,null,{"$f":"IF(D631=\"\",\"\",VLOOKUP(D631,CAD_AREA!$CB$13:$CD$113,3,FALSE))","v":""},null,null,null,null,null,null,null,""]
[null,null,null,null,{"$f":"IF(D632=\"\",\"\",VLOOKUP(D632,CAD_AREA!$CB$13:$CD$113,3,FALSE))","v":""},null,null,null,null,null,null,null,""]
[null,null,null,null,{"$f":"IF(D633=\"\",\"\",VLOOKUP(D633,CAD_AREA!$CB$13:$CD$113,3,FALSE))","v":""},null,null,null,null,null,null,null,""]
[null,null,null,null,{"$f":"IF(D634=\"\",\"\",VLOOKUP(D634,CAD_AREA!$CB$13:$CD$113,3,FALSE))","v":""},null,null,null,null,null,null,null,""]
[null,null,null,null,{"$f":"IF(D635=\"\",\"\",VLOOKUP(D635,CAD_AREA!$CB$13:$CD$113,3,FALSE))","v":""},null,null,null,null,null,null,null,""]
[null,null,null,null,{"$f":"IF(D636=\"\",\"\",VLOOKUP(D636,CAD_AREA!$CB$13:$CD$113,3,FALSE))","v":""},null,null,null,null,null,null,null,""]
[null,null,null,null,{"$f":"IF(D637=\"\",\"\",VLOOKUP(D637,CAD_AREA!$CB$13:$CD$113,3,FALSE))","v":""},null,null,null,null,null,null,null,""]
[null,null,null,null,{"$f":"IF(D638=\"\",\"\",VLOOKUP(D638,CAD_AREA!$CB$13:$CD$113,3,FALSE))","v":""},null,null,null,null,null,null,null,""]
[null,null,null,null,{"$f":"IF(D639=\"\",\"\",VLOOKUP(D639,CAD_AREA!$CB$13:$CD$113,3,FALSE))","v":""},null,null,null,null,null,null,null,""]
[null,null,null,null,{"$f":"IF(D640=\"\",\"\",VLOOKUP(D640,CAD_AREA!$CB$13:$CD$113,3,FALSE))","v":""},null,null,null,null,null,null,null,""]
[null,null,null,null,{"$f":"IF(D641=\"\",\"\",VLOOKUP(D641,CAD_AREA!$CB$13:$CD$113,3,FALSE))","v":""},null,null,null,null,null,null,null,""]
[null,null,null,null,{"$f":"IF(D642=\"\",\"\",VLOOKUP(D642,CAD_AREA!$CB$13:$CD$113,3,FALSE))","v":""},null,null,null,null,null,null,null,""]
[null,null,null,null,{"$f":"IF(D643=\"\",\"\",VLOOKUP(D643,CAD_AREA!$CB$13:$CD$113,3,FALSE))","v":""},null,null,null,null,null,null,null,""]
[null,null,null,null,{"$f":"IF(D644=\"\",\"\",VLOOKUP(D644,CAD_AREA!$CB$13:$CD$113,3,FALSE))","v":""},null,null,null,null,null,null,null,""]
[null,null,null,null,{"$f":"IF(D645=\"\",\"\",VLOOKUP(D645,CAD_AREA!$CB$13:$CD$113,3,FALSE))","v":""},null,null,null,null,null,null,null,""]
[null,null,null,null,{"$f":"IF(D646=\"\",\"\",VLOOKUP(D646,CAD_AREA!$CB$13:$CD$113,3,FALSE))","v":""},null,null,null,null,null,null,null,""]
[null,null,null,null,{"$f":"IF(D647=\"\",\"\",VLOOKUP(D647,CAD_AREA!$CB$13:$CD$113,3,FALSE))","v":""},null,null,null,null,null,null,null,""]
[null,null,null,null,{"$f":"IF(D648=\"\",\"\",VLOOKUP(D648,CAD_AREA!$CB$13:$CD$113,3,FALSE))","v":""},null,null,null,null,null,null,null,""]
[null,null,null,null,{"$f":"IF(D649=\"\",\"\",VLOOKUP(D649,CAD_AREA!$CB$13:$CD$113,3,FALSE))","v":""},null,null,null,null,null,null,null,""]
[null,null,null,null,{"$f":"IF(D650=\"\",\"\",VLOOKUP(D650,CAD_AREA!$CB$13:$CD$113,3,FALSE))","v":""},null,null,null,null,null,null,null,""]
[null,null,null,null,{"$f":"IF(D651=\"\",\"\",VLOOKUP(D651,CAD_AREA!$CB$13:$CD$113,3,FALSE))","v":""},null,null,null,null,null,null,null,""]
[null,null,null,null,{"$f":"IF(D652=\"\",\"\",VLOOKUP(D652,CAD_AREA!$CB$13:$CD$113,3,FALSE))","v":""},null,null,null,null,null,null,null,""]
[null,null,null,null,{"$f":"IF(D653=\"\",\"\",VLOOKUP(D653,CAD_AREA!$CB$13:$CD$113,3,FALSE))","v":""},null,null,null,null,null,null,null,""]
[null,null,null,null,{"$f":"IF(D654=\"\",\"\",VLOOKUP(D654,CAD_AREA!$CB$13:$CD$113,3,FALSE))","v":""},null,null,null,null,null,null,null,{"$f":"IF(B654=\"\",\"\",VLOOKUP(MONTH(B654),$J$13:$K$24,2,FALSE))","v":""}]
[null,null,null,null,{"$f":"IF(D655=\"\",\"\",VLOOKUP(D655,CAD_AREA!$CB$13:$CD$113,3,FALSE))","v":""},null,null,null,null,null,null,null,""]
[null,null,null,null,{"$f":"IF(D656=\"\",\"\",VLOOKUP(D656,CAD_AREA!$CB$13:$CD$113,3,FALSE))","v":""},null,null,null,null,null,null,null,""]
[null,null,null,null,{"$f":"IF(D657=\"\",\"\",VLOOKUP(D657,CAD_AREA!$CB$13:$CD$113,3,FALSE))","v":""},null,null,null,null,null,null,null,""]
[null,null,null,null,{"$f":"IF(D658=\"\",\"\",VLOOKUP(D658,CAD_AREA!$CB$13:$CD$113,3,FALSE))","v":""},null,null,null,null,null,null,null,""]
[null,null,null,null,{"$f":"IF(D659=\"\",\"\",VLOOKUP(D659,CAD_AREA!$CB$13:$CD$113,3,FALSE))","v":""},null,null,null,null,null,null,null,""]
[null,null,null,null,{"$f":"IF(D660=\"\",\"\",VLOOKUP(D660,CAD_AREA!$CB$13:$CD$113,3,FALSE))","v":""},null,null,null,null,null,null,null,""]
[null,null,null,null,{"$f":"IF(D661=\"\",\"\",VLOOKUP(D661,CAD_AREA!$CB$13:$CD$113,3,FALSE))","v":""},null,null,null,null,null,null,null,""]
[null,null,null,null,{"$f":"IF(D662=\"\",\"\",VLOOKUP(D662,CAD_AREA!$CB$13:$CD$113,3,FALSE))","v":""},null,null,null,null,null,null,null,""]
[null,null,null,null,{"$f":"IF(D663=\"\",\"\",VLOOKUP(D663,CAD_AREA!$CB$13:$CD$113,3,FALSE))","v":""},null,null,null,null,null,null,null,""]
[null,null,null,null,{"$f":"IF(D664=\"\",\"\",VLOOKUP(D664,CAD_AREA!$CB$13:$CD$113,3,FALSE))","v":""},null,null,null,null,null,null,null,""]
[null,null,null,null,{"$f":"IF(D665=\"\",\"\",VLOOKUP(D665,CAD_AREA!$CB$13:$CD$113,3,FALSE))","v":""},null,null,null,null,null,null,null,""]
[null,null,null,null,{"$f":"IF(D666=\"\",\"\",VLOOKUP(D666,CAD_AREA!$CB$13:$CD$113,3,FALSE))","v":""},null,null,null,null,null,null,null,""]
[null,null,null,null,{"$f":"IF(D667=\"\",\"\",VLOOKUP(D667,CAD_AREA!$CB$13:$CD$113,3,FALSE))","v":""},null,null,null,null,null,null,null,""]
[null,null,null,null,{"$f":"IF(D668=\"\",\"\",VLOOKUP(D668,CAD_AREA!$CB$13:$CD$113,3,FALSE))","v":""},null,null,null,null,null,null,null,""]
[null,null,null,null,{"$f":"IF(D669=\"\",\"\",VLOOKUP(D669,CAD_AREA!$CB$13:$CD$113,3,FALSE))","v":""},null,null,null,null,null,null,null,""]
[null,null,null,null,{"$f":"IF(D670=\"\",\"\",VLOOKUP(D670,CAD_AREA!$CB$13:$CD$113,3,FALSE))","v":""},null,null,null,null,null,null,null,""]
[null,null,null,null,{"$f":"IF(D671=\"\",\"\",VLOOKUP(D671,CAD_AREA!$CB$13:$CD$113,3,FALSE))","v":""},null,null,null,null,null,null,null,""]
[null,null,null,null,{"$f":"IF(D672=\"\",\"\",VLOOKUP(D672,CAD_AREA!$CB$13:$CD$113,3,FALSE))","v":""},null,null,null,null,null,null,null,""]
[null,null,null,null,{"$f":"IF(D673=\"\",\"\",VLOOKUP(D673,CAD_AREA!$CB$13:$CD$113,3,FALSE))","v":""},null,null,null,null,null,null,null,""]
[null,null,null,null,{"$f":"IF(D674=\"\",\"\",VLOOKUP(D674,CAD_AREA!$CB$13:$CD$113,3,FALSE))","v":""},null,null,null,null,null,null,null,""]
[null,null,null,null,{"$f":"IF(D675=\"\",\"\",VLOOKUP(D675,CAD_AREA!$CB$13:$CD$113,3,FALSE))","v":""},null,null,null,null,null,null,null,""]
[null,null,null,null,{"$f":"IF(D676=\"\",\"\",VLOOKUP(D676,CAD_AREA!$CB$13:$CD$113,3,FALSE))","v":""},null,null,null,null,null,null,null,""]
[null,null,null,null,{"$f":"IF(D677=\"\",\"\",VLOOKUP(D677,CAD_AREA!$CB$13:$CD$113,3,FALSE))","v":""},null,null,null,null,null,null,null,""]
[null,null,null,null,{"$f":"IF(D678=\"\",\"\",VLOOKUP(D678,CAD_AREA!$CB$13:$CD$113,3,FALSE))","v":""},null,null,null,null,null,null,null,""]
[null,null,null,null,{"$f":"IF(D679=\"\",\"\",VLOOKUP(D679,CAD_AREA!$CB$13:$CD$113,3,FALSE))","v":""},null,null,null,null,null,null,null,""]
[null,null,null,null,{"$f":"IF(D680=\"\",\"\",VLOOKUP(D680,CAD_AREA!$CB$13:$CD$113,3,FALSE))","v":""},null,null,null,null,null,null,null,""]
[null,null,null,null,{"$f":"IF(D681=\"\",\"\",VLOOKUP(D681,CAD_AREA!$CB$13:$CD$113,3,FALSE))","v":""},null,null,null,null,null,null,null,""]
[null,null,null,null,{"$f":"IF(D682=\"\",\"\",VLOOKUP(D682,CAD_AREA!$CB$13:$CD$113,3,FALSE))","v":""},null,null,null,null,null,null,null,""]
[null,null,null,null,{"$f":"IF(D683=\"\",\"\",VLOOKUP(D683,CAD_AREA!$CB$13:$CD$113,3,FALSE))","v":""},null,null,null,null,null,null,null,""]
[null,null,null,null,{"$f":"IF(D684=\"\",\"\",VLOOKUP(D684,CAD_AREA!$CB$13:$CD$113,3,FALSE))","v":""},null,null,null,null,null,null,null,""]
[null,null,null,null,{"$f":"IF(D685=\"\",\"\",VLOOKUP(D685,CAD_AREA!$CB$13:$CD$113,3,FALSE))","v":""},null,null,null,null,null,null,null,""]
[null,null,null,null,{"$f":"IF(D686=\"\",\"\",VLOOKUP(D686,CAD_AREA!$CB$13:$CD$113,3,FALSE))","v":""},null,null,null,null,null,null,null,""]
[null,null,null,null,{"$f":"IF(D687=\"\",\"\",VLOOKUP(D687,CAD_AREA!$CB$13:$CD$113,3,FALSE))","v":""},null,null,null,null,null,null,null,""]
[null,null,null,null,{"$f":"IF(D688=\"\",\"\",VLOOKUP(D688,CAD_AREA!$CB$13:$CD$113,3,FALSE))","v":""},null,null,null,null,null,null,null,""]
[null,null,null,null,{"$f":"IF(D689=\"\",\"\",VLOOKUP(D689,CAD_AREA!$CB$13:$CD$113,3,FALSE))","v":""},null,null,null,null,null,null,null,""]
[null,null,null,null,{"$f":"IF(D690=\"\",\"\",VLOOKUP(D690,CAD_AREA!$CB$13:$CD$113,3,FALSE))","v":""},null,null,null,null,null,null,null,""]
[null,null,null,null,{"$f":"IF(D691=\"\",\"\",VLOOKUP(D691,CAD_AREA!$CB$13:$CD$113,3,FALSE))","v":""},null,null,null,null,null,null,null,""]
[null,null,null,null,{"$f":"IF(D692=\"\",\"\",VLOOKUP(D692,CAD_AREA!$CB$13:$CD$113,3,FALSE))","v":""},null,null,null,null,null,null,null,""]
[null,null,null,null,{"$f":"IF(D693=\"\",\"\",VLOOKUP(D693,CAD_AREA!$CB$13:$CD$113,3,FALSE))","v":""},null,null,null,null,null,null,null,""]
[null,null,null,null,{"$f":"IF(D694=\"\",\"\",VLOOKUP(D694,CAD_AREA!$CB$13:$CD$113,3,FALSE))","v":""},null,null,null,null,null,null,null,""]
[null,null,null,null,{"$f":"IF(D695=\"\",\"\",VLOOKUP(D695,CAD_AREA!$CB$13:$CD$113,3,FALSE))","v":""},null,null,null,null,null,null,null,""]
[null,null,null,null,{"$f":"IF(D696=\"\",\"\",VLOOKUP(D696,CAD_AREA!$CB$13:$CD$113,3,FALSE))","v":""},null,null,null,null,null,null,null,""]
[null,null,null,null,{"$f":"IF(D697=\"\",\"\",VLOOKUP(D697,CAD_AREA!$CB$13:$CD$113,3,FALSE))","v":""},null,null,null,null,null,null,null,""]
[null,null,null,null,{"$f":"IF(D698=\"\",\"\",VLOOKUP(D698,CAD_AREA!$CB$13:$CD$113,3,FALSE))","v":""},null,null,null,null,null,null,null,""]
[null,null,null,null,{"$f":"IF(D699=\"\",\"\",VLOOKUP(D699,CAD_AREA!$CB$13:$CD$113,3,FALSE))","v":""},null,null,null,null,null,null,null,""]
[null,null,null,null,{"$f":"IF(D700=\"\",\"\",VLOOKUP(D700,CAD_AREA!$CB$13:$CD$113,3,FALSE))","v":""},null,null,null,null,null,null,null,""]
[null,null,null,null,{"$f":"IF(D701=\"\",\"\",VLOOKUP(D701,CAD_AREA!$CB$13:$CD$113,3,FALSE))","v":""},null,null,null,null,null,null,null,""]
[null,null,null,null,{"$f":"IF(D702=\"\",\"\",VLOOKUP(D702,CAD_AREA!$CB$13:$CD$113,3,FALSE))","v":""},null,null,null,null,null,null,null,""]
[null,null,null,null,{"$f":"IF(D703=\"\",\"\",VLOOKUP(D703,CAD_AREA!$CB$13:$CD$113,3,FALSE))","v":""},null,null,null,null,null,null,null,""]
[null,null,null,null,{"$f":"IF(D704=\"\",\"\",VLOOKUP(D704,CAD_AREA!$CB$13:$CD$113,3,FALSE))","v":""},null,null,null,null,null,null,null,""]
[null,null,null,null,{"$f":"IF(D705=\"\",\"\",VLOOKUP(D705,CAD_AREA!$CB$13:$CD$113,3,FALSE))","v":""},null,null,null,null,null,null,null,""]
[null,null,null,null,{"$f":"IF(D706=\"\",\"\",VLOOKUP(D706,CAD_AREA!$CB$13:$CD$113,3,FALSE))","v":""},null,null,null,null,null,null,null,""]
[null,null,null,null,{"$f":"IF(D707=\"\",\"\",VLOOKUP(D707,CAD_AREA!$CB$13:$CD$113,3,FALSE))","v":""},null,null,null,null,null,null,null,""]
[null,null,null,null,{"$f":"IF(D708=\"\",\"\",VLOOKUP(D708,CAD_AREA!$CB$13:$CD$113,3,FALSE))","v":""},null,null,null,null,null,null,null,""]
[null,null,null,null,{"$f":"IF(D709=\"\",\"\",VLOOKUP(D709,CAD_AREA!$CB$13:$CD$113,3,FALSE))","v":""},null,null,null,null,null,null,null,""]
[null,null,null,null,{"$f":"IF(D710=\"\",\"\",VLOOKUP(D710,CAD_AREA!$CB$13:$CD$113,3,FALSE))","v":""},null,null,null,null,null,null,null,""]
[null,null,null,null,{"$f":"IF(D711=\"\",\"\",VLOOKUP(D711,CAD_AREA!$CB$13:$CD$113,3,FALSE))","v":""},null,null,null,null,null,null,null,""]
[null,null,null,null,{"$f":"IF(D712=\"\",\"\",VLOOKUP(D712,CAD_AREA!$CB$13:$CD$113,3,FALSE))","v":""},null,null,null,null,null,null,null,""]
[null,null,null,null,{"$f":"IF(D713=\"\",\"\",VLOOKUP(D713,CAD_AREA!$CB$13:$CD$113,3,FALSE))","v":""},null,null,null,null,null,null,null,""]
[null,null,null,null,{"$f":"IF(D714=\"\",\"\",VLOOKUP(D714,CAD_AREA!$CB$13:$CD$113,3,FALSE))","v":""},null,null,null,null,null,null,null,""]
[null,null,null,null,{"$f":"IF(D715=\"\",\"\",VLOOKUP(D715,CAD_AREA!$CB$13:$CD$113,3,FALSE))","v":""},null,null,null,null,null,null,null,""]
[null,null,null,null,{"$f":"IF(D716=\"\",\"\",VLOOKUP(D716,CAD_AREA!$CB$13:$CD$113,3,FALSE))","v":""},null,null,null,null,null,null,null,""]
[null,null,null,null,{"$f":"IF(D717=\"\",\"\",VLOOKUP(D717,CAD_AREA!$CB$13:$CD$113,3,FALSE))","v":""},null,null,null,null,null,null,null,""]
[null,null,null,null,{"$f":"IF(D718=\"\",\"\",VLOOKUP(D718,CAD_AREA!$CB$13:$CD$113,3,FALSE))","v":""},null,null,null,null,null,null,null,{"$f":"IF(B718=\"\",\"\",VLOOKUP(MONTH(B718),$J$13:$K$24,2,FALSE))","v":""}]
[null,null,null,null,{"$f":"IF(D719=\"\",\"\",VLOOKUP(D719,CAD_AREA!$CB$13:$CD$113,3,FALSE))","v":""},null,null,null,null,null,null,null,""]
[null,null,null,null,{"$f":"IF(D720=\"\",\"\",VLOOKUP(D720,CAD_AREA!$CB$13:$CD$113,3,FALSE))","v":""},null,null,null,null,null,null,null,""]
[null,null,null,null,{"$f":"IF(D721=\"\",\"\",VLOOKUP(D721,CAD_AREA!$CB$13:$CD$113,3,FALSE))","v":""},null,null,null,null,null,null,null,""]
[null,null,null,null,{"$f":"IF(D722=\"\",\"\",VLOOKUP(D722,CAD_AREA!$CB$13:$CD$113,3,FALSE))","v":""},null,null,null,null,null,null,null,""]
[null,null,null,null,{"$f":"IF(D723=\"\",\"\",VLOOKUP(D723,CAD_AREA!$CB$13:$CD$113,3,FALSE))","v":""},null,null,null,null,null,null,null,""]
[null,null,null,null,{"$f":"IF(D724=\"\",\"\",VLOOKUP(D724,CAD_AREA!$CB$13:$CD$113,3,FALSE))","v":""},null,null,null,null,null,null,null,""]
[null,null,null,null,{"$f":"IF(D725=\"\",\"\",VLOOKUP(D725,CAD_AREA!$CB$13:$CD$113,3,FALSE))","v":""},null,null,null,null,null,null,null,""]
[null,null,null,null,{"$f":"IF(D726=\"\",\"\",VLOOKUP(D726,CAD_AREA!$CB$13:$CD$113,3,FALSE))","v":""},null,null,null,null,null,null,null,""]
[null,null,null,null,{"$f":"IF(D727=\"\",\"\",VLOOKUP(D727,CAD_AREA!$CB$13:$CD$113,3,FALSE))","v":""},null,null,null,null,null,null,null,""]
[null,null,null,null,{"$f":"IF(D728=\"\",\"\",VLOOKUP(D728,CAD_AREA!$CB$13:$CD$113,3,FALSE))","v":""},null,null,null,null,null,null,null,""]
[null,null,null,null,{"$f":"IF(D729=\"\",\"\",VLOOKUP(D729,CAD_AREA!$CB$13:$CD$113,3,FALSE))","v":""},null,null,null,null,null,null,null,""]
[null,null,null,null,{"$f":"IF(D730=\"\",\"\",VLOOKUP(D730,CAD_AREA!$CB$13:$CD$113,3,FALSE))","v":""},null,null,null,null,null,null,null,""]
[null,null,null,null,{"$f":"IF(D731=\"\",\"\",VLOOKUP(D731,CAD_AREA!$CB$13:$CD$113,3,FALSE))","v":""},null,null,null,null,null,null,null,""]
[null,null,null,null,{"$f":"IF(D732=\"\",\"\",VLOOKUP(D732,CAD_AREA!$CB$13:$CD$113,3,FALSE))","v":""},null,null,null,null,null,null,null,""]
[null,null,null,null,{"$f":"IF(D733=\"\",\"\",VLOOKUP(D733,CAD_AREA!$CB$13:$CD$113,3,FALSE))","v":""},null,null,null,null,null,null,null,""]
[null,null,null,null,{"$f":"IF(D734=\"\",\"\",VLOOKUP(D734,CAD_AREA!$CB$13:$CD$113,3,FALSE))","v":""},null,null,null,null,null,null,null,""]
[null,null,null,null,{"$f":"IF(D735=\"\",\"\",VLOOKUP(D735,CAD_AREA!$CB$13:$CD$113,3,FALSE))","v":""},null,null,null,null,null,null,null,""]
[null,null,null,null,{"$f":"IF(D736=\"\",\"\",VLOOKUP(D736,CAD_AREA!$CB$13:$CD$113,3,FALSE))","v":""},null,null,null,null,null,null,null,""]
[null,null,null,null,{"$f":"IF(D737=\"\",\"\",VLOOKUP(D737,CAD_AREA!$CB$13:$CD$113,3,FALSE))","v":""},null,null,null,null,null,null,null,""]
[null,null,null,null,{"$f":"IF(D738=\"\",\"\",VLOOKUP(D738,CAD_AREA!$CB$13:$CD$113,3,FALSE))","v":""},null,null,null,null,null,null,null,""]
[null,null,null,null,{"$f":"IF(D739=\"\",\"\",VLOOKUP(D739,CAD_AREA!$CB$13:$CD$113,3,FALSE))","v":""},null,null,null,null,null,null,null,""]
[null,null,null,null,{"$f":"IF(D740=\"\",\"\",VLOOKUP(D740,CAD_AREA!$CB$13:$CD$113,3,FALSE))","v":""},null,null,null,null,null,null,null,""]
[null,null,null,null,{"$f":"IF(D741=\"\",\"\",VLOOKUP(D741,CAD_AREA!$CB$13:$CD$113,3,FALSE))","v":""},null,null,null,null,null,null,null,""]
[null,null,null,null,{"$f":"IF(D742=\"\",\"\",VLOOKUP(D742,CAD_AREA!$CB$13:$CD$113,3,FALSE))","v":""},null,null,null,null,null,null,null,""]
[null,null,null,null,{"$f":"IF(D743=\"\",\"\",VLOOKUP(D743,CAD_AREA!$CB$13:$CD$113,3,FALSE))","v":""},null,null,null,null,null,null,null,""]
[null,null,null,null,{"$f":"IF(D744=\"\",\"\",VLOOKUP(D744,CAD_AREA!$CB$13:$CD$113,3,FALSE))","v":""},null,null,null,null,null,null,null,""]
[null,null,null,null,{"$f":"IF(D745=\"\",\"\",VLOOKUP(D745,CAD_AREA!$CB$13:$CD$113,3,FALSE))","v":""},null,null,null,null,null,null,null,""]
[null,null,null,null,{"$f":"IF(D746=\"\",\"\",VLOOKUP(D746,CAD_AREA!$CB$13:$CD$113,3,FALSE))","v":""},null,null,null,null,null,null,null,""]
[null,null,null,null,{"$f":"IF(D747=\"\",\"\",VLOOKUP(D747,CAD_AREA!$CB$13:$CD$113,3,FALSE))","v":""},null,null,null,null,null,null,null,""]
[null,null,null,null,{"$f":"IF(D748=\"\",\"\",VLOOKUP(D748,CAD_AREA!$CB$13:$CD$113,3,FALSE))","v":""},null,null,null,null,null,null,null,""]
[null,null,null,null,{"$f":"IF(D749=\"\",\"\",VLOOKUP(D749,CAD_AREA!$CB$13:$CD$113,3,FALSE))","v":""},null,null,null,null,null,null,null,""]
[null,null,null,null,{"$f":"IF(D750=\"\",\"\",VLOOKUP(D750,CAD_AREA!$CB$13:$CD$113,3,FALSE))","v":""},null,null,null,null,null,null,null,""]
[null,null,null,null,{"$f":"IF(D751=\"\",\"\",VLOOKUP(D751,CAD_AREA!$CB$13:$CD$113,3,FALSE))","v":""},null,null,null,null,null,null,null,""]
[null,null,null,null,{"$f":"IF(D752=\"\",\"\",VLOOKUP(D752,CAD_AREA!$CB$13:$CD$113,3,FALSE))","v":""},null,null,null,null,null,null,null,""]
[null,null,null,null,{"$f":"IF(D753=\"\",\"\",VLOOKUP(D753,CAD_AREA!$CB$13:$CD$113,3,FALSE))","v":""},null,null,null,null,null,null,null,""]
[null,null,null,null,{"$f":"IF(D754=\"\",\"\",VLOOKUP(D754,CAD_AREA!$CB$13:$CD$113,3,FALSE))","v":""},null,null,null,null,null,null,null,""]
[null,null,null,null,{"$f":"IF(D755=\"\",\"\",VLOOKUP(D755,CAD_AREA!$CB$13:$CD$113,3,FALSE))","v":""},null,null,null,null,null,null,null,""]
[null,null,null,null,{"$f":"IF(D756=\"\",\"\",VLOOKUP(D756,CAD_AREA!$CB$13:$CD$113,3,FALSE))","v":""},null,null,null,null,null,null,null,""]
[null,null,null,null,{"$f":"IF(D757=\"\",\"\",VLOOKUP(D757,CAD_AREA!$CB$13:$CD$113,3,FALSE))","v":""},null,null,null,null,null,null,null,""]
[null,null,null,null,{"$f":"IF(D758=\"\",\"\",VLOOKUP(D758,CAD_AREA!$CB$13:$CD$113,3,FALSE))","v":""},null,null,null,null,null,null,null,""]
[null,null,null,null,{"$f":"IF(D759=\"\",\"\",VLOOKUP(D759,CAD_AREA!$CB$13:$CD$113,3,FALSE))","v":""},null,null,null,null,null,null,null,""]
[null,null,null,null,{"$f":"IF(D760=\"\",\"\",VLOOKUP(D760,CAD_AREA!$CB$13:$CD$113,3,FALSE))","v":""},null,null,null,null,null,null,null,""]
[null,null,null,null,{"$f":"IF(D761=\"\",\"\",VLOOKUP(D761,CAD_AREA!$CB$13:$CD$113,3,FALSE))","v":""},null,null,null,null,null,null,null,""]
[null,null,null,null,{"$f":"IF(D762=\"\",\"\",VLOOKUP(D762,CAD_AREA!$CB$13:$CD$113,3,FALSE))","v":""},null,null,null,null,null,null,null,""]
[null,null,null,null,{"$f":"IF(D763=\"\",\"\",VLOOKUP(D763,CAD_AREA!$CB$13:$CD$113,3,FALSE))","v":""},null,null,null,null,null,null,null,""]
[null,null,null,null,{"$f":"IF(D764=\"\",\"\",VLOOKUP(D764,CAD_AREA!$CB$13:$CD$113,3,FALSE))","v":""},null,null,null,null,null,null,null,""]
[null,null,null,null,{"$f":"IF(D765=\"\",\"\",VLOOKUP(D765,CAD_AREA!$CB$13:$CD$113,3,FALSE))","v":""},null,null,null,null,null,null,null,""]
[null,null,null,null,{"$f":"IF(D766=\"\",\"\",VLOOKUP(D766,CAD_AREA!$CB$13:$CD$113,3,FALSE))","v":""},null,null,null,null,null,null,null,""]
[null,null,null,null,{"$f":"IF(D767=\"\",\"\",VLOOKUP(D767,CAD_AREA!$CB$13:$CD$113,3,FALSE))","v":""},null,null,null,null,null,null,null,""]
[null,null,null,null,{"$f":"IF(D768=\"\",\"\",VLOOKUP(D768,CAD_AREA!$CB$13:$CD$113,3,FALSE))","v":""},null,null,null,null,null,null,null,""]
[null,null,null,null,{"$f":"IF(D769=\"\",\"\",VLOOKUP(D769,CAD_AREA!$CB$13:$CD$113,3,FALSE))","v":""},null,null,null,null,null,null,null,""]
[null,null,null,null,{"$f":"IF(D770=\"\",\"\",VLOOKUP(D770,CAD_AREA!$CB$13:$CD$113,3,FALSE))","v":""},null,null,null,null,null,null,null,""]
[null,null,null,null,{"$f":"IF(D771=\"\",\"\",VLOOKUP(D771,CAD_AREA!$CB$13:$CD$113,3,FALSE))","v":""},null,null,null,null,null,null,null,""]
[null,null,null,null,{"$f":"IF(D772=\"\",\"\",VLOOKUP(D772,CAD_AREA!$CB$13:$CD$113,3,FALSE))","v":""},null,null,null,null,null,null,null,""]
[null,null,null,null,{"$f":"IF(D773=\"\",\"\",VLOOKUP(D773,CAD_AREA!$CB$13:$CD$113,3,FALSE))","v":""},null,null,null,null,null,null,null,""]
[null,null,null,null,{"$f":"IF(D774=\"\",\"\",VLOOKUP(D774,CAD_AREA!$CB$13:$CD$113,3,FALSE))","v":""},null,null,null,null,null,null,null,""]
[null,null,null,null,{"$f":"IF(D775=\"\",\"\",VLOOKUP(D775,CAD_AREA!$CB$13:$CD$113,3,FALSE))","v":""},null,null,null,null,null,null,null,""]
[null,null,null,null,{"$f":"IF(D776=\"\",\"\",VLOOKUP(D776,CAD_AREA!$CB$13:$CD$113,3,FALSE))","v":""},null,null,null,null,null,null,null,""]
[null,null,null,null,{"$f":"IF(D777=\"\",\"\",VLOOKUP(D777,CAD_AREA!$CB$13:$CD$113,3,FALSE))","v":""},null,null,null,null,null,null,null,""]
[null,null,null,null,{"$f":"IF(D778=\"\",\"\",VLOOKUP(D778,CAD_AREA!$CB$13:$CD$113,3,FALSE))","v":""},null,null,null,null,null,null,null,""]
[null,null,null,null,{"$f":"IF(D779=\"\",\"\",VLOOKUP(D779,CAD_AREA!$CB$13:$CD$113,3,FALSE))","v":""},null,null,null,null,null,null,null,""]
[null,null,null,null,{"$f":"IF(D780=\"\",\"\",VLOOKUP(D780,CAD_AREA!$CB$13:$CD$113,3,FALSE))","v":""},null,null,null,null,null,null,null,""]
[null,null,null,null,{"$f":"IF(D781=\"\",\"\",VLOOKUP(D781,CAD_AREA!$CB$13:$CD$113,3,FALSE))","v":""},null,null,null,null,null,null,null,""]
[null,null,null,null,{"$f":"IF(D782=\"\",\"\",VLOOKUP(D782,CAD_AREA!$CB$13:$CD$113,3,FALSE))","v":""},null,null,null,null,null,null,null,{"$f":"IF(B782=\"\",\"\",VLOOKUP(MONTH(B782),$J$13:$K$24,2,FALSE))","v":""}]
[null,null,null,null,{"$f":"IF(D783=\"\",\"\",VLOOKUP(D783,CAD_AREA!$CB$13:$CD$113,3,FALSE))","v":""},null,null,null,null,null,null,null,""]
[null,null,null,null,{"$f":"IF(D784=\"\",\"\",VLOOKUP(D784,CAD_AREA!$CB$13:$CD$113,3,FALSE))","v":""},null,null,null,null,null,null,null,""]
[null,null,null,null,{"$f":"IF(D785=\"\",\"\",VLOOKUP(D785,CAD_AREA!$CB$13:$CD$113,3,FALSE))","v":""},null,null,null,null,null,null,null,""]
[null,null,null,null,{"$f":"IF(D786=\"\",\"\",VLOOKUP(D786,CAD_AREA!$CB$13:$CD$113,3,FALSE))","v":""},null,null,null,null,null,null,null,""]
[null,null,null,null,{"$f":"IF(D787=\"\",\"\",VLOOKUP(D787,CAD_AREA!$CB$13:$CD$113,3,FALSE))","v":""},null,null,null,null,null,null,null,""]
[null,null,null,null,{"$f":"IF(D788=\"\",\"\",VLOOKUP(D788,CAD_AREA!$CB$13:$CD$113,3,FALSE))","v":""},null,null,null,null,null,null,null,""]
[null,null,null,null,{"$f":"IF(D789=\"\",\"\",VLOOKUP(D789,CAD_AREA!$CB$13:$CD$113,3,FALSE))","v":""},null,null,null,null,null,null,null,""]
[null,null,null,null,{"$f":"IF(D790=\"\",\"\",VLOOKUP(D790,CAD_AREA!$CB$13:$CD$113,3,FALSE))","v":""},null,null,null,null,null,null,null,""]
[null,null,null,null,{"$f":"IF(D791=\"\",\"\",VLOOKUP(D791,CAD_AREA!$CB$13:$CD$113,3,FALSE))","v":""},null,null,null,null,null,null,null,""]
[null,null,null,null,{"$f":"IF(D792=\"\",\"\",VLOOKUP(D792,CAD_AREA!$CB$13:$CD$113,3,FALSE))","v":""},null,null,null,null,null,null,null,""]
[null,null,null,null,{"$f":"IF(D793=\"\",\"\",VLOOKUP(D793,CAD_AREA!$CB$13:$CD$113,3,FALSE))","v":""},null,null,null,null,null,null,null,""]
[null,null,null,null,{"$f":"IF(D794=\"\",\"\",VLOOKUP(D794,CAD_AREA!$CB$13:$CD$113,3,FALSE))","v":""},null,null,null,null,null,null,null,""]
[null,null,null,null,{"$f":"IF(D795=\"\",\"\",VLOOKUP(D795,CAD_AREA!$CB$13:$CD$113,3,FALSE))","v":""},null,null,null,null,null,null,null,""]
[null,null,null,null,{"$f":"IF(D796=\"\",\"\",VLOOKUP(D796,CAD_AREA!$CB$13:$CD$113,3,FALSE))","v":""},null,null,null,null,null,null,null,""]
[null,null,null,null,{"$f":"IF(D797=\"\",\"\",VLOOKUP(D797,CAD_AREA!$CB$13:$CD$113,3,FALSE))","v":""},null,null,null,null,null,null,null,""]
[null,null,null,null,{"$f":"IF(D798=\"\",\"\",VLOOKUP(D798,CAD_AREA!$CB$13:$CD$113,3,FALSE))","v":""},null,null,null,null,null,null,null,""]
[null,null,null,null,{"$f":"IF(D799=\"\",\"\",VLOOKUP(D799,CAD_AREA!$CB$13:$CD$113,3,FALSE))","v":""},null,null,null,null,null,null,null,""]
[null,null,null,null,{"$f":"IF(D800=\"\",\"\",VLOOKUP(D800,CAD_AREA!$CB$13:$CD$113,3,FALSE))","v":""},null,null,null,null,null,null,null,""]
[null,null,null,null,{"$f":"IF(D801=\"\",\"\",VLOOKUP(D801,CAD_AREA!$CB$13:$CD$113,3,FALSE))","v":""},null,null,null,null,null,null,null,""]
[null,null,null,null,{"$f":"IF(D802=\"\",\"\",VLOOKUP(D802,CAD_AREA!$CB$13:$CD$113,3,FALSE))","v":""},null,null,null,null,null,null,null,""]
[null,null,null,null,{"$f":"IF(D803=\"\",\"\",VLOOKUP(D803,CAD_AREA!$CB$13:$CD$113,3,FALSE))","v":""},null,null,null,null,null,null,null,""]
[null,null,null,null,{"$f":"IF(D804=\"\",\"\",VLOOKUP(D804,CAD_AREA!$CB$13:$CD$113,3,FALSE))","v":""},null,null,null,null,null,null,null,""]
[null,null,null,null,{"$f":"IF(D805=\"\",\"\",VLOOKUP(D805,CAD_AREA!$CB$13:$CD$113,3,FALSE))","v":""},null,null,null,null,null,null,null,""]
[null,null,null,null,{"$f":"IF(D806=\"\",\"\",VLOOKUP(D806,CAD_AREA!$CB$13:$CD$113,3,FALSE))","v":""},null,null,null,null,null,null,null,""]
[null,null,null,null,{"$f":"IF(D807=\"\",\"\",VLOOKUP(D807,CAD_AREA!$CB$13:$CD$113,3,FALSE))","v":""},null,null,null,null,null,null,null,""]
[null,null,null,null,{"$f":"IF(D808=\"\",\"\",VLOOKUP(D808,CAD_AREA!$CB$13:$CD$113,3,FALSE))","v":""},null,null,null,null,null,null,null,""]
[null,null,null,null,{"$f":"IF(D809=\"\",\"\",VLOOKUP(D809,CAD_AREA!$CB$13:$CD$113,3,FALSE))","v":""},null,null,null,null,null,null,null,""]
[null,null,null,null,{"$f":"IF(D810=\"\",\"\",VLOOKUP(D810,CAD_AREA!$CB$13:$CD$113,3,FALSE))","v":""},null,null,null,null,null,null,null,""]
[null,null,null,null,{"$f":"IF(D811=\"\",\"\",VLOOKUP(D811,CAD_AREA!$CB$13:$CD$113,3,FALSE))","v":""},null,null,null,null,null,null,null,""]
[null,null,null,null,{"$f":"IF(D812=\"\",\"\",VLOOKUP(D812,CAD_AREA!$CB$13:$CD$113,3,FALSE))","v":""},null,null,null,null,null,null,null,""]
[null,null,null,null,{"$f":"IF(D813=\"\",\"\",VLOOKUP(D813,CAD_AREA!$CB$13:$CD$113,3,FALSE))","v":""},null,null,null,null,null,null,null,""]
[null,null,null,null,{"$f":"IF(D814=\"\",\"\",VLOOKUP(D814,CAD_AREA!$CB$13:$CD$113,3,FALSE))","v":""},null,null,null,null,null,null,null,""]
[null,null,null,null,{"$f":"IF(D815=\"\",\"\",VLOOKUP(D815,CAD_AREA!$CB$13:$CD$113,3,FALSE))","v":""},null,null,null,null,null,null,null,""]
[null,null,null,null,{"$f":"IF(D816=\"\",\"\",VLOOKUP(D816,CAD_AREA!$CB$13:$CD$113,3,FALSE))","v":""},null,null,null,null,null,null,null,""]
[null,null,null,null,{"$f":"IF(D817=\"\",\"\",VLOOKUP(D817,CAD_AREA!$CB$13:$CD$113,3,FALSE))","v":""},null,null,null,null,null,null,null,""]
[null,null,null,null,{"$f":"IF(D818=\"\",\"\",VLOOKUP(D818,CAD_AREA!$CB$13:$CD$113,3,FALSE))","v":""},null,null,null,null,null,null,null,""]
[null,null,null,null,{"$f":"IF(D819=\"\",\"\",VLOOKUP(D819,CAD_AREA!$CB$13:$CD$113,3,FALSE))","v":""},null,null,null,null,null,null,null,""]
[null,null,null,null,{"$f":"IF(D820=\"\",\"\",VLOOKUP(D820,CAD_AREA!$CB$13:$CD$113,3,FALSE))","v":""},null,null,null,null,null,null,null,""]
[null,null,null,null,{"$f":"IF(D821=\"\",\"\",VLOOKUP(D821,CAD_AREA!$CB$13:$CD$113,3,FALSE))","v":""},null,null,null,null,null,null,null,""]
[null,null,null,null,{"$f":"IF(D822=\"\",\"\",VLOOKUP(D822,CAD_AREA!$CB$13:$CD$113,3,FALSE))","v":""},null,null,null,null,null,null,null,""]
[null,null,null,null,{"$f":"IF(D823=\"\",\"\",VLOOKUP(D823,CAD_AREA!$CB$13:$CD$113,3,FALSE))","v":""},null,null,null,null,null,null,null,""]
[null,null,null,null,{"$f":"IF(D824=\"\",\"\",VLOOKUP(D824,CAD_AREA!$CB$13:$CD$113,3,FALSE))","v":""},null,null,null,null,null,null,null,""]
[null,null,null,null,{"$f":"IF(D825=\"\",\"\",VLOOKUP(D825,CAD_AREA!$CB$13:$CD$113,3,FALSE))","v":""},null,null,null,null,null,null,null,""]
[null,null,null,null,{"$f":"IF(D826=\"\",\"\",VLOOKUP(D826,CAD_AREA!$CB$13:$CD$113,3,FALSE))","v":""},null,null,null,null,null,null,null,""]
[null,null,null,null,{"$f":"IF(D827=\"\",\"\",VLOOKUP(D827,CAD_AREA!$CB$13:$CD$113,3,FALSE))","v":""},null,null,null,null,null,null,null,""]
[null,null,null,null,{"$f":"IF(D828=\"\",\"\",VLOOKUP(D828,CAD_AREA!$CB$13:$CD$113,3,FALSE))","v":""},null,null,null,null,null,null,null,""]
[null,null,null,null,{"$f":"IF(D829=\"\",\"\",VLOOKUP(D829,CAD_AREA!$CB$13:$CD$113,3,FALSE))","v":""},null,null,null,null,null,null,null,""]
[null,null,null,null,{"$f":"IF(D830=\"\",\"\",VLOOKUP(D830,CAD_AREA!$CB$13:$CD$113,3,FALSE))","v":""},null,null,null,null,null,null,null,""]
[null,null,null,null,{"$f":"IF(D831=\"\",\"\",VLOOKUP(D831,CAD_AREA!$CB$13:$CD$113,3,FALSE))","v":""},null,null,null,null,null,null,null,""]
[null,null,null,null,{"$f":"IF(D832=\"\",\"\",VLOOKUP(D832,CAD_AREA!$CB$13:$CD$113,3,FALSE))","v":""},null,null,null,null,null,null,null,""]
[null,null,null,null,{"$f":"IF(D833=\"\",\"\",VLOOKUP(D833,CAD_AREA!$CB$13:$CD$113,3,FALSE))","v":""},null,null,null,null,null,null,null,""]
[null,null,null,null,{"$f":"IF(D834=\"\",\"\",VLOOKUP(D834,CAD_AREA!$CB$13:$CD$113,3,FALSE))","v":""},null,null,null,null,null,null,null,""]
[null,null,null,null,{"$f":"IF(D835=\"\",\"\",VLOOKUP(D835,CAD_AREA!$CB$13:$CD$113,3,FALSE))","v":""},null,null,null,null,null,null,null,""]
[null,null,null,null,{"$f":"IF(D836=\"\",\"\",VLOOKUP(D836,CAD_AREA!$CB$13:$CD$113,3,FALSE))","v":""},null,null,null,null,null,null,null,""]
[null,null,null,null,{"$f":"IF(D837=\"\",\"\",VLOOKUP(D837,CAD_AREA!$CB$13:$CD$113,3,FALSE))","v":""},null,null,null,null,null,null,null,""]
[null,null,null,null,{"$f":"IF(D838=\"\",\"\",VLOOKUP(D838,CAD_AREA!$CB$13:$CD$113,3,FALSE))","v":""},null,null,null,null,null,null,null,""]
[null,null,null,null,{"$f":"IF(D839=\"\",\"\",VLOOKUP(D839,CAD_AREA!$CB$13:$CD$113,3,FALSE))","v":""},null,null,null,null,null,null,null,""]
[null,null,null,null,{"$f":"IF(D840=\"\",\"\",VLOOKUP(D840,CAD_AREA!$CB$13:$CD$113,3,FALSE))","v":""},null,null,null,null,null,null,null,""]
[null,null,null,null,{"$f":"IF(D841=\"\",\"\",VLOOKUP(D841,CAD_AREA!$CB$13:$CD$113,3,FALSE))","v":""},null,null,null,null,null,null,null,""]
[null,null,null,null,{"$f":"IF(D842=\"\",\"\",VLOOKUP(D842,CAD_AREA!$CB$13:$CD$113,3,FALSE))","v":""},null,null,null,null,null,null,null,""]
[null,null,null,null,{"$f":"IF(D843=\"\",\"\",VLOOKUP(D843,CAD_AREA!$CB$13:$CD$113,3,FALSE))","v":""},null,null,null,null,null,null,null,""]
[null,null,null,null,{"$f":"IF(D844=\"\",\"\",VLOOKUP(D844,CAD_AREA!$CB$13:$CD$113,3,FALSE))","v":""},null,null,null,null,null,null,null,""]
[null,null,null,null,{"$f":"IF(D845=\"\",\"\",VLOOKUP(D845,CAD_AREA!$CB$13:$CD$113,3,FALSE))","v":""},null,null,null,null,null,null,null,""]
[null,null,null,null,{"$f":"IF(D846=\"\",\"\",VLOOKUP(D846,CAD_AREA!$CB$13:$CD$113,3,FALSE))","v":""},null,null,null,null,null,null,null,{"$f":"IF(B846=\"\",\"\",VLOOKUP(MONTH(B846),$J$13:$K$24,2,FALSE))","v":""}]
[null,null,null,null,{"$f":"IF(D847=\"\",\"\",VLOOKUP(D847,CAD_AREA!$CB$13:$CD$113,3,FALSE))","v":""},null,null,null,null,null,null,null,""]
[null,null,null,null,{"$f":"IF(D848=\"\",\"\",VLOOKUP(D848,CAD_AREA!$CB$13:$CD$113,3,FALSE))","v":""},null,null,null,null,null,null,null,""]
[null,null,null,null,{"$f":"IF(D849=\"\",\"\",VLOOKUP(D849,CAD_AREA!$CB$13:$CD$113,3,FALSE))","v":""},null,null,null,null,null,null,null,""]
[null,null,null,null,{"$f":"IF(D850=\"\",\"\",VLOOKUP(D850,CAD_AREA!$CB$13:$CD$113,3,FALSE))","v":""},null,null,null,null,null,null,null,""]
[null,null,null,null,{"$f":"IF(D851=\"\",\"\",VLOOKUP(D851,CAD_AREA!$CB$13:$CD$113,3,FALSE))","v":""},null,null,null,null,null,null,null,""]
[null,null,null,null,{"$f":"IF(D852=\"\",\"\",VLOOKUP(D852,CAD_AREA!$CB$13:$CD$113,3,FALSE))","v":""},null,null,null,null,null,null,null,""]
[null,null,null,null,{"$f":"IF(D853=\"\",\"\",VLOOKUP(D853,CAD_AREA!$CB$13:$CD$113,3,FALSE))","v":""},null,null,null,null,null,null,null,""]
[null,null,null,null,{"$f":"IF(D854=\"\",\"\",VLOOKUP(D854,CAD_AREA!$CB$13:$CD$113,3,FALSE))","v":""},null,null,null,null,null,null,null,""]
[null,null,null,null,{"$f":"IF(D855=\"\",\"\",VLOOKUP(D855,CAD_AREA!$CB$13:$CD$113,3,FALSE))","v":""},null,null,null,null,null,null,null,""]
[null,null,null,null,{"$f":"IF(D856=\"\",\"\",VLOOKUP(D856,CAD_AREA!$CB$13:$CD$113,3,FALSE))","v":""},null,null,null,null,null,null,null,""]
[null,null,null,null,{"$f":"IF(D857=\"\",\"\",VLOOKUP(D857,CAD_AREA!$CB$13:$CD$113,3,FALSE))","v":""},null,null,null,null,null,null,null,""]
[null,null,null,null,{"$f":"IF(D858=\"\",\"\",VLOOKUP(D858,CAD_AREA!$CB$13:$CD$113,3,FALSE))","v":""},null,null,null,null,null,null,null,""]
[null,null,null,null,{"$f":"IF(D859=\"\",\"\",VLOOKUP(D859,CAD_AREA!$CB$13:$CD$113,3,FALSE))","v":""},null,null,null,null,null,null,null,""]
[null,null,null,null,{"$f":"IF(D860=\"\",\"\",VLOOKUP(D860,CAD_AREA!$CB$13:$CD$113,3,FALSE))","v":""},null,null,null,null,null,null,null,""]
[null,null,null,null,{"$f":"IF(D861=\"\",\"\",VLOOKUP(D861,CAD_AREA!$CB$13:$CD$113,3,FALSE))","v":""},null,null,null,null,null,null,null,""]
[null,null,null,null,{"$f":"IF(D862=\"\",\"\",VLOOKUP(D862,CAD_AREA!$CB$13:$CD$113,3,FALSE))","v":""},null,null,null,null,null,null,null,""]
[null,null,null,null,{"$f":"IF(D863=\"\",\"\",VLOOKUP(D863,CAD_AREA!$CB$13:$CD$113,3,FALSE))","v":""},null,null,null,null,null,null,null,""]
[null,null,null,null,{"$f":"IF(D864=\"\",\"\",VLOOKUP(D864,CAD_AREA!$CB$13:$CD$113,3,FALSE))","v":""},null,null,null,null,null,null,null,""]
[null,null,null,null,{"$f":"IF(D865=\"\",\"\",VLOOKUP(D865,CAD_AREA!$CB$13:$CD$113,3,FALSE))","v":""},null,null,null,null,null,null,null,""]
[null,null,null,null,{"$f":"IF(D866=\"\",\"\",VLOOKUP(D866,CAD_AREA!$CB$13:$CD$113,3,FALSE))","v":""},null,null,null,null,null,null,null,""]
[null,null,null,null,{"$f":"IF(D867=\"\",\"\",VLOOKUP(D867,CAD_AREA!$CB$13:$CD$113,3,FALSE))","v":""},null,null,null,null,null,null,null,""]
[null,null,null,null,{"$f":"IF(D868=\"\",\"\",VLOOKUP(D868,CAD_AREA!$CB$13:$CD$113,3,FALSE))","v":""},null,null,null,null,null,null,null,""]
[null,null,null,null,{"$f":"IF(D869=\"\",\"\",VLOOKUP(D869,CAD_AREA!$CB$13:$CD$113,3,FALSE))","v":""},null,null,null,null,null,null,null,""]
[null,null,null,null,{"$f":"IF(D870=\"\",\"\",VLOOKUP(D870,CAD_AREA!$CB$13:$CD$113,3,FALSE))","v":""},null,null,null,null,null,null,null,""]
[null,null,null,null,{"$f":"IF(D871=\"\",\"\",VLOOKUP(D871,CAD_AREA!$CB$13:$CD$113,3,FALSE))","v":""},null,null,null,null,null,null,null,""]
[null,null,null,null,{"$f":"IF(D872=\"\",\"\",VLOOKUP(D872,CAD_AREA!$CB$13:$CD$113,3,FALSE))","v":""},null,null,null,null,null,null,null,""]
[null,null,null,null,{"$f":"IF(D873=\"\",\"\",VLOOKUP(D873,CAD_AREA!$CB$13:$CD$113,3,FALSE))","v":""},null,null,null,null,null,null,null,""]
[null,null,null,null,{"$f":"IF(D874=\"\",\"\",VLOOKUP(D874,CAD_AREA!$CB$13:$CD$113,3,FALSE))","v":""},null,null,null,null,null,null,null,""]
[null,null,null,null,{"$f":"IF(D875=\"\",\"\",VLOOKUP(D875,CAD_AREA!$CB$13:$CD$113,3,FALSE))","v":""},null,null,null,null,null,null,null,""]
[null,null,null,null,{"$f":"IF(D876=\"\",\"\",VLOOKUP(D876,CAD_AREA!$CB$13:$CD$113,3,FALSE))","v":""},null,null,null,null,null,null,null,""]
[null,null,null,null,{"$f":"IF(D877=\"\",\"\",VLOOKUP(D877,CAD_AREA!$CB$13:$CD$113,3,FALSE))","v":""},null,null,null,null,null,null,null,""]
[null,null,null,null,{"$f":"IF(D878=\"\",\"\",VLOOKUP(D878,CAD_AREA!$CB$13:$CD$113,3,FALSE))","v":""},null,null,null,null,null,null,null,""]
[null,null,null,null,{"$f":"IF(D879=\"\",\"\",VLOOKUP(D879,CAD_AREA!$CB$13:$CD$113,3,FALSE))","v":""},null,null,null,null,null,null,null,""]
[null,null,null,null,{"$f":"IF(D880=\"\",\"\",VLOOKUP(D880,CAD_AREA!$CB$13:$CD$113,3,FALSE))","v":""},null,null,null,null,null,null,null,""]
[null,null,null,null,{"$f":"IF(D881=\"\",\"\",VLOOKUP(D881,CAD_AREA!$CB$13:$CD$113,3,FALSE))","v":""},null,null,null,null,null,null,null,""]
[null,null,null,null,{"$f":"IF(D882=\"\",\"\",VLOOKUP(D882,CAD_AREA!$CB$13:$CD$113,3,FALSE))","v":""},null,null,null,null,null,null,null,""]
[null,null,null,null,{"$f":"IF(D883=\"\",\"\",VLOOKUP(D883,CAD_AREA!$CB$13:$CD$113,3,FALSE))","v":""},null,null,null,null,null,null,null,""]
[null,null,null,null,{"$f":"IF(D884=\"\",\"\",VLOOKUP(D884,CAD_AREA!$CB$13:$CD$113,3,FALSE))","v":""},null,null,null,null,null,null,null,""]
[null,null,null,null,{"$f":"IF(D885=\"\",\"\",VLOOKUP(D885,CAD_AREA!$CB$13:$CD$113,3,FALSE))","v":""},null,null,null,null,null,null,null,""]
[null,null,null,null,{"$f":"IF(D886=\"\",\"\",VLOOKUP(D886,CAD_AREA!$CB$13:$CD$113,3,FALSE))","v":""},null,null,null,null,null,null,null,""]
[null,null,null,null,{"$f":"IF(D887=\"\",\"\",VLOOKUP(D887,CAD_AREA!$CB$13:$CD$113,3,FALSE))","v":""},null,null,null,null,null,null,null,""]
[null,null,null,null,{"$f":"IF(D888=\"\",\"\",VLOOKUP(D888,CAD_AREA!$CB$13:$CD$113,3,FALSE))","v":""},null,null,null,null,null,null,null,""]
[null,null,null,null,{"$f":"IF(D889=\"\",\"\",VLOOKUP(D889,CAD_AREA!$CB$13:$CD$113,3,FALSE))","v":""},null,null,null,null,null,null,null,""]
[null,null,null,null,{"$f":"IF(D890=\"\",\"\",VLOOKUP(D890,CAD_AREA!$CB$13:$CD$113,3,FALSE))","v":""},null,null,null,null,null,null,null,""]
[null,null,null,null,{"$f":"IF(D891=\"\",\"\",VLOOKUP(D891,CAD_AREA!$CB$13:$CD$113,3,FALSE))","v":""},null,null,null,null,null,null,null,""]
[null,null,null,null,{"$f":"IF(D892=\"\",\"\",VLOOKUP(D892,CAD_AREA!$CB$13:$CD$113,3,FALSE))","v":""},null,null,null,null,null,null,null,""]
[null,null,null,null,{"$f":"IF(D893=\"\",\"\",VLOOKUP(D893,CAD_AREA!$CB$13:$CD$113,3,FALSE))","v":""},null,null,null,null,null,null,null,""]
[null,null,null,null,{"$f":"IF(D894=\"\",\"\",VLOOKUP(D894,CAD_AREA!$CB$13:$CD$113,3,FALSE))","v":""},null,null,null,null,null,null,null,""]
[null,null,null,null,{"$f":"IF(D895=\"\",\"\",VLOOKUP(D895,CAD_AREA!$CB$13:$CD$113,3,FALSE))","v":""},null,null,null,null,null,null,null,""]
[null,null,null,null,{"$f":"IF(D896=\"\",\"\",VLOOKUP(D896,CAD_AREA!$CB$13:$CD$113,3,FALSE))","v":""},null,null,null,null,null,null,null,""]
[null,null,null,null,{"$f":"IF(D897=\"\",\"\",VLOOKUP(D897,CAD_AREA!$CB$13:$CD$113,3,FALSE))","v":""},null,null,null,null,null,null,null,""]
[null,null,null,null,{"$f":"IF(D898=\"\",\"\",VLOOKUP(D898,CAD_AREA!$CB$13:$CD$113,3,FALSE))","v":""},null,null,null,null,null,null,null,""]
[null,null,null,null,{"$f":"IF(D899=\"\",\"\",VLOOKUP(D899,CAD_AREA!$CB$13:$CD$113,3,FALSE))","v":""},null,null,null,null,null,null,null,""]
[null,null,null,null,{"$f":"IF(D900=\"\",\"\",VLOOKUP(D900,CAD_AREA!$CB$13:$CD$113,3,FALSE))","v":""},null,null,null,null,null,null,null,""]
[null,null,null,null,{"$f":"IF(D901=\"\",\"\",VLOOKUP(D901,CAD_AREA!$CB$13:$CD$113,3,FALSE))","v":""},null,null,null,null,null,null,null,""]
[null,null,null,null,{"$f":"IF(D902=\"\",\"\",VLOOKUP(D902,CAD_AREA!$CB$13:$CD$113,3,FALSE))","v":""},null,null,null,null,null,null,null,""]
[null,null,null,null,{"$f":"IF(D903=\"\",\"\",VLOOKUP(D903,CAD_AREA!$CB$13:$CD$113,3,FALSE))","v":""},null,null,null,null,null,null,null,""]
[null,null,null,null,{"$f":"IF(D904=\"\",\"\",VLOOKUP(D904,CAD_AREA!$CB$13:$CD$113,3,FALSE))","v":""},null,null,null,null,null,null,null,""]
[null,null,null,null,{"$f":"IF(D905=\"\",\"\",VLOOKUP(D905,CAD_AREA!$CB$13:$CD$113,3,FALSE))","v":""},null,null,null,null,null,null,null,""]
[null,null,null,null,{"$f":"IF(D906=\"\",\"\",VLOOKUP(D906,CAD_AREA!$CB$13:$CD$113,3,FALSE))","v":""},null,null,null,null,null,null,null,""]
[null,null,null,null,{"$f":"IF(D907=\"\",\"\",VLOOKUP(D907,CAD_AREA!$CB$13:$CD$113,3,FALSE))","v":""},null,null,null,null,null,null,null,""]
[null,null,null,null,{"$f":"IF(D908=\"\",\"\",VLOOKUP(D908,CAD_AREA!$CB$13:$CD$113,3,FALSE))","v":""},null,null,null,null,null,null,null,""]
[null,null,null,null,{"$f":"IF(D909=\"\",\"\",VLOOKUP(D909,CAD_AREA!$CB$13:$CD$113,3,FALSE))","v":""},null,null,null,null,null,null,null,""]
[null,null,null,null,{"$f":"IF(D910=\"\",\"\",VLOOKUP(D910,CAD_AREA!$CB$13:$CD$113,3,FALSE))","v":""},null,null,null,null,null,null,null,{"$f":"IF(B910=\"\",\"\",VLOOKUP(MONTH(B910),$J$13:$K$24,2,FALSE))","v":""}]
[null,null,null,null,{"$f":"IF(D911=\"\",\"\",VLOOKUP(D911,CAD_AREA!$CB$13:$CD$113,3,FALSE))","v":""},null,null,null,null,null,null,null,""]
[null,null,null,null,{"$f":"IF(D912=\"\",\"\",VLOOKUP(D912,CAD_AREA!$CB$13:$CD$113,3,FALSE))","v":""},null,null,null,null,null,null,null,""]
[null,null,null,null,{"$f":"IF(D913=\"\",\"\",VLOOKUP(D913,CAD_AREA!$CB$13:$CD$113,3,FALSE))","v":""},null,null,null,null,null,null,null,""]
[null,null,null,null,{"$f":"IF(D914=\"\",\"\",VLOOKUP(D914,CAD_AREA!$CB$13:$CD$113,3,FALSE))","v":""},null,null,null,null,null,null,null,""]
[null,null,null,null,{"$f":"IF(D915=\"\",\"\",VLOOKUP(D915,CAD_AREA!$CB$13:$CD$113,3,FALSE))","v":""},null,null,null,null,null,null,null,""]
[null,null,null,null,{"$f":"IF(D916=\"\",\"\",VLOOKUP(D916,CAD_AREA!$CB$13:$CD$113,3,FALSE))","v":""},null,null,null,null,null,null,null,""]
[null,null,null,null,{"$f":"IF(D917=\"\",\"\",VLOOKUP(D917,CAD_AREA!$CB$13:$CD$113,3,FALSE))","v":""},null,null,null,null,null,null,null,""]
[null,null,null,null,{"$f":"IF(D918=\"\",\"\",VLOOKUP(D918,CAD_AREA!$CB$13:$CD$113,3,FALSE))","v":""},null,null,null,null,null,null,null,""]
[null,null,null,null,{"$f":"IF(D919=\"\",\"\",VLOOKUP(D919,CAD_AREA!$CB$13:$CD$113,3,FALSE))","v":""},null,null,null,null,null,null,null,""]
[null,null,null,null,{"$f":"IF(D920=\"\",\"\",VLOOKUP(D920,CAD_AREA!$CB$13:$CD$113,3,FALSE))","v":""},null,null,null,null,null,null,null,""]
[null,null,null,null,{"$f":"IF(D921=\"\",\"\",VLOOKUP(D921,CAD_AREA!$CB$13:$CD$113,3,FALSE))","v":""},null,null,null,null,null,null,null,""]
[null,null,null,null,{"$f":"IF(D922=\"\",\"\",VLOOKUP(D922,CAD_AREA!$CB$13:$CD$113,3,FALSE))","v":""},null,null,null,null,null,null,null,""]
[null,null,null,null,{"$f":"IF(D923=\"\",\"\",VLOOKUP(D923,CAD_AREA!$CB$13:$CD$113,3,FALSE))","v":""},null,null,null,null,null,null,null,""]
[null,null,null,null,{"$f":"IF(D924=\"\",\"\",VLOOKUP(D924,CAD_AREA!$CB$13:$CD$113,3,FALSE))","v":""},null,null,null,null,null,null,null,""]
[null,null,null,null,{"$f":"IF(D925=\"\",\"\",VLOOKUP(D925,CAD_AREA!$CB$13:$CD$113,3,FALSE))","v":""},null,null,null,null,null,null,null,""]
[null,null,null,null,{"$f":"IF(D926=\"\",\"\",VLOOKUP(D926,CAD_AREA!$CB$13:$CD$113,3,FALSE))","v":""},null,null,null,null,null,null,null,""]
[null,null,null,null,{"$f":"IF(D927=\"\",\"\",VLOOKUP(D927,CAD_AREA!$CB$13:$CD$113,3,FALSE))","v":""},null,null,null,null,null,null,null,""]
[null,null,null,null,{"$f":"IF(D928=\"\",\"\",VLOOKUP(D928,CAD_AREA!$CB$13:$CD$113,3,FALSE))","v":""},null,null,null,null,null,null,null,""]
[null,null,null,null,{"$f":"IF(D929=\"\",\"\",VLOOKUP(D929,CAD_AREA!$CB$13:$CD$113,3,FALSE))","v":""},null,null,null,null,null,null,null,""]
[null,null,null,null,{"$f":"IF(D930=\"\",\"\",VLOOKUP(D930,CAD_AREA!$CB$13:$CD$113,3,FALSE))","v":""},null,null,null,null,null,null,null,""]
[null,null,null,null,{"$f":"IF(D931=\"\",\"\",VLOOKUP(D931,CAD_AREA!$CB$13:$CD$113,3,FALSE))","v":""},null,null,null,null,null,null,null,""]
[null,null,null,null,{"$f":"IF(D932=\"\",\"\",VLOOKUP(D932,CAD_AREA!$CB$13:$CD$113,3,FALSE))","v":""},null,null,null,null,null,null,null,""]
[null,null,null,null,{"$f":"IF(D933=\"\",\"\",VLOOKUP(D933,CAD_AREA!$CB$13:$CD$113,3,FALSE))","v":""},null,null,null,null,null,null,null,""]
[null,null,null,null,{"$f":"IF(D934=\"\",\"\",VLOOKUP(D934,CAD_AREA!$CB$13:$CD$113,3,FALSE))","v":""},null,null,null,null,null,null,null,""]
[null,null,null,null,{"$f":"IF(D935=\"\",\"\",VLOOKUP(D935,CAD_AREA!$CB$13:$CD$113,3,FALSE))","v":""},null,null,null,null,null,null,null,""]
[null,null,null,null,{"$f":"IF(D936=\"\",\"\",VLOOKUP(D936,CAD_AREA!$CB$13:$CD$113,3,FALSE))","v":""},null,null,null,null,null,null,null,""]
[null,null,null,null,{"$f":"IF(D937=\"\",\"\",VLOOKUP(D937,CAD_AREA!$CB$13:$CD$113,3,FALSE))","v":""},null,null,null,null,null,null,null,""]
[null,null,null,null,{"$f":"IF(D938=\"\",\"\",VLOOKUP(D938,CAD_AREA!$CB$13:$CD$113,3,FALSE))","v":""},null,null,null,null,null,null,null,""]
[null,null,null,null,{"$f":"IF(D939=\"\",\"\",VLOOKUP(D939,CAD_AREA!$CB$13:$CD$113,3,FALSE))","v":""},null,null,null,null,null,null,null,""]
[null,null,null,null,{"$f":"IF(D940=\"\",\"\",VLOOKUP(D940,CAD_AREA!$CB$13:$CD$113,3,FALSE))","v":""},null,null,null,null,null,null,null,""]
[null,null,null,null,{"$f":"IF(D941=\"\",\"\",VLOOKUP(D941,CAD_AREA!$CB$13:$CD$113,3,FALSE))","v":""},null,null,null,null,null,null,null,""]
[null,null,null,null,{"$f":"IF(D942=\"\",\"\",VLOOKUP(D942,CAD_AREA!$CB$13:$CD$113,3,FALSE))","v":""},null,null,null,null,null,null,null,""]
[null,null,null,null,{"$f":"IF(D943=\"\",\"\",VLOOKUP(D943,CAD_AREA!$CB$13:$CD$113,3,FALSE))","v":""},null,null,null,null,null,null,null,""]
[null,null,null,null,{"$f":"IF(D944=\"\",\"\",VLOOKUP(D944,CAD_AREA!$CB$13:$CD$113,3,FALSE))","v":""},null,null,null,null,null,null,null,""]
[null,null,null,null,{"$f":"IF(D945=\"\",\"\",VLOOKUP(D945,CAD_AREA!$CB$13:$CD$113,3,FALSE))","v":""},null,null,null,null,null,null,null,""]
[null,null,null,null,{"$f":"IF(D946=\"\",\"\",VLOOKUP(D946,CAD_AREA!$CB$13:$CD$113,3,FALSE))","v":""},null,null,null,null,null,null,null,""]
[null,null,null,null,{"$f":"IF(D947=\"\",\"\",VLOOKUP(D947,CAD_AREA!$CB$13:$CD$113,3,FALSE))","v":""},null,null,null,null,null,null,null,""]
[null,null,null,null,{"$f":"IF(D948=\"\",\"\",VLOOKUP(D948,CAD_AREA!$CB$13:$CD$113,3,FALSE))","v":""},null,null,null,null,null,null,null,""]
[null,null,null,null,{"$f":"IF(D949=\"\",\"\",VLOOKUP(D949,CAD_AREA!$CB$13:$CD$113,3,FALSE))","v":""},null,null,null,null,null,null,null,""]
[null,null,null,null,{"$f":"IF(D950=\"\",\"\",VLOOKUP(D950,CAD_AREA!$CB$13:$CD$113,3,FALSE))","v":""},null,null,null,null,null,null,null,""]
[null,null,null,null,{"$f":"IF(D951=\"\",\"\",VLOOKUP(D951,CAD_AREA!$CB$13:$CD$113,3,FALSE))","v":""},null,null,null,null,null,null,null,""]
[null,null,null,null,{"$f":"IF(D952=\"\",\"\",VLOOKUP(D952,CAD_AREA!$CB$13:$CD$113,3,FALSE))","v":""},null,null,null,null,null,null,null,""]
[null,null,null,null,{"$f":"IF(D953=\"\",\"\",VLOOKUP(D953,CAD_AREA!$CB$13:$CD$113,3,FALSE))","v":""},null,null,null,null,null,null,null,""]
[null,null,null,null,{"$f":"IF(D954=\"\",\"\",VLOOKUP(D954,CAD_AREA!$CB$13:$CD$113,3,FALSE))","v":""},null,null,null,null,null,null,null,""]
[null,null,null,null,{"$f":"IF(D955=\"\",\"\",VLOOKUP(D955,CAD_AREA!$CB$13:$CD$113,3,FALSE))","v":""},null,null,null,null,null,null,null,""]
[null,null,null,null,{"$f":"IF(D956=\"\",\"\",VLOOKUP(D956,CAD_AREA!$CB$13:$CD$113,3,FALSE))","v":""},null,null,null,null,null,null,null,""]
[null,null,null,null,{"$f":"IF(D957=\"\",\"\",VLOOKUP(D957,CAD_AREA!$CB$13:$CD$113,3,FALSE))","v":""},null,null,null,null,null,null,null,""]
[null,null,null,null,{"$f":"IF(D958=\"\",\"\",VLOOKUP(D958,CAD_AREA!$CB$13:$CD$113,3,FALSE))","v":""},null,null,null,null,null,null,null,""]
[null,null,null,null,{"$f":"IF(D959=\"\",\"\",VLOOKUP(D959,CAD_AREA!$CB$13:$CD$113,3,FALSE))","v":""},null,null,null,null,null,null,null,""]
[null,null,null,null,{"$f":"IF(D960=\"\",\"\",VLOOKUP(D960,CAD_AREA!$CB$13:$CD$113,3,FALSE))","v":""},null,null,null,null,null,null,null,""]
[null,null,null,null,{"$f":"IF(D961=\"\",\"\",VLOOKUP(D961,CAD_AREA!$CB$13:$CD$113,3,FALSE))","v":""},null,null,null,null,null,null,null,""]
[null,null,null,null,{"$f":"IF(D962=\"\",\"\",VLOOKUP(D962,CAD_AREA!$CB$13:$CD$113,3,FALSE))","v":""},null,null,null,null,null,null,null,""]
[null,null,null,null,{"$f":"IF(D963=\"\",\"\",VLOOKUP(D963,CAD_AREA!$CB$13:$CD$113,3,FALSE))","v":""},null,null,null,null,null,null,null,""]
[null,null,null,null,{"$f":"IF(D964=\"\",\"\",VLOOKUP(D964,CAD_AREA!$CB$13:$CD$113,3,FALSE))","v":""},null,null,null,null,null,null,null,""]
[null,null,null,null,{"$f":"IF(D965=\"\",\"\",VLOOKUP(D965,CAD_AREA!$CB$13:$CD$113,3,FALSE))","v":""},null,null,null,null,null,null,null,""]
[null,null,null,null,{"$f":"IF(D966=\"\",\"\",VLOOKUP(D966,CAD_AREA!$CB$13:$CD$113,3,FALSE))","v":""},null,null,null,null,null,null,null,""]
[null,null,null,null,{"$f":"IF(D967=\"\",\"\",VLOOKUP(D967,CAD_AREA!$CB$13:$CD$113,3,FALSE))","v":""},null,null,null,null,null,null,null,""]
[null,null,null,null,{"$f":"IF(D968=\"\",\"\",VLOOKUP(D968,CAD_AREA!$CB$13:$CD$113,3,FALSE))","v":""},null,null,null,null,null,null,null,""]
[null,null,null,null,{"$f":"IF(D969=\"\",\"\",VLOOKUP(D969,CAD_AREA!$CB$13:$CD$113,3,FALSE))","v":""},null,null,null,null,null,null,null,""]
[null,null,null,null,{"$f":"IF(D970=\"\",\"\",VLOOKUP(D970,CAD_AREA!$CB$13:$CD$113,3,FALSE))","v":""},null,null,null,null,null,null,null,""]
[null,null,null,null,{"$f":"IF(D971=\"\",\"\",VLOOKUP(D971,CAD_AREA!$CB$13:$CD$113,3,FALSE))","v":""},null,null,null,null,null,null,null,""]
[null,null,null,null,{"$f":"IF(D972=\"\",\"\",VLOOKUP(D972,CAD_AREA!$CB$13:$CD$113,3,FALSE))","v":""},null,null,null,null,null,null,null,""]
[null,null,null,null,{"$f":"IF(D973=\"\",\"\",VLOOKUP(D973,CAD_AREA!$CB$13:$CD$113,3,FALSE))","v":""},null,null,null,null,null,null,null,""]
[null,null,null,null,{"$f":"IF(D974=\"\",\"\",VLOOKUP(D974,CAD_AREA!$CB$13:$CD$113,3,FALSE))","v":""},null,null,null,null,null,null,null,{"$f":"IF(B974=\"\",\"\",VLOOKUP(MONTH(B974),$J$13:$K$24,2,FALSE))","v":""}]
[null,null,null,null,{"$f":"IF(D975=\"\",\"\",VLOOKUP(D975,CAD_AREA!$CB$13:$CD$113,3,FALSE))","v":""},null,null,null,null,null,null,null,""]
[null,null,null,null,{"$f":"IF(D976=\"\",\"\",VLOOKUP(D976,CAD_AREA!$CB$13:$CD$113,3,FALSE))","v":""},null,null,null,null,null,null,null,""]
[null,null,null,null,{"$f":"IF(D977=\"\",\"\",VLOOKUP(D977,CAD_AREA!$CB$13:$CD$113,3,FALSE))","v":""},null,null,null,null,null,null,null,""]
[null,null,null,null,{"$f":"IF(D978=\"\",\"\",VLOOKUP(D978,CAD_AREA!$CB$13:$CD$113,3,FALSE))","v":""},null,null,null,null,null,null,null,""]
[null,null,null,null,{"$f":"IF(D979=\"\",\"\",VLOOKUP(D979,CAD_AREA!$CB$13:$CD$113,3,FALSE))","v":""},null,null,null,null,null,null,null,""]
[null,null,null,null,{"$f":"IF(D980=\"\",\"\",VLOOKUP(D980,CAD_AREA!$CB$13:$CD$113,3,FALSE))","v":""},null,null,null,null,null,null,null,""]
[null,null,null,null,{"$f":"IF(D981=\"\",\"\",VLOOKUP(D981,CAD_AREA!$CB$13:$CD$113,3,FALSE))","v":""},null,null,null,null,null,null,null,""]
[null,null,null,null,{"$f":"IF(D982=\"\",\"\",VLOOKUP(D982,CAD_AREA!$CB$13:$CD$113,3,FALSE))","v":""},null,null,null,null,null,null,null,""]
[null,null,null,null,{"$f":"IF(D983=\"\",\"\",VLOOKUP(D983,CAD_AREA!$CB$13:$CD$113,3,FALSE))","v":""},null,null,null,null,null,null,null,""]
[null,null,null,null,{"$f":"IF(D984=\"\",\"\",VLOOKUP(D984,CAD_AREA!$CB$13:$CD$113,3,FALSE))","v":""},null,null,null,null,null,null,null,""]
[null,null,null,null,{"$f":"IF(D985=\"\",\"\",VLOOKUP(D985,CAD_AREA!$CB$13:$CD$113,3,FALSE))","v":""},null,null,null,null,null,null,null,""]
[null,null,null,null,{"$f":"IF(D986=\"\",\"\",VLOOKUP(D986,CAD_AREA!$CB$13:$CD$113,3,FALSE))","v":""},null,null,null,null,null,null,null,""]
[null,null,null,null,{"$f":"IF(D987=\"\",\"\",VLOOKUP(D987,CAD_AREA!$CB$13:$CD$113,3,FALSE))","v":""},null,null,null,null,null,null,null,""]
[null,null,null,null,{"$f":"IF(D988=\"\",\"\",VLOOKUP(D988,CAD_AREA!$CB$13:$CD$113,3,FALSE))","v":""},null,null,null,null,null,null,null,""]
[null,null,null,null,{"$f":"IF(D989=\"\",\"\",VLOOKUP(D989,CAD_AREA!$CB$13:$CD$113,3,FALSE))","v":""},null,null,null,null,null,null,null,""]
[null,null,null,null,{"$f":"IF(D990=\"\",\"\",VLOOKUP(D990,CAD_AREA!$CB$13:$CD$113,3,FALSE))","v":""},null,null,null,null,null,null,null,""]
[null,null,null,null,{"$f":"IF(D991=\"\",\"\",VLOOKUP(D991,CAD_AREA!$CB$13:$CD$113,3,FALSE))","v":""},null,null,null,null,null,null,null,""]
[null,null,null,null,{"$f":"IF(D992=\"\",\"\",VLOOKUP(D992,CAD_AREA!$CB$13:$CD$113,3,FALSE))","v":""},null,null,null,null,null,null,null,""]
[null,null,null,null,{"$f":"IF(D993=\"\",\"\",VLOOKUP(D993,CAD_AREA!$CB$13:$CD$113,3,FALSE))","v":""},null,null,null,null,null,null,null,""]
[null,null,null,null,{"$f":"IF(D994=\"\",\"\",VLOOKUP(D994,CAD_AREA!$CB$13:$CD$113,3,FALSE))","v":""},null,null,null,null,null,null,null,""]
[null,null,null,null,{"$f":"IF(D995=\"\",\"\",VLOOKUP(D995,CAD_AREA!$CB$13:$CD$113,3,FALSE))","v":""},null,null,null,null,null,null,null,""]
[null,null,null,null,{"$f":"IF(D996=\"\",\"\",VLOOKUP(D996,CAD_AREA!$CB$13:$CD$113,3,FALSE))","v":""},null,null,null,null,null,null,null,""]
[null,null,null,null,{"$f":"IF(D997=\"\",\"\",VLOOKUP(D997,CAD_AREA!$CB$13:$CD$113,3,FALSE))","v":""},null,null,null,null,null,null,null,""]
[null,null,null,null,{"$f":"IF(D998=\"\",\"\",VLOOKUP(D998,CAD_AREA!$CB$13:$CD$113,3,FALSE))","v":""},null,null,null,null,null,null,null,""]
[null,null,null,null,{"$f":"IF(D999=\"\",\"\",VLOOKUP(D999,CAD_AREA!$CB$13:$CD$113,3,FALSE))","v":""},null,null,null,null,null,null,null,""]
[null,null,null,null,{"$f":"IF(D1000=\"\",\"\",VLOOKUP(D1000,CAD_AREA!$CB$13:$CD$113,3,FALSE))","v":""},null,null,null,null,null,null,null,""]
[null,null,null,null,{"$f":"IF(D1001=\"\",\"\",VLOOKUP(D1001,CAD_AREA!$CB$13:$CD$113,3,FALSE))","v":""},null,null,null,null,null,null,null,""]
[null,null,null,null,{"$f":"IF(D1002=\"\",\"\",VLOOKUP(D1002,CAD_AREA!$CB$13:$CD$113,3,FALSE))","v":""},null,null,null,null,null,null,null,""]
[null,null,null,null,{"$f":"IF(D1003=\"\",\"\",VLOOKUP(D1003,CAD_AREA!$CB$13:$CD$113,3,FALSE))","v":""},null,null,null,null,null,null,null,""]
[null,null,null,null,{"$f":"IF(D1004=\"\",\"\",VLOOKUP(D1004,CAD_AREA!$CB$13:$CD$113,3,FALSE))","v":""},null,null,null,null,null,null,null,""]
[null,null,null,null,{"$f":"IF(D1005=\"\",\"\",VLOOKUP(D1005,CAD_AREA!$CB$13:$CD$113,3,FALSE))","v":""},null,null,null,null,null,null,null,""]
[null,null,null,null,{"$f":"IF(D1006=\"\",\"\",VLOOKUP(D1006,CAD_AREA!$CB$13:$CD$113,3,FALSE))","v":""},null,null,null,null,null,null,null,""]
[null,null,null,null,{"$f":"IF(D1007=\"\",\"\",VLOOKUP(D1007,CAD_AREA!$CB$13:$CD$113,3,FALSE))","v":""},null,null,null,null,null,null,null,""]
[null,null,null,null,{"$f":"IF(D1008=\"\",\"\",VLOOKUP(D1008,CAD_AREA!$CB$13:$CD$113,3,FALSE))","v":""},null,null,null,null,null,null,null,""]
[null,null,null,null,{"$f":"IF(D1009=\"\",\"\",VLOOKUP(D1009,CAD_AREA!$CB$13:$CD$113,3,FALSE))","v":""},null,null,null,null,null,null,null,""]
[null,null,null,null,{"$f":"IF(D1010=\"\",\"\",VLOOKUP(D1010,CAD_AREA!$CB$13:$CD$113,3,FALSE))","v":""},null,null,null,null,null,null,null,""]
[null,null,null,null,{"$f":"IF(D1011=\"\",\"\",VLOOKUP(D1011,CAD_AREA!$CB$13:$CD$113,3,FALSE))","v":""},null,null,null,null,null,null,null,""]
[null,null,null,null,{"$f":"IF(D1012=\"\",\"\",VLOOKUP(D1012,CAD_AREA!$CB$13:$CD$113,3,FALSE))","v":""},null,null,null,null,null,null,null,""]
[null,null,null,null,{"$f":"IF(D1013=\"\",\"\",VLOOKUP(D1013,CAD_AREA!$CB$13:$CD$113,3,FALSE))","v":""},null,null,null,null,null,null,null,""]
[null,"a","a","a","a","a","a","a","a","a","a","a",{"$f":"COUNTA($M$13:$M$1013)-COUNTBLANK($M$13:$M$1013)","v":1},"a","a","a"]

{"sheet":"C-E","index":6,"n_rows":1002,"n_cols":24,"rows_kept":1002,"cut":false,"hidden":false,"merged":[]}
[]
[]
[]
[]
[]
[]
[]
[]
[]
[]
[]
[null,"Colaborador","Cargo","Área","Exame","Periodicidade","Data da realização do exame","Resultado","Recomendação Médica","Data da próxima realização","Status",null,null,null,null,null,null,"desempate","data prox realizacao"]
[{"$f":"IF(S13=\"\",\"\",SUM(R13:S13))","v":""},"João Pedro",{"$f":"IF(B13=\"\",\"\",VLOOKUP(B13,CAD_AREA!$CB$13:$CD$113,2,FALSE))","v":"Auxiliar"},{"$f":"IF(B13=\"\",\"\",VLOOKUP(B13,CAD_AREA!$CB$13:$CD$113,3,FALSE))","v":"PROD"},"Audiometria",{"$f":"IF(E13=\"\",\"\",VLOOKUP(E13,PCMSO!$B$13:$E$614,4,FALSE))","v":"Anualmente"},"2020-01-01","O exame não apontou complicações","Ok.",{"$f":"IF(F13=\"\",\"\",VLOOKUP(F13,$N$13:$O$19,2,FALSE)+G13)","v":"2020-12-31"},{"$f":"IF(J13=\"\",\"\",IF(J13-TODAY()<0,\"Vencido\",IF(J13-TODAY()=0,\"Realizar hoje\",\"Realizar em \"&J13-TODAY()&\" dias\")))","v":"Vencido"},{"$f":"IF(G13=\"\",\"\",VLOOKUP(MONTH(G13),'C-A'!$J$13:$K$24,2,FALSE))","v":"Janeiro"},null,"Diariamente",1,null,null,9.9999999999999995E-7,{"$f":"IF(K13=\"Vencido\",\"\",J13)","v":""}]
[{"$f":"IF(S14=\"\",\"\",SUM(R14:S14))","v":""},null,{"$f":"IF(B14=\"\",\"\",VLOOKUP(B14,CAD_AREA!$CB$13:$CD$113,2,FALSE))","v":""},{"$f":"IF(B14=\"\",\"\",VLOOKUP(B14,CAD_AREA!$CB$13:$CD$113,3,FALSE))","v":""},null,{"$f":"IF(E14=\"\",\"\",VLOOKUP(E14,PCMSO!$B$13:$E$614,4,FALSE))","v":""},null,null,null,"",{"$f":"IF(J14=\"\",\"\",IF(J14-TODAY()<0,\"Vencido\",IF(J14-TODAY()=0,\"Realizar hoje\",\"Realizar em \"&J14-TODAY()&\" dias\")))","v":""},{"$f":"IF(G14=\"\",\"\",VLOOKUP(MONTH(G14),'C-A'!$J$13:$K$24,2,FALSE))","v":""},null,"Semanalmente",7,null,null,{"$f":"R13+$R$13","v":1.9999999999999999E-6},""]
["",null,{"$f":"IF(B15=\"\",\"\",VLOOKUP(B15,CAD_AREA!$CB$13:$CD$113,2,FALSE))","v":""},{"$f":"IF(B15=\"\",\"\",VLOOKUP(B15,CAD_AREA!$CB$13:$CD$113,3,FALSE))","v":""},null,{"$f":"IF(E15=\"\",\"\",VLOOKUP(E15,PCMSO!$B$13:$E$614,4,FALSE))","v":""},null,null,null,"","",{"$f":"IF(G15=\"\",\"\",VLOOKUP(MONTH(G15),'C-A'!$J$13:$K$24,2,FALSE))","v":""},null,"Quinzenalmente",15,null,null,{"$f":"R14+$R$13","v":3.0000000000000001E-6},""]
["",null,{"$f":"IF(B16=\"\",\"\",VLOOKUP(B16,CAD_AREA!$CB$13:$CD$113,2,FALSE))","v":""},{"$f":"IF(B16=\"\",\"\",VLOOKUP(B16,CAD_AREA!$CB$13:$CD$113,3,FALSE))","v":""},null,{"$f":"IF(E16=\"\",\"\",VLOOKUP(E16,PCMSO!$B$13:$E$614,4,FALSE))","v":""},null,null,null,"","",{"$f":"IF(G16=\"\",\"\",VLOOKUP(MONTH(G16),'C-A'!$J$13:$K$24,2,FALSE))","v":""},null,"Mensalmente",31,null,null,3.9999999999999998E-6,""]
["",null,{"$f":"IF(B17=\"\",\"\",VLOOKUP(B17,CAD_AREA!$CB$13:$CD$113,2,FALSE))","v":""},{"$f":"IF(B17=\"\",\"\",VLOOKUP(B17,CAD_AREA!$CB$13:$CD$113,3,FALSE))","v":""},null,{"$f":"IF(E17=\"\",\"\",VLOOKUP(E17,PCMSO!$B$13:$E$614,4,FALSE))","v":""},null,null,null,"","",{"$f":"IF(G17=\"\",\"\",VLOOKUP(MONTH(G17),'C-A'!$J$13:$K$24,2,FALSE))","v":""},null,"Trimestralmente",122,null,null,4.9999999999999996E-6,""]
["",null,{"$f":"IF(B18=\"\",\"\",VLOOKUP(B18,CAD_AREA!$CB$13:$CD$113,2,FALSE))","v":""},{"$f":"IF(B18=\"\",\"\",VLOOKUP(B18,CAD_AREA!$CB$13:$CD$113,3,FALSE))","v":""},null,{"$f":"IF(E18=\"\",\"\",VLOOKUP(E18,PCMSO!$B$13:$E$614,4,FALSE))","v":""},null,null,null,"","",{"$f":"IF(G18=\"\",\"\",VLOOKUP(MONTH(G18),'C-A'!$J$13:$K$24,2,FALSE))","v":""},null,"Semestralmente",183,null,null,5.9999999999999993E-6,""]
["",null,{"$f":"IF(B19=\"\",\"\",VLOOKUP(B19,CAD_AREA!$CB$13:$CD$113,2,FALSE))","v":""},{"$f":"IF(B19=\"\",\"\",VLOOKUP(B19,CAD_AREA!$CB$13:$CD$113,3,FALSE))","v":""},null,{"$f":"IF(E19=\"\",\"\",VLOOKUP(E19,PCMSO!$B$13:$E$614,4,FALSE))","v":""},null,null,null,"","",{"$f":"IF(G19=\"\",\"\",VLOOKUP(MONTH(G19),'C-A'!$J$13:$K$24,2,FALSE))","v":""},null,"Anualmente",365,null,null,6.999999999999999E-6,""]
["",null,{"$f":"IF(B20=\"\",\"\",VLOOKUP(B20,CAD_AREA!$CB$13:$CD$113,2,FALSE))","v":""},{"$f":"IF(B20=\"\",\"\",VLOOKUP(B20,CAD_AREA!$CB$13:$CD$113,3,FALSE))","v":""},null,{"$f":"IF(E20=\"\",\"\",VLOOKUP(E20,PCMSO!$B$13:$E$614,4,FALSE))","v":""},null,null,null,"","",{"$f":"IF(G20=\"\",\"\",VLOOKUP(MONTH(G20),'C-A'!$J$13:$K$24,2,FALSE))","v":""},null,null,null,null,null,7.9999999999999996E-6,""]
["",null,{"$f":"IF(B21=\"\",\"\",VLOOKUP(B21,CAD_AREA!$CB$13:$CD$113,2,FALSE))","v":""},{"$f":"IF(B21=\"\",\"\",VLOOKUP(B21,CAD_AREA!$CB$13:$CD$113,3,FALSE))","v":""},null,{"$f":"IF(E21=\"\",\"\",VLOOKUP(E21,PCMSO!$B$13:$E$614,4,FALSE))","v":""},null,null,null,"","",{"$f":"IF(G21=\"\",\"\",VLOOKUP(MONTH(G21),'C-A'!$J$13:$K$24,2,FALSE))","v":""},null,null,null,null,null,9.0000000000000002E-6,""]
["",null,{"$f":"IF(B22=\"\",\"\",VLOOKUP(B22,CAD_AREA!$CB$13:$CD$113,2,FALSE))","v":""},{"$f":"IF(B22=\"\",\"\",VLOOKUP(B22,CAD_AREA!$CB$13:$CD$113,3,FALSE))","v":""},null,{"$f":"IF(E22=\"\",\"\",VLOOKUP(E22,PCMSO!$B$13:$E$614,4,FALSE))","v":""},null,null,null,"","",{"$f":"IF(G22=\"\",\"\",VLOOKUP(MONTH(G22),'C-A'!$J$13:$K$24,2,FALSE))","v":""},null,null,null,null,null,1.0000000000000001E-5,""]
["",null,{"$f":"IF(B23=\"\",\"\",VLOOKUP(B23,CAD_AREA!$CB$13:$CD$113,2,FALSE))","v":""},{"$f":"IF(B23=\"\",\"\",VLOOKUP(B23,CAD_AREA!$CB$13:$CD$113,3,FALSE))","v":""},null,{"$f":"IF(E23=\"\",\"\",VLOOKUP(E23,PCMSO!$B$13:$E$614,4,FALSE))","v":""},null,null,null,"","",{"$f":"IF(G23=\"\",\"\",VLOOKUP(MONTH(G23),'C-A'!$J$13:$K$24,2,FALSE))","v":""},null,null,null,null,null,1.1000000000000001E-5,""]
["",null,{"$f":"IF(B24=\"\",\"\",VLOOKUP(B24,CAD_AREA!$CB$13:$CD$113,2,FALSE))","v":""},{"$f":"IF(B24=\"\",\"\",VLOOKUP(B24,CAD_AREA!$CB$13:$CD$113,3,FALSE))","v":""},null,{"$f":"IF(E24=\"\",\"\",VLOOKUP(E24,PCMSO!$B$13:$E$614,4,FALSE))","v":""},null,null,null,"","",{"$f":"IF(G24=\"\",\"\",VLOOKUP(MONTH(G24),'C-A'!$J$13:$K$24,2,FALSE))","v":""},null,null,null,null,null,1.2000000000000002E-5,""]
["",null,{"$f":"IF(B25=\"\",\"\",VLOOKUP(B25,CAD_AREA!$CB$13:$CD$113,2,FALSE))","v":""},{"$f":"IF(B25=\"\",\"\",VLOOKUP(B25,CAD_AREA!$CB$13:$CD$113,3,FALSE))","v":""},null,{"$f":"IF(E25=\"\",\"\",VLOOKUP(E25,PCMSO!$B$13:$E$614,4,FALSE))","v":""},null,null,null,"","",{"$f":"IF(G25=\"\",\"\",VLOOKUP(MONTH(G25),'C-A'!$J$13:$K$24,2,FALSE))","v":""},null,null,null,null,null,1.3000000000000003E-5,""]
[{"$f":"IF(S26=\"\",\"\",SUM(R26:S26))","v":""},null,{"$f":"IF(B26=\"\",\"\",VLOOKUP(B26,CAD_AREA!$CB$13:$CD$113,2,FALSE))","v":""},{"$f":"IF(B26=\"\",\"\",VLOOKUP(B26,CAD_AREA!$CB$13:$CD$113,3,FALSE))","v":""},null,{"$f":"IF(E26=\"\",\"\",VLOOKUP(E26,PCMSO!$B$13:$E$614,4,FALSE))","v":""},null,null,null,"","",{"$f":"IF(G26=\"\",\"\",VLOOKUP(MONTH(G26),'C-A'!$J$13:$K$24,2,FALSE))","v":""},null,null,null,null,null,1.4000000000000003E-5,""]
["",null,{"$f":"IF(B27=\"\",\"\",VLOOKUP(B27,CAD_AREA!$CB$13:$CD$113,2,FALSE))","v":""},{"$f":"IF(B27=\"\",\"\",VLOOKUP(B27,CAD_AREA!$CB$13:$CD$113,3,FALSE))","v":""},null,{"$f":"IF(E27=\"\",\"\",VLOOKUP(E27,PCMSO!$B$13:$E$614,4,FALSE))","v":""},null,null,null,"","",{"$f":"IF(G27=\"\",\"\",VLOOKUP(MONTH(G27),'C-A'!$J$13:$K$24,2,FALSE))","v":""},null,null,null,null,null,1.5000000000000004E-5,""]
["",null,{"$f":"IF(B28=\"\",\"\",VLOOKUP(B28,CAD_AREA!$CB$13:$CD$113,2,FALSE))","v":""},{"$f":"IF(B28=\"\",\"\",VLOOKUP(B28,CAD_AREA!$CB$13:$CD$113,3,FALSE))","v":""},null,{"$f":"IF(E28=\"\",\"\",VLOOKUP(E28,PCMSO!$B$13:$E$614,4,FALSE))","v":""},null,null,null,"","",{"$f":"IF(G28=\"\",\"\",VLOOKUP(MONTH(G28),'C-A'!$J$13:$K$24,2,FALSE))","v":""},null,null,null,null,null,1.6000000000000003E-5,""]
["",null,{"$f":"IF(B29=\"\",\"\",VLOOKUP(B29,CAD_AREA!$CB$13:$CD$113,2,FALSE))","v":""},{"$f":"IF(B29=\"\",\"\",VLOOKUP(B29,CAD_AREA!$CB$13:$CD$113,3,FALSE))","v":""},null,{"$f":"IF(E29=\"\",\"\",VLOOKUP(E29,PCMSO!$B$13:$E$614,4,FALSE))","v":""},null,null,null,"","",{"$f":"IF(G29=\"\",\"\",VLOOKUP(MONTH(G29),'C-A'!$J$13:$K$24,2,FALSE))","v":""},null,null,null,null,null,1.7000000000000003E-5,""]
["",null,{"$f":"IF(B30=\"\",\"\",VLOOKUP(B30,CAD_AREA!$CB$13:$CD$113,2,FALSE))","v":""},{"$f":"IF(B30=\"\",\"\",VLOOKUP(B30,CAD_AREA!$CB$13:$CD$113,3,FALSE))","v":""},null,{"$f":"IF(E30=\"\",\"\",VLOOKUP(E30,PCMSO!$B$13:$E$614,4,FALSE))","v":""},null,null,null,"","",{"$f":"IF(G30=\"\",\"\",VLOOKUP(MONTH(G30),'C-A'!$J$13:$K$24,2,FALSE))","v":""},null,null,null,null,null,1.8000000000000004E-5,""]
["",null,{"$f":"IF(B31=\"\",\"\",VLOOKUP(B31,CAD_AREA!$CB$13:$CD$113,2,FALSE))","v":""},{"$f":"IF(B31=\"\",\"\",VLOOKUP(B31,CAD_AREA!$CB$13:$CD$113,3,FALSE))","v":""},null,{"$f":"IF(E31=\"\",\"\",VLOOKUP(E31,PCMSO!$B$13:$E$614,4,FALSE))","v":""},null,null,null,"","",{"$f":"IF(G31=\"\",\"\",VLOOKUP(MONTH(G31),'C-A'!$J$13:$K$24,2,FALSE))","v":""},null,null,null,null,null,1.9000000000000004E-5,""]
["",null,{"$f":"IF(B32=\"\",\"\",VLOOKUP(B32,CAD_AREA!$CB$13:$CD$113,2,FALSE))","v":""},{"$f":"IF(B32=\"\",\"\",VLOOKUP(B32,CAD_AREA!$CB$13:$CD$113,3,FALSE))","v":""},null,{"$f":"IF(E32=\"\",\"\",VLOOKUP(E32,PCMSO!$B$13:$E$614,4,FALSE))","v":""},null,null,null,"","",{"$f":"IF(G32=\"\",\"\",VLOOKUP(MONTH(G32),'C-A'!$J$13:$K$24,2,FALSE))","v":""},null,null,null,null,null,2.0000000000000005E-5,""]
["",null,{"$f":"IF(B33=\"\",\"\",VLOOKUP(B33,CAD_AREA!$CB$13:$CD$113,2,FALSE))","v":""},{"$f":"IF(B33=\"\",\"\",VLOOKUP(B33,CAD_AREA!$CB$13:$CD$113,3,FALSE))","v":""},null,{"$f":"IF(E33=\"\",\"\",VLOOKUP(E33,PCMSO!$B$13:$E$614,4,FALSE))","v":""},null,null,null,"","",{"$f":"IF(G33=\"\",\"\",VLOOKUP(MONTH(G33),'C-A'!$J$13:$K$24,2,FALSE))","v":""},null,null,null,null,null,2.1000000000000006E-5,""]
["",null,{"$f":"IF(B34=\"\",\"\",VLOOKUP(B34,CAD_AREA!$CB$13:$CD$113,2,FALSE))","v":""},{"$f":"IF(B34=\"\",\"\",VLOOKUP(B34,CAD_AREA!$CB$13:$CD$113,3,FALSE))","v":""},null,{"$f":"IF(E34=\"\",\"\",VLOOKUP(E34,PCMSO!$B$13:$E$614,4,FALSE))","v":""},null,null,null,"","",{"$f":"IF(G34=\"\",\"\",VLOOKUP(MONTH(G34),'C-A'!$J$13:$K$24,2,FALSE))","v":""},null,null,null,null,null,2.2000000000000006E-5,""]
["",null,{"$f":"IF(B35=\"\",\"\",VLOOKUP(B35,CAD_AREA!$CB$13:$CD$113,2,FALSE))","v":""},{"$f":"IF(B35=\"\",\"\",VLOOKUP(B35,CAD_AREA!$CB$13:$CD$113,3,FALSE))","v":""},null,{"$f":"IF(E35=\"\",\"\",VLOOKUP(E35,PCMSO!$B$13:$E$614,4,FALSE))","v":""},null,null,null,"","",{"$f":"IF(G35=\"\",\"\",VLOOKUP(MONTH(G35),'C-A'!$J$13:$K$24,2,FALSE))","v":""},null,null,null,null,null,2.3000000000000007E-5,""]
["",null,{"$f":"IF(B36=\"\",\"\",VLOOKUP(B36,CAD_AREA!$CB$13:$CD$113,2,FALSE))","v":""},{"$f":"IF(B36=\"\",\"\",VLOOKUP(B36,CAD_AREA!$CB$13:$CD$113,3,FALSE))","v":""},null,{"$f":"IF(E36=\"\",\"\",VLOOKUP(E36,PCMSO!$B$13:$E$614,4,FALSE))","v":""},null,null,null,"","",{"$f":"IF(G36=\"\",\"\",VLOOKUP(MONTH(G36),'C-A'!$J$13:$K$24,2,FALSE))","v":""},null,null,null,null,null,2.4000000000000007E-5,""]
["",null,{"$f":"IF(B37=\"\",\"\",VLOOKUP(B37,CAD_AREA!$CB$13:$CD$113,2,FALSE))","v":""},{"$f":"IF(B37=\"\",\"\",VLOOKUP(B37,CAD_AREA!$CB$13:$CD$113,3,FALSE))","v":""},null,{"$f":"IF(E37=\"\",\"\",VLOOKUP(E37,PCMSO!$B$13:$E$614,4,FALSE))","v":""},null,null,null,"","",{"$f":"IF(G37=\"\",\"\",VLOOKUP(MONTH(G37),'C-A'!$J$13:$K$24,2,FALSE))","v":""},null,null,null,null,null,2.5000000000000008E-5,""]
["",null,{"$f":"IF(B38=\"\",\"\",VLOOKUP(B38,CAD_AREA!$CB$13:$CD$113,2,FALSE))","v":""},{"$f":"IF(B38=\"\",\"\",VLOOKUP(B38,CAD_AREA!$CB$13:$CD$113,3,FALSE))","v":""},null,{"$f":"IF(E38=\"\",\"\",VLOOKUP(E38,PCMSO!$B$13:$E$614,4,FALSE))","v":""},null,null,null,"","",{"$f":"IF(G38=\"\",\"\",VLOOKUP(MONTH(G38),'C-A'!$J$13:$K$24,2,FALSE))","v":""},null,null,null,null,null,2.6000000000000009E-5,""]
["",null,{"$f":"IF(B39=\"\",\"\",VLOOKUP(B39,CAD_AREA!$CB$13:$CD$113,2,FALSE))","v":""},{"$f":"IF(B39=\"\",\"\",VLOOKUP(B39,CAD_AREA!$CB$13:$CD$113,3,FALSE))","v":""},null,{"$f":"IF(E39=\"\",\"\",VLOOKUP(E39,PCMSO!$B$13:$E$614,4,FALSE))","v":""},null,null,null,"","",{"$f":"IF(G39=\"\",\"\",VLOOKUP(MONTH(G39),'C-A'!$J$13:$K$24,2,FALSE))","v":""},null,null,null,null,null,2.7000000000000009E-5,""]
["",null,{"$f":"IF(B40=\"\",\"\",VLOOKUP(B40,CAD_AREA!$CB$13:$CD$113,2,FALSE))","v":""},{"$f":"IF(B40=\"\",\"\",VLOOKUP(B40,CAD_AREA!$CB$13:$CD$113,3,FALSE))","v":""},null,{"$f":"IF(E40=\"\",\"\",VLOOKUP(E40,PCMSO!$B$13:$E$614,4,FALSE))","v":""},null,null,null,"","",{"$f":"IF(G40=\"\",\"\",VLOOKUP(MONTH(G40),'C-A'!$J$13:$K$24,2,FALSE))","v":""},null,null,null,null,null,2.800000000000001E-5,""]
["",null,{"$f":"IF(B41=\"\",\"\",VLOOKUP(B41,CAD_AREA!$CB$13:$CD$113,2,FALSE))","v":""},{"$f":"IF(B41=\"\",\"\",VLOOKUP(B41,CAD_AREA!$CB$13:$CD$113,3,FALSE))","v":""},null,{"$f":"IF(E41=\"\",\"\",VLOOKUP(E41,PCMSO!$B$13:$E$614,4,FALSE))","v":""},null,null,null,"","",{"$f":"IF(G41=\"\",\"\",VLOOKUP(MONTH(G41),'C-A'!$J$13:$K$24,2,FALSE))","v":""},null,null,null,null,null,2.900000000000001E-5,""]
["",null,{"$f":"IF(B42=\"\",\"\",VLOOKUP(B42,CAD_AREA!$CB$13:$CD$113,2,FALSE))","v":""},{"$f":"IF(B42=\"\",\"\",VLOOKUP(B42,CAD_AREA!$CB$13:$CD$113,3,FALSE))","v":""},null,{"$f":"IF(E42=\"\",\"\",VLOOKUP(E42,PCMSO!$B$13:$E$614,4,FALSE))","v":""},null,null,null,"","",{"$f":"IF(G42=\"\",\"\",VLOOKUP(MONTH(G42),'C-A'!$J$13:$K$24,2,FALSE))","v":""},null,null,null,null,null,3.0000000000000011E-5,""]
["",null,{"$f":"IF(B43=\"\",\"\",VLOOKUP(B43,CAD_AREA!$CB$13:$CD$113,2,FALSE))","v":""},{"$f":"IF(B43=\"\",\"\",VLOOKUP(B43,CAD_AREA!$CB$13:$CD$113,3,FALSE))","v":""},null,{"$f":"IF(E43=\"\",\"\",VLOOKUP(E43,PCMSO!$B$13:$E$614,4,FALSE))","v":""},null,null,null,"","",{"$f":"IF(G43=\"\",\"\",VLOOKUP(MONTH(G43),'C-A'!$J$13:$K$24,2,FALSE))","v":""},null,null,null,null,null,3.1000000000000008E-5,""]
["",null,{"$f":"IF(B44=\"\",\"\",VLOOKUP(B44,CAD_AREA!$CB$13:$CD$113,2,FALSE))","v":""},{"$f":"IF(B44=\"\",\"\",VLOOKUP(B44,CAD_AREA!$CB$13:$CD$113,3,FALSE))","v":""},null,{"$f":"IF(E44=\"\",\"\",VLOOKUP(E44,PCMSO!$B$13:$E$614,4,FALSE))","v":""},null,null,null,"","",{"$f":"IF(G44=\"\",\"\",VLOOKUP(MONTH(G44),'C-A'!$J$13:$K$24,2,FALSE))","v":""},null,null,null,null,null,3.2000000000000005E-5,""]
["",null,{"$f":"IF(B45=\"\",\"\",VLOOKUP(B45,CAD_AREA!$CB$13:$CD$113,2,FALSE))","v":""},{"$f":"IF(B45=\"\",\"\",VLOOKUP(B45,CAD_AREA!$CB$13:$CD$113,3,FALSE))","v":""},null,{"$f":"IF(E45=\"\",\"\",VLOOKUP(E45,PCMSO!$B$13:$E$614,4,FALSE))","v":""},null,null,null,"","",{"$f":"IF(G45=\"\",\"\",VLOOKUP(MONTH(G45),'C-A'!$J$13:$K$24,2,FALSE))","v":""},null,null,null,null,null,3.3000000000000003E-5,""]
["",null,{"$f":"IF(B46=\"\",\"\",VLOOKUP(B46,CAD_AREA!$CB$13:$CD$113,2,FALSE))","v":""},{"$f":"IF(B46=\"\",\"\",VLOOKUP(B46,CAD_AREA!$CB$13:$CD$113,3,FALSE))","v":""},null,{"$f":"IF(E46=\"\",\"\",VLOOKUP(E46,PCMSO!$B$13:$E$614,4,FALSE))","v":""},null,null,null,"","",{"$f":"IF(G46=\"\",\"\",VLOOKUP(MONTH(G46),'C-A'!$J$13:$K$24,2,FALSE))","v":""},null,null,null,null,null,3.4E-5,""]
["",null,{"$f":"IF(B47=\"\",\"\",VLOOKUP(B47,CAD_AREA!$CB$13:$CD$113,2,FALSE))","v":""},{"$f":"IF(B47=\"\",\"\",VLOOKUP(B47,CAD_AREA!$CB$13:$CD$113,3,FALSE))","v":""},null,{"$f":"IF(E47=\"\",\"\",VLOOKUP(E47,PCMSO!$B$13:$E$614,4,FALSE))","v":""},null,null,null,"","",{"$f":"IF(G47=\"\",\"\",VLOOKUP(MONTH(G47),'C-A'!$J$13:$K$24,2,FALSE))","v":""},null,null,null,null,null,3.4999999999999997E-5,""]
["",null,{"$f":"IF(B48=\"\",\"\",VLOOKUP(B48,CAD_AREA!$CB$13:$CD$113,2,FALSE))","v":""},{"$f":"IF(B48=\"\",\"\",VLOOKUP(B48,CAD_AREA!$CB$13:$CD$113,3,FALSE))","v":""},null,{"$f":"IF(E48=\"\",\"\",VLOOKUP(E48,PCMSO!$B$13:$E$614,4,FALSE))","v":""},null,null,null,"","",{"$f":"IF(G48=\"\",\"\",VLOOKUP(MONTH(G48),'C-A'!$J$13:$K$24,2,FALSE))","v":""},null,null,null,null,null,3.5999999999999994E-5,""]
["",null,{"$f":"IF(B49=\"\",\"\",VLOOKUP(B49,CAD_AREA!$CB$13:$CD$113,2,FALSE))","v":""},{"$f":"IF(B49=\"\",\"\",VLOOKUP(B49,CAD_AREA!$CB$13:$CD$113,3,FALSE))","v":""},null,{"$f":"IF(E49=\"\",\"\",VLOOKUP(E49,PCMSO!$B$13:$E$614,4,FALSE))","v":""},null,null,null,"","",{"$f":"IF(G49=\"\",\"\",VLOOKUP(MONTH(G49),'C-A'!$J$13:$K$24,2,FALSE))","v":""},null,null,null,null,null,3.6999999999999991E-5,""]
["",null,{"$f":"IF(B50=\"\",\"\",VLOOKUP(B50,CAD_AREA!$CB$13:$CD$113,2,FALSE))","v":""},{"$f":"IF(B50=\"\",\"\",VLOOKUP(B50,CAD_AREA!$CB$13:$CD$113,3,FALSE))","v":""},null,{"$f":"IF(E50=\"\",\"\",VLOOKUP(E50,PCMSO!$B$13:$E$614,4,FALSE))","v":""},null,null,null,"","",{"$f":"IF(G50=\"\",\"\",VLOOKUP(MONTH(G50),'C-A'!$J$13:$K$24,2,FALSE))","v":""},null,null,null,null,null,3.7999999999999989E-5,""]
["",null,{"$f":"IF(B51=\"\",\"\",VLOOKUP(B51,CAD_AREA!$CB$13:$CD$113,2,FALSE))","v":""},{"$f":"IF(B51=\"\",\"\",VLOOKUP(B51,CAD_AREA!$CB$13:$CD$113,3,FALSE))","v":""},null,{"$f":"IF(E51=\"\",\"\",VLOOKUP(E51,PCMSO!$B$13:$E$614,4,FALSE))","v":""},null,null,null,"","",{"$f":"IF(G51=\"\",\"\",VLOOKUP(MONTH(G51),'C-A'!$J$13:$K$24,2,FALSE))","v":""},null,null,null,null,null,3.8999999999999986E-5,""]
["",null,{"$f":"IF(B52=\"\",\"\",VLOOKUP(B52,CAD_AREA!$CB$13:$CD$113,2,FALSE))","v":""},{"$f":"IF(B52=\"\",\"\",VLOOKUP(B52,CAD_AREA!$CB$13:$CD$113,3,FALSE))","v":""},null,{"$f":"IF(E52=\"\",\"\",VLOOKUP(E52,PCMSO!$B$13:$E$614,4,FALSE))","v":""},null,null,null,"","",{"$f":"IF(G52=\"\",\"\",VLOOKUP(MONTH(G52),'C-A'!$J$13:$K$24,2,FALSE))","v":""},null,null,null,null,null,3.9999999999999983E-5,""]
["",null,{"$f":"IF(B53=\"\",\"\",VLOOKUP(B53,CAD_AREA!$CB$13:$CD$113,2,FALSE))","v":""},{"$f":"IF(B53=\"\",\"\",VLOOKUP(B53,CAD_AREA!$CB$13:$CD$113,3,FALSE))","v":""},null,{"$f":"IF(E53=\"\",\"\",VLOOKUP(E53,PCMSO!$B$13:$E$614,4,FALSE))","v":""},null,null,null,"","",{"$f":"IF(G53=\"\",\"\",VLOOKUP(MONTH(G53),'C-A'!$J$13:$K$24,2,FALSE))","v":""},null,null,null,null,null,4.099999999999998E-5,""]
["",null,{"$f":"IF(B54=\"\",\"\",VLOOKUP(B54,CAD_AREA!$CB$13:$CD$113,2,FALSE))","v":""},{"$f":"IF(B54=\"\",\"\",VLOOKUP(B54,CAD_AREA!$CB$13:$CD$113,3,FALSE))","v":""},null,{"$f":"IF(E54=\"\",\"\",VLOOKUP(E54,PCMSO!$B$13:$E$614,4,FALSE))","v":""},null,null,null,"","",{"$f":"IF(G54=\"\",\"\",VLOOKUP(MONTH(G54),'C-A'!$J$13:$K$24,2,FALSE))","v":""},null,null,null,null,null,4.1999999999999977E-5,""]
["",null,{"$f":"IF(B55=\"\",\"\",VLOOKUP(B55,CAD_AREA!$CB$13:$CD$113,2,FALSE))","v":""},{"$f":"IF(B55=\"\",\"\",VLOOKUP(B55,CAD_AREA!$CB$13:$CD$113,3,FALSE))","v":""},null,{"$f":"IF(E55=\"\",\"\",VLOOKUP(E55,PCMSO!$B$13:$E$614,4,FALSE))","v":""},null,null,null,"","",{"$f":"IF(G55=\"\",\"\",VLOOKUP(MONTH(G55),'C-A'!$J$13:$K$24,2,FALSE))","v":""},null,null,null,null,null,4.2999999999999975E-5,""]
["",null,{"$f":"IF(B56=\"\",\"\",VLOOKUP(B56,CAD_AREA!$CB$13:$CD$113,2,FALSE))","v":""},{"$f":"IF(B56=\"\",\"\",VLOOKUP(B56,CAD_AREA!$CB$13:$CD$113,3,FALSE))","v":""},null,{"$f":"IF(E56=\"\",\"\",VLOOKUP(E56,PCMSO!$B$13:$E$614,4,FALSE))","v":""},null,null,null,"","",{"$f":"IF(G56=\"\",\"\",VLOOKUP(MONTH(G56),'C-A'!$J$13:$K$24,2,FALSE))","v":""},null,null,null,null,null,4.3999999999999972E-5,""]
["",null,{"$f":"IF(B57=\"\",\"\",VLOOKUP(B57,CAD_AREA!$CB$13:$CD$113,2,FALSE))","v":""},{"$f":"IF(B57=\"\",\"\",VLOOKUP(B57,CAD_AREA!$CB$13:$CD$113,3,FALSE))","v":""},null,{"$f":"IF(E57=\"\",\"\",VLOOKUP(E57,PCMSO!$B$13:$E$614,4,FALSE))","v":""},null,null,null,"","",{"$f":"IF(G57=\"\",\"\",VLOOKUP(MONTH(G57),'C-A'!$J$13:$K$24,2,FALSE))","v":""},null,null,null,null,null,4.4999999999999969E-5,""]
["",null,{"$f":"IF(B58=\"\",\"\",VLOOKUP(B58,CAD_AREA!$CB$13:$CD$113,2,FALSE))","v":""},{"$f":"IF(B58=\"\",\"\",VLOOKUP(B58,CAD_AREA!$CB$13:$CD$113,3,FALSE))","v":""},null,{"$f":"IF(E58=\"\",\"\",VLOOKUP(E58,PCMSO!$B$13:$E$614,4,FALSE))","v":""},null,null,null,"","",{"$f":"IF(G58=\"\",\"\",VLOOKUP(MONTH(G58),'C-A'!$J$13:$K$24,2,FALSE))","v":""},null,null,null,null,null,4.5999999999999966E-5,""]
["",null,{"$f":"IF(B59=\"\",\"\",VLOOKUP(B59,CAD_AREA!$CB$13:$CD$113,2,FALSE))","v":""},{"$f":"IF(B59=\"\",\"\",VLOOKUP(B59,CAD_AREA!$CB$13:$CD$113,3,FALSE))","v":""},null,{"$f":"IF(E59=\"\",\"\",VLOOKUP(E59,PCMSO!$B$13:$E$614,4,FALSE))","v":""},null,null,null,"","",{"$f":"IF(G59=\"\",\"\",VLOOKUP(MONTH(G59),'C-A'!$J$13:$K$24,2,FALSE))","v":""},null,null,null,null,null,4.6999999999999963E-5,""]
["",null,{"$f":"IF(B60=\"\",\"\",VLOOKUP(B60,CAD_AREA!$CB$13:$CD$113,2,FALSE))","v":""},{"$f":"IF(B60=\"\",\"\",VLOOKUP(B60,CAD_AREA!$CB$13:$CD$113,3,FALSE))","v":""},null,{"$f":"IF(E60=\"\",\"\",VLOOKUP(E60,PCMSO!$B$13:$E$614,4,FALSE))","v":""},null,null,null,"","",{"$f":"IF(G60=\"\",\"\",VLOOKUP(MONTH(G60),'C-A'!$J$13:$K$24,2,FALSE))","v":""},null,null,null,null,null,4.7999999999999961E-5,""]
["",null,{"$f":"IF(B61=\"\",\"\",VLOOKUP(B61,CAD_AREA!$CB$13:$CD$113,2,FALSE))","v":""},{"$f":"IF(B61=\"\",\"\",VLOOKUP(B61,CAD_AREA!$CB$13:$CD$113,3,FALSE))","v":""},null,{"$f":"IF(E61=\"\",\"\",VLOOKUP(E61,PCMSO!$B$13:$E$614,4,FALSE))","v":""},null,null,null,"","",{"$f":"IF(G61=\"\",\"\",VLOOKUP(MONTH(G61),'C-A'!$J$13:$K$24,2,FALSE))","v":""},null,null,null,null,null,4.8999999999999958E-5,""]
["",null,{"$f":"IF(B62=\"\",\"\",VLOOKUP(B62,CAD_AREA!$CB$13:$CD$113,2,FALSE))","v":""},{"$f":"IF(B62=\"\",\"\",VLOOKUP(B62,CAD_AREA!$CB$13:$CD$113,3,FALSE))","v":""},null,{"$f":"IF(E62=\"\",\"\",VLOOKUP(E62,PCMSO!$B$13:$E$614,4,FALSE))","v":""},null,null,null,"","",{"$f":"IF(G62=\"\",\"\",VLOOKUP(MONTH(G62),'C-A'!$J$13:$K$24,2,FALSE))","v":""},null,null,null,null,null,4.9999999999999955E-5,""]
["",null,{"$f":"IF(B63=\"\",\"\",VLOOKUP(B63,CAD_AREA!$CB$13:$CD$113,2,FALSE))","v":""},{"$f":"IF(B63=\"\",\"\",VLOOKUP(B63,CAD_AREA!$CB$13:$CD$113,3,FALSE))","v":""},null,{"$f":"IF(E63=\"\",\"\",VLOOKUP(E63,PCMSO!$B$13:$E$614,4,FALSE))","v":""},null,null,null,"","",{"$f":"IF(G63=\"\",\"\",VLOOKUP(MONTH(G63),'C-A'!$J$13:$K$24,2,FALSE))","v":""},null,null,null,null,null,5.0999999999999952E-5,""]
["",null,{"$f":"IF(B64=\"\",\"\",VLOOKUP(B64,CAD_AREA!$CB$13:$CD$113,2,FALSE))","v":""},{"$f":"IF(B64=\"\",\"\",VLOOKUP(B64,CAD_AREA!$CB$13:$CD$113,3,FALSE))","v":""},null,{"$f":"IF(E64=\"\",\"\",VLOOKUP(E64,PCMSO!$B$13:$E$614,4,FALSE))","v":""},null,null,null,"","",{"$f":"IF(G64=\"\",\"\",VLOOKUP(MONTH(G64),'C-A'!$J$13:$K$24,2,FALSE))","v":""},null,null,null,null,null,5.1999999999999949E-5,""]
["",null,{"$f":"IF(B65=\"\",\"\",VLOOKUP(B65,CAD_AREA!$CB$13:$CD$113,2,FALSE))","v":""},{"$f":"IF(B65=\"\",\"\",VLOOKUP(B65,CAD_AREA!$CB$13:$CD$113,3,FALSE))","v":""},null,{"$f":"IF(E65=\"\",\"\",VLOOKUP(E65,PCMSO!$B$13:$E$614,4,FALSE))","v":""},null,null,null,"","",{"$f":"IF(G65=\"\",\"\",VLOOKUP(MONTH(G65),'C-A'!$J$13:$K$24,2,FALSE))","v":""},null,null,null,null,null,5.2999999999999947E-5,""]
["",null,{"$f":"IF(B66=\"\",\"\",VLOOKUP(B66,CAD_AREA!$CB$13:$CD$113,2,FALSE))","v":""},{"$f":"IF(B66=\"\",\"\",VLOOKUP(B66,CAD_AREA!$CB$13:$CD$113,3,FALSE))","v":""},null,{"$f":"IF(E66=\"\",\"\",VLOOKUP(E66,PCMSO!$B$13:$E$614,4,FALSE))","v":""},null,null,null,"","",{"$f":"IF(G66=\"\",\"\",VLOOKUP(MONTH(G66),'C-A'!$J$13:$K$24,2,FALSE))","v":""},null,null,null,null,null,5.3999999999999944E-5,""]
["",null,{"$f":"IF(B67=\"\",\"\",VLOOKUP(B67,CAD_AREA!$CB$13:$CD$113,2,FALSE))","v":""},{"$f":"IF(B67=\"\",\"\",VLOOKUP(B67,CAD_AREA!$CB$13:$CD$113,3,FALSE))","v":""},null,{"$f":"IF(E67=\"\",\"\",VLOOKUP(E67,PCMSO!$B$13:$E$614,4,FALSE))","v":""},null,null,null,"","",{"$f":"IF(G67=\"\",\"\",VLOOKUP(MONTH(G67),'C-A'!$J$13:$K$24,2,FALSE))","v":""},null,null,null,null,null,5.4999999999999941E-5,""]
["",null,{"$f":"IF(B68=\"\",\"\",VLOOKUP(B68,CAD_AREA!$CB$13:$CD$113,2,FALSE))","v":""},{"$f":"IF(B68=\"\",\"\",VLOOKUP(B68,CAD_AREA!$CB$13:$CD$113,3,FALSE))","v":""},null,{"$f":"IF(E68=\"\",\"\",VLOOKUP(E68,PCMSO!$B$13:$E$614,4,FALSE))","v":""},null,null,null,"","",{"$f":"IF(G68=\"\",\"\",VLOOKUP(MONTH(G68),'C-A'!$J$13:$K$24,2,FALSE))","v":""},null,null,null,null,null,5.5999999999999938E-5,""]
["",null,{"$f":"IF(B69=\"\",\"\",VLOOKUP(B69,CAD_AREA!$CB$13:$CD$113,2,FALSE))","v":""},{"$f":"IF(B69=\"\",\"\",VLOOKUP(B69,CAD_AREA!$CB$13:$CD$113,3,FALSE))","v":""},null,{"$f":"IF(E69=\"\",\"\",VLOOKUP(E69,PCMSO!$B$13:$E$614,4,FALSE))","v":""},null,null,null,"","",{"$f":"IF(G69=\"\",\"\",VLOOKUP(MONTH(G69),'C-A'!$J$13:$K$24,2,FALSE))","v":""},null,null,null,null,null,5.6999999999999935E-5,""]
["",null,{"$f":"IF(B70=\"\",\"\",VLOOKUP(B70,CAD_AREA!$CB$13:$CD$113,2,FALSE))","v":""},{"$f":"IF(B70=\"\",\"\",VLOOKUP(B70,CAD_AREA!$CB$13:$CD$113,3,FALSE))","v":""},null,{"$f":"IF(E70=\"\",\"\",VLOOKUP(E70,PCMSO!$B$13:$E$614,4,FALSE))","v":""},null,null,null,"","",{"$f":"IF(G70=\"\",\"\",VLOOKUP(MONTH(G70),'C-A'!$J$13:$K$24,2,FALSE))","v":""},null,null,null,null,null,5.7999999999999933E-5,""]
["",null,{"$f":"IF(B71=\"\",\"\",VLOOKUP(B71,CAD_AREA!$CB$13:$CD$113,2,FALSE))","v":""},{"$f":"IF(B71=\"\",\"\",VLOOKUP(B71,CAD_AREA!$CB$13:$CD$113,3,FALSE))","v":""},null,{"$f":"IF(E71=\"\",\"\",VLOOKUP(E71,PCMSO!$B$13:$E$614,4,FALSE))","v":""},null,null,null,"","",{"$f":"IF(G71=\"\",\"\",VLOOKUP(MONTH(G71),'C-A'!$J$13:$K$24,2,FALSE))","v":""},null,null,null,null,null,5.899999999999993E-5,""]
["",null,{"$f":"IF(B72=\"\",\"\",VLOOKUP(B72,CAD_AREA!$CB$13:$CD$113,2,FALSE))","v":""},{"$f":"IF(B72=\"\",\"\",VLOOKUP(B72,CAD_AREA!$CB$13:$CD$113,3,FALSE))","v":""},null,{"$f":"IF(E72=\"\",\"\",VLOOKUP(E72,PCMSO!$B$13:$E$614,4,FALSE))","v":""},null,null,null,"","",{"$f":"IF(G72=\"\",\"\",VLOOKUP(MONTH(G72),'C-A'!$J$13:$K$24,2,FALSE))","v":""},null,null,null,null,null,5.9999999999999927E-5,""]
["",null,{"$f":"IF(B73=\"\",\"\",VLOOKUP(B73,CAD_AREA!$CB$13:$CD$113,2,FALSE))","v":""},{"$f":"IF(B73=\"\",\"\",VLOOKUP(B73,CAD_AREA!$CB$13:$CD$113,3,FALSE))","v":""},null,{"$f":"IF(E73=\"\",\"\",VLOOKUP(E73,PCMSO!$B$13:$E$614,4,FALSE))","v":""},null,null,null,"","",{"$f":"IF(G73=\"\",\"\",VLOOKUP(MONTH(G73),'C-A'!$J$13:$K$24,2,FALSE))","v":""},null,null,null,null,null,6.0999999999999924E-5,""]
["",null,{"$f":"IF(B74=\"\",\"\",VLOOKUP(B74,CAD_AREA!$CB$13:$CD$113,2,FALSE))","v":""},{"$f":"IF(B74=\"\",\"\",VLOOKUP(B74,CAD_AREA!$CB$13:$CD$113,3,FALSE))","v":""},null,{"$f":"IF(E74=\"\",\"\",VLOOKUP(E74,PCMSO!$B$13:$E$614,4,FALSE))","v":""},null,null,null,"","",{"$f":"IF(G74=\"\",\"\",VLOOKUP(MONTH(G74),'C-A'!$J$13:$K$24,2,FALSE))","v":""},null,null,null,null,null,6.1999999999999921E-5,""]
["",null,{"$f":"IF(B75=\"\",\"\",VLOOKUP(B75,CAD_AREA!$CB$13:$CD$113,2,FALSE))","v":""},{"$f":"IF(B75=\"\",\"\",VLOOKUP(B75,CAD_AREA!$CB$13:$CD$113,3,FALSE))","v":""},null,{"$f":"IF(E75=\"\",\"\",VLOOKUP(E75,PCMSO!$B$13:$E$614,4,FALSE))","v":""},null,null,null,"","",{"$f":"IF(G75=\"\",\"\",VLOOKUP(MONTH(G75),'C-A'!$J$13:$K$24,2,FALSE))","v":""},null,null,null,null,null,6.2999999999999919E-5,""]
["",null,{"$f":"IF(B76=\"\",\"\",VLOOKUP(B76,CAD_AREA!$CB$13:$CD$113,2,FALSE))","v":""},{"$f":"IF(B76=\"\",\"\",VLOOKUP(B76,CAD_AREA!$CB$13:$CD$113,3,FALSE))","v":""},null,{"$f":"IF(E76=\"\",\"\",VLOOKUP(E76,PCMSO!$B$13:$E$614,4,FALSE))","v":""},null,null,null,"","",{"$f":"IF(G76=\"\",\"\",VLOOKUP(MONTH(G76),'C-A'!$J$13:$K$24,2,FALSE))","v":""},null,null,null,null,null,6.3999999999999916E-5,""]
["",null,{"$f":"IF(B77=\"\",\"\",VLOOKUP(B77,CAD_AREA!$CB$13:$CD$113,2,FALSE))","v":""},{"$f":"IF(B77=\"\",\"\",VLOOKUP(B77,CAD_AREA!$CB$13:$CD$113,3,FALSE))","v":""},null,{"$f":"IF(E77=\"\",\"\",VLOOKUP(E77,PCMSO!$B$13:$E$614,4,FALSE))","v":""},null,null,null,{"$f":"IF(F77=\"\",\"\",VLOOKUP(F77,$N$13:$O$19,2,FALSE)+G77)","v":""},"",{"$f":"IF(G77=\"\",\"\",VLOOKUP(MONTH(G77),'C-A'!$J$13:$K$24,2,FALSE))","v":""},null,null,null,null,null,6.4999999999999913E-5,{"$f":"IF(K77=\"Vencido\",\"\",J77)","v":""}]
["",null,{"$f":"IF(B78=\"\",\"\",VLOOKUP(B78,CAD_AREA!$CB$13:$CD$113,2,FALSE))","v":""},{"$f":"IF(B78=\"\",\"\",VLOOKUP(B78,CAD_AREA!$CB$13:$CD$113,3,FALSE))","v":""},null,{"$f":"IF(E78=\"\",\"\",VLOOKUP(E78,PCMSO!$B$13:$E$614,4,FALSE))","v":""},null,null,null,"",{"$f":"IF(J78=\"\",\"\",IF(J78-TODAY()<0,\"Vencido\",IF(J78-TODAY()=0,\"Realizar hoje\",\"Realizar em \"&J78-TODAY()&\" dias\")))","v":""},{"$f":"IF(G78=\"\",\"\",VLOOKUP(MONTH(G78),'C-A'!$J$13:$K$24,2,FALSE))","v":""},null,null,null,null,null,6.599999999999991E-5,""]
["",null,{"$f":"IF(B79=\"\",\"\",VLOOKUP(B79,CAD_AREA!$CB$13:$CD$113,2,FALSE))","v":""},{"$f":"IF(B79=\"\",\"\",VLOOKUP(B79,CAD_AREA!$CB$13:$CD$113,3,FALSE))","v":""},null,{"$f":"IF(E79=\"\",\"\",VLOOKUP(E79,PCMSO!$B$13:$E$614,4,FALSE))","v":""},null,null,null,"","",{"$f":"IF(G79=\"\",\"\",VLOOKUP(MONTH(G79),'C-A'!$J$13:$K$24,2,FALSE))","v":""},null,null,null,null,null,{"$f":"R78+$R$13","v":6.6999999999999907E-5},""]
["",null,{"$f":"IF(B80=\"\",\"\",VLOOKUP(B80,CAD_AREA!$CB$13:$CD$113,2,FALSE))","v":""},{"$f":"IF(B80=\"\",\"\",VLOOKUP(B80,CAD_AREA!$CB$13:$CD$113,3,FALSE))","v":""},null,{"$f":"IF(E80=\"\",\"\",VLOOKUP(E80,PCMSO!$B$13:$E$614,4,FALSE))","v":""},null,null,null,"","",{"$f":"IF(G80=\"\",\"\",VLOOKUP(MONTH(G80),'C-A'!$J$13:$K$24,2,FALSE))","v":""},null,null,null,null,null,6.7999999999999905E-5,""]
["",null,{"$f":"IF(B81=\"\",\"\",VLOOKUP(B81,CAD_AREA!$CB$13:$CD$113,2,FALSE))","v":""},{"$f":"IF(B81=\"\",\"\",VLOOKUP(B81,CAD_AREA!$CB$13:$CD$113,3,FALSE))","v":""},null,{"$f":"IF(E81=\"\",\"\",VLOOKUP(E81,PCMSO!$B$13:$E$614,4,FALSE))","v":""},null,null,null,"","",{"$f":"IF(G81=\"\",\"\",VLOOKUP(MONTH(G81),'C-A'!$J$13:$K$24,2,FALSE))","v":""},null,null,null,null,null,6.8999999999999902E-5,""]
["",null,{"$f":"IF(B82=\"\",\"\",VLOOKUP(B82,CAD_AREA!$CB$13:$CD$113,2,FALSE))","v":""},{"$f":"IF(B82=\"\",\"\",VLOOKUP(B82,CAD_AREA!$CB$13:$CD$113,3,FALSE))","v":""},null,{"$f":"IF(E82=\"\",\"\",VLOOKUP(E82,PCMSO!$B$13:$E$614,4,FALSE))","v":""},null,null,null,"","",{"$f":"IF(G82=\"\",\"\",VLOOKUP(MONTH(G82),'C-A'!$J$13:$K$24,2,FALSE))","v":""},null,null,null,null,null,6.9999999999999899E-5,""]
["",null,{"$f":"IF(B83=\"\",\"\",VLOOKUP(B83,CAD_AREA!$CB$13:$CD$113,2,FALSE))","v":""},{"$f":"IF(B83=\"\",\"\",VLOOKUP(B83,CAD_AREA!$CB$13:$CD$113,3,FALSE))","v":""},null,{"$f":"IF(E83=\"\",\"\",VLOOKUP(E83,PCMSO!$B$13:$E$614,4,FALSE))","v":""},null,null,null,"","",{"$f":"IF(G83=\"\",\"\",VLOOKUP(MONTH(G83),'C-A'!$J$13:$K$24,2,FALSE))","v":""},null,null,null,null,null,7.0999999999999896E-5,""]
["",null,{"$f":"IF(B84=\"\",\"\",VLOOKUP(B84,CAD_AREA!$CB$13:$CD$113,2,FALSE))","v":""},{"$f":"IF(B84=\"\",\"\",VLOOKUP(B84,CAD_AREA!$CB$13:$CD$113,3,FALSE))","v":""},null,{"$f":"IF(E84=\"\",\"\",VLOOKUP(E84,PCMSO!$B$13:$E$614,4,FALSE))","v":""},null,null,null,"","",{"$f":"IF(G84=\"\",\"\",VLOOKUP(MONTH(G84),'C-A'!$J$13:$K$24,2,FALSE))","v":""},null,null,null,null,null,7.1999999999999893E-5,""]
["",null,{"$f":"IF(B85=\"\",\"\",VLOOKUP(B85,CAD_AREA!$CB$13:$CD$113,2,FALSE))","v":""},{"$f":"IF(B85=\"\",\"\",VLOOKUP(B85,CAD_AREA!$CB$13:$CD$113,3,FALSE))","v":""},null,{"$f":"IF(E85=\"\",\"\",VLOOKUP(E85,PCMSO!$B$13:$E$614,4,FALSE))","v":""},null,null,null,"","",{"$f":"IF(G85=\"\",\"\",VLOOKUP(MONTH(G85),'C-A'!$J$13:$K$24,2,FALSE))","v":""},null,null,null,null,null,7.2999999999999891E-5,""]
["",null,{"$f":"IF(B86=\"\",\"\",VLOOKUP(B86,CAD_AREA!$CB$13:$CD$113,2,FALSE))","v":""},{"$f":"IF(B86=\"\",\"\",VLOOKUP(B86,CAD_AREA!$CB$13:$CD$113,3,FALSE))","v":""},null,{"$f":"IF(E86=\"\",\"\",VLOOKUP(E86,PCMSO!$B$13:$E$614,4,FALSE))","v":""},null,null,null,"","",{"$f":"IF(G86=\"\",\"\",VLOOKUP(MONTH(G86),'C-A'!$J$13:$K$24,2,FALSE))","v":""},null,null,null,null,null,7.3999999999999888E-5,""]
["",null,{"$f":"IF(B87=\"\",\"\",VLOOKUP(B87,CAD_AREA!$CB$13:$CD$113,2,FALSE))","v":""},{"$f":"IF(B87=\"\",\"\",VLOOKUP(B87,CAD_AREA!$CB$13:$CD$113,3,FALSE))","v":""},null,{"$f":"IF(E87=\"\",\"\",VLOOKUP(E87,PCMSO!$B$13:$E$614,4,FALSE))","v":""},null,null,null,"","",{"$f":"IF(G87=\"\",\"\",VLOOKUP(MONTH(G87),'C-A'!$J$13:$K$24,2,FALSE))","v":""},null,null,null,null,null,7.4999999999999885E-5,""]
["",null,{"$f":"IF(B88=\"\",\"\",VLOOKUP(B88,CAD_AREA!$CB$13:$CD$113,2,FALSE))","v":""},{"$f":"IF(B88=\"\",\"\",VLOOKUP(B88,CAD_AREA!$CB$13:$CD$113,3,FALSE))","v":""},null,{"$f":"IF(E88=\"\",\"\",VLOOKUP(E88,PCMSO!$B$13:$E$614,4,FALSE))","v":""},null,null,null,"","",{"$f":"IF(G88=\"\",\"\",VLOOKUP(MONTH(G88),'C-A'!$J$13:$K$24,2,FALSE))","v":""},null,null,null,null,null,7.5999999999999882E-5,""]
["",null,{"$f":"IF(B89=\"\",\"\",VLOOKUP(B89,CAD_AREA!$CB$13:$CD$113,2,FALSE))","v":""},{"$f":"IF(B89=\"\",\"\",VLOOKUP(B89,CAD_AREA!$CB$13:$CD$113,3,FALSE))","v":""},null,{"$f":"IF(E89=\"\",\"\",VLOOKUP(E89,PCMSO!$B$13:$E$614,4,FALSE))","v":""},null,null,null,"","",{"$f":"IF(G89=\"\",\"\",VLOOKUP(MONTH(G89),'C-A'!$J$13:$K$24,2,FALSE))","v":""},null,null,null,null,null,7.6999999999999879E-5,""]
["",null,{"$f":"IF(B90=\"\",\"\",VLOOKUP(B90,CAD_AREA!$CB$13:$CD$113,2,FALSE))","v":""},{"$f":"IF(B90=\"\",\"\",VLOOKUP(B90,CAD_AREA!$CB$13:$CD$113,3,FALSE))","v":""},null,{"$f":"IF(E90=\"\",\"\",VLOOKUP(E90,PCMSO!$B$13:$E$614,4,FALSE))","v":""},null,null,null,"","",{"$f":"IF(G90=\"\",\"\",VLOOKUP(MONTH(G90),'C-A'!$J$13:$K$24,2,FALSE))","v":""},null,null,null,null,null,7.7999999999999877E-5,""]
["",null,{"$f":"IF(B91=\"\",\"\",VLOOKUP(B91,CAD_AREA!$CB$13:$CD$113,2,FALSE))","v":""},{"$f":"IF(B91=\"\",\"\",VLOOKUP(B91,CAD_AREA!$CB$13:$CD$113,3,FALSE))","v":""},null,{"$f":"IF(E91=\"\",\"\",VLOOKUP(E91,PCMSO!$B$13:$E$614,4,FALSE))","v":""},null,null,null,"","",{"$f":"IF(G91=\"\",\"\",VLOOKUP(MONTH(G91),'C-A'!$J$13:$K$24,2,FALSE))","v":""},null,null,null,null,null,7.8999999999999874E-5,""]
["",null,{"$f":"IF(B92=\"\",\"\",VLOOKUP(B92,CAD_AREA!$CB$13:$CD$113,2,FALSE))","v":""},{"$f":"IF(B92=\"\",\"\",VLOOKUP(B92,CAD_AREA!$CB$13:$CD$113,3,FALSE))","v":""},null,{"$f":"IF(E92=\"\",\"\",VLOOKUP(E92,PCMSO!$B$13:$E$614,4,FALSE))","v":""},null,null,null,"","",{"$f":"IF(G92=\"\",\"\",VLOOKUP(MONTH(G92),'C-A'!$J$13:$K$24,2,FALSE))","v":""},null,null,null,null,null,7.9999999999999871E-5,""]
["",null,{"$f":"IF(B93=\"\",\"\",VLOOKUP(B93,CAD_AREA!$CB$13:$CD$113,2,FALSE))","v":""},{"$f":"IF(B93=\"\",\"\",VLOOKUP(B93,CAD_AREA!$CB$13:$CD$113,3,FALSE))","v":""},null,{"$f":"IF(E93=\"\",\"\",VLOOKUP(E93,PCMSO!$B$13:$E$614,4,FALSE))","v":""},null,null,null,"","",{"$f":"IF(G93=\"\",\"\",VLOOKUP(MONTH(G93),'C-A'!$J$13:$K$24,2,FALSE))","v":""},null,null,null,null,null,8.0999999999999868E-5,""]
["",null,{"$f":"IF(B94=\"\",\"\",VLOOKUP(B94,CAD_AREA!$CB$13:$CD$113,2,FALSE))","v":""},{"$f":"IF(B94=\"\",\"\",VLOOKUP(B94,CAD_AREA!$CB$13:$CD$113,3,FALSE))","v":""},null,{"$f":"IF(E94=\"\",\"\",VLOOKUP(E94,PCMSO!$B$13:$E$614,4,FALSE))","v":""},null,null,null,"","",{"$f":"IF(G94=\"\",\"\",VLOOKUP(MONTH(G94),'C-A'!$J$13:$K$24,2,FALSE))","v":""},null,null,null,null,null,8.1999999999999865E-5,""]
["",null,{"$f":"IF(B95=\"\",\"\",VLOOKUP(B95,CAD_AREA!$CB$13:$CD$113,2,FALSE))","v":""},{"$f":"IF(B95=\"\",\"\",VLOOKUP(B95,CAD_AREA!$CB$13:$CD$113,3,FALSE))","v":""},null,{"$f":"IF(E95=\"\",\"\",VLOOKUP(E95,PCMSO!$B$13:$E$614,4,FALSE))","v":""},null,null,null,"","",{"$f":"IF(G95=\"\",\"\",VLOOKUP(MONTH(G95),'C-A'!$J$13:$K$24,2,FALSE))","v":""},null,null,null,null,null,8.2999999999999863E-5,""]
["",null,{"$f":"IF(B96=\"\",\"\",VLOOKUP(B96,CAD_AREA!$CB$13:$CD$113,2,FALSE))","v":""},{"$f":"IF(B96=\"\",\"\",VLOOKUP(B96,CAD_AREA!$CB$13:$CD$113,3,FALSE))","v":""},null,{"$f":"IF(E96=\"\",\"\",VLOOKUP(E96,PCMSO!$B$13:$E$614,4,FALSE))","v":""},null,null,null,"","",{"$f":"IF(G96=\"\",\"\",VLOOKUP(MONTH(G96),'C-A'!$J$13:$K$24,2,FALSE))","v":""},null,null,null,null,null,8.399999999999986E-5,""]
["",null,{"$f":"IF(B97=\"\",\"\",VLOOKUP(B97,CAD_AREA!$CB$13:$CD$113,2,FALSE))","v":""},{"$f":"IF(B97=\"\",\"\",VLOOKUP(B97,CAD_AREA!$CB$13:$CD$113,3,FALSE))","v":""},null,{"$f":"IF(E97=\"\",\"\",VLOOKUP(E97,PCMSO!$B$13:$E$614,4,FALSE))","v":""},null,null,null,"","",{"$f":"IF(G97=\"\",\"\",VLOOKUP(MONTH(G97),'C-A'!$J$13:$K$24,2,FALSE))","v":""},null,null,null,null,null,8.4999999999999857E-5,""]
["",null,{"$f":"IF(B98=\"\",\"\",VLOOKUP(B98,CAD_AREA!$CB$13:$CD$113,2,FALSE))","v":""},{"$f":"IF(B98=\"\",\"\",VLOOKUP(B98,CAD_AREA!$CB$13:$CD$113,3,FALSE))","v":""},null,{"$f":"IF(E98=\"\",\"\",VLOOKUP(E98,PCMSO!$B$13:$E$614,4,FALSE))","v":""},null,null,null,"","",{"$f":"IF(G98=\"\",\"\",VLOOKUP(MONTH(G98),'C-A'!$J$13:$K$24,2,FALSE))","v":""},null,null,null,null,null,8.5999999999999854E-5,""]
["",null,{"$f":"IF(B99=\"\",\"\",VLOOKUP(B99,CAD_AREA!$CB$13:$CD$113,2,FALSE))","v":""},{"$f":"IF(B99=\"\",\"\",VLOOKUP(B99,CAD_AREA!$CB$13:$CD$113,3,FALSE))","v":""},null,{"$f":"IF(E99=\"\",\"\",VLOOKUP(E99,PCMSO!$B$13:$E$614,4,FALSE))","v":""},null,null,null,"","",{"$f":"IF(G99=\"\",\"\",VLOOKUP(MONTH(G99),'C-A'!$J$13:$K$24,2,FALSE))","v":""},null,null,null,null,null,8.6999999999999851E-5,""]
["",null,{"$f":"IF(B100=\"\",\"\",VLOOKUP(B100,CAD_AREA!$CB$13:$CD$113,2,FALSE))","v":""},{"$f":"IF(B100=\"\",\"\",VLOOKUP(B100,CAD_AREA!$CB$13:$CD$113,3,FALSE))","v":""},null,{"$f":"IF(E100=\"\",\"\",VLOOKUP(E100,PCMSO!$B$13:$E$614,4,FALSE))","v":""},null,null,null,"","",{"$f":"IF(G100=\"\",\"\",VLOOKUP(MONTH(G100),'C-A'!$J$13:$K$24,2,FALSE))","v":""},null,null,null,null,null,8.7999999999999849E-5,""]
["",null,{"$f":"IF(B101=\"\",\"\",VLOOKUP(B101,CAD_AREA!$CB$13:$CD$113,2,FALSE))","v":""},{"$f":"IF(B101=\"\",\"\",VLOOKUP(B101,CAD_AREA!$CB$13:$CD$113,3,FALSE))","v":""},null,{"$f":"IF(E101=\"\",\"\",VLOOKUP(E101,PCMSO!$B$13:$E$614,4,FALSE))","v":""},null,null,null,"","",{"$f":"IF(G101=\"\",\"\",VLOOKUP(MONTH(G101),'C-A'!$J$13:$K$24,2,FALSE))","v":""},null,null,null,null,null,8.8999999999999846E-5,""]
["",null,{"$f":"IF(B102=\"\",\"\",VLOOKUP(B102,CAD_AREA!$CB$13:$CD$113,2,FALSE))","v":""},{"$f":"IF(B102=\"\",\"\",VLOOKUP(B102,CAD_AREA!$CB$13:$CD$113,3,FALSE))","v":""},null,{"$f":"IF(E102=\"\",\"\",VLOOKUP(E102,PCMSO!$B$13:$E$614,4,FALSE))","v":""},null,null,null,"","",{"$f":"IF(G102=\"\",\"\",VLOOKUP(MONTH(G102),'C-A'!$J$13:$K$24,2,FALSE))","v":""},null,null,null,null,null,8.9999999999999843E-5,""]
["",null,{"$f":"IF(B103=\"\",\"\",VLOOKUP(B103,CAD_AREA!$CB$13:$CD$113,2,FALSE))","v":""},{"$f":"IF(B103=\"\",\"\",VLOOKUP(B103,CAD_AREA!$CB$13:$CD$113,3,FALSE))","v":""},null,{"$f":"IF(E103=\"\",\"\",VLOOKUP(E103,PCMSO!$B$13:$E$614,4,FALSE))","v":""},null,null,null,"","",{"$f":"IF(G103=\"\",\"\",VLOOKUP(MONTH(G103),'C-A'!$J$13:$K$24,2,FALSE))","v":""},null,null,null,null,null,9.099999999999984E-5,""]
["",null,{"$f":"IF(B104=\"\",\"\",VLOOKUP(B104,CAD_AREA!$CB$13:$CD$113,2,FALSE))","v":""},{"$f":"IF(B104=\"\",\"\",VLOOKUP(B104,CAD_AREA!$CB$13:$CD$113,3,FALSE))","v":""},null,{"$f":"IF(E104=\"\",\"\",VLOOKUP(E104,PCMSO!$B$13:$E$614,4,FALSE))","v":""},null,null,null,"","",{"$f":"IF(G104=\"\",\"\",VLOOKUP(MONTH(G104),'C-A'!$J$13:$K$24,2,FALSE))","v":""},null,null,null,null,null,9.1999999999999837E-5,""]
["",null,{"$f":"IF(B105=\"\",\"\",VLOOKUP(B105,CAD_AREA!$CB$13:$CD$113,2,FALSE))","v":""},{"$f":"IF(B105=\"\",\"\",VLOOKUP(B105,CAD_AREA!$CB$13:$CD$113,3,FALSE))","v":""},null,{"$f":"IF(E105=\"\",\"\",VLOOKUP(E105,PCMSO!$B$13:$E$614,4,FALSE))","v":""},null,null,null,"","",{"$f":"IF(G105=\"\",\"\",VLOOKUP(MONTH(G105),'C-A'!$J$13:$K$24,2,FALSE))","v":""},null,null,null,null,null,9.2999999999999835E-5,""]
["",null,{"$f":"IF(B106=\"\",\"\",VLOOKUP(B106,CAD_AREA!$CB$13:$CD$113,2,FALSE))","v":""},{"$f":"IF(B106=\"\",\"\",VLOOKUP(B106,CAD_AREA!$CB$13:$CD$113,3,FALSE))","v":""},null,{"$f":"IF(E106=\"\",\"\",VLOOKUP(E106,PCMSO!$B$13:$E$614,4,FALSE))","v":""},null,null,null,"","",{"$f":"IF(G106=\"\",\"\",VLOOKUP(MONTH(G106),'C-A'!$J$13:$K$24,2,FALSE))","v":""},null,null,null,null,null,9.3999999999999832E-5,""]
["",null,{"$f":"IF(B107=\"\",\"\",VLOOKUP(B107,CAD_AREA!$CB$13:$CD$113,2,FALSE))","v":""},{"$f":"IF(B107=\"\",\"\",VLOOKUP(B107,CAD_AREA!$CB$13:$CD$113,3,FALSE))","v":""},null,{"$f":"IF(E107=\"\",\"\",VLOOKUP(E107,PCMSO!$B$13:$E$614,4,FALSE))","v":""},null,null,null,"","",{"$f":"IF(G107=\"\",\"\",VLOOKUP(MONTH(G107),'C-A'!$J$13:$K$24,2,FALSE))","v":""},null,null,null,null,null,9.4999999999999829E-5,""]
["",null,{"$f":"IF(B108=\"\",\"\",VLOOKUP(B108,CAD_AREA!$CB$13:$CD$113,2,FALSE))","v":""},{"$f":"IF(B108=\"\",\"\",VLOOKUP(B108,CAD_AREA!$CB$13:$CD$113,3,FALSE))","v":""},null,{"$f":"IF(E108=\"\",\"\",VLOOKUP(E108,PCMSO!$B$13:$E$614,4,FALSE))","v":""},null,null,null,"","",{"$f":"IF(G108=\"\",\"\",VLOOKUP(MONTH(G108),'C-A'!$J$13:$K$24,2,FALSE))","v":""},null,null,null,null,null,9.5999999999999826E-5,""]
["",null,{"$f":"IF(B109=\"\",\"\",VLOOKUP(B109,CAD_AREA!$CB$13:$CD$113,2,FALSE))","v":""},{"$f":"IF(B109=\"\",\"\",VLOOKUP(B109,CAD_AREA!$CB$13:$CD$113,3,FALSE))","v":""},null,{"$f":"IF(E109=\"\",\"\",VLOOKUP(E109,PCMSO!$B$13:$E$614,4,FALSE))","v":""},null,null,null,"","",{"$f":"IF(G109=\"\",\"\",VLOOKUP(MONTH(G109),'C-A'!$J$13:$K$24,2,FALSE))","v":""},null,null,null,null,null,9.6999999999999823E-5,""]
["",null,{"$f":"IF(B110=\"\",\"\",VLOOKUP(B110,CAD_AREA!$CB$13:$CD$113,2,FALSE))","v":""},{"$f":"IF(B110=\"\",\"\",VLOOKUP(B110,CAD_AREA!$CB$13:$CD$113,3,FALSE))","v":""},null,{"$f":"IF(E110=\"\",\"\",VLOOKUP(E110,PCMSO!$B$13:$E$614,4,FALSE))","v":""},null,null,null,"","",{"$f":"IF(G110=\"\",\"\",VLOOKUP(MONTH(G110),'C-A'!$J$13:$K$24,2,FALSE))","v":""},null,null,null,null,null,9.7999999999999821E-5,""]
["",null,{"$f":"IF(B111=\"\",\"\",VLOOKUP(B111,CAD_AREA!$CB$13:$CD$113,2,FALSE))","v":""},{"$f":"IF(B111=\"\",\"\",VLOOKUP(B111,CAD_AREA!$CB$13:$CD$113,3,FALSE))","v":""},null,{"$f":"IF(E111=\"\",\"\",VLOOKUP(E111,PCMSO!$B$13:$E$614,4,FALSE))","v":""},null,null,null,"","",{"$f":"IF(G111=\"\",\"\",VLOOKUP(MONTH(G111),'C-A'!$J$13:$K$24,2,FALSE))","v":""},null,null,null,null,null,9.8999999999999818E-5,""]
["",null,{"$f":"IF(B112=\"\",\"\",VLOOKUP(B112,CAD_AREA!$CB$13:$CD$113,2,FALSE))","v":""},{"$f":"IF(B112=\"\",\"\",VLOOKUP(B112,CAD_AREA!$CB$13:$CD$113,3,FALSE))","v":""},null,{"$f":"IF(E112=\"\",\"\",VLOOKUP(E112,PCMSO!$B$13:$E$614,4,FALSE))","v":""},null,null,null,"","",{"$f":"IF(G112=\"\",\"\",VLOOKUP(MONTH(G112),'C-A'!$J$13:$K$24,2,FALSE))","v":""},null,null,null,null,null,9.9999999999999815E-5,""]
["",null,{"$f":"IF(B113=\"\",\"\",VLOOKUP(B113,CAD_AREA!$CB$13:$CD$113,2,FALSE))","v":""},{"$f":"IF(B113=\"\",\"\",VLOOKUP(B113,CAD_AREA!$CB$13:$CD$113,3,FALSE))","v":""},null,{"$f":"IF(E113=\"\",\"\",VLOOKUP(E113,PCMSO!$B$13:$E$614,4,FALSE))","v":""},null,null,null,"","",{"$f":"IF(G113=\"\",\"\",VLOOKUP(MONTH(G113),'C-A'!$J$13:$K$24,2,FALSE))","v":""},null,null,null,null,null,1.0099999999999981E-4,""]
["",null,{"$f":"IF(B114=\"\",\"\",VLOOKUP(B114,CAD_AREA!$CB$13:$CD$113,2,FALSE))","v":""},{"$f":"IF(B114=\"\",\"\",VLOOKUP(B114,CAD_AREA!$CB$13:$CD$113,3,FALSE))","v":""},null,{"$f":"IF(E114=\"\",\"\",VLOOKUP(E114,PCMSO!$B$13:$E$614,4,FALSE))","v":""},null,null,null,"","",{"$f":"IF(G114=\"\",\"\",VLOOKUP(MONTH(G114),'C-A'!$J$13:$K$24,2,FALSE))","v":""},null,null,null,null,null,1.0199999999999981E-4,""]
["",null,{"$f":"IF(B115=\"\",\"\",VLOOKUP(B115,CAD_AREA!$CB$13:$CD$113,2,FALSE))","v":""},{"$f":"IF(B115=\"\",\"\",VLOOKUP(B115,CAD_AREA!$CB$13:$CD$113,3,FALSE))","v":""},null,{"$f":"IF(E115=\"\",\"\",VLOOKUP(E115,PCMSO!$B$13:$E$614,4,FALSE))","v":""},null,null,null,"","",{"$f":"IF(G115=\"\",\"\",VLOOKUP(MONTH(G115),'C-A'!$J$13:$K$24,2,FALSE))","v":""},null,null,null,null,null,1.0299999999999981E-4,""]
["",null,{"$f":"IF(B116=\"\",\"\",VLOOKUP(B116,CAD_AREA!$CB$13:$CD$113,2,FALSE))","v":""},{"$f":"IF(B116=\"\",\"\",VLOOKUP(B116,CAD_AREA!$CB$13:$CD$113,3,FALSE))","v":""},null,{"$f":"IF(E116=\"\",\"\",VLOOKUP(E116,PCMSO!$B$13:$E$614,4,FALSE))","v":""},null,null,null,"","",{"$f":"IF(G116=\"\",\"\",VLOOKUP(MONTH(G116),'C-A'!$J$13:$K$24,2,FALSE))","v":""},null,null,null,null,null,1.039999999999998E-4,""]
["",null,{"$f":"IF(B117=\"\",\"\",VLOOKUP(B117,CAD_AREA!$CB$13:$CD$113,2,FALSE))","v":""},{"$f":"IF(B117=\"\",\"\",VLOOKUP(B117,CAD_AREA!$CB$13:$CD$113,3,FALSE))","v":""},null,{"$f":"IF(E117=\"\",\"\",VLOOKUP(E117,PCMSO!$B$13:$E$614,4,FALSE))","v":""},null,null,null,"","",{"$f":"IF(G117=\"\",\"\",VLOOKUP(MONTH(G117),'C-A'!$J$13:$K$24,2,FALSE))","v":""},null,null,null,null,null,1.049999999999998E-4,""]
["",null,{"$f":"IF(B118=\"\",\"\",VLOOKUP(B118,CAD_AREA!$CB$13:$CD$113,2,FALSE))","v":""},{"$f":"IF(B118=\"\",\"\",VLOOKUP(B118,CAD_AREA!$CB$13:$CD$113,3,FALSE))","v":""},null,{"$f":"IF(E118=\"\",\"\",VLOOKUP(E118,PCMSO!$B$13:$E$614,4,FALSE))","v":""},null,null,null,"","",{"$f":"IF(G118=\"\",\"\",VLOOKUP(MONTH(G118),'C-A'!$J$13:$K$24,2,FALSE))","v":""},null,null,null,null,null,1.059999999999998E-4,""]
["",null,{"$f":"IF(B119=\"\",\"\",VLOOKUP(B119,CAD_AREA!$CB$13:$CD$113,2,FALSE))","v":""},{"$f":"IF(B119=\"\",\"\",VLOOKUP(B119,CAD_AREA!$CB$13:$CD$113,3,FALSE))","v":""},null,{"$f":"IF(E119=\"\",\"\",VLOOKUP(E119,PCMSO!$B$13:$E$614,4,FALSE))","v":""},null,null,null,"","",{"$f":"IF(G119=\"\",\"\",VLOOKUP(MONTH(G119),'C-A'!$J$13:$K$24,2,FALSE))","v":""},null,null,null,null,null,1.069999999999998E-4,""]
["",null,{"$f":"IF(B120=\"\",\"\",VLOOKUP(B120,CAD_AREA!$CB$13:$CD$113,2,FALSE))","v":""},{"$f":"IF(B120=\"\",\"\",VLOOKUP(B120,CAD_AREA!$CB$13:$CD$113,3,FALSE))","v":""},null,{"$f":"IF(E120=\"\",\"\",VLOOKUP(E120,PCMSO!$B$13:$E$614,4,FALSE))","v":""},null,null,null,"","",{"$f":"IF(G120=\"\",\"\",VLOOKUP(MONTH(G120),'C-A'!$J$13:$K$24,2,FALSE))","v":""},null,null,null,null,null,1.0799999999999979E-4,""]
["",null,{"$f":"IF(B121=\"\",\"\",VLOOKUP(B121,CAD_AREA!$CB$13:$CD$113,2,FALSE))","v":""},{"$f":"IF(B121=\"\",\"\",VLOOKUP(B121,CAD_AREA!$CB$13:$CD$113,3,FALSE))","v":""},null,{"$f":"IF(E121=\"\",\"\",VLOOKUP(E121,PCMSO!$B$13:$E$614,4,FALSE))","v":""},null,null,null,"","",{"$f":"IF(G121=\"\",\"\",VLOOKUP(MONTH(G121),'C-A'!$J$13:$K$24,2,FALSE))","v":""},null,null,null,null,null,1.0899999999999979E-4,""]
["",null,{"$f":"IF(B122=\"\",\"\",VLOOKUP(B122,CAD_AREA!$CB$13:$CD$113,2,FALSE))","v":""},{"$f":"IF(B122=\"\",\"\",VLOOKUP(B122,CAD_AREA!$CB$13:$CD$113,3,FALSE))","v":""},null,{"$f":"IF(E122=\"\",\"\",VLOOKUP(E122,PCMSO!$B$13:$E$614,4,FALSE))","v":""},null,null,null,"","",{"$f":"IF(G122=\"\",\"\",VLOOKUP(MONTH(G122),'C-A'!$J$13:$K$24,2,FALSE))","v":""},null,null,null,null,null,1.0999999999999979E-4,""]
["",null,{"$f":"IF(B123=\"\",\"\",VLOOKUP(B123,CAD_AREA!$CB$13:$CD$113,2,FALSE))","v":""},{"$f":"IF(B123=\"\",\"\",VLOOKUP(B123,CAD_AREA!$CB$13:$CD$113,3,FALSE))","v":""},null,{"$f":"IF(E123=\"\",\"\",VLOOKUP(E123,PCMSO!$B$13:$E$614,4,FALSE))","v":""},null,null,null,"","",{"$f":"IF(G123=\"\",\"\",VLOOKUP(MONTH(G123),'C-A'!$J$13:$K$24,2,FALSE))","v":""},null,null,null,null,null,1.1099999999999978E-4,""]
["",null,{"$f":"IF(B124=\"\",\"\",VLOOKUP(B124,CAD_AREA!$CB$13:$CD$113,2,FALSE))","v":""},{"$f":"IF(B124=\"\",\"\",VLOOKUP(B124,CAD_AREA!$CB$13:$CD$113,3,FALSE))","v":""},null,{"$f":"IF(E124=\"\",\"\",VLOOKUP(E124,PCMSO!$B$13:$E$614,4,FALSE))","v":""},null,null,null,"","",{"$f":"IF(G124=\"\",\"\",VLOOKUP(MONTH(G124),'C-A'!$J$13:$K$24,2,FALSE))","v":""},null,null,null,null,null,1.1199999999999978E-4,""]
["",null,{"$f":"IF(B125=\"\",\"\",VLOOKUP(B125,CAD_AREA!$CB$13:$CD$113,2,FALSE))","v":""},{"$f":"IF(B125=\"\",\"\",VLOOKUP(B125,CAD_AREA!$CB$13:$CD$113,3,FALSE))","v":""},null,{"$f":"IF(E125=\"\",\"\",VLOOKUP(E125,PCMSO!$B$13:$E$614,4,FALSE))","v":""},null,null,null,"","",{"$f":"IF(G125=\"\",\"\",VLOOKUP(MONTH(G125),'C-A'!$J$13:$K$24,2,FALSE))","v":""},null,null,null,null,null,1.1299999999999978E-4,""]
["",null,{"$f":"IF(B126=\"\",\"\",VLOOKUP(B126,CAD_AREA!$CB$13:$CD$113,2,FALSE))","v":""},{"$f":"IF(B126=\"\",\"\",VLOOKUP(B126,CAD_AREA!$CB$13:$CD$113,3,FALSE))","v":""},null,{"$f":"IF(E126=\"\",\"\",VLOOKUP(E126,PCMSO!$B$13:$E$614,4,FALSE))","v":""},null,null,null,"","",{"$f":"IF(G126=\"\",\"\",VLOOKUP(MONTH(G126),'C-A'!$J$13:$K$24,2,FALSE))","v":""},null,null,null,null,null,1.1399999999999978E-4,""]
["",null,{"$f":"IF(B127=\"\",\"\",VLOOKUP(B127,CAD_AREA!$CB$13:$CD$113,2,FALSE))","v":""},{"$f":"IF(B127=\"\",\"\",VLOOKUP(B127,CAD_AREA!$CB$13:$CD$113,3,FALSE))","v":""},null,{"$f":"IF(E127=\"\",\"\",VLOOKUP(E127,PCMSO!$B$13:$E$614,4,FALSE))","v":""},null,null,null,"","",{"$f":"IF(G127=\"\",\"\",VLOOKUP(MONTH(G127),'C-A'!$J$13:$K$24,2,FALSE))","v":""},null,null,null,null,null,1.1499999999999977E-4,""]
["",null,{"$f":"IF(B128=\"\",\"\",VLOOKUP(B128,CAD_AREA!$CB$13:$CD$113,2,FALSE))","v":""},{"$f":"IF(B128=\"\",\"\",VLOOKUP(B128,CAD_AREA!$CB$13:$CD$113,3,FALSE))","v":""},null,{"$f":"IF(E128=\"\",\"\",VLOOKUP(E128,PCMSO!$B$13:$E$614,4,FALSE))","v":""},null,null,null,"","",{"$f":"IF(G128=\"\",\"\",VLOOKUP(MONTH(G128),'C-A'!$J$13:$K$24,2,FALSE))","v":""},null,null,null,null,null,1.1599999999999977E-4,""]
["",null,{"$f":"IF(B129=\"\",\"\",VLOOKUP(B129,CAD_AREA!$CB$13:$CD$113,2,FALSE))","v":""},{"$f":"IF(B129=\"\",\"\",VLOOKUP(B129,CAD_AREA!$CB$13:$CD$113,3,FALSE))","v":""},null,{"$f":"IF(E129=\"\",\"\",VLOOKUP(E129,PCMSO!$B$13:$E$614,4,FALSE))","v":""},null,null,null,"","",{"$f":"IF(G129=\"\",\"\",VLOOKUP(MONTH(G129),'C-A'!$J$13:$K$24,2,FALSE))","v":""},null,null,null,null,null,1.1699999999999977E-4,""]
["",null,{"$f":"IF(B130=\"\",\"\",VLOOKUP(B130,CAD_AREA!$CB$13:$CD$113,2,FALSE))","v":""},{"$f":"IF(B130=\"\",\"\",VLOOKUP(B130,CAD_AREA!$CB$13:$CD$113,3,FALSE))","v":""},null,{"$f":"IF(E130=\"\",\"\",VLOOKUP(E130,PCMSO!$B$13:$E$614,4,FALSE))","v":""},null,null,null,"","",{"$f":"IF(G130=\"\",\"\",VLOOKUP(MONTH(G130),'C-A'!$J$13:$K$24,2,FALSE))","v":""},null,null,null,null,null,1.1799999999999976E-4,""]
["",null,{"$f":"IF(B131=\"\",\"\",VLOOKUP(B131,CAD_AREA!$CB$13:$CD$113,2,FALSE))","v":""},{"$f":"IF(B131=\"\",\"\",VLOOKUP(B131,CAD_AREA!$CB$13:$CD$113,3,FALSE))","v":""},null,{"$f":"IF(E131=\"\",\"\",VLOOKUP(E131,PCMSO!$B$13:$E$614,4,FALSE))","v":""},null,null,null,"","",{"$f":"IF(G131=\"\",\"\",VLOOKUP(MONTH(G131),'C-A'!$J$13:$K$24,2,FALSE))","v":""},null,null,null,null,null,1.1899999999999976E-4,""]
["",null,{"$f":"IF(B132=\"\",\"\",VLOOKUP(B132,CAD_AREA!$CB$13:$CD$113,2,FALSE))","v":""},{"$f":"IF(B132=\"\",\"\",VLOOKUP(B132,CAD_AREA!$CB$13:$CD$113,3,FALSE))","v":""},null,{"$f":"IF(E132=\"\",\"\",VLOOKUP(E132,PCMSO!$B$13:$E$614,4,FALSE))","v":""},null,null,null,"","",{"$f":"IF(G132=\"\",\"\",VLOOKUP(MONTH(G132),'C-A'!$J$13:$K$24,2,FALSE))","v":""},null,null,null,null,null,1.1999999999999976E-4,""]
["",null,{"$f":"IF(B133=\"\",\"\",VLOOKUP(B133,CAD_AREA!$CB$13:$CD$113,2,FALSE))","v":""},{"$f":"IF(B133=\"\",\"\",VLOOKUP(B133,CAD_AREA!$CB$13:$CD$113,3,FALSE))","v":""},null,{"$f":"IF(E133=\"\",\"\",VLOOKUP(E133,PCMSO!$B$13:$E$614,4,FALSE))","v":""},null,null,null,"","",{"$f":"IF(G133=\"\",\"\",VLOOKUP(MONTH(G133),'C-A'!$J$13:$K$24,2,FALSE))","v":""},null,null,null,null,null,1.2099999999999976E-4,""]
["",null,{"$f":"IF(B134=\"\",\"\",VLOOKUP(B134,CAD_AREA!$CB$13:$CD$113,2,FALSE))","v":""},{"$f":"IF(B134=\"\",\"\",VLOOKUP(B134,CAD_AREA!$CB$13:$CD$113,3,FALSE))","v":""},null,{"$f":"IF(E134=\"\",\"\",VLOOKUP(E134,PCMSO!$B$13:$E$614,4,FALSE))","v":""},null,null,null,"","",{"$f":"IF(G134=\"\",\"\",VLOOKUP(MONTH(G134),'C-A'!$J$13:$K$24,2,FALSE))","v":""},null,null,null,null,null,1.2199999999999975E-4,""]
["",null,{"$f":"IF(B135=\"\",\"\",VLOOKUP(B135,CAD_AREA!$CB$13:$CD$113,2,FALSE))","v":""},{"$f":"IF(B135=\"\",\"\",VLOOKUP(B135,CAD_AREA!$CB$13:$CD$113,3,FALSE))","v":""},null,{"$f":"IF(E135=\"\",\"\",VLOOKUP(E135,PCMSO!$B$13:$E$614,4,FALSE))","v":""},null,null,null,"","",{"$f":"IF(G135=\"\",\"\",VLOOKUP(MONTH(G135),'C-A'!$J$13:$K$24,2,FALSE))","v":""},null,null,null,null,null,1.2299999999999976E-4,""]
["",null,{"$f":"IF(B136=\"\",\"\",VLOOKUP(B136,CAD_AREA!$CB$13:$CD$113,2,FALSE))","v":""},{"$f":"IF(B136=\"\",\"\",VLOOKUP(B136,CAD_AREA!$CB$13:$CD$113,3,FALSE))","v":""},null,{"$f":"IF(E136=\"\",\"\",VLOOKUP(E136,PCMSO!$B$13:$E$614,4,FALSE))","v":""},null,null,null,"","",{"$f":"IF(G136=\"\",\"\",VLOOKUP(MONTH(G136),'C-A'!$J$13:$K$24,2,FALSE))","v":""},null,null,null,null,null,1.2399999999999976E-4,""]
["",null,{"$f":"IF(B137=\"\",\"\",VLOOKUP(B137,CAD_AREA!$CB$13:$CD$113,2,FALSE))","v":""},{"$f":"IF(B137=\"\",\"\",VLOOKUP(B137,CAD_AREA!$CB$13:$CD$113,3,FALSE))","v":""},null,{"$f":"IF(E137=\"\",\"\",VLOOKUP(E137,PCMSO!$B$13:$E$614,4,FALSE))","v":""},null,null,null,"","",{"$f":"IF(G137=\"\",\"\",VLOOKUP(MONTH(G137),'C-A'!$J$13:$K$24,2,FALSE))","v":""},null,null,null,null,null,1.2499999999999976E-4,""]
["",null,{"$f":"IF(B138=\"\",\"\",VLOOKUP(B138,CAD_AREA!$CB$13:$CD$113,2,FALSE))","v":""},{"$f":"IF(B138=\"\",\"\",VLOOKUP(B138,CAD_AREA!$CB$13:$CD$113,3,FALSE))","v":""},null,{"$f":"IF(E138=\"\",\"\",VLOOKUP(E138,PCMSO!$B$13:$E$614,4,FALSE))","v":""},null,null,null,"","",{"$f":"IF(G138=\"\",\"\",VLOOKUP(MONTH(G138),'C-A'!$J$13:$K$24,2,FALSE))","v":""},null,null,null,null,null,1.2599999999999976E-4,""]
["",null,{"$f":"IF(B139=\"\",\"\",VLOOKUP(B139,CAD_AREA!$CB$13:$CD$113,2,FALSE))","v":""},{"$f":"IF(B139=\"\",\"\",VLOOKUP(B139,CAD_AREA!$CB$13:$CD$113,3,FALSE))","v":""},null,{"$f":"IF(E139=\"\",\"\",VLOOKUP(E139,PCMSO!$B$13:$E$614,4,FALSE))","v":""},null,null,null,"","",{"$f":"IF(G139=\"\",\"\",VLOOKUP(MONTH(G139),'C-A'!$J$13:$K$24,2,FALSE))","v":""},null,null,null,null,null,1.2699999999999975E-4,""]
["",null,{"$f":"IF(B140=\"\",\"\",VLOOKUP(B140,CAD_AREA!$CB$13:$CD$113,2,FALSE))","v":""},{"$f":"IF(B140=\"\",\"\",VLOOKUP(B140,CAD_AREA!$CB$13:$CD$113,3,FALSE))","v":""},null,{"$f":"IF(E140=\"\",\"\",VLOOKUP(E140,PCMSO!$B$13:$E$614,4,FALSE))","v":""},null,null,null,"","",{"$f":"IF(G140=\"\",\"\",VLOOKUP(MONTH(G140),'C-A'!$J$13:$K$24,2,FALSE))","v":""},null,null,null,null,null,1.2799999999999975E-4,""]
["",null,{"$f":"IF(B141=\"\",\"\",VLOOKUP(B141,CAD_AREA!$CB$13:$CD$113,2,FALSE))","v":""},{"$f":"IF(B141=\"\",\"\",VLOOKUP(B141,CAD_AREA!$CB$13:$CD$113,3,FALSE))","v":""},null,{"$f":"IF(E141=\"\",\"\",VLOOKUP(E141,PCMSO!$B$13:$E$614,4,FALSE))","v":""},null,null,null,{"$f":"IF(F141=\"\",\"\",VLOOKUP(F141,$N$13:$O$19,2,FALSE)+G141)","v":""},"",{"$f":"IF(G141=\"\",\"\",VLOOKUP(MONTH(G141),'C-A'!$J$13:$K$24,2,FALSE))","v":""},null,null,null,null,null,1.2899999999999975E-4,{"$f":"IF(K141=\"Vencido\",\"\",J141)","v":""}]
["",null,{"$f":"IF(B142=\"\",\"\",VLOOKUP(B142,CAD_AREA!$CB$13:$CD$113,2,FALSE))","v":""},{"$f":"IF(B142=\"\",\"\",VLOOKUP(B142,CAD_AREA!$CB$13:$CD$113,3,FALSE))","v":""},null,{"$f":"IF(E142=\"\",\"\",VLOOKUP(E142,PCMSO!$B$13:$E$614,4,FALSE))","v":""},null,null,null,"",{"$f":"IF(J142=\"\",\"\",IF(J142-TODAY()<0,\"Vencido\",IF(J142-TODAY()=0,\"Realizar hoje\",\"Realizar em \"&J142-TODAY()&\" dias\")))","v":""},{"$f":"IF(G142=\"\",\"\",VLOOKUP(MONTH(G142),'C-A'!$J$13:$K$24,2,FALSE))","v":""},null,null,null,null,null,1.2999999999999974E-4,""]
["",null,{"$f":"IF(B143=\"\",\"\",VLOOKUP(B143,CAD_AREA!$CB$13:$CD$113,2,FALSE))","v":""},{"$f":"IF(B143=\"\",\"\",VLOOKUP(B143,CAD_AREA!$CB$13:$CD$113,3,FALSE))","v":""},null,{"$f":"IF(E143=\"\",\"\",VLOOKUP(E143,PCMSO!$B$13:$E$614,4,FALSE))","v":""},null,null,null,"","",{"$f":"IF(G143=\"\",\"\",VLOOKUP(MONTH(G143),'C-A'!$J$13:$K$24,2,FALSE))","v":""},null,null,null,null,null,{"$f":"R142+$R$13","v":1.3099999999999974E-4},""]
["",null,{"$f":"IF(B144=\"\",\"\",VLOOKUP(B144,CAD_AREA!$CB$13:$CD$113,2,FALSE))","v":""},{"$f":"IF(B144=\"\",\"\",VLOOKUP(B144,CAD_AREA!$CB$13:$CD$113,3,FALSE))","v":""},null,{"$f":"IF(E144=\"\",\"\",VLOOKUP(E144,PCMSO!$B$13:$E$614,4,FALSE))","v":""},null,null,null,"","",{"$f":"IF(G144=\"\",\"\",VLOOKUP(MONTH(G144),'C-A'!$J$13:$K$24,2,FALSE))","v":""},null,null,null,null,null,1.3199999999999974E-4,""]
["",null,{"$f":"IF(B145=\"\",\"\",VLOOKUP(B145,CAD_AREA!$CB$13:$CD$113,2,FALSE))","v":""},{"$f":"IF(B145=\"\",\"\",VLOOKUP(B145,CAD_AREA!$CB$13:$CD$113,3,FALSE))","v":""},null,{"$f":"IF(E145=\"\",\"\",VLOOKUP(E145,PCMSO!$B$13:$E$614,4,FALSE))","v":""},null,null,null,"","",{"$f":"IF(G145=\"\",\"\",VLOOKUP(MONTH(G145),'C-A'!$J$13:$K$24,2,FALSE))","v":""},null,null,null,null,null,1.3299999999999974E-4,""]
["",null,{"$f":"IF(B146=\"\",\"\",VLOOKUP(B146,CAD_AREA!$CB$13:$CD$113,2,FALSE))","v":""},{"$f":"IF(B146=\"\",\"\",VLOOKUP(B146,CAD_AREA!$CB$13:$CD$113,3,FALSE))","v":""},null,{"$f":"IF(E146=\"\",\"\",VLOOKUP(E146,PCMSO!$B$13:$E$614,4,FALSE))","v":""},null,null,null,"","",{"$f":"IF(G146=\"\",\"\",VLOOKUP(MONTH(G146),'C-A'!$J$13:$K$24,2,FALSE))","v":""},null,null,null,null,null,1.3399999999999973E-4,""]
["",null,{"$f":"IF(B147=\"\",\"\",VLOOKUP(B147,CAD_AREA!$CB$13:$CD$113,2,FALSE))","v":""},{"$f":"IF(B147=\"\",\"\",VLOOKUP(B147,CAD_AREA!$CB$13:$CD$113,3,FALSE))","v":""},null,{"$f":"IF(E147=\"\",\"\",VLOOKUP(E147,PCMSO!$B$13:$E$614,4,FALSE))","v":""},null,null,null,"","",{"$f":"IF(G147=\"\",\"\",VLOOKUP(MONTH(G147),'C-A'!$J$13:$K$24,2,FALSE))","v":""},null,null,null,null,null,1.3499999999999973E-4,""]
["",null,{"$f":"IF(B148=\"\",\"\",VLOOKUP(B148,CAD_AREA!$CB$13:$CD$113,2,FALSE))","v":""},{"$f":"IF(B148=\"\",\"\",VLOOKUP(B148,CAD_AREA!$CB$13:$CD$113,3,FALSE))","v":""},null,{"$f":"IF(E148=\"\",\"\",VLOOKUP(E148,PCMSO!$B$13:$E$614,4,FALSE))","v":""},null,null,null,"","",{"$f":"IF(G148=\"\",\"\",VLOOKUP(MONTH(G148),'C-A'!$J$13:$K$24,2,FALSE))","v":""},null,null,null,null,null,1.3599999999999973E-4,""]
["",null,{"$f":"IF(B149=\"\",\"\",VLOOKUP(B149,CAD_AREA!$CB$13:$CD$113,2,FALSE))","v":""},{"$f":"IF(B149=\"\",\"\",VLOOKUP(B149,CAD_AREA!$CB$13:$CD$113,3,FALSE))","v":""},null,{"$f":"IF(E149=\"\",\"\",VLOOKUP(E149,PCMSO!$B$13:$E$614,4,FALSE))","v":""},null,null,null,"","",{"$f":"IF(G149=\"\",\"\",VLOOKUP(MONTH(G149),'C-A'!$J$13:$K$24,2,FALSE))","v":""},null,null,null,null,null,1.3699999999999973E-4,""]
["",null,{"$f":"IF(B150=\"\",\"\",VLOOKUP(B150,CAD_AREA!$CB$13:$CD$113,2,FALSE))","v":""},{"$f":"IF(B150=\"\",\"\",VLOOKUP(B150,CAD_AREA!$CB$13:$CD$113,3,FALSE))","v":""},null,{"$f":"IF(E150=\"\",\"\",VLOOKUP(E150,PCMSO!$B$13:$E$614,4,FALSE))","v":""},null,null,null,"","",{"$f":"IF(G150=\"\",\"\",VLOOKUP(MONTH(G150),'C-A'!$J$13:$K$24,2,FALSE))","v":""},null,null,null,null,null,1.3799999999999972E-4,""]
["",null,{"$f":"IF(B151=\"\",\"\",VLOOKUP(B151,CAD_AREA!$CB$13:$CD$113,2,FALSE))","v":""},{"$f":"IF(B151=\"\",\"\",VLOOKUP(B151,CAD_AREA!$CB$13:$CD$113,3,FALSE))","v":""},null,{"$f":"IF(E151=\"\",\"\",VLOOKUP(E151,PCMSO!$B$13:$E$614,4,FALSE))","v":""},null,null,null,"","",{"$f":"IF(G151=\"\",\"\",VLOOKUP(MONTH(G151),'C-A'!$J$13:$K$24,2,FALSE))","v":""},null,null,null,null,null,1.3899999999999972E-4,""]
["",null,{"$f":"IF(B152=\"\",\"\",VLOOKUP(B152,CAD_AREA!$CB$13:$CD$113,2,FALSE))","v":""},{"$f":"IF(B152=\"\",\"\",VLOOKUP(B152,CAD_AREA!$CB$13:$CD$113,3,FALSE))","v":""},null,{"$f":"IF(E152=\"\",\"\",VLOOKUP(E152,PCMSO!$B$13:$E$614,4,FALSE))","v":""},null,null,null,"","",{"$f":"IF(G152=\"\",\"\",VLOOKUP(MONTH(G152),'C-A'!$J$13:$K$24,2,FALSE))","v":""},null,null,null,null,null,1.3999999999999972E-4,""]
["",null,{"$f":"IF(B153=\"\",\"\",VLOOKUP(B153,CAD_AREA!$CB$13:$CD$113,2,FALSE))","v":""},{"$f":"IF(B153=\"\",\"\",VLOOKUP(B153,CAD_AREA!$CB$13:$CD$113,3,FALSE))","v":""},null,{"$f":"IF(E153=\"\",\"\",VLOOKUP(E153,PCMSO!$B$13:$E$614,4,FALSE))","v":""},null,null,null,"","",{"$f":"IF(G153=\"\",\"\",VLOOKUP(MONTH(G153),'C-A'!$J$13:$K$24,2,FALSE))","v":""},null,null,null,null,null,1.4099999999999971E-4,""]
["",null,{"$f":"IF(B154=\"\",\"\",VLOOKUP(B154,CAD_AREA!$CB$13:$CD$113,2,FALSE))","v":""},{"$f":"IF(B154=\"\",\"\",VLOOKUP(B154,CAD_AREA!$CB$13:$CD$113,3,FALSE))","v":""},null,{"$f":"IF(E154=\"\",\"\",VLOOKUP(E154,PCMSO!$B$13:$E$614,4,FALSE))","v":""},null,null,null,"","",{"$f":"IF(G154=\"\",\"\",VLOOKUP(MONTH(G154),'C-A'!$J$13:$K$24,2,FALSE))","v":""},null,null,null,null,null,1.4199999999999971E-4,""]
["",null,{"$f":"IF(B155=\"\",\"\",VLOOKUP(B155,CAD_AREA!$CB$13:$CD$113,2,FALSE))","v":""},{"$f":"IF(B155=\"\",\"\",VLOOKUP(B155,CAD_AREA!$CB$13:$CD$113,3,FALSE))","v":""},null,{"$f":"IF(E155=\"\",\"\",VLOOKUP(E155,PCMSO!$B$13:$E$614,4,FALSE))","v":""},null,null,null,"","",{"$f":"IF(G155=\"\",\"\",VLOOKUP(MONTH(G155),'C-A'!$J$13:$K$24,2,FALSE))","v":""},null,null,null,null,null,1.4299999999999971E-4,""]
["",null,{"$f":"IF(B156=\"\",\"\",VLOOKUP(B156,CAD_AREA!$CB$13:$CD$113,2,FALSE))","v":""},{"$f":"IF(B156=\"\",\"\",VLOOKUP(B156,CAD_AREA!$CB$13:$CD$113,3,FALSE))","v":""},null,{"$f":"IF(E156=\"\",\"\",VLOOKUP(E156,PCMSO!$B$13:$E$614,4,FALSE))","v":""},null,null,null,"","",{"$f":"IF(G156=\"\",\"\",VLOOKUP(MONTH(G156),'C-A'!$J$13:$K$24,2,FALSE))","v":""},null,null,null,null,null,1.4399999999999971E-4,""]
["",null,{"$f":"IF(B157=\"\",\"\",VLOOKUP(B157,CAD_AREA!$CB$13:$CD$113,2,FALSE))","v":""},{"$f":"IF(B157=\"\",\"\",VLOOKUP(B157,CAD_AREA!$CB$13:$CD$113,3,FALSE))","v":""},null,{"$f":"IF(E157=\"\",\"\",VLOOKUP(E157,PCMSO!$B$13:$E$614,4,FALSE))","v":""},null,null,null,"","",{"$f":"IF(G157=\"\",\"\",VLOOKUP(MONTH(G157),'C-A'!$J$13:$K$24,2,FALSE))","v":""},null,null,null,null,null,1.449999999999997E-4,""]
["",null,{"$f":"IF(B158=\"\",\"\",VLOOKUP(B158,CAD_AREA!$CB$13:$CD$113,2,FALSE))","v":""},{"$f":"IF(B158=\"\",\"\",VLOOKUP(B158,CAD_AREA!$CB$13:$CD$113,3,FALSE))","v":""},null,{"$f":"IF(E158=\"\",\"\",VLOOKUP(E158,PCMSO!$B$13:$E$614,4,FALSE))","v":""},null,null,null,"","",{"$f":"IF(G158=\"\",\"\",VLOOKUP(MONTH(G158),'C-A'!$J$13:$K$24,2,FALSE))","v":""},null,null,null,null,null,1.459999999999997E-4,""]
["",null,{"$f":"IF(B159=\"\",\"\",VLOOKUP(B159,CAD_AREA!$CB$13:$CD$113,2,FALSE))","v":""},{"$f":"IF(B159=\"\",\"\",VLOOKUP(B159,CAD_AREA!$CB$13:$CD$113,3,FALSE))","v":""},null,{"$f":"IF(E159=\"\",\"\",VLOOKUP(E159,PCMSO!$B$13:$E$614,4,FALSE))","v":""},null,null,null,"","",{"$f":"IF(G159=\"\",\"\",VLOOKUP(MONTH(G159),'C-A'!$J$13:$K$24,2,FALSE))","v":""},null,null,null,null,null,1.469999999999997E-4,""]
["",null,{"$f":"IF(B160=\"\",\"\",VLOOKUP(B160,CAD_AREA!$CB$13:$CD$113,2,FALSE))","v":""},{"$f":"IF(B160=\"\",\"\",VLOOKUP(B160,CAD_AREA!$CB$13:$CD$113,3,FALSE))","v":""},null,{"$f":"IF(E160=\"\",\"\",VLOOKUP(E160,PCMSO!$B$13:$E$614,4,FALSE))","v":""},null,null,null,"","",{"$f":"IF(G160=\"\",\"\",VLOOKUP(MONTH(G160),'C-A'!$J$13:$K$24,2,FALSE))","v":""},null,null,null,null,null,1.4799999999999969E-4,""]
["",null,{"$f":"IF(B161=\"\",\"\",VLOOKUP(B161,CAD_AREA!$CB$13:$CD$113,2,FALSE))","v":""},{"$f":"IF(B161=\"\",\"\",VLOOKUP(B161,CAD_AREA!$CB$13:$CD$113,3,FALSE))","v":""},null,{"$f":"IF(E161=\"\",\"\",VLOOKUP(E161,PCMSO!$B$13:$E$614,4,FALSE))","v":""},null,null,null,"","",{"$f":"IF(G161=\"\",\"\",VLOOKUP(MONTH(G161),'C-A'!$J$13:$K$24,2,FALSE))","v":""},null,null,null,null,null,1.4899999999999969E-4,""]
["",null,{"$f":"IF(B162=\"\",\"\",VLOOKUP(B162,CAD_AREA!$CB$13:$CD$113,2,FALSE))","v":""},{"$f":"IF(B162=\"\",\"\",VLOOKUP(B162,CAD_AREA!$CB$13:$CD$113,3,FALSE))","v":""},null,{"$f":"IF(E162=\"\",\"\",VLOOKUP(E162,PCMSO!$B$13:$E$614,4,FALSE))","v":""},null,null,null,"","",{"$f":"IF(G162=\"\",\"\",VLOOKUP(MONTH(G162),'C-A'!$J$13:$K$24,2,FALSE))","v":""},null,null,null,null,null,1.4999999999999969E-4,""]
["",null,{"$f":"IF(B163=\"\",\"\",VLOOKUP(B163,CAD_AREA!$CB$13:$CD$113,2,FALSE))","v":""},{"$f":"IF(B163=\"\",\"\",VLOOKUP(B163,CAD_AREA!$CB$13:$CD$113,3,FALSE))","v":""},null,{"$f":"IF(E163=\"\",\"\",VLOOKUP(E163,PCMSO!$B$13:$E$614,4,FALSE))","v":""},null,null,null,"","",{"$f":"IF(G163=\"\",\"\",VLOOKUP(MONTH(G163),'C-A'!$J$13:$K$24,2,FALSE))","v":""},null,null,null,null,null,1.5099999999999969E-4,""]
["",null,{"$f":"IF(B164=\"\",\"\",VLOOKUP(B164,CAD_AREA!$CB$13:$CD$113,2,FALSE))","v":""},{"$f":"IF(B164=\"\",\"\",VLOOKUP(B164,CAD_AREA!$CB$13:$CD$113,3,FALSE))","v":""},null,{"$f":"IF(E164=\"\",\"\",VLOOKUP(E164,PCMSO!$B$13:$E$614,4,FALSE))","v":""},null,null,null,"","",{"$f":"IF(G164=\"\",\"\",VLOOKUP(MONTH(G164),'C-A'!$J$13:$K$24,2,FALSE))","v":""},null,null,null,null,null,1.5199999999999968E-4,""]
["",null,{"$f":"IF(B165=\"\",\"\",VLOOKUP(B165,CAD_AREA!$CB$13:$CD$113,2,FALSE))","v":""},{"$f":"IF(B165=\"\",\"\",VLOOKUP(B165,CAD_AREA!$CB$13:$CD$113,3,FALSE))","v":""},null,{"$f":"IF(E165=\"\",\"\",VLOOKUP(E165,PCMSO!$B$13:$E$614,4,FALSE))","v":""},null,null,null,"","",{"$f":"IF(G165=\"\",\"\",VLOOKUP(MONTH(G165),'C-A'!$J$13:$K$24,2,FALSE))","v":""},null,null,null,null,null,1.5299999999999968E-4,""]
["",null,{"$f":"IF(B166=\"\",\"\",VLOOKUP(B166,CAD_AREA!$CB$13:$CD$113,2,FALSE))","v":""},{"$f":"IF(B166=\"\",\"\",VLOOKUP(B166,CAD_AREA!$CB$13:$CD$113,3,FALSE))","v":""},null,{"$f":"IF(E166=\"\",\"\",VLOOKUP(E166,PCMSO!$B$13:$E$614,4,FALSE))","v":""},null,null,null,"","",{"$f":"IF(G166=\"\",\"\",VLOOKUP(MONTH(G166),'C-A'!$J$13:$K$24,2,FALSE))","v":""},null,null,null,null,null,1.5399999999999968E-4,""]
["",null,{"$f":"IF(B167=\"\",\"\",VLOOKUP(B167,CAD_AREA!$CB$13:$CD$113,2,FALSE))","v":""},{"$f":"IF(B167=\"\",\"\",VLOOKUP(B167,CAD_AREA!$CB$13:$CD$113,3,FALSE))","v":""},null,{"$f":"IF(E167=\"\",\"\",VLOOKUP(E167,PCMSO!$B$13:$E$614,4,FALSE))","v":""},null,null,null,"","",{"$f":"IF(G167=\"\",\"\",VLOOKUP(MONTH(G167),'C-A'!$J$13:$K$24,2,FALSE))","v":""},null,null,null,null,null,1.5499999999999967E-4,""]
["",null,{"$f":"IF(B168=\"\",\"\",VLOOKUP(B168,CAD_AREA!$CB$13:$CD$113,2,FALSE))","v":""},{"$f":"IF(B168=\"\",\"\",VLOOKUP(B168,CAD_AREA!$CB$13:$CD$113,3,FALSE))","v":""},null,{"$f":"IF(E168=\"\",\"\",VLOOKUP(E168,PCMSO!$B$13:$E$614,4,FALSE))","v":""},null,null,null,"","",{"$f":"IF(G168=\"\",\"\",VLOOKUP(MONTH(G168),'C-A'!$J$13:$K$24,2,FALSE))","v":""},null,null,null,null,null,1.5599999999999967E-4,""]
["",null,{"$f":"IF(B169=\"\",\"\",VLOOKUP(B169,CAD_AREA!$CB$13:$CD$113,2,FALSE))","v":""},{"$f":"IF(B169=\"\",\"\",VLOOKUP(B169,CAD_AREA!$CB$13:$CD$113,3,FALSE))","v":""},null,{"$f":"IF(E169=\"\",\"\",VLOOKUP(E169,PCMSO!$B$13:$E$614,4,FALSE))","v":""},null,null,null,"","",{"$f":"IF(G169=\"\",\"\",VLOOKUP(MONTH(G169),'C-A'!$J$13:$K$24,2,FALSE))","v":""},null,null,null,null,null,1.5699999999999967E-4,""]
["",null,{"$f":"IF(B170=\"\",\"\",VLOOKUP(B170,CAD_AREA!$CB$13:$CD$113,2,FALSE))","v":""},{"$f":"IF(B170=\"\",\"\",VLOOKUP(B170,CAD_AREA!$CB$13:$CD$113,3,FALSE))","v":""},null,{"$f":"IF(E170=\"\",\"\",VLOOKUP(E170,PCMSO!$B$13:$E$614,4,FALSE))","v":""},null,null,null,"","",{"$f":"IF(G170=\"\",\"\",VLOOKUP(MONTH(G170),'C-A'!$J$13:$K$24,2,FALSE))","v":""},null,null,null,null,null,1.5799999999999967E-4,""]
["",null,{"$f":"IF(B171=\"\",\"\",VLOOKUP(B171,CAD_AREA!$CB$13:$CD$113,2,FALSE))","v":""},{"$f":"IF(B171=\"\",\"\",VLOOKUP(B171,CAD_AREA!$CB$13:$CD$113,3,FALSE))","v":""},null,{"$f":"IF(E171=\"\",\"\",VLOOKUP(E171,PCMSO!$B$13:$E$614,4,FALSE))","v":""},null,null,null,"","",{"$f":"IF(G171=\"\",\"\",VLOOKUP(MONTH(G171),'C-A'!$J$13:$K$24,2,FALSE))","v":""},null,null,null,null,null,1.5899999999999966E-4,""]
["",null,{"$f":"IF(B172=\"\",\"\",VLOOKUP(B172,CAD_AREA!$CB$13:$CD$113,2,FALSE))","v":""},{"$f":"IF(B172=\"\",\"\",VLOOKUP(B172,CAD_AREA!$CB$13:$CD$113,3,FALSE))","v":""},null,{"$f":"IF(E172=\"\",\"\",VLOOKUP(E172,PCMSO!$B$13:$E$614,4,FALSE))","v":""},null,null,null,"","",{"$f":"IF(G172=\"\",\"\",VLOOKUP(MONTH(G172),'C-A'!$J$13:$K$24,2,FALSE))","v":""},null,null,null,null,null,1.5999999999999966E-4,""]
["",null,{"$f":"IF(B173=\"\",\"\",VLOOKUP(B173,CAD_AREA!$CB$13:$CD$113,2,FALSE))","v":""},{"$f":"IF(B173=\"\",\"\",VLOOKUP(B173,CAD_AREA!$CB$13:$CD$113,3,FALSE))","v":""},null,{"$f":"IF(E173=\"\",\"\",VLOOKUP(E173,PCMSO!$B$13:$E$614,4,FALSE))","v":""},null,null,null,"","",{"$f":"IF(G173=\"\",\"\",VLOOKUP(MONTH(G173),'C-A'!$J$13:$K$24,2,FALSE))","v":""},null,null,null,null,null,1.6099999999999966E-4,""]
["",null,{"$f":"IF(B174=\"\",\"\",VLOOKUP(B174,CAD_AREA!$CB$13:$CD$113,2,FALSE))","v":""},{"$f":"IF(B174=\"\",\"\",VLOOKUP(B174,CAD_AREA!$CB$13:$CD$113,3,FALSE))","v":""},null,{"$f":"IF(E174=\"\",\"\",VLOOKUP(E174,PCMSO!$B$13:$E$614,4,FALSE))","v":""},null,null,null,"","",{"$f":"IF(G174=\"\",\"\",VLOOKUP(MONTH(G174),'C-A'!$J$13:$K$24,2,FALSE))","v":""},null,null,null,null,null,1.6199999999999966E-4,""]
["",null,{"$f":"IF(B175=\"\",\"\",VLOOKUP(B175,CAD_AREA!$CB$13:$CD$113,2,FALSE))","v":""},{"$f":"IF(B175=\"\",\"\",VLOOKUP(B175,CAD_AREA!$CB$13:$CD$113,3,FALSE))","v":""},null,{"$f":"IF(E175=\"\",\"\",VLOOKUP(E175,PCMSO!$B$13:$E$614,4,FALSE))","v":""},null,null,null,"","",{"$f":"IF(G175=\"\",\"\",VLOOKUP(MONTH(G175),'C-A'!$J$13:$K$24,2,FALSE))","v":""},null,null,null,null,null,1.6299999999999965E-4,""]
["",null,{"$f":"IF(B176=\"\",\"\",VLOOKUP(B176,CAD_AREA!$CB$13:$CD$113,2,FALSE))","v":""},{"$f":"IF(B176=\"\",\"\",VLOOKUP(B176,CAD_AREA!$CB$13:$CD$113,3,FALSE))","v":""},null,{"$f":"IF(E176=\"\",\"\",VLOOKUP(E176,PCMSO!$B$13:$E$614,4,FALSE))","v":""},null,null,null,"","",{"$f":"IF(G176=\"\",\"\",VLOOKUP(MONTH(G176),'C-A'!$J$13:$K$24,2,FALSE))","v":""},null,null,null,null,null,1.6399999999999965E-4,""]
["",null,{"$f":"IF(B177=\"\",\"\",VLOOKUP(B177,CAD_AREA!$CB$13:$CD$113,2,FALSE))","v":""},{"$f":"IF(B177=\"\",\"\",VLOOKUP(B177,CAD_AREA!$CB$13:$CD$113,3,FALSE))","v":""},null,{"$f":"IF(E177=\"\",\"\",VLOOKUP(E177,PCMSO!$B$13:$E$614,4,FALSE))","v":""},null,null,null,"","",{"$f":"IF(G177=\"\",\"\",VLOOKUP(MONTH(G177),'C-A'!$J$13:$K$24,2,FALSE))","v":""},null,null,null,null,null,1.6499999999999965E-4,""]
["",null,{"$f":"IF(B178=\"\",\"\",VLOOKUP(B178,CAD_AREA!$CB$13:$CD$113,2,FALSE))","v":""},{"$f":"IF(B178=\"\",\"\",VLOOKUP(B178,CAD_AREA!$CB$13:$CD$113,3,FALSE))","v":""},null,{"$f":"IF(E178=\"\",\"\",VLOOKUP(E178,PCMSO!$B$13:$E$614,4,FALSE))","v":""},null,null,null,"","",{"$f":"IF(G178=\"\",\"\",VLOOKUP(MONTH(G178),'C-A'!$J$13:$K$24,2,FALSE))","v":""},null,null,null,null,null,1.6599999999999964E-4,""]
["",null,{"$f":"IF(B179=\"\",\"\",VLOOKUP(B179,CAD_AREA!$CB$13:$CD$113,2,FALSE))","v":""},{"$f":"IF(B179=\"\",\"\",VLOOKUP(B179,CAD_AREA!$CB$13:$CD$113,3,FALSE))","v":""},null,{"$f":"IF(E179=\"\",\"\",VLOOKUP(E179,PCMSO!$B$13:$E$614,4,FALSE))","v":""},null,null,null,"","",{"$f":"IF(G179=\"\",\"\",VLOOKUP(MONTH(G179),'C-A'!$J$13:$K$24,2,FALSE))","v":""},null,null,null,null,null,1.6699999999999964E-4,""]
["",null,{"$f":"IF(B180=\"\",\"\",VLOOKUP(B180,CAD_AREA!$CB$13:$CD$113,2,FALSE))","v":""},{"$f":"IF(B180=\"\",\"\",VLOOKUP(B180,CAD_AREA!$CB$13:$CD$113,3,FALSE))","v":""},null,{"$f":"IF(E180=\"\",\"\",VLOOKUP(E180,PCMSO!$B$13:$E$614,4,FALSE))","v":""},null,null,null,"","",{"$f":"IF(G180=\"\",\"\",VLOOKUP(MONTH(G180),'C-A'!$J$13:$K$24,2,FALSE))","v":""},null,null,null,null,null,1.6799999999999964E-4,""]
["",null,{"$f":"IF(B181=\"\",\"\",VLOOKUP(B181,CAD_AREA!$CB$13:$CD$113,2,FALSE))","v":""},{"$f":"IF(B181=\"\",\"\",VLOOKUP(B181,CAD_AREA!$CB$13:$CD$113,3,FALSE))","v":""},null,{"$f":"IF(E181=\"\",\"\",VLOOKUP(E181,PCMSO!$B$13:$E$614,4,FALSE))","v":""},null,null,null,"","",{"$f":"IF(G181=\"\",\"\",VLOOKUP(MONTH(G181),'C-A'!$J$13:$K$24,2,FALSE))","v":""},null,null,null,null,null,1.6899999999999964E-4,""]
["",null,{"$f":"IF(B182=\"\",\"\",VLOOKUP(B182,CAD_AREA!$CB$13:$CD$113,2,FALSE))","v":""},{"$f":"IF(B182=\"\",\"\",VLOOKUP(B182,CAD_AREA!$CB$13:$CD$113,3,FALSE))","v":""},null,{"$f":"IF(E182=\"\",\"\",VLOOKUP(E182,PCMSO!$B$13:$E$614,4,FALSE))","v":""},null,null,null,"","",{"$f":"IF(G182=\"\",\"\",VLOOKUP(MONTH(G182),'C-A'!$J$13:$K$24,2,FALSE))","v":""},null,null,null,null,null,1.6999999999999963E-4,""]
["",null,{"$f":"IF(B183=\"\",\"\",VLOOKUP(B183,CAD_AREA!$CB$13:$CD$113,2,FALSE))","v":""},{"$f":"IF(B183=\"\",\"\",VLOOKUP(B183,CAD_AREA!$CB$13:$CD$113,3,FALSE))","v":""},null,{"$f":"IF(E183=\"\",\"\",VLOOKUP(E183,PCMSO!$B$13:$E$614,4,FALSE))","v":""},null,null,null,"","",{"$f":"IF(G183=\"\",\"\",VLOOKUP(MONTH(G183),'C-A'!$J$13:$K$24,2,FALSE))","v":""},null,null,null,null,null,1.7099999999999963E-4,""]
["",null,{"$f":"IF(B184=\"\",\"\",VLOOKUP(B184,CAD_AREA!$CB$13:$CD$113,2,FALSE))","v":""},{"$f":"IF(B184=\"\",\"\",VLOOKUP(B184,CAD_AREA!$CB$13:$CD$113,3,FALSE))","v":""},null,{"$f":"IF(E184=\"\",\"\",VLOOKUP(E184,PCMSO!$B$13:$E$614,4,FALSE))","v":""},null,null,null,"","",{"$f":"IF(G184=\"\",\"\",VLOOKUP(MONTH(G184),'C-A'!$J$13:$K$24,2,FALSE))","v":""},null,null,null,null,null,1.7199999999999963E-4,""]
["",null,{"$f":"IF(B185=\"\",\"\",VLOOKUP(B185,CAD_AREA!$CB$13:$CD$113,2,FALSE))","v":""},{"$f":"IF(B185=\"\",\"\",VLOOKUP(B185,CAD_AREA!$CB$13:$CD$113,3,FALSE))","v":""},null,{"$f":"IF(E185=\"\",\"\",VLOOKUP(E185,PCMSO!$B$13:$E$614,4,FALSE))","v":""},null,null,null,"","",{"$f":"IF(G185=\"\",\"\",VLOOKUP(MONTH(G185),'C-A'!$J$13:$K$24,2,FALSE))","v":""},null,null,null,null,null,1.7299999999999962E-4,""]
["",null,{"$f":"IF(B186=\"\",\"\",VLOOKUP(B186,CAD_AREA!$CB$13:$CD$113,2,FALSE))","v":""},{"$f":"IF(B186=\"\",\"\",VLOOKUP(B186,CAD_AREA!$CB$13:$CD$113,3,FALSE))","v":""},null,{"$f":"IF(E186=\"\",\"\",VLOOKUP(E186,PCMSO!$B$13:$E$614,4,FALSE))","v":""},null,null,null,"","",{"$f":"IF(G186=\"\",\"\",VLOOKUP(MONTH(G186),'C-A'!$J$13:$K$24,2,FALSE))","v":""},null,null,null,null,null,1.7399999999999962E-4,""]
["",null,{"$f":"IF(B187=\"\",\"\",VLOOKUP(B187,CAD_AREA!$CB$13:$CD$113,2,FALSE))","v":""},{"$f":"IF(B187=\"\",\"\",VLOOKUP(B187,CAD_AREA!$CB$13:$CD$113,3,FALSE))","v":""},null,{"$f":"IF(E187=\"\",\"\",VLOOKUP(E187,PCMSO!$B$13:$E$614,4,FALSE))","v":""},null,null,null,"","",{"$f":"IF(G187=\"\",\"\",VLOOKUP(MONTH(G187),'C-A'!$J$13:$K$24,2,FALSE))","v":""},null,null,null,null,null,1.7499999999999962E-4,""]
["",null,{"$f":"IF(B188=\"\",\"\",VLOOKUP(B188,CAD_AREA!$CB$13:$CD$113,2,FALSE))","v":""},{"$f":"IF(B188=\"\",\"\",VLOOKUP(B188,CAD_AREA!$CB$13:$CD$113,3,FALSE))","v":""},null,{"$f":"IF(E188=\"\",\"\",VLOOKUP(E188,PCMSO!$B$13:$E$614,4,FALSE))","v":""},null,null,null,"","",{"$f":"IF(G188=\"\",\"\",VLOOKUP(MONTH(G188),'C-A'!$J$13:$K$24,2,FALSE))","v":""},null,null,null,null,null,1.7599999999999962E-4,""]
["",null,{"$f":"IF(B189=\"\",\"\",VLOOKUP(B189,CAD_AREA!$CB$13:$CD$113,2,FALSE))","v":""},{"$f":"IF(B189=\"\",\"\",VLOOKUP(B189,CAD_AREA!$CB$13:$CD$113,3,FALSE))","v":""},null,{"$f":"IF(E189=\"\",\"\",VLOOKUP(E189,PCMSO!$B$13:$E$614,4,FALSE))","v":""},null,null,null,"","",{"$f":"IF(G189=\"\",\"\",VLOOKUP(MONTH(G189),'C-A'!$J$13:$K$24,2,FALSE))","v":""},null,null,null,null,null,1.7699999999999961E-4,""]
["",null,{"$f":"IF(B190=\"\",\"\",VLOOKUP(B190,CAD_AREA!$CB$13:$CD$113,2,FALSE))","v":""},{"$f":"IF(B190=\"\",\"\",VLOOKUP(B190,CAD_AREA!$CB$13:$CD$113,3,FALSE))","v":""},null,{"$f":"IF(E190=\"\",\"\",VLOOKUP(E190,PCMSO!$B$13:$E$614,4,FALSE))","v":""},null,null,null,"","",{"$f":"IF(G190=\"\",\"\",VLOOKUP(MONTH(G190),'C-A'!$J$13:$K$24,2,FALSE))","v":""},null,null,null,null,null,1.7799999999999961E-4,""]
["",null,{"$f":"IF(B191=\"\",\"\",VLOOKUP(B191,CAD_AREA!$CB$13:$CD$113,2,FALSE))","v":""},{"$f":"IF(B191=\"\",\"\",VLOOKUP(B191,CAD_AREA!$CB$13:$CD$113,3,FALSE))","v":""},null,{"$f":"IF(E191=\"\",\"\",VLOOKUP(E191,PCMSO!$B$13:$E$614,4,FALSE))","v":""},null,null,null,"","",{"$f":"IF(G191=\"\",\"\",VLOOKUP(MONTH(G191),'C-A'!$J$13:$K$24,2,FALSE))","v":""},null,null,null,null,null,1.7899999999999961E-4,""]
["",null,{"$f":"IF(B192=\"\",\"\",VLOOKUP(B192,CAD_AREA!$CB$13:$CD$113,2,FALSE))","v":""},{"$f":"IF(B192=\"\",\"\",VLOOKUP(B192,CAD_AREA!$CB$13:$CD$113,3,FALSE))","v":""},null,{"$f":"IF(E192=\"\",\"\",VLOOKUP(E192,PCMSO!$B$13:$E$614,4,FALSE))","v":""},null,null,null,"","",{"$f":"IF(G192=\"\",\"\",VLOOKUP(MONTH(G192),'C-A'!$J$13:$K$24,2,FALSE))","v":""},null,null,null,null,null,1.799999999999996E-4,""]
["",null,{"$f":"IF(B193=\"\",\"\",VLOOKUP(B193,CAD_AREA!$CB$13:$CD$113,2,FALSE))","v":""},{"$f":"IF(B193=\"\",\"\",VLOOKUP(B193,CAD_AREA!$CB$13:$CD$113,3,FALSE))","v":""},null,{"$f":"IF(E193=\"\",\"\",VLOOKUP(E193,PCMSO!$B$13:$E$614,4,FALSE))","v":""},null,null,null,"","",{"$f":"IF(G193=\"\",\"\",VLOOKUP(MONTH(G193),'C-A'!$J$13:$K$24,2,FALSE))","v":""},null,null,null,null,null,1.809999999999996E-4,""]
["",null,{"$f":"IF(B194=\"\",\"\",VLOOKUP(B194,CAD_AREA!$CB$13:$CD$113,2,FALSE))","v":""},{"$f":"IF(B194=\"\",\"\",VLOOKUP(B194,CAD_AREA!$CB$13:$CD$113,3,FALSE))","v":""},null,{"$f":"IF(E194=\"\",\"\",VLOOKUP(E194,PCMSO!$B$13:$E$614,4,FALSE))","v":""},null,null,null,"","",{"$f":"IF(G194=\"\",\"\",VLOOKUP(MONTH(G194),'C-A'!$J$13:$K$24,2,FALSE))","v":""},null,null,null,null,null,1.819999999999996E-4,""]
["",null,{"$f":"IF(B195=\"\",\"\",VLOOKUP(B195,CAD_AREA!$CB$13:$CD$113,2,FALSE))","v":""},{"$f":"IF(B195=\"\",\"\",VLOOKUP(B195,CAD_AREA!$CB$13:$CD$113,3,FALSE))","v":""},null,{"$f":"IF(E195=\"\",\"\",VLOOKUP(E195,PCMSO!$B$13:$E$614,4,FALSE))","v":""},null,null,null,"","",{"$f":"IF(G195=\"\",\"\",VLOOKUP(MONTH(G195),'C-A'!$J$13:$K$24,2,FALSE))","v":""},null,null,null,null,null,1.829999999999996E-4,""]
["",null,{"$f":"IF(B196=\"\",\"\",VLOOKUP(B196,CAD_AREA!$CB$13:$CD$113,2,FALSE))","v":""},{"$f":"IF(B196=\"\",\"\",VLOOKUP(B196,CAD_AREA!$CB$13:$CD$113,3,FALSE))","v":""},null,{"$f":"IF(E196=\"\",\"\",VLOOKUP(E196,PCMSO!$B$13:$E$614,4,FALSE))","v":""},null,null,null,"","",{"$f":"IF(G196=\"\",\"\",VLOOKUP(MONTH(G196),'C-A'!$J$13:$K$24,2,FALSE))","v":""},null,null,null,null,null,1.8399999999999959E-4,""]
["",null,{"$f":"IF(B197=\"\",\"\",VLOOKUP(B197,CAD_AREA!$CB$13:$CD$113,2,FALSE))","v":""},{"$f":"IF(B197=\"\",\"\",VLOOKUP(B197,CAD_AREA!$CB$13:$CD$113,3,FALSE))","v":""},null,{"$f":"IF(E197=\"\",\"\",VLOOKUP(E197,PCMSO!$B$13:$E$614,4,FALSE))","v":""},null,null,null,"","",{"$f":"IF(G197=\"\",\"\",VLOOKUP(MONTH(G197),'C-A'!$J$13:$K$24,2,FALSE))","v":""},null,null,null,null,null,1.8499999999999959E-4,""]
["",null,{"$f":"IF(B198=\"\",\"\",VLOOKUP(B198,CAD_AREA!$CB$13:$CD$113,2,FALSE))","v":""},{"$f":"IF(B198=\"\",\"\",VLOOKUP(B198,CAD_AREA!$CB$13:$CD$113,3,FALSE))","v":""},null,{"$f":"IF(E198=\"\",\"\",VLOOKUP(E198,PCMSO!$B$13:$E$614,4,FALSE))","v":""},null,null,null,"","",{"$f":"IF(G198=\"\",\"\",VLOOKUP(MONTH(G198),'C-A'!$J$13:$K$24,2,FALSE))","v":""},null,null,null,null,null,1.8599999999999959E-4,""]
["",null,{"$f":"IF(B199=\"\",\"\",VLOOKUP(B199,CAD_AREA!$CB$13:$CD$113,2,FALSE))","v":""},{"$f":"IF(B199=\"\",\"\",VLOOKUP(B199,CAD_AREA!$CB$13:$CD$113,3,FALSE))","v":""},null,{"$f":"IF(E199=\"\",\"\",VLOOKUP(E199,PCMSO!$B$13:$E$614,4,FALSE))","v":""},null,null,null,"","",{"$f":"IF(G199=\"\",\"\",VLOOKUP(MONTH(G199),'C-A'!$J$13:$K$24,2,FALSE))","v":""},null,null,null,null,null,1.8699999999999959E-4,""]
["",null,{"$f":"IF(B200=\"\",\"\",VLOOKUP(B200,CAD_AREA!$CB$13:$CD$113,2,FALSE))","v":""},{"$f":"IF(B200=\"\",\"\",VLOOKUP(B200,CAD_AREA!$CB$13:$CD$113,3,FALSE))","v":""},null,{"$f":"IF(E200=\"\",\"\",VLOOKUP(E200,PCMSO!$B$13:$E$614,4,FALSE))","v":""},null,null,null,"","",{"$f":"IF(G200=\"\",\"\",VLOOKUP(MONTH(G200),'C-A'!$J$13:$K$24,2,FALSE))","v":""},null,null,null,null,null,1.8799999999999958E-4,""]
["",null,{"$f":"IF(B201=\"\",\"\",VLOOKUP(B201,CAD_AREA!$CB$13:$CD$113,2,FALSE))","v":""},{"$f":"IF(B201=\"\",\"\",VLOOKUP(B201,CAD_AREA!$CB$13:$CD$113,3,FALSE))","v":""},null,{"$f":"IF(E201=\"\",\"\",VLOOKUP(E201,PCMSO!$B$13:$E$614,4,FALSE))","v":""},null,null,null,"","",{"$f":"IF(G201=\"\",\"\",VLOOKUP(MONTH(G201),'C-A'!$J$13:$K$24,2,FALSE))","v":""},null,null,null,null,null,1.8899999999999958E-4,""]
["",null,{"$f":"IF(B202=\"\",\"\",VLOOKUP(B202,CAD_AREA!$CB$13:$CD$113,2,FALSE))","v":""},{"$f":"IF(B202=\"\",\"\",VLOOKUP(B202,CAD_AREA!$CB$13:$CD$113,3,FALSE))","v":""},null,{"$f":"IF(E202=\"\",\"\",VLOOKUP(E202,PCMSO!$B$13:$E$614,4,FALSE))","v":""},null,null,null,"","",{"$f":"IF(G202=\"\",\"\",VLOOKUP(MONTH(G202),'C-A'!$J$13:$K$24,2,FALSE))","v":""},null,null,null,null,null,1.8999999999999958E-4,""]
["",null,{"$f":"IF(B203=\"\",\"\",VLOOKUP(B203,CAD_AREA!$CB$13:$CD$113,2,FALSE))","v":""},{"$f":"IF(B203=\"\",\"\",VLOOKUP(B203,CAD_AREA!$CB$13:$CD$113,3,FALSE))","v":""},null,{"$f":"IF(E203=\"\",\"\",VLOOKUP(E203,PCMSO!$B$13:$E$614,4,FALSE))","v":""},null,null,null,"","",{"$f":"IF(G203=\"\",\"\",VLOOKUP(MONTH(G203),'C-A'!$J$13:$K$24,2,FALSE))","v":""},null,null,null,null,null,1.9099999999999957E-4,""]
["",null,{"$f":"IF(B204=\"\",\"\",VLOOKUP(B204,CAD_AREA!$CB$13:$CD$113,2,FALSE))","v":""},{"$f":"IF(B204=\"\",\"\",VLOOKUP(B204,CAD_AREA!$CB$13:$CD$113,3,FALSE))","v":""},null,{"$f":"IF(E204=\"\",\"\",VLOOKUP(E204,PCMSO!$B$13:$E$614,4,FALSE))","v":""},null,null,null,"","",{"$f":"IF(G204=\"\",\"\",VLOOKUP(MONTH(G204),'C-A'!$J$13:$K$24,2,FALSE))","v":""},null,null,null,null,null,1.9199999999999957E-4,""]
["",null,{"$f":"IF(B205=\"\",\"\",VLOOKUP(B205,CAD_AREA!$CB$13:$CD$113,2,FALSE))","v":""},{"$f":"IF(B205=\"\",\"\",VLOOKUP(B205,CAD_AREA!$CB$13:$CD$113,3,FALSE))","v":""},null,{"$f":"IF(E205=\"\",\"\",VLOOKUP(E205,PCMSO!$B$13:$E$614,4,FALSE))","v":""},null,null,null,{"$f":"IF(F205=\"\",\"\",VLOOKUP(F205,$N$13:$O$19,2,FALSE)+G205)","v":""},"",{"$f":"IF(G205=\"\",\"\",VLOOKUP(MONTH(G205),'C-A'!$J$13:$K$24,2,FALSE))","v":""},null,null,null,null,null,1.9299999999999957E-4,{"$f":"IF(K205=\"Vencido\",\"\",J205)","v":""}]
["",null,{"$f":"IF(B206=\"\",\"\",VLOOKUP(B206,CAD_AREA!$CB$13:$CD$113,2,FALSE))","v":""},{"$f":"IF(B206=\"\",\"\",VLOOKUP(B206,CAD_AREA!$CB$13:$CD$113,3,FALSE))","v":""},null,{"$f":"IF(E206=\"\",\"\",VLOOKUP(E206,PCMSO!$B$13:$E$614,4,FALSE))","v":""},null,null,null,"",{"$f":"IF(J206=\"\",\"\",IF(J206-TODAY()<0,\"Vencido\",IF(J206-TODAY()=0,\"Realizar hoje\",\"Realizar em \"&J206-TODAY()&\" dias\")))","v":""},{"$f":"IF(G206=\"\",\"\",VLOOKUP(MONTH(G206),'C-A'!$J$13:$K$24,2,FALSE))","v":""},null,null,null,null,null,1.9399999999999957E-4,""]
["",null,{"$f":"IF(B207=\"\",\"\",VLOOKUP(B207,CAD_AREA!$CB$13:$CD$113,2,FALSE))","v":""},{"$f":"IF(B207=\"\",\"\",VLOOKUP(B207,CAD_AREA!$CB$13:$CD$113,3,FALSE))","v":""},null,{"$f":"IF(E207=\"\",\"\",VLOOKUP(E207,PCMSO!$B$13:$E$614,4,FALSE))","v":""},null,null,null,"","",{"$f":"IF(G207=\"\",\"\",VLOOKUP(MONTH(G207),'C-A'!$J$13:$K$24,2,FALSE))","v":""},null,null,null,null,null,{"$f":"R206+$R$13","v":1.9499999999999956E-4},""]
["",null,{"$f":"IF(B208=\"\",\"\",VLOOKUP(B208,CAD_AREA!$CB$13:$CD$113,2,FALSE))","v":""},{"$f":"IF(B208=\"\",\"\",VLOOKUP(B208,CAD_AREA!$CB$13:$CD$113,3,FALSE))","v":""},null,{"$f":"IF(E208=\"\",\"\",VLOOKUP(E208,PCMSO!$B$13:$E$614,4,FALSE))","v":""},null,null,null,"","",{"$f":"IF(G208=\"\",\"\",VLOOKUP(MONTH(G208),'C-A'!$J$13:$K$24,2,FALSE))","v":""},null,null,null,null,null,1.9599999999999956E-4,""]
["",null,{"$f":"IF(B209=\"\",\"\",VLOOKUP(B209,CAD_AREA!$CB$13:$CD$113,2,FALSE))","v":""},{"$f":"IF(B209=\"\",\"\",VLOOKUP(B209,CAD_AREA!$CB$13:$CD$113,3,FALSE))","v":""},null,{"$f":"IF(E209=\"\",\"\",VLOOKUP(E209,PCMSO!$B$13:$E$614,4,FALSE))","v":""},null,null,null,"","",{"$f":"IF(G209=\"\",\"\",VLOOKUP(MONTH(G209),'C-A'!$J$13:$K$24,2,FALSE))","v":""},null,null,null,null,null,1.9699999999999956E-4,""]
["",null,{"$f":"IF(B210=\"\",\"\",VLOOKUP(B210,CAD_AREA!$CB$13:$CD$113,2,FALSE))","v":""},{"$f":"IF(B210=\"\",\"\",VLOOKUP(B210,CAD_AREA!$CB$13:$CD$113,3,FALSE))","v":""},null,{"$f":"IF(E210=\"\",\"\",VLOOKUP(E210,PCMSO!$B$13:$E$614,4,FALSE))","v":""},null,null,null,"","",{"$f":"IF(G210=\"\",\"\",VLOOKUP(MONTH(G210),'C-A'!$J$13:$K$24,2,FALSE))","v":""},null,null,null,null,null,1.9799999999999955E-4,""]
["",null,{"$f":"IF(B211=\"\",\"\",VLOOKUP(B211,CAD_AREA!$CB$13:$CD$113,2,FALSE))","v":""},{"$f":"IF(B211=\"\",\"\",VLOOKUP(B211,CAD_AREA!$CB$13:$CD$113,3,FALSE))","v":""},null,{"$f":"IF(E211=\"\",\"\",VLOOKUP(E211,PCMSO!$B$13:$E$614,4,FALSE))","v":""},null,null,null,"","",{"$f":"IF(G211=\"\",\"\",VLOOKUP(MONTH(G211),'C-A'!$J$13:$K$24,2,FALSE))","v":""},null,null,null,null,null,1.9899999999999955E-4,""]
["",null,{"$f":"IF(B212=\"\",\"\",VLOOKUP(B212,CAD_AREA!$CB$13:$CD$113,2,FALSE))","v":""},{"$f":"IF(B212=\"\",\"\",VLOOKUP(B212,CAD_AREA!$CB$13:$CD$113,3,FALSE))","v":""},null,{"$f":"IF(E212=\"\",\"\",VLOOKUP(E212,PCMSO!$B$13:$E$614,4,FALSE))","v":""},null,null,null,"","",{"$f":"IF(G212=\"\",\"\",VLOOKUP(MONTH(G212),'C-A'!$J$13:$K$24,2,FALSE))","v":""},null,null,null,null,null,1.9999999999999955E-4,""]
["",null,{"$f":"IF(B213=\"\",\"\",VLOOKUP(B213,CAD_AREA!$CB$13:$CD$113,2,FALSE))","v":""},{"$f":"IF(B213=\"\",\"\",VLOOKUP(B213,CAD_AREA!$CB$13:$CD$113,3,FALSE))","v":""},null,{"$f":"IF(E213=\"\",\"\",VLOOKUP(E213,PCMSO!$B$13:$E$614,4,FALSE))","v":""},null,null,null,"","",{"$f":"IF(G213=\"\",\"\",VLOOKUP(MONTH(G213),'C-A'!$J$13:$K$24,2,FALSE))","v":""},null,null,null,null,null,2.0099999999999955E-4,""]
["",null,{"$f":"IF(B214=\"\",\"\",VLOOKUP(B214,CAD_AREA!$CB$13:$CD$113,2,FALSE))","v":""},{"$f":"IF(B214=\"\",\"\",VLOOKUP(B214,CAD_AREA!$CB$13:$CD$113,3,FALSE))","v":""},null,{"$f":"IF(E214=\"\",\"\",VLOOKUP(E214,PCMSO!$B$13:$E$614,4,FALSE))","v":""},null,null,null,"","",{"$f":"IF(G214=\"\",\"\",VLOOKUP(MONTH(G214),'C-A'!$J$13:$K$24,2,FALSE))","v":""},null,null,null,null,null,2.0199999999999954E-4,""]
["",null,{"$f":"IF(B215=\"\",\"\",VLOOKUP(B215,CAD_AREA!$CB$13:$CD$113,2,FALSE))","v":""},{"$f":"IF(B215=\"\",\"\",VLOOKUP(B215,CAD_AREA!$CB$13:$CD$113,3,FALSE))","v":""},null,{"$f":"IF(E215=\"\",\"\",VLOOKUP(E215,PCMSO!$B$13:$E$614,4,FALSE))","v":""},null,null,null,"","",{"$f":"IF(G215=\"\",\"\",VLOOKUP(MONTH(G215),'C-A'!$J$13:$K$24,2,FALSE))","v":""},null,null,null,null,null,2.0299999999999954E-4,""]
["",null,{"$f":"IF(B216=\"\",\"\",VLOOKUP(B216,CAD_AREA!$CB$13:$CD$113,2,FALSE))","v":""},{"$f":"IF(B216=\"\",\"\",VLOOKUP(B216,CAD_AREA!$CB$13:$CD$113,3,FALSE))","v":""},null,{"$f":"IF(E216=\"\",\"\",VLOOKUP(E216,PCMSO!$B$13:$E$614,4,FALSE))","v":""},null,null,null,"","",{"$f":"IF(G216=\"\",\"\",VLOOKUP(MONTH(G216),'C-A'!$J$13:$K$24,2,FALSE))","v":""},null,null,null,null,null,2.0399999999999954E-4,""]
["",null,{"$f":"IF(B217=\"\",\"\",VLOOKUP(B217,CAD_AREA!$CB$13:$CD$113,2,FALSE))","v":""},{"$f":"IF(B217=\"\",\"\",VLOOKUP(B217,CAD_AREA!$CB$13:$CD$113,3,FALSE))","v":""},null,{"$f":"IF(E217=\"\",\"\",VLOOKUP(E217,PCMSO!$B$13:$E$614,4,FALSE))","v":""},null,null,null,"","",{"$f":"IF(G217=\"\",\"\",VLOOKUP(MONTH(G217),'C-A'!$J$13:$K$24,2,FALSE))","v":""},null,null,null,null,null,2.0499999999999953E-4,""]
["",null,{"$f":"IF(B218=\"\",\"\",VLOOKUP(B218,CAD_AREA!$CB$13:$CD$113,2,FALSE))","v":""},{"$f":"IF(B218=\"\",\"\",VLOOKUP(B218,CAD_AREA!$CB$13:$CD$113,3,FALSE))","v":""},null,{"$f":"IF(E218=\"\",\"\",VLOOKUP(E218,PCMSO!$B$13:$E$614,4,FALSE))","v":""},null,null,null,"","",{"$f":"IF(G218=\"\",\"\",VLOOKUP(MONTH(G218),'C-A'!$J$13:$K$24,2,FALSE))","v":""},null,null,null,null,null,2.0599999999999953E-4,""]
["",null,{"$f":"IF(B219=\"\",\"\",VLOOKUP(B219,CAD_AREA!$CB$13:$CD$113,2,FALSE))","v":""},{"$f":"IF(B219=\"\",\"\",VLOOKUP(B219,CAD_AREA!$CB$13:$CD$113,3,FALSE))","v":""},null,{"$f":"IF(E219=\"\",\"\",VLOOKUP(E219,PCMSO!$B$13:$E$614,4,FALSE))","v":""},null,null,null,"","",{"$f":"IF(G219=\"\",\"\",VLOOKUP(MONTH(G219),'C-A'!$J$13:$K$24,2,FALSE))","v":""},null,null,null,null,null,2.0699999999999953E-4,""]
["",null,{"$f":"IF(B220=\"\",\"\",VLOOKUP(B220,CAD_AREA!$CB$13:$CD$113,2,FALSE))","v":""},{"$f":"IF(B220=\"\",\"\",VLOOKUP(B220,CAD_AREA!$CB$13:$CD$113,3,FALSE))","v":""},null,{"$f":"IF(E220=\"\",\"\",VLOOKUP(E220,PCMSO!$B$13:$E$614,4,FALSE))","v":""},null,null,null,"","",{"$f":"IF(G220=\"\",\"\",VLOOKUP(MONTH(G220),'C-A'!$J$13:$K$24,2,FALSE))","v":""},null,null,null,null,null,2.0799999999999953E-4,""]
["",null,{"$f":"IF(B221=\"\",\"\",VLOOKUP(B221,CAD_AREA!$CB$13:$CD$113,2,FALSE))","v":""},{"$f":"IF(B221=\"\",\"\",VLOOKUP(B221,CAD_AREA!$CB$13:$CD$113,3,FALSE))","v":""},null,{"$f":"IF(E221=\"\",\"\",VLOOKUP(E221,PCMSO!$B$13:$E$614,4,FALSE))","v":""},null,null,null,"","",{"$f":"IF(G221=\"\",\"\",VLOOKUP(MONTH(G221),'C-A'!$J$13:$K$24,2,FALSE))","v":""},null,null,null,null,null,2.0899999999999952E-4,""]
["",null,{"$f":"IF(B222=\"\",\"\",VLOOKUP(B222,CAD_AREA!$CB$13:$CD$113,2,FALSE))","v":""},{"$f":"IF(B222=\"\",\"\",VLOOKUP(B222,CAD_AREA!$CB$13:$CD$113,3,FALSE))","v":""},null,{"$f":"IF(E222=\"\",\"\",VLOOKUP(E222,PCMSO!$B$13:$E$614,4,FALSE))","v":""},null,null,null,"","",{"$f":"IF(G222=\"\",\"\",VLOOKUP(MONTH(G222),'C-A'!$J$13:$K$24,2,FALSE))","v":""},null,null,null,null,null,2.0999999999999952E-4,""]
["",null,{"$f":"IF(B223=\"\",\"\",VLOOKUP(B223,CAD_AREA!$CB$13:$CD$113,2,FALSE))","v":""},{"$f":"IF(B223=\"\",\"\",VLOOKUP(B223,CAD_AREA!$CB$13:$CD$113,3,FALSE))","v":""},null,{"$f":"IF(E223=\"\",\"\",VLOOKUP(E223,PCMSO!$B$13:$E$614,4,FALSE))","v":""},null,null,null,"","",{"$f":"IF(G223=\"\",\"\",VLOOKUP(MONTH(G223),'C-A'!$J$13:$K$24,2,FALSE))","v":""},null,null,null,null,null,2.1099999999999952E-4,""]
["",null,{"$f":"IF(B224=\"\",\"\",VLOOKUP(B224,CAD_AREA!$CB$13:$CD$113,2,FALSE))","v":""},{"$f":"IF(B224=\"\",\"\",VLOOKUP(B224,CAD_AREA!$CB$13:$CD$113,3,FALSE))","v":""},null,{"$f":"IF(E224=\"\",\"\",VLOOKUP(E224,PCMSO!$B$13:$E$614,4,FALSE))","v":""},null,null,null,"","",{"$f":"IF(G224=\"\",\"\",VLOOKUP(MONTH(G224),'C-A'!$J$13:$K$24,2,FALSE))","v":""},null,null,null,null,null,2.1199999999999952E-4,""]
["",null,{"$f":"IF(B225=\"\",\"\",VLOOKUP(B225,CAD_AREA!$CB$13:$CD$113,2,FALSE))","v":""},{"$f":"IF(B225=\"\",\"\",VLOOKUP(B225,CAD_AREA!$CB$13:$CD$113,3,FALSE))","v":""},null,{"$f":"IF(E225=\"\",\"\",VLOOKUP(E225,PCMSO!$B$13:$E$614,4,FALSE))","v":""},null,null,null,"","",{"$f":"IF(G225=\"\",\"\",VLOOKUP(MONTH(G225),'C-A'!$J$13:$K$24,2,FALSE))","v":""},null,null,null,null,null,2.1299999999999951E-4,""]
["",null,{"$f":"IF(B226=\"\",\"\",VLOOKUP(B226,CAD_AREA!$CB$13:$CD$113,2,FALSE))","v":""},{"$f":"IF(B226=\"\",\"\",VLOOKUP(B226,CAD_AREA!$CB$13:$CD$113,3,FALSE))","v":""},null,{"$f":"IF(E226=\"\",\"\",VLOOKUP(E226,PCMSO!$B$13:$E$614,4,FALSE))","v":""},null,null,null,"","",{"$f":"IF(G226=\"\",\"\",VLOOKUP(MONTH(G226),'C-A'!$J$13:$K$24,2,FALSE))","v":""},null,null,null,null,null,2.1399999999999951E-4,""]
["",null,{"$f":"IF(B227=\"\",\"\",VLOOKUP(B227,CAD_AREA!$CB$13:$CD$113,2,FALSE))","v":""},{"$f":"IF(B227=\"\",\"\",VLOOKUP(B227,CAD_AREA!$CB$13:$CD$113,3,FALSE))","v":""},null,{"$f":"IF(E227=\"\",\"\",VLOOKUP(E227,PCMSO!$B$13:$E$614,4,FALSE))","v":""},null,null,null,"","",{"$f":"IF(G227=\"\",\"\",VLOOKUP(MONTH(G227),'C-A'!$J$13:$K$24,2,FALSE))","v":""},null,null,null,null,null,2.1499999999999951E-4,""]
["",null,{"$f":"IF(B228=\"\",\"\",VLOOKUP(B228,CAD_AREA!$CB$13:$CD$113,2,FALSE))","v":""},{"$f":"IF(B228=\"\",\"\",VLOOKUP(B228,CAD_AREA!$CB$13:$CD$113,3,FALSE))","v":""},null,{"$f":"IF(E228=\"\",\"\",VLOOKUP(E228,PCMSO!$B$13:$E$614,4,FALSE))","v":""},null,null,null,"","",{"$f":"IF(G228=\"\",\"\",VLOOKUP(MONTH(G228),'C-A'!$J$13:$K$24,2,FALSE))","v":""},null,null,null,null,null,2.159999999999995E-4,""]
["",null,{"$f":"IF(B229=\"\",\"\",VLOOKUP(B229,CAD_AREA!$CB$13:$CD$113,2,FALSE))","v":""},{"$f":"IF(B229=\"\",\"\",VLOOKUP(B229,CAD_AREA!$CB$13:$CD$113,3,FALSE))","v":""},null,{"$f":"IF(E229=\"\",\"\",VLOOKUP(E229,PCMSO!$B$13:$E$614,4,FALSE))","v":""},null,null,null,"","",{"$f":"IF(G229=\"\",\"\",VLOOKUP(MONTH(G229),'C-A'!$J$13:$K$24,2,FALSE))","v":""},null,null,null,null,null,2.169999999999995E-4,""]
["",null,{"$f":"IF(B230=\"\",\"\",VLOOKUP(B230,CAD_AREA!$CB$13:$CD$113,2,FALSE))","v":""},{"$f":"IF(B230=\"\",\"\",VLOOKUP(B230,CAD_AREA!$CB$13:$CD$113,3,FALSE))","v":""},null,{"$f":"IF(E230=\"\",\"\",VLOOKUP(E230,PCMSO!$B$13:$E$614,4,FALSE))","v":""},null,null,null,"","",{"$f":"IF(G230=\"\",\"\",VLOOKUP(MONTH(G230),'C-A'!$J$13:$K$24,2,FALSE))","v":""},null,null,null,null,null,2.179999999999995E-4,""]
["",null,{"$f":"IF(B231=\"\",\"\",VLOOKUP(B231,CAD_AREA!$CB$13:$CD$113,2,FALSE))","v":""},{"$f":"IF(B231=\"\",\"\",VLOOKUP(B231,CAD_AREA!$CB$13:$CD$113,3,FALSE))","v":""},null,{"$f":"IF(E231=\"\",\"\",VLOOKUP(E231,PCMSO!$B$13:$E$614,4,FALSE))","v":""},null,null,null,"","",{"$f":"IF(G231=\"\",\"\",VLOOKUP(MONTH(G231),'C-A'!$J$13:$K$24,2,FALSE))","v":""},null,null,null,null,null,2.189999999999995E-4,""]
["",null,{"$f":"IF(B232=\"\",\"\",VLOOKUP(B232,CAD_AREA!$CB$13:$CD$113,2,FALSE))","v":""},{"$f":"IF(B232=\"\",\"\",VLOOKUP(B232,CAD_AREA!$CB$13:$CD$113,3,FALSE))","v":""},null,{"$f":"IF(E232=\"\",\"\",VLOOKUP(E232,PCMSO!$B$13:$E$614,4,FALSE))","v":""},null,null,null,"","",{"$f":"IF(G232=\"\",\"\",VLOOKUP(MONTH(G232),'C-A'!$J$13:$K$24,2,FALSE))","v":""},null,null,null,null,null,2.1999999999999949E-4,""]
["",null,{"$f":"IF(B233=\"\",\"\",VLOOKUP(B233,CAD_AREA!$CB$13:$CD$113,2,FALSE))","v":""},{"$f":"IF(B233=\"\",\"\",VLOOKUP(B233,CAD_AREA!$CB$13:$CD$113,3,FALSE))","v":""},null,{"$f":"IF(E233=\"\",\"\",VLOOKUP(E233,PCMSO!$B$13:$E$614,4,FALSE))","v":""},null,null,null,"","",{"$f":"IF(G233=\"\",\"\",VLOOKUP(MONTH(G233),'C-A'!$J$13:$K$24,2,FALSE))","v":""},null,null,null,null,null,2.2099999999999949E-4,""]
["",null,{"$f":"IF(B234=\"\",\"\",VLOOKUP(B234,CAD_AREA!$CB$13:$CD$113,2,FALSE))","v":""},{"$f":"IF(B234=\"\",\"\",VLOOKUP(B234,CAD_AREA!$CB$13:$CD$113,3,FALSE))","v":""},null,{"$f":"IF(E234=\"\",\"\",VLOOKUP(E234,PCMSO!$B$13:$E$614,4,FALSE))","v":""},null,null,null,"","",{"$f":"IF(G234=\"\",\"\",VLOOKUP(MONTH(G234),'C-A'!$J$13:$K$24,2,FALSE))","v":""},null,null,null,null,null,2.2199999999999949E-4,""]
["",null,{"$f":"IF(B235=\"\",\"\",VLOOKUP(B235,CAD_AREA!$CB$13:$CD$113,2,FALSE))","v":""},{"$f":"IF(B235=\"\",\"\",VLOOKUP(B235,CAD_AREA!$CB$13:$CD$113,3,FALSE))","v":""},null,{"$f":"IF(E235=\"\",\"\",VLOOKUP(E235,PCMSO!$B$13:$E$614,4,FALSE))","v":""},null,null,null,"","",{"$f":"IF(G235=\"\",\"\",VLOOKUP(MONTH(G235),'C-A'!$J$13:$K$24,2,FALSE))","v":""},null,null,null,null,null,2.2299999999999948E-4,""]
["",null,{"$f":"IF(B236=\"\",\"\",VLOOKUP(B236,CAD_AREA!$CB$13:$CD$113,2,FALSE))","v":""},{"$f":"IF(B236=\"\",\"\",VLOOKUP(B236,CAD_AREA!$CB$13:$CD$113,3,FALSE))","v":""},null,{"$f":"IF(E236=\"\",\"\",VLOOKUP(E236,PCMSO!$B$13:$E$614,4,FALSE))","v":""},null,null,null,"","",{"$f":"IF(G236=\"\",\"\",VLOOKUP(MONTH(G236),'C-A'!$J$13:$K$24,2,FALSE))","v":""},null,null,null,null,null,2.2399999999999948E-4,""]
["",null,{"$f":"IF(B237=\"\",\"\",VLOOKUP(B237,CAD_AREA!$CB$13:$CD$113,2,FALSE))","v":""},{"$f":"IF(B237=\"\",\"\",VLOOKUP(B237,CAD_AREA!$CB$13:$CD$113,3,FALSE))","v":""},null,{"$f":"IF(E237=\"\",\"\",VLOOKUP(E237,PCMSO!$B$13:$E$614,4,FALSE))","v":""},null,null,null,"","",{"$f":"IF(G237=\"\",\"\",VLOOKUP(MONTH(G237),'C-A'!$J$13:$K$24,2,FALSE))","v":""},null,null,null,null,null,2.2499999999999948E-4,""]
["",null,{"$f":"IF(B238=\"\",\"\",VLOOKUP(B238,CAD_AREA!$CB$13:$CD$113,2,FALSE))","v":""},{"$f":"IF(B238=\"\",\"\",VLOOKUP(B238,CAD_AREA!$CB$13:$CD$113,3,FALSE))","v":""},null,{"$f":"IF(E238=\"\",\"\",VLOOKUP(E238,PCMSO!$B$13:$E$614,4,FALSE))","v":""},null,null,null,"","",{"$f":"IF(G238=\"\",\"\",VLOOKUP(MONTH(G238),'C-A'!$J$13:$K$24,2,FALSE))","v":""},null,null,null,null,null,2.2599999999999948E-4,""]
["",null,{"$f":"IF(B239=\"\",\"\",VLOOKUP(B239,CAD_AREA!$CB$13:$CD$113,2,FALSE))","v":""},{"$f":"IF(B239=\"\",\"\",VLOOKUP(B239,CAD_AREA!$CB$13:$CD$113,3,FALSE))","v":""},null,{"$f":"IF(E239=\"\",\"\",VLOOKUP(E239,PCMSO!$B$13:$E$614,4,FALSE))","v":""},null,null,null,"","",{"$f":"IF(G239=\"\",\"\",VLOOKUP(MONTH(G239),'C-A'!$J$13:$K$24,2,FALSE))","v":""},null,null,null,null,null,2.2699999999999947E-4,""]
["",null,{"$f":"IF(B240=\"\",\"\",VLOOKUP(B240,CAD_AREA!$CB$13:$CD$113,2,FALSE))","v":""},{"$f":"IF(B240=\"\",\"\",VLOOKUP(B240,CAD_AREA!$CB$13:$CD$113,3,FALSE))","v":""},null,{"$f":"IF(E240=\"\",\"\",VLOOKUP(E240,PCMSO!$B$13:$E$614,4,FALSE))","v":""},null,null,null,"","",{"$f":"IF(G240=\"\",\"\",VLOOKUP(MONTH(G240),'C-A'!$J$13:$K$24,2,FALSE))","v":""},null,null,null,null,null,2.2799999999999947E-4,""]
["",null,{"$f":"IF(B241=\"\",\"\",VLOOKUP(B241,CAD_AREA!$CB$13:$CD$113,2,FALSE))","v":""},{"$f":"IF(B241=\"\",\"\",VLOOKUP(B241,CAD_AREA!$CB$13:$CD$113,3,FALSE))","v":""},null,{"$f":"IF(E241=\"\",\"\",VLOOKUP(E241,PCMSO!$B$13:$E$614,4,FALSE))","v":""},null,null,null,"","",{"$f":"IF(G241=\"\",\"\",VLOOKUP(MONTH(G241),'C-A'!$J$13:$K$24,2,FALSE))","v":""},null,null,null,null,null,2.2899999999999947E-4,""]
["",null,{"$f":"IF(B242=\"\",\"\",VLOOKUP(B242,CAD_AREA!$CB$13:$CD$113,2,FALSE))","v":""},{"$f":"IF(B242=\"\",\"\",VLOOKUP(B242,CAD_AREA!$CB$13:$CD$113,3,FALSE))","v":""},null,{"$f":"IF(E242=\"\",\"\",VLOOKUP(E242,PCMSO!$B$13:$E$614,4,FALSE))","v":""},null,null,null,"","",{"$f":"IF(G242=\"\",\"\",VLOOKUP(MONTH(G242),'C-A'!$J$13:$K$24,2,FALSE))","v":""},null,null,null,null,null,2.2999999999999946E-4,""]
["",null,{"$f":"IF(B243=\"\",\"\",VLOOKUP(B243,CAD_AREA!$CB$13:$CD$113,2,FALSE))","v":""},{"$f":"IF(B243=\"\",\"\",VLOOKUP(B243,CAD_AREA!$CB$13:$CD$113,3,FALSE))","v":""},null,{"$f":"IF(E243=\"\",\"\",VLOOKUP(E243,PCMSO!$B$13:$E$614,4,FALSE))","v":""},null,null,null,"","",{"$f":"IF(G243=\"\",\"\",VLOOKUP(MONTH(G243),'C-A'!$J$13:$K$24,2,FALSE))","v":""},null,null,null,null,null,2.3099999999999946E-4,""]
["",null,{"$f":"IF(B244=\"\",\"\",VLOOKUP(B244,CAD_AREA!$CB$13:$CD$113,2,FALSE))","v":""},{"$f":"IF(B244=\"\",\"\",VLOOKUP(B244,CAD_AREA!$CB$13:$CD$113,3,FALSE))","v":""},null,{"$f":"IF(E244=\"\",\"\",VLOOKUP(E244,PCMSO!$B$13:$E$614,4,FALSE))","v":""},null,null,null,"","",{"$f":"IF(G244=\"\",\"\",VLOOKUP(MONTH(G244),'C-A'!$J$13:$K$24,2,FALSE))","v":""},null,null,null,null,null,2.3199999999999946E-4,""]
["",null,{"$f":"IF(B245=\"\",\"\",VLOOKUP(B245,CAD_AREA!$CB$13:$CD$113,2,FALSE))","v":""},{"$f":"IF(B245=\"\",\"\",VLOOKUP(B245,CAD_AREA!$CB$13:$CD$113,3,FALSE))","v":""},null,{"$f":"IF(E245=\"\",\"\",VLOOKUP(E245,PCMSO!$B$13:$E$614,4,FALSE))","v":""},null,null,null,"","",{"$f":"IF(G245=\"\",\"\",VLOOKUP(MONTH(G245),'C-A'!$J$13:$K$24,2,FALSE))","v":""},null,null,null,null,null,2.3299999999999946E-4,""]
["",null,{"$f":"IF(B246=\"\",\"\",VLOOKUP(B246,CAD_AREA!$CB$13:$CD$113,2,FALSE))","v":""},{"$f":"IF(B246=\"\",\"\",VLOOKUP(B246,CAD_AREA!$CB$13:$CD$113,3,FALSE))","v":""},null,{"$f":"IF(E246=\"\",\"\",VLOOKUP(E246,PCMSO!$B$13:$E$614,4,FALSE))","v":""},null,null,null,"","",{"$f":"IF(G246=\"\",\"\",VLOOKUP(MONTH(G246),'C-A'!$J$13:$K$24,2,FALSE))","v":""},null,null,null,null,null,2.3399999999999945E-4,""]
["",null,{"$f":"IF(B247=\"\",\"\",VLOOKUP(B247,CAD_AREA!$CB$13:$CD$113,2,FALSE))","v":""},{"$f":"IF(B247=\"\",\"\",VLOOKUP(B247,CAD_AREA!$CB$13:$CD$113,3,FALSE))","v":""},null,{"$f":"IF(E247=\"\",\"\",VLOOKUP(E247,PCMSO!$B$13:$E$614,4,FALSE))","v":""},null,null,null,"","",{"$f":"IF(G247=\"\",\"\",VLOOKUP(MONTH(G247),'C-A'!$J$13:$K$24,2,FALSE))","v":""},null,null,null,null,null,2.3499999999999945E-4,""]
["",null,{"$f":"IF(B248=\"\",\"\",VLOOKUP(B248,CAD_AREA!$CB$13:$CD$113,2,FALSE))","v":""},{"$f":"IF(B248=\"\",\"\",VLOOKUP(B248,CAD_AREA!$CB$13:$CD$113,3,FALSE))","v":""},null,{"$f":"IF(E248=\"\",\"\",VLOOKUP(E248,PCMSO!$B$13:$E$614,4,FALSE))","v":""},null,null,null,"","",{"$f":"IF(G248=\"\",\"\",VLOOKUP(MONTH(G248),'C-A'!$J$13:$K$24,2,FALSE))","v":""},null,null,null,null,null,2.3599999999999945E-4,""]
["",null,{"$f":"IF(B249=\"\",\"\",VLOOKUP(B249,CAD_AREA!$CB$13:$CD$113,2,FALSE))","v":""},{"$f":"IF(B249=\"\",\"\",VLOOKUP(B249,CAD_AREA!$CB$13:$CD$113,3,FALSE))","v":""},null,{"$f":"IF(E249=\"\",\"\",VLOOKUP(E249,PCMSO!$B$13:$E$614,4,FALSE))","v":""},null,null,null,"","",{"$f":"IF(G249=\"\",\"\",VLOOKUP(MONTH(G249),'C-A'!$J$13:$K$24,2,FALSE))","v":""},null,null,null,null,null,2.3699999999999945E-4,""]
["",null,{"$f":"IF(B250=\"\",\"\",VLOOKUP(B250,CAD_AREA!$CB$13:$CD$113,2,FALSE))","v":""},{"$f":"IF(B250=\"\",\"\",VLOOKUP(B250,CAD_AREA!$CB$13:$CD$113,3,FALSE))","v":""},null,{"$f":"IF(E250=\"\",\"\",VLOOKUP(E250,PCMSO!$B$13:$E$614,4,FALSE))","v":""},null,null,null,"","",{"$f":"IF(G250=\"\",\"\",VLOOKUP(MONTH(G250),'C-A'!$J$13:$K$24,2,FALSE))","v":""},null,null,null,null,null,2.3799999999999944E-4,""]
["",null,{"$f":"IF(B251=\"\",\"\",VLOOKUP(B251,CAD_AREA!$CB$13:$CD$113,2,FALSE))","v":""},{"$f":"IF(B251=\"\",\"\",VLOOKUP(B251,CAD_AREA!$CB$13:$CD$113,3,FALSE))","v":""},null,{"$f":"IF(E251=\"\",\"\",VLOOKUP(E251,PCMSO!$B$13:$E$614,4,FALSE))","v":""},null,null,null,"","",{"$f":"IF(G251=\"\",\"\",VLOOKUP(MONTH(G251),'C-A'!$J$13:$K$24,2,FALSE))","v":""},null,null,null,null,null,2.3899999999999944E-4,""]
["",null,{"$f":"IF(B252=\"\",\"\",VLOOKUP(B252,CAD_AREA!$CB$13:$CD$113,2,FALSE))","v":""},{"$f":"IF(B252=\"\",\"\",VLOOKUP(B252,CAD_AREA!$CB$13:$CD$113,3,FALSE))","v":""},null,{"$f":"IF(E252=\"\",\"\",VLOOKUP(E252,PCMSO!$B$13:$E$614,4,FALSE))","v":""},null,null,null,"","",{"$f":"IF(G252=\"\",\"\",VLOOKUP(MONTH(G252),'C-A'!$J$13:$K$24,2,FALSE))","v":""},null,null,null,null,null,2.3999999999999944E-4,""]
["",null,{"$f":"IF(B253=\"\",\"\",VLOOKUP(B253,CAD_AREA!$CB$13:$CD$113,2,FALSE))","v":""},{"$f":"IF(B253=\"\",\"\",VLOOKUP(B253,CAD_AREA!$CB$13:$CD$113,3,FALSE))","v":""},null,{"$f":"IF(E253=\"\",\"\",VLOOKUP(E253,PCMSO!$B$13:$E$614,4,FALSE))","v":""},null,null,null,"","",{"$f":"IF(G253=\"\",\"\",VLOOKUP(MONTH(G253),'C-A'!$J$13:$K$24,2,FALSE))","v":""},null,null,null,null,null,2.4099999999999943E-4,""]
["",null,{"$f":"IF(B254=\"\",\"\",VLOOKUP(B254,CAD_AREA!$CB$13:$CD$113,2,FALSE))","v":""},{"$f":"IF(B254=\"\",\"\",VLOOKUP(B254,CAD_AREA!$CB$13:$CD$113,3,FALSE))","v":""},null,{"$f":"IF(E254=\"\",\"\",VLOOKUP(E254,PCMSO!$B$13:$E$614,4,FALSE))","v":""},null,null,null,"","",{"$f":"IF(G254=\"\",\"\",VLOOKUP(MONTH(G254),'C-A'!$J$13:$K$24,2,FALSE))","v":""},null,null,null,null,null,2.4199999999999943E-4,""]
["",null,{"$f":"IF(B255=\"\",\"\",VLOOKUP(B255,CAD_AREA!$CB$13:$CD$113,2,FALSE))","v":""},{"$f":"IF(B255=\"\",\"\",VLOOKUP(B255,CAD_AREA!$CB$13:$CD$113,3,FALSE))","v":""},null,{"$f":"IF(E255=\"\",\"\",VLOOKUP(E255,PCMSO!$B$13:$E$614,4,FALSE))","v":""},null,null,null,"","",{"$f":"IF(G255=\"\",\"\",VLOOKUP(MONTH(G255),'C-A'!$J$13:$K$24,2,FALSE))","v":""},null,null,null,null,null,2.4299999999999943E-4,""]
["",null,{"$f":"IF(B256=\"\",\"\",VLOOKUP(B256,CAD_AREA!$CB$13:$CD$113,2,FALSE))","v":""},{"$f":"IF(B256=\"\",\"\",VLOOKUP(B256,CAD_AREA!$CB$13:$CD$113,3,FALSE))","v":""},null,{"$f":"IF(E256=\"\",\"\",VLOOKUP(E256,PCMSO!$B$13:$E$614,4,FALSE))","v":""},null,null,null,"","",{"$f":"IF(G256=\"\",\"\",VLOOKUP(MONTH(G256),'C-A'!$J$13:$K$24,2,FALSE))","v":""},null,null,null,null,null,2.4399999999999943E-4,""]
["",null,{"$f":"IF(B257=\"\",\"\",VLOOKUP(B257,CAD_AREA!$CB$13:$CD$113,2,FALSE))","v":""},{"$f":"IF(B257=\"\",\"\",VLOOKUP(B257,CAD_AREA!$CB$13:$CD$113,3,FALSE))","v":""},null,{"$f":"IF(E257=\"\",\"\",VLOOKUP(E257,PCMSO!$B$13:$E$614,4,FALSE))","v":""},null,null,null,"","",{"$f":"IF(G257=\"\",\"\",VLOOKUP(MONTH(G257),'C-A'!$J$13:$K$24,2,FALSE))","v":""},null,null,null,null,null,2.4499999999999945E-4,""]
["",null,{"$f":"IF(B258=\"\",\"\",VLOOKUP(B258,CAD_AREA!$CB$13:$CD$113,2,FALSE))","v":""},{"$f":"IF(B258=\"\",\"\",VLOOKUP(B258,CAD_AREA!$CB$13:$CD$113,3,FALSE))","v":""},null,{"$f":"IF(E258=\"\",\"\",VLOOKUP(E258,PCMSO!$B$13:$E$614,4,FALSE))","v":""},null,null,null,"","",{"$f":"IF(G258=\"\",\"\",VLOOKUP(MONTH(G258),'C-A'!$J$13:$K$24,2,FALSE))","v":""},null,null,null,null,null,2.4599999999999947E-4,""]
["",null,{"$f":"IF(B259=\"\",\"\",VLOOKUP(B259,CAD_AREA!$CB$13:$CD$113,2,FALSE))","v":""},{"$f":"IF(B259=\"\",\"\",VLOOKUP(B259,CAD_AREA!$CB$13:$CD$113,3,FALSE))","v":""},null,{"$f":"IF(E259=\"\",\"\",VLOOKUP(E259,PCMSO!$B$13:$E$614,4,FALSE))","v":""},null,null,null,"","",{"$f":"IF(G259=\"\",\"\",VLOOKUP(MONTH(G259),'C-A'!$J$13:$K$24,2,FALSE))","v":""},null,null,null,null,null,2.469999999999995E-4,""]
["",null,{"$f":"IF(B260=\"\",\"\",VLOOKUP(B260,CAD_AREA!$CB$13:$CD$113,2,FALSE))","v":""},{"$f":"IF(B260=\"\",\"\",VLOOKUP(B260,CAD_AREA!$CB$13:$CD$113,3,FALSE))","v":""},null,{"$f":"IF(E260=\"\",\"\",VLOOKUP(E260,PCMSO!$B$13:$E$614,4,FALSE))","v":""},null,null,null,"","",{"$f":"IF(G260=\"\",\"\",VLOOKUP(MONTH(G260),'C-A'!$J$13:$K$24,2,FALSE))","v":""},null,null,null,null,null,2.4799999999999952E-4,""]
["",null,{"$f":"IF(B261=\"\",\"\",VLOOKUP(B261,CAD_AREA!$CB$13:$CD$113,2,FALSE))","v":""},{"$f":"IF(B261=\"\",\"\",VLOOKUP(B261,CAD_AREA!$CB$13:$CD$113,3,FALSE))","v":""},null,{"$f":"IF(E261=\"\",\"\",VLOOKUP(E261,PCMSO!$B$13:$E$614,4,FALSE))","v":""},null,null,null,"","",{"$f":"IF(G261=\"\",\"\",VLOOKUP(MONTH(G261),'C-A'!$J$13:$K$24,2,FALSE))","v":""},null,null,null,null,null,2.4899999999999955E-4,""]
["",null,{"$f":"IF(B262=\"\",\"\",VLOOKUP(B262,CAD_AREA!$CB$13:$CD$113,2,FALSE))","v":""},{"$f":"IF(B262=\"\",\"\",VLOOKUP(B262,CAD_AREA!$CB$13:$CD$113,3,FALSE))","v":""},null,{"$f":"IF(E262=\"\",\"\",VLOOKUP(E262,PCMSO!$B$13:$E$614,4,FALSE))","v":""},null,null,null,"","",{"$f":"IF(G262=\"\",\"\",VLOOKUP(MONTH(G262),'C-A'!$J$13:$K$24,2,FALSE))","v":""},null,null,null,null,null,2.4999999999999957E-4,""]
["",null,{"$f":"IF(B263=\"\",\"\",VLOOKUP(B263,CAD_AREA!$CB$13:$CD$113,2,FALSE))","v":""},{"$f":"IF(B263=\"\",\"\",VLOOKUP(B263,CAD_AREA!$CB$13:$CD$113,3,FALSE))","v":""},null,{"$f":"IF(E263=\"\",\"\",VLOOKUP(E263,PCMSO!$B$13:$E$614,4,FALSE))","v":""},null,null,null,"","",{"$f":"IF(G263=\"\",\"\",VLOOKUP(MONTH(G263),'C-A'!$J$13:$K$24,2,FALSE))","v":""},null,null,null,null,null,2.509999999999996E-4,""]
["",null,{"$f":"IF(B264=\"\",\"\",VLOOKUP(B264,CAD_AREA!$CB$13:$CD$113,2,FALSE))","v":""},{"$f":"IF(B264=\"\",\"\",VLOOKUP(B264,CAD_AREA!$CB$13:$CD$113,3,FALSE))","v":""},null,{"$f":"IF(E264=\"\",\"\",VLOOKUP(E264,PCMSO!$B$13:$E$614,4,FALSE))","v":""},null,null,null,"","",{"$f":"IF(G264=\"\",\"\",VLOOKUP(MONTH(G264),'C-A'!$J$13:$K$24,2,FALSE))","v":""},null,null,null,null,null,2.5199999999999962E-4,""]
["",null,{"$f":"IF(B265=\"\",\"\",VLOOKUP(B265,CAD_AREA!$CB$13:$CD$113,2,FALSE))","v":""},{"$f":"IF(B265=\"\",\"\",VLOOKUP(B265,CAD_AREA!$CB$13:$CD$113,3,FALSE))","v":""},null,{"$f":"IF(E265=\"\",\"\",VLOOKUP(E265,PCMSO!$B$13:$E$614,4,FALSE))","v":""},null,null,null,"","",{"$f":"IF(G265=\"\",\"\",VLOOKUP(MONTH(G265),'C-A'!$J$13:$K$24,2,FALSE))","v":""},null,null,null,null,null,2.5299999999999964E-4,""]
["",null,{"$f":"IF(B266=\"\",\"\",VLOOKUP(B266,CAD_AREA!$CB$13:$CD$113,2,FALSE))","v":""},{"$f":"IF(B266=\"\",\"\",VLOOKUP(B266,CAD_AREA!$CB$13:$CD$113,3,FALSE))","v":""},null,{"$f":"IF(E266=\"\",\"\",VLOOKUP(E266,PCMSO!$B$13:$E$614,4,FALSE))","v":""},null,null,null,"","",{"$f":"IF(G266=\"\",\"\",VLOOKUP(MONTH(G266),'C-A'!$J$13:$K$24,2,FALSE))","v":""},null,null,null,null,null,2.5399999999999967E-4,""]
["",null,{"$f":"IF(B267=\"\",\"\",VLOOKUP(B267,CAD_AREA!$CB$13:$CD$113,2,FALSE))","v":""},{"$f":"IF(B267=\"\",\"\",VLOOKUP(B267,CAD_AREA!$CB$13:$CD$113,3,FALSE))","v":""},null,{"$f":"IF(E267=\"\",\"\",VLOOKUP(E267,PCMSO!$B$13:$E$614,4,FALSE))","v":""},null,null,null,"","",{"$f":"IF(G267=\"\",\"\",VLOOKUP(MONTH(G267),'C-A'!$J$13:$K$24,2,FALSE))","v":""},null,null,null,null,null,2.5499999999999969E-4,""]
["",null,{"$f":"IF(B268=\"\",\"\",VLOOKUP(B268,CAD_AREA!$CB$13:$CD$113,2,FALSE))","v":""},{"$f":"IF(B268=\"\",\"\",VLOOKUP(B268,CAD_AREA!$CB$13:$CD$113,3,FALSE))","v":""},null,{"$f":"IF(E268=\"\",\"\",VLOOKUP(E268,PCMSO!$B$13:$E$614,4,FALSE))","v":""},null,null,null,"","",{"$f":"IF(G268=\"\",\"\",VLOOKUP(MONTH(G268),'C-A'!$J$13:$K$24,2,FALSE))","v":""},null,null,null,null,null,2.5599999999999972E-4,""]
["",null,{"$f":"IF(B269=\"\",\"\",VLOOKUP(B269,CAD_AREA!$CB$13:$CD$113,2,FALSE))","v":""},{"$f":"IF(B269=\"\",\"\",VLOOKUP(B269,CAD_AREA!$CB$13:$CD$113,3,FALSE))","v":""},null,{"$f":"IF(E269=\"\",\"\",VLOOKUP(E269,PCMSO!$B$13:$E$614,4,FALSE))","v":""},null,null,null,{"$f":"IF(F269=\"\",\"\",VLOOKUP(F269,$N$13:$O$19,2,FALSE)+G269)","v":""},"",{"$f":"IF(G269=\"\",\"\",VLOOKUP(MONTH(G269),'C-A'!$J$13:$K$24,2,FALSE))","v":""},null,null,null,null,null,2.5699999999999974E-4,{"$f":"IF(K269=\"Vencido\",\"\",J269)","v":""}]
["",null,{"$f":"IF(B270=\"\",\"\",VLOOKUP(B270,CAD_AREA!$CB$13:$CD$113,2,FALSE))","v":""},{"$f":"IF(B270=\"\",\"\",VLOOKUP(B270,CAD_AREA!$CB$13:$CD$113,3,FALSE))","v":""},null,{"$f":"IF(E270=\"\",\"\",VLOOKUP(E270,PCMSO!$B$13:$E$614,4,FALSE))","v":""},null,null,null,"",{"$f":"IF(J270=\"\",\"\",IF(J270-TODAY()<0,\"Vencido\",IF(J270-TODAY()=0,\"Realizar hoje\",\"Realizar em \"&J270-TODAY()&\" dias\")))","v":""},{"$f":"IF(G270=\"\",\"\",VLOOKUP(MONTH(G270),'C-A'!$J$13:$K$24,2,FALSE))","v":""},null,null,null,null,null,2.5799999999999977E-4,""]
["",null,{"$f":"IF(B271=\"\",\"\",VLOOKUP(B271,CAD_AREA!$CB$13:$CD$113,2,FALSE))","v":""},{"$f":"IF(B271=\"\",\"\",VLOOKUP(B271,CAD_AREA!$CB$13:$CD$113,3,FALSE))","v":""},null,{"$f":"IF(E271=\"\",\"\",VLOOKUP(E271,PCMSO!$B$13:$E$614,4,FALSE))","v":""},null,null,null,"","",{"$f":"IF(G271=\"\",\"\",VLOOKUP(MONTH(G271),'C-A'!$J$13:$K$24,2,FALSE))","v":""},null,null,null,null,null,{"$f":"R270+$R$13","v":2.5899999999999979E-4},""]
["",null,{"$f":"IF(B272=\"\",\"\",VLOOKUP(B272,CAD_AREA!$CB$13:$CD$113,2,FALSE))","v":""},{"$f":"IF(B272=\"\",\"\",VLOOKUP(B272,CAD_AREA!$CB$13:$CD$113,3,FALSE))","v":""},null,{"$f":"IF(E272=\"\",\"\",VLOOKUP(E272,PCMSO!$B$13:$E$614,4,FALSE))","v":""},null,null,null,"","",{"$f":"IF(G272=\"\",\"\",VLOOKUP(MONTH(G272),'C-A'!$J$13:$K$24,2,FALSE))","v":""},null,null,null,null,null,2.5999999999999981E-4,""]
["",null,{"$f":"IF(B273=\"\",\"\",VLOOKUP(B273,CAD_AREA!$CB$13:$CD$113,2,FALSE))","v":""},{"$f":"IF(B273=\"\",\"\",VLOOKUP(B273,CAD_AREA!$CB$13:$CD$113,3,FALSE))","v":""},null,{"$f":"IF(E273=\"\",\"\",VLOOKUP(E273,PCMSO!$B$13:$E$614,4,FALSE))","v":""},null,null,null,"","",{"$f":"IF(G273=\"\",\"\",VLOOKUP(MONTH(G273),'C-A'!$J$13:$K$24,2,FALSE))","v":""},null,null,null,null,null,2.6099999999999984E-4,""]
["",null,{"$f":"IF(B274=\"\",\"\",VLOOKUP(B274,CAD_AREA!$CB$13:$CD$113,2,FALSE))","v":""},{"$f":"IF(B274=\"\",\"\",VLOOKUP(B274,CAD_AREA!$CB$13:$CD$113,3,FALSE))","v":""},null,{"$f":"IF(E274=\"\",\"\",VLOOKUP(E274,PCMSO!$B$13:$E$614,4,FALSE))","v":""},null,null,null,"","",{"$f":"IF(G274=\"\",\"\",VLOOKUP(MONTH(G274),'C-A'!$J$13:$K$24,2,FALSE))","v":""},null,null,null,null,null,2.6199999999999986E-4,""]
["",null,{"$f":"IF(B275=\"\",\"\",VLOOKUP(B275,CAD_AREA!$CB$13:$CD$113,2,FALSE))","v":""},{"$f":"IF(B275=\"\",\"\",VLOOKUP(B275,CAD_AREA!$CB$13:$CD$113,3,FALSE))","v":""},null,{"$f":"IF(E275=\"\",\"\",VLOOKUP(E275,PCMSO!$B$13:$E$614,4,FALSE))","v":""},null,null,null,"","",{"$f":"IF(G275=\"\",\"\",VLOOKUP(MONTH(G275),'C-A'!$J$13:$K$24,2,FALSE))","v":""},null,null,null,null,null,2.6299999999999989E-4,""]
["",null,{"$f":"IF(B276=\"\",\"\",VLOOKUP(B276,CAD_AREA!$CB$13:$CD$113,2,FALSE))","v":""},{"$f":"IF(B276=\"\",\"\",VLOOKUP(B276,CAD_AREA!$CB$13:$CD$113,3,FALSE))","v":""},null,{"$f":"IF(E276=\"\",\"\",VLOOKUP(E276,PCMSO!$B$13:$E$614,4,FALSE))","v":""},null,null,null,"","",{"$f":"IF(G276=\"\",\"\",VLOOKUP(MONTH(G276),'C-A'!$J$13:$K$24,2,FALSE))","v":""},null,null,null,null,null,2.6399999999999991E-4,""]
["",null,{"$f":"IF(B277=\"\",\"\",VLOOKUP(B277,CAD_AREA!$CB$13:$CD$113,2,FALSE))","v":""},{"$f":"IF(B277=\"\",\"\",VLOOKUP(B277,CAD_AREA!$CB$13:$CD$113,3,FALSE))","v":""},null,{"$f":"IF(E277=\"\",\"\",VLOOKUP(E277,PCMSO!$B$13:$E$614,4,FALSE))","v":""},null,null,null,"","",{"$f":"IF(G277=\"\",\"\",VLOOKUP(MONTH(G277),'C-A'!$J$13:$K$24,2,FALSE))","v":""},null,null,null,null,null,2.6499999999999994E-4,""]
["",null,{"$f":"IF(B278=\"\",\"\",VLOOKUP(B278,CAD_AREA!$CB$13:$CD$113,2,FALSE))","v":""},{"$f":"IF(B278=\"\",\"\",VLOOKUP(B278,CAD_AREA!$CB$13:$CD$113,3,FALSE))","v":""},null,{"$f":"IF(E278=\"\",\"\",VLOOKUP(E278,PCMSO!$B$13:$E$614,4,FALSE))","v":""},null,null,null,"","",{"$f":"IF(G278=\"\",\"\",VLOOKUP(MONTH(G278),'C-A'!$J$13:$K$24,2,FALSE))","v":""},null,null,null,null,null,2.6599999999999996E-4,""]
["",null,{"$f":"IF(B279=\"\",\"\",VLOOKUP(B279,CAD_AREA!$CB$13:$CD$113,2,FALSE))","v":""},{"$f":"IF(B279=\"\",\"\",VLOOKUP(B279,CAD_AREA!$CB$13:$CD$113,3,FALSE))","v":""},null,{"$f":"IF(E279=\"\",\"\",VLOOKUP(E279,PCMSO!$B$13:$E$614,4,FALSE))","v":""},null,null,null,"","",{"$f":"IF(G279=\"\",\"\",VLOOKUP(MONTH(G279),'C-A'!$J$13:$K$24,2,FALSE))","v":""},null,null,null,null,null,2.6699999999999998E-4,""]
["",null,{"$f":"IF(B280=\"\",\"\",VLOOKUP(B280,CAD_AREA!$CB$13:$CD$113,2,FALSE))","v":""},{"$f":"IF(B280=\"\",\"\",VLOOKUP(B280,CAD_AREA!$CB$13:$CD$113,3,FALSE))","v":""},null,{"$f":"IF(E280=\"\",\"\",VLOOKUP(E280,PCMSO!$B$13:$E$614,4,FALSE))","v":""},null,null,null,"","",{"$f":"IF(G280=\"\",\"\",VLOOKUP(MONTH(G280),'C-A'!$J$13:$K$24,2,FALSE))","v":""},null,null,null,null,null,2.6800000000000001E-4,""]
[{"$f":"IF(S281=\"\",\"\",SUM(R281:S281))","v":""},null,{"$f":"IF(B281=\"\",\"\",VLOOKUP(B281,CAD_AREA!$CB$13:$CD$113,2,FALSE))","v":""},{"$f":"IF(B281=\"\",\"\",VLOOKUP(B281,CAD_AREA!$CB$13:$CD$113,3,FALSE))","v":""},null,{"$f":"IF(E281=\"\",\"\",VLOOKUP(E281,PCMSO!$B$13:$E$614,4,FALSE))","v":""},null,null,null,"","",{"$f":"IF(G281=\"\",\"\",VLOOKUP(MONTH(G281),'C-A'!$J$13:$K$24,2,FALSE))","v":""},null,null,null,null,null,2.6900000000000003E-4,""]
["",null,{"$f":"IF(B282=\"\",\"\",VLOOKUP(B282,CAD_AREA!$CB$13:$CD$113,2,FALSE))","v":""},{"$f":"IF(B282=\"\",\"\",VLOOKUP(B282,CAD_AREA!$CB$13:$CD$113,3,FALSE))","v":""},null,{"$f":"IF(E282=\"\",\"\",VLOOKUP(E282,PCMSO!$B$13:$E$614,4,FALSE))","v":""},null,null,null,"","",{"$f":"IF(G282=\"\",\"\",VLOOKUP(MONTH(G282),'C-A'!$J$13:$K$24,2,FALSE))","v":""},null,null,null,null,null,2.7000000000000006E-4,""]
["",null,{"$f":"IF(B283=\"\",\"\",VLOOKUP(B283,CAD_AREA!$CB$13:$CD$113,2,FALSE))","v":""},{"$f":"IF(B283=\"\",\"\",VLOOKUP(B283,CAD_AREA!$CB$13:$CD$113,3,FALSE))","v":""},null,{"$f":"IF(E283=\"\",\"\",VLOOKUP(E283,PCMSO!$B$13:$E$614,4,FALSE))","v":""},null,null,null,"","",{"$f":"IF(G283=\"\",\"\",VLOOKUP(MONTH(G283),'C-A'!$J$13:$K$24,2,FALSE))","v":""},null,null,null,null,null,2.7100000000000008E-4,""]
["",null,{"$f":"IF(B284=\"\",\"\",VLOOKUP(B284,CAD_AREA!$CB$13:$CD$113,2,FALSE))","v":""},{"$f":"IF(B284=\"\",\"\",VLOOKUP(B284,CAD_AREA!$CB$13:$CD$113,3,FALSE))","v":""},null,{"$f":"IF(E284=\"\",\"\",VLOOKUP(E284,PCMSO!$B$13:$E$614,4,FALSE))","v":""},null,null,null,"","",{"$f":"IF(G284=\"\",\"\",VLOOKUP(MONTH(G284),'C-A'!$J$13:$K$24,2,FALSE))","v":""},null,null,null,null,null,2.7200000000000011E-4,""]
["",null,{"$f":"IF(B285=\"\",\"\",VLOOKUP(B285,CAD_AREA!$CB$13:$CD$113,2,FALSE))","v":""},{"$f":"IF(B285=\"\",\"\",VLOOKUP(B285,CAD_AREA!$CB$13:$CD$113,3,FALSE))","v":""},null,{"$f":"IF(E285=\"\",\"\",VLOOKUP(E285,PCMSO!$B$13:$E$614,4,FALSE))","v":""},null,null,null,"","",{"$f":"IF(G285=\"\",\"\",VLOOKUP(MONTH(G285),'C-A'!$J$13:$K$24,2,FALSE))","v":""},null,null,null,null,null,2.7300000000000013E-4,""]
["",null,{"$f":"IF(B286=\"\",\"\",VLOOKUP(B286,CAD_AREA!$CB$13:$CD$113,2,FALSE))","v":""},{"$f":"IF(B286=\"\",\"\",VLOOKUP(B286,CAD_AREA!$CB$13:$CD$113,3,FALSE))","v":""},null,{"$f":"IF(E286=\"\",\"\",VLOOKUP(E286,PCMSO!$B$13:$E$614,4,FALSE))","v":""},null,null,null,"","",{"$f":"IF(G286=\"\",\"\",VLOOKUP(MONTH(G286),'C-A'!$J$13:$K$24,2,FALSE))","v":""},null,null,null,null,null,2.7400000000000015E-4,""]
["",null,{"$f":"IF(B287=\"\",\"\",VLOOKUP(B287,CAD_AREA!$CB$13:$CD$113,2,FALSE))","v":""},{"$f":"IF(B287=\"\",\"\",VLOOKUP(B287,CAD_AREA!$CB$13:$CD$113,3,FALSE))","v":""},null,{"$f":"IF(E287=\"\",\"\",VLOOKUP(E287,PCMSO!$B$13:$E$614,4,FALSE))","v":""},null,null,null,"","",{"$f":"IF(G287=\"\",\"\",VLOOKUP(MONTH(G287),'C-A'!$J$13:$K$24,2,FALSE))","v":""},null,null,null,null,null,2.7500000000000018E-4,""]
["",null,{"$f":"IF(B288=\"\",\"\",VLOOKUP(B288,CAD_AREA!$CB$13:$CD$113,2,FALSE))","v":""},{"$f":"IF(B288=\"\",\"\",VLOOKUP(B288,CAD_AREA!$CB$13:$CD$113,3,FALSE))","v":""},null,{"$f":"IF(E288=\"\",\"\",VLOOKUP(E288,PCMSO!$B$13:$E$614,4,FALSE))","v":""},null,null,null,"","",{"$f":"IF(G288=\"\",\"\",VLOOKUP(MONTH(G288),'C-A'!$J$13:$K$24,2,FALSE))","v":""},null,null,null,null,null,2.760000000000002E-4,""]
["",null,{"$f":"IF(B289=\"\",\"\",VLOOKUP(B289,CAD_AREA!$CB$13:$CD$113,2,FALSE))","v":""},{"$f":"IF(B289=\"\",\"\",VLOOKUP(B289,CAD_AREA!$CB$13:$CD$113,3,FALSE))","v":""},null,{"$f":"IF(E289=\"\",\"\",VLOOKUP(E289,PCMSO!$B$13:$E$614,4,FALSE))","v":""},null,null,null,"","",{"$f":"IF(G289=\"\",\"\",VLOOKUP(MONTH(G289),'C-A'!$J$13:$K$24,2,FALSE))","v":""},null,null,null,null,null,2.7700000000000023E-4,""]
["",null,{"$f":"IF(B290=\"\",\"\",VLOOKUP(B290,CAD_AREA!$CB$13:$CD$113,2,FALSE))","v":""},{"$f":"IF(B290=\"\",\"\",VLOOKUP(B290,CAD_AREA!$CB$13:$CD$113,3,FALSE))","v":""},null,{"$f":"IF(E290=\"\",\"\",VLOOKUP(E290,PCMSO!$B$13:$E$614,4,FALSE))","v":""},null,null,null,"","",{"$f":"IF(G290=\"\",\"\",VLOOKUP(MONTH(G290),'C-A'!$J$13:$K$24,2,FALSE))","v":""},null,null,null,null,null,2.7800000000000025E-4,""]
["",null,{"$f":"IF(B291=\"\",\"\",VLOOKUP(B291,CAD_AREA!$CB$13:$CD$113,2,FALSE))","v":""},{"$f":"IF(B291=\"\",\"\",VLOOKUP(B291,CAD_AREA!$CB$13:$CD$113,3,FALSE))","v":""},null,{"$f":"IF(E291=\"\",\"\",VLOOKUP(E291,PCMSO!$B$13:$E$614,4,FALSE))","v":""},null,null,null,"","",{"$f":"IF(G291=\"\",\"\",VLOOKUP(MONTH(G291),'C-A'!$J$13:$K$24,2,FALSE))","v":""},null,null,null,null,null,2.7900000000000028E-4,""]
["",null,{"$f":"IF(B292=\"\",\"\",VLOOKUP(B292,CAD_AREA!$CB$13:$CD$113,2,FALSE))","v":""},{"$f":"IF(B292=\"\",\"\",VLOOKUP(B292,CAD_AREA!$CB$13:$CD$113,3,FALSE))","v":""},null,{"$f":"IF(E292=\"\",\"\",VLOOKUP(E292,PCMSO!$B$13:$E$614,4,FALSE))","v":""},null,null,null,"","",{"$f":"IF(G292=\"\",\"\",VLOOKUP(MONTH(G292),'C-A'!$J$13:$K$24,2,FALSE))","v":""},null,null,null,null,null,2.800000000000003E-4,""]
["",null,{"$f":"IF(B293=\"\",\"\",VLOOKUP(B293,CAD_AREA!$CB$13:$CD$113,2,FALSE))","v":""},{"$f":"IF(B293=\"\",\"\",VLOOKUP(B293,CAD_AREA!$CB$13:$CD$113,3,FALSE))","v":""},null,{"$f":"IF(E293=\"\",\"\",VLOOKUP(E293,PCMSO!$B$13:$E$614,4,FALSE))","v":""},null,null,null,"","",{"$f":"IF(G293=\"\",\"\",VLOOKUP(MONTH(G293),'C-A'!$J$13:$K$24,2,FALSE))","v":""},null,null,null,null,null,2.8100000000000033E-4,""]
["",null,{"$f":"IF(B294=\"\",\"\",VLOOKUP(B294,CAD_AREA!$CB$13:$CD$113,2,FALSE))","v":""},{"$f":"IF(B294=\"\",\"\",VLOOKUP(B294,CAD_AREA!$CB$13:$CD$113,3,FALSE))","v":""},null,{"$f":"IF(E294=\"\",\"\",VLOOKUP(E294,PCMSO!$B$13:$E$614,4,FALSE))","v":""},null,null,null,"","",{"$f":"IF(G294=\"\",\"\",VLOOKUP(MONTH(G294),'C-A'!$J$13:$K$24,2,FALSE))","v":""},null,null,null,null,null,2.8200000000000035E-4,""]
["",null,{"$f":"IF(B295=\"\",\"\",VLOOKUP(B295,CAD_AREA!$CB$13:$CD$113,2,FALSE))","v":""},{"$f":"IF(B295=\"\",\"\",VLOOKUP(B295,CAD_AREA!$CB$13:$CD$113,3,FALSE))","v":""},null,{"$f":"IF(E295=\"\",\"\",VLOOKUP(E295,PCMSO!$B$13:$E$614,4,FALSE))","v":""},null,null,null,"","",{"$f":"IF(G295=\"\",\"\",VLOOKUP(MONTH(G295),'C-A'!$J$13:$K$24,2,FALSE))","v":""},null,null,null,null,null,2.8300000000000037E-4,""]
["",null,{"$f":"IF(B296=\"\",\"\",VLOOKUP(B296,CAD_AREA!$CB$13:$CD$113,2,FALSE))","v":""},{"$f":"IF(B296=\"\",\"\",VLOOKUP(B296,CAD_AREA!$CB$13:$CD$113,3,FALSE))","v":""},null,{"$f":"IF(E296=\"\",\"\",VLOOKUP(E296,PCMSO!$B$13:$E$614,4,FALSE))","v":""},null,null,null,"","",{"$f":"IF(G296=\"\",\"\",VLOOKUP(MONTH(G296),'C-A'!$J$13:$K$24,2,FALSE))","v":""},null,null,null,null,null,2.840000000000004E-4,""]
["",null,{"$f":"IF(B297=\"\",\"\",VLOOKUP(B297,CAD_AREA!$CB$13:$CD$113,2,FALSE))","v":""},{"$f":"IF(B297=\"\",\"\",VLOOKUP(B297,CAD_AREA!$CB$13:$CD$113,3,FALSE))","v":""},null,{"$f":"IF(E297=\"\",\"\",VLOOKUP(E297,PCMSO!$B$13:$E$614,4,FALSE))","v":""},null,null,null,"","",{"$f":"IF(G297=\"\",\"\",VLOOKUP(MONTH(G297),'C-A'!$J$13:$K$24,2,FALSE))","v":""},null,null,null,null,null,2.8500000000000042E-4,""]
["",null,{"$f":"IF(B298=\"\",\"\",VLOOKUP(B298,CAD_AREA!$CB$13:$CD$113,2,FALSE))","v":""},{"$f":"IF(B298=\"\",\"\",VLOOKUP(B298,CAD_AREA!$CB$13:$CD$113,3,FALSE))","v":""},null,{"$f":"IF(E298=\"\",\"\",VLOOKUP(E298,PCMSO!$B$13:$E$614,4,FALSE))","v":""},null,null,null,"","",{"$f":"IF(G298=\"\",\"\",VLOOKUP(MONTH(G298),'C-A'!$J$13:$K$24,2,FALSE))","v":""},null,null,null,null,null,2.8600000000000045E-4,""]
["",null,{"$f":"IF(B299=\"\",\"\",VLOOKUP(B299,CAD_AREA!$CB$13:$CD$113,2,FALSE))","v":""},{"$f":"IF(B299=\"\",\"\",VLOOKUP(B299,CAD_AREA!$CB$13:$CD$113,3,FALSE))","v":""},null,{"$f":"IF(E299=\"\",\"\",VLOOKUP(E299,PCMSO!$B$13:$E$614,4,FALSE))","v":""},null,null,null,"","",{"$f":"IF(G299=\"\",\"\",VLOOKUP(MONTH(G299),'C-A'!$J$13:$K$24,2,FALSE))","v":""},null,null,null,null,null,2.8700000000000047E-4,""]
["",null,{"$f":"IF(B300=\"\",\"\",VLOOKUP(B300,CAD_AREA!$CB$13:$CD$113,2,FALSE))","v":""},{"$f":"IF(B300=\"\",\"\",VLOOKUP(B300,CAD_AREA!$CB$13:$CD$113,3,FALSE))","v":""},null,{"$f":"IF(E300=\"\",\"\",VLOOKUP(E300,PCMSO!$B$13:$E$614,4,FALSE))","v":""},null,null,null,"","",{"$f":"IF(G300=\"\",\"\",VLOOKUP(MONTH(G300),'C-A'!$J$13:$K$24,2,FALSE))","v":""},null,null,null,null,null,2.880000000000005E-4,""]
["",null,{"$f":"IF(B301=\"\",\"\",VLOOKUP(B301,CAD_AREA!$CB$13:$CD$113,2,FALSE))","v":""},{"$f":"IF(B301=\"\",\"\",VLOOKUP(B301,CAD_AREA!$CB$13:$CD$113,3,FALSE))","v":""},null,{"$f":"IF(E301=\"\",\"\",VLOOKUP(E301,PCMSO!$B$13:$E$614,4,FALSE))","v":""},null,null,null,"","",{"$f":"IF(G301=\"\",\"\",VLOOKUP(MONTH(G301),'C-A'!$J$13:$K$24,2,FALSE))","v":""},null,null,null,null,null,2.8900000000000052E-4,""]
["",null,{"$f":"IF(B302=\"\",\"\",VLOOKUP(B302,CAD_AREA!$CB$13:$CD$113,2,FALSE))","v":""},{"$f":"IF(B302=\"\",\"\",VLOOKUP(B302,CAD_AREA!$CB$13:$CD$113,3,FALSE))","v":""},null,{"$f":"IF(E302=\"\",\"\",VLOOKUP(E302,PCMSO!$B$13:$E$614,4,FALSE))","v":""},null,null,null,"","",{"$f":"IF(G302=\"\",\"\",VLOOKUP(MONTH(G302),'C-A'!$J$13:$K$24,2,FALSE))","v":""},null,null,null,null,null,2.9000000000000054E-4,""]
["",null,{"$f":"IF(B303=\"\",\"\",VLOOKUP(B303,CAD_AREA!$CB$13:$CD$113,2,FALSE))","v":""},{"$f":"IF(B303=\"\",\"\",VLOOKUP(B303,CAD_AREA!$CB$13:$CD$113,3,FALSE))","v":""},null,{"$f":"IF(E303=\"\",\"\",VLOOKUP(E303,PCMSO!$B$13:$E$614,4,FALSE))","v":""},null,null,null,"","",{"$f":"IF(G303=\"\",\"\",VLOOKUP(MONTH(G303),'C-A'!$J$13:$K$24,2,FALSE))","v":""},null,null,null,null,null,2.9100000000000057E-4,""]
["",null,{"$f":"IF(B304=\"\",\"\",VLOOKUP(B304,CAD_AREA!$CB$13:$CD$113,2,FALSE))","v":""},{"$f":"IF(B304=\"\",\"\",VLOOKUP(B304,CAD_AREA!$CB$13:$CD$113,3,FALSE))","v":""},null,{"$f":"IF(E304=\"\",\"\",VLOOKUP(E304,PCMSO!$B$13:$E$614,4,FALSE))","v":""},null,null,null,"","",{"$f":"IF(G304=\"\",\"\",VLOOKUP(MONTH(G304),'C-A'!$J$13:$K$24,2,FALSE))","v":""},null,null,null,null,null,2.9200000000000059E-4,""]
["",null,{"$f":"IF(B305=\"\",\"\",VLOOKUP(B305,CAD_AREA!$CB$13:$CD$113,2,FALSE))","v":""},{"$f":"IF(B305=\"\",\"\",VLOOKUP(B305,CAD_AREA!$CB$13:$CD$113,3,FALSE))","v":""},null,{"$f":"IF(E305=\"\",\"\",VLOOKUP(E305,PCMSO!$B$13:$E$614,4,FALSE))","v":""},null,null,null,"","",{"$f":"IF(G305=\"\",\"\",VLOOKUP(MONTH(G305),'C-A'!$J$13:$K$24,2,FALSE))","v":""},null,null,null,null,null,2.9300000000000062E-4,""]
["",null,{"$f":"IF(B306=\"\",\"\",VLOOKUP(B306,CAD_AREA!$CB$13:$CD$113,2,FALSE))","v":""},{"$f":"IF(B306=\"\",\"\",VLOOKUP(B306,CAD_AREA!$CB$13:$CD$113,3,FALSE))","v":""},null,{"$f":"IF(E306=\"\",\"\",VLOOKUP(E306,PCMSO!$B$13:$E$614,4,FALSE))","v":""},null,null,null,"","",{"$f":"IF(G306=\"\",\"\",VLOOKUP(MONTH(G306),'C-A'!$J$13:$K$24,2,FALSE))","v":""},null,null,null,null,null,2.9400000000000064E-4,""]
["",null,{"$f":"IF(B307=\"\",\"\",VLOOKUP(B307,CAD_AREA!$CB$13:$CD$113,2,FALSE))","v":""},{"$f":"IF(B307=\"\",\"\",VLOOKUP(B307,CAD_AREA!$CB$13:$CD$113,3,FALSE))","v":""},null,{"$f":"IF(E307=\"\",\"\",VLOOKUP(E307,PCMSO!$B$13:$E$614,4,FALSE))","v":""},null,null,null,"","",{"$f":"IF(G307=\"\",\"\",VLOOKUP(MONTH(G307),'C-A'!$J$13:$K$24,2,FALSE))","v":""},null,null,null,null,null,2.9500000000000067E-4,""]
["",null,{"$f":"IF(B308=\"\",\"\",VLOOKUP(B308,CAD_AREA!$CB$13:$CD$113,2,FALSE))","v":""},{"$f":"IF(B308=\"\",\"\",VLOOKUP(B308,CAD_AREA!$CB$13:$CD$113,3,FALSE))","v":""},null,{"$f":"IF(E308=\"\",\"\",VLOOKUP(E308,PCMSO!$B$13:$E$614,4,FALSE))","v":""},null,null,null,"","",{"$f":"IF(G308=\"\",\"\",VLOOKUP(MONTH(G308),'C-A'!$J$13:$K$24,2,FALSE))","v":""},null,null,null,null,null,2.9600000000000069E-4,""]
["",null,{"$f":"IF(B309=\"\",\"\",VLOOKUP(B309,CAD_AREA!$CB$13:$CD$113,2,FALSE))","v":""},{"$f":"IF(B309=\"\",\"\",VLOOKUP(B309,CAD_AREA!$CB$13:$CD$113,3,FALSE))","v":""},null,{"$f":"IF(E309=\"\",\"\",VLOOKUP(E309,PCMSO!$B$13:$E$614,4,FALSE))","v":""},null,null,null,"","",{"$f":"IF(G309=\"\",\"\",VLOOKUP(MONTH(G309),'C-A'!$J$13:$K$24,2,FALSE))","v":""},null,null,null,null,null,2.9700000000000071E-4,""]
["",null,{"$f":"IF(B310=\"\",\"\",VLOOKUP(B310,CAD_AREA!$CB$13:$CD$113,2,FALSE))","v":""},{"$f":"IF(B310=\"\",\"\",VLOOKUP(B310,CAD_AREA!$CB$13:$CD$113,3,FALSE))","v":""},null,{"$f":"IF(E310=\"\",\"\",VLOOKUP(E310,PCMSO!$B$13:$E$614,4,FALSE))","v":""},null,null,null,"","",{"$f":"IF(G310=\"\",\"\",VLOOKUP(MONTH(G310),'C-A'!$J$13:$K$24,2,FALSE))","v":""},null,null,null,null,null,2.9800000000000074E-4,""]
["",null,{"$f":"IF(B311=\"\",\"\",VLOOKUP(B311,CAD_AREA!$CB$13:$CD$113,2,FALSE))","v":""},{"$f":"IF(B311=\"\",\"\",VLOOKUP(B311,CAD_AREA!$CB$13:$CD$113,3,FALSE))","v":""},null,{"$f":"IF(E311=\"\",\"\",VLOOKUP(E311,PCMSO!$B$13:$E$614,4,FALSE))","v":""},null,null,null,"","",{"$f":"IF(G311=\"\",\"\",VLOOKUP(MONTH(G311),'C-A'!$J$13:$K$24,2,FALSE))","v":""},null,null,null,null,null,2.9900000000000076E-4,""]
["",null,{"$f":"IF(B312=\"\",\"\",VLOOKUP(B312,CAD_AREA!$CB$13:$CD$113,2,FALSE))","v":""},{"$f":"IF(B312=\"\",\"\",VLOOKUP(B312,CAD_AREA!$CB$13:$CD$113,3,FALSE))","v":""},null,{"$f":"IF(E312=\"\",\"\",VLOOKUP(E312,PCMSO!$B$13:$E$614,4,FALSE))","v":""},null,null,null,"","",{"$f":"IF(G312=\"\",\"\",VLOOKUP(MONTH(G312),'C-A'!$J$13:$K$24,2,FALSE))","v":""},null,null,null,null,null,3.0000000000000079E-4,""]
["",null,{"$f":"IF(B313=\"\",\"\",VLOOKUP(B313,CAD_AREA!$CB$13:$CD$113,2,FALSE))","v":""},{"$f":"IF(B313=\"\",\"\",VLOOKUP(B313,CAD_AREA!$CB$13:$CD$113,3,FALSE))","v":""},null,{"$f":"IF(E313=\"\",\"\",VLOOKUP(E313,PCMSO!$B$13:$E$614,4,FALSE))","v":""},null,null,null,"","",{"$f":"IF(G313=\"\",\"\",VLOOKUP(MONTH(G313),'C-A'!$J$13:$K$24,2,FALSE))","v":""},null,null,null,null,null,3.0100000000000081E-4,""]
["",null,{"$f":"IF(B314=\"\",\"\",VLOOKUP(B314,CAD_AREA!$CB$13:$CD$113,2,FALSE))","v":""},{"$f":"IF(B314=\"\",\"\",VLOOKUP(B314,CAD_AREA!$CB$13:$CD$113,3,FALSE))","v":""},null,{"$f":"IF(E314=\"\",\"\",VLOOKUP(E314,PCMSO!$B$13:$E$614,4,FALSE))","v":""},null,null,null,"","",{"$f":"IF(G314=\"\",\"\",VLOOKUP(MONTH(G314),'C-A'!$J$13:$K$24,2,FALSE))","v":""},null,null,null,null,null,3.0200000000000084E-4,""]
["",null,{"$f":"IF(B315=\"\",\"\",VLOOKUP(B315,CAD_AREA!$CB$13:$CD$113,2,FALSE))","v":""},{"$f":"IF(B315=\"\",\"\",VLOOKUP(B315,CAD_AREA!$CB$13:$CD$113,3,FALSE))","v":""},null,{"$f":"IF(E315=\"\",\"\",VLOOKUP(E315,PCMSO!$B$13:$E$614,4,FALSE))","v":""},null,null,null,"","",{"$f":"IF(G315=\"\",\"\",VLOOKUP(MONTH(G315),'C-A'!$J$13:$K$24,2,FALSE))","v":""},null,null,null,null,null,3.0300000000000086E-4,""]
["",null,{"$f":"IF(B316=\"\",\"\",VLOOKUP(B316,CAD_AREA!$CB$13:$CD$113,2,FALSE))","v":""},{"$f":"IF(B316=\"\",\"\",VLOOKUP(B316,CAD_AREA!$CB$13:$CD$113,3,FALSE))","v":""},null,{"$f":"IF(E316=\"\",\"\",VLOOKUP(E316,PCMSO!$B$13:$E$614,4,FALSE))","v":""},null,null,null,"","",{"$f":"IF(G316=\"\",\"\",VLOOKUP(MONTH(G316),'C-A'!$J$13:$K$24,2,FALSE))","v":""},null,null,null,null,null,3.0400000000000088E-4,""]
["",null,{"$f":"IF(B317=\"\",\"\",VLOOKUP(B317,CAD_AREA!$CB$13:$CD$113,2,FALSE))","v":""},{"$f":"IF(B317=\"\",\"\",VLOOKUP(B317,CAD_AREA!$CB$13:$CD$113,3,FALSE))","v":""},null,{"$f":"IF(E317=\"\",\"\",VLOOKUP(E317,PCMSO!$B$13:$E$614,4,FALSE))","v":""},null,null,null,"","",{"$f":"IF(G317=\"\",\"\",VLOOKUP(MONTH(G317),'C-A'!$J$13:$K$24,2,FALSE))","v":""},null,null,null,null,null,3.0500000000000091E-4,""]
["",null,{"$f":"IF(B318=\"\",\"\",VLOOKUP(B318,CAD_AREA!$CB$13:$CD$113,2,FALSE))","v":""},{"$f":"IF(B318=\"\",\"\",VLOOKUP(B318,CAD_AREA!$CB$13:$CD$113,3,FALSE))","v":""},null,{"$f":"IF(E318=\"\",\"\",VLOOKUP(E318,PCMSO!$B$13:$E$614,4,FALSE))","v":""},null,null,null,"","",{"$f":"IF(G318=\"\",\"\",VLOOKUP(MONTH(G318),'C-A'!$J$13:$K$24,2,FALSE))","v":""},null,null,null,null,null,3.0600000000000093E-4,""]
["",null,{"$f":"IF(B319=\"\",\"\",VLOOKUP(B319,CAD_AREA!$CB$13:$CD$113,2,FALSE))","v":""},{"$f":"IF(B319=\"\",\"\",VLOOKUP(B319,CAD_AREA!$CB$13:$CD$113,3,FALSE))","v":""},null,{"$f":"IF(E319=\"\",\"\",VLOOKUP(E319,PCMSO!$B$13:$E$614,4,FALSE))","v":""},null,null,null,"","",{"$f":"IF(G319=\"\",\"\",VLOOKUP(MONTH(G319),'C-A'!$J$13:$K$24,2,FALSE))","v":""},null,null,null,null,null,3.0700000000000096E-4,""]
["",null,{"$f":"IF(B320=\"\",\"\",VLOOKUP(B320,CAD_AREA!$CB$13:$CD$113,2,FALSE))","v":""},{"$f":"IF(B320=\"\",\"\",VLOOKUP(B320,CAD_AREA!$CB$13:$CD$113,3,FALSE))","v":""},null,{"$f":"IF(E320=\"\",\"\",VLOOKUP(E320,PCMSO!$B$13:$E$614,4,FALSE))","v":""},null,null,null,"","",{"$f":"IF(G320=\"\",\"\",VLOOKUP(MONTH(G320),'C-A'!$J$13:$K$24,2,FALSE))","v":""},null,null,null,null,null,3.0800000000000098E-4,""]
["",null,{"$f":"IF(B321=\"\",\"\",VLOOKUP(B321,CAD_AREA!$CB$13:$CD$113,2,FALSE))","v":""},{"$f":"IF(B321=\"\",\"\",VLOOKUP(B321,CAD_AREA!$CB$13:$CD$113,3,FALSE))","v":""},null,{"$f":"IF(E321=\"\",\"\",VLOOKUP(E321,PCMSO!$B$13:$E$614,4,FALSE))","v":""},null,null,null,"","",{"$f":"IF(G321=\"\",\"\",VLOOKUP(MONTH(G321),'C-A'!$J$13:$K$24,2,FALSE))","v":""},null,null,null,null,null,3.0900000000000101E-4,""]
["",null,{"$f":"IF(B322=\"\",\"\",VLOOKUP(B322,CAD_AREA!$CB$13:$CD$113,2,FALSE))","v":""},{"$f":"IF(B322=\"\",\"\",VLOOKUP(B322,CAD_AREA!$CB$13:$CD$113,3,FALSE))","v":""},null,{"$f":"IF(E322=\"\",\"\",VLOOKUP(E322,PCMSO!$B$13:$E$614,4,FALSE))","v":""},null,null,null,"","",{"$f":"IF(G322=\"\",\"\",VLOOKUP(MONTH(G322),'C-A'!$J$13:$K$24,2,FALSE))","v":""},null,null,null,null,null,3.1000000000000103E-4,""]
["",null,{"$f":"IF(B323=\"\",\"\",VLOOKUP(B323,CAD_AREA!$CB$13:$CD$113,2,FALSE))","v":""},{"$f":"IF(B323=\"\",\"\",VLOOKUP(B323,CAD_AREA!$CB$13:$CD$113,3,FALSE))","v":""},null,{"$f":"IF(E323=\"\",\"\",VLOOKUP(E323,PCMSO!$B$13:$E$614,4,FALSE))","v":""},null,null,null,"","",{"$f":"IF(G323=\"\",\"\",VLOOKUP(MONTH(G323),'C-A'!$J$13:$K$24,2,FALSE))","v":""},null,null,null,null,null,3.1100000000000105E-4,""]
["",null,{"$f":"IF(B324=\"\",\"\",VLOOKUP(B324,CAD_AREA!$CB$13:$CD$113,2,FALSE))","v":""},{"$f":"IF(B324=\"\",\"\",VLOOKUP(B324,CAD_AREA!$CB$13:$CD$113,3,FALSE))","v":""},null,{"$f":"IF(E324=\"\",\"\",VLOOKUP(E324,PCMSO!$B$13:$E$614,4,FALSE))","v":""},null,null,null,"","",{"$f":"IF(G324=\"\",\"\",VLOOKUP(MONTH(G324),'C-A'!$J$13:$K$24,2,FALSE))","v":""},null,null,null,null,null,3.1200000000000108E-4,""]
["",null,{"$f":"IF(B325=\"\",\"\",VLOOKUP(B325,CAD_AREA!$CB$13:$CD$113,2,FALSE))","v":""},{"$f":"IF(B325=\"\",\"\",VLOOKUP(B325,CAD_AREA!$CB$13:$CD$113,3,FALSE))","v":""},null,{"$f":"IF(E325=\"\",\"\",VLOOKUP(E325,PCMSO!$B$13:$E$614,4,FALSE))","v":""},null,null,null,"","",{"$f":"IF(G325=\"\",\"\",VLOOKUP(MONTH(G325),'C-A'!$J$13:$K$24,2,FALSE))","v":""},null,null,null,null,null,3.130000000000011E-4,""]
["",null,{"$f":"IF(B326=\"\",\"\",VLOOKUP(B326,CAD_AREA!$CB$13:$CD$113,2,FALSE))","v":""},{"$f":"IF(B326=\"\",\"\",VLOOKUP(B326,CAD_AREA!$CB$13:$CD$113,3,FALSE))","v":""},null,{"$f":"IF(E326=\"\",\"\",VLOOKUP(E326,PCMSO!$B$13:$E$614,4,FALSE))","v":""},null,null,null,"","",{"$f":"IF(G326=\"\",\"\",VLOOKUP(MONTH(G326),'C-A'!$J$13:$K$24,2,FALSE))","v":""},null,null,null,null,null,3.1400000000000113E-4,""]
["",null,{"$f":"IF(B327=\"\",\"\",VLOOKUP(B327,CAD_AREA!$CB$13:$CD$113,2,FALSE))","v":""},{"$f":"IF(B327=\"\",\"\",VLOOKUP(B327,CAD_AREA!$CB$13:$CD$113,3,FALSE))","v":""},null,{"$f":"IF(E327=\"\",\"\",VLOOKUP(E327,PCMSO!$B$13:$E$614,4,FALSE))","v":""},null,null,null,"","",{"$f":"IF(G327=\"\",\"\",VLOOKUP(MONTH(G327),'C-A'!$J$13:$K$24,2,FALSE))","v":""},null,null,null,null,null,3.1500000000000115E-4,""]
["",null,{"$f":"IF(B328=\"\",\"\",VLOOKUP(B328,CAD_AREA!$CB$13:$CD$113,2,FALSE))","v":""},{"$f":"IF(B328=\"\",\"\",VLOOKUP(B328,CAD_AREA!$CB$13:$CD$113,3,FALSE))","v":""},null,{"$f":"IF(E328=\"\",\"\",VLOOKUP(E328,PCMSO!$B$13:$E$614,4,FALSE))","v":""},null,null,null,"","",{"$f":"IF(G328=\"\",\"\",VLOOKUP(MONTH(G328),'C-A'!$J$13:$K$24,2,FALSE))","v":""},null,null,null,null,null,3.1600000000000118E-4,""]
["",null,{"$f":"IF(B329=\"\",\"\",VLOOKUP(B329,CAD_AREA!$CB$13:$CD$113,2,FALSE))","v":""},{"$f":"IF(B329=\"\",\"\",VLOOKUP(B329,CAD_AREA!$CB$13:$CD$113,3,FALSE))","v":""},null,{"$f":"IF(E329=\"\",\"\",VLOOKUP(E329,PCMSO!$B$13:$E$614,4,FALSE))","v":""},null,null,null,"","",{"$f":"IF(G329=\"\",\"\",VLOOKUP(MONTH(G329),'C-A'!$J$13:$K$24,2,FALSE))","v":""},null,null,null,null,null,3.170000000000012E-4,""]
["",null,{"$f":"IF(B330=\"\",\"\",VLOOKUP(B330,CAD_AREA!$CB$13:$CD$113,2,FALSE))","v":""},{"$f":"IF(B330=\"\",\"\",VLOOKUP(B330,CAD_AREA!$CB$13:$CD$113,3,FALSE))","v":""},null,{"$f":"IF(E330=\"\",\"\",VLOOKUP(E330,PCMSO!$B$13:$E$614,4,FALSE))","v":""},null,null,null,"","",{"$f":"IF(G330=\"\",\"\",VLOOKUP(MONTH(G330),'C-A'!$J$13:$K$24,2,FALSE))","v":""},null,null,null,null,null,3.1800000000000122E-4,""]
["",null,{"$f":"IF(B331=\"\",\"\",VLOOKUP(B331,CAD_AREA!$CB$13:$CD$113,2,FALSE))","v":""},{"$f":"IF(B331=\"\",\"\",VLOOKUP(B331,CAD_AREA!$CB$13:$CD$113,3,FALSE))","v":""},null,{"$f":"IF(E331=\"\",\"\",VLOOKUP(E331,PCMSO!$B$13:$E$614,4,FALSE))","v":""},null,null,null,"","",{"$f":"IF(G331=\"\",\"\",VLOOKUP(MONTH(G331),'C-A'!$J$13:$K$24,2,FALSE))","v":""},null,null,null,null,null,3.1900000000000125E-4,""]
["",null,{"$f":"IF(B332=\"\",\"\",VLOOKUP(B332,CAD_AREA!$CB$13:$CD$113,2,FALSE))","v":""},{"$f":"IF(B332=\"\",\"\",VLOOKUP(B332,CAD_AREA!$CB$13:$CD$113,3,FALSE))","v":""},null,{"$f":"IF(E332=\"\",\"\",VLOOKUP(E332,PCMSO!$B$13:$E$614,4,FALSE))","v":""},null,null,null,"","",{"$f":"IF(G332=\"\",\"\",VLOOKUP(MONTH(G332),'C-A'!$J$13:$K$24,2,FALSE))","v":""},null,null,null,null,null,3.2000000000000127E-4,""]
["",null,{"$f":"IF(B333=\"\",\"\",VLOOKUP(B333,CAD_AREA!$CB$13:$CD$113,2,FALSE))","v":""},{"$f":"IF(B333=\"\",\"\",VLOOKUP(B333,CAD_AREA!$CB$13:$CD$113,3,FALSE))","v":""},null,{"$f":"IF(E333=\"\",\"\",VLOOKUP(E333,PCMSO!$B$13:$E$614,4,FALSE))","v":""},null,null,null,{"$f":"IF(F333=\"\",\"\",VLOOKUP(F333,$N$13:$O$19,2,FALSE)+G333)","v":""},"",{"$f":"IF(G333=\"\",\"\",VLOOKUP(MONTH(G333),'C-A'!$J$13:$K$24,2,FALSE))","v":""},null,null,null,null,null,3.210000000000013E-4,{"$f":"IF(K333=\"Vencido\",\"\",J333)","v":""}]
["",null,{"$f":"IF(B334=\"\",\"\",VLOOKUP(B334,CAD_AREA!$CB$13:$CD$113,2,FALSE))","v":""},{"$f":"IF(B334=\"\",\"\",VLOOKUP(B334,CAD_AREA!$CB$13:$CD$113,3,FALSE))","v":""},null,{"$f":"IF(E334=\"\",\"\",VLOOKUP(E334,PCMSO!$B$13:$E$614,4,FALSE))","v":""},null,null,null,"",{"$f":"IF(J334=\"\",\"\",IF(J334-TODAY()<0,\"Vencido\",IF(J334-TODAY()=0,\"Realizar hoje\",\"Realizar em \"&J334-TODAY()&\" dias\")))","v":""},{"$f":"IF(G334=\"\",\"\",VLOOKUP(MONTH(G334),'C-A'!$J$13:$K$24,2,FALSE))","v":""},null,null,null,null,null,3.2200000000000132E-4,""]
["",null,{"$f":"IF(B335=\"\",\"\",VLOOKUP(B335,CAD_AREA!$CB$13:$CD$113,2,FALSE))","v":""},{"$f":"IF(B335=\"\",\"\",VLOOKUP(B335,CAD_AREA!$CB$13:$CD$113,3,FALSE))","v":""},null,{"$f":"IF(E335=\"\",\"\",VLOOKUP(E335,PCMSO!$B$13:$E$614,4,FALSE))","v":""},null,null,null,"","",{"$f":"IF(G335=\"\",\"\",VLOOKUP(MONTH(G335),'C-A'!$J$13:$K$24,2,FALSE))","v":""},null,null,null,null,null,{"$f":"R334+$R$13","v":3.2300000000000135E-4},""]
["",null,{"$f":"IF(B336=\"\",\"\",VLOOKUP(B336,CAD_AREA!$CB$13:$CD$113,2,FALSE))","v":""},{"$f":"IF(B336=\"\",\"\",VLOOKUP(B336,CAD_AREA!$CB$13:$CD$113,3,FALSE))","v":""},null,{"$f":"IF(E336=\"\",\"\",VLOOKUP(E336,PCMSO!$B$13:$E$614,4,FALSE))","v":""},null,null,null,"","",{"$f":"IF(G336=\"\",\"\",VLOOKUP(MONTH(G336),'C-A'!$J$13:$K$24,2,FALSE))","v":""},null,null,null,null,null,3.2400000000000137E-4,""]
["",null,{"$f":"IF(B337=\"\",\"\",VLOOKUP(B337,CAD_AREA!$CB$13:$CD$113,2,FALSE))","v":""},{"$f":"IF(B337=\"\",\"\",VLOOKUP(B337,CAD_AREA!$CB$13:$CD$113,3,FALSE))","v":""},null,{"$f":"IF(E337=\"\",\"\",VLOOKUP(E337,PCMSO!$B$13:$E$614,4,FALSE))","v":""},null,null,null,"","",{"$f":"IF(G337=\"\",\"\",VLOOKUP(MONTH(G337),'C-A'!$J$13:$K$24,2,FALSE))","v":""},null,null,null,null,null,3.2500000000000139E-4,""]
["",null,{"$f":"IF(B338=\"\",\"\",VLOOKUP(B338,CAD_AREA!$CB$13:$CD$113,2,FALSE))","v":""},{"$f":"IF(B338=\"\",\"\",VLOOKUP(B338,CAD_AREA!$CB$13:$CD$113,3,FALSE))","v":""},null,{"$f":"IF(E338=\"\",\"\",VLOOKUP(E338,PCMSO!$B$13:$E$614,4,FALSE))","v":""},null,null,null,"","",{"$f":"IF(G338=\"\",\"\",VLOOKUP(MONTH(G338),'C-A'!$J$13:$K$24,2,FALSE))","v":""},null,null,null,null,null,3.2600000000000142E-4,""]
["",null,{"$f":"IF(B339=\"\",\"\",VLOOKUP(B339,CAD_AREA!$CB$13:$CD$113,2,FALSE))","v":""},{"$f":"IF(B339=\"\",\"\",VLOOKUP(B339,CAD_AREA!$CB$13:$CD$113,3,FALSE))","v":""},null,{"$f":"IF(E339=\"\",\"\",VLOOKUP(E339,PCMSO!$B$13:$E$614,4,FALSE))","v":""},null,null,null,"","",{"$f":"IF(G339=\"\",\"\",VLOOKUP(MONTH(G339),'C-A'!$J$13:$K$24,2,FALSE))","v":""},null,null,null,null,null,3.2700000000000144E-4,""]
["",null,{"$f":"IF(B340=\"\",\"\",VLOOKUP(B340,CAD_AREA!$CB$13:$CD$113,2,FALSE))","v":""},{"$f":"IF(B340=\"\",\"\",VLOOKUP(B340,CAD_AREA!$CB$13:$CD$113,3,FALSE))","v":""},null,{"$f":"IF(E340=\"\",\"\",VLOOKUP(E340,PCMSO!$B$13:$E$614,4,FALSE))","v":""},null,null,null,"","",{"$f":"IF(G340=\"\",\"\",VLOOKUP(MONTH(G340),'C-A'!$J$13:$K$24,2,FALSE))","v":""},null,null,null,null,null,3.2800000000000147E-4,""]
["",null,{"$f":"IF(B341=\"\",\"\",VLOOKUP(B341,CAD_AREA!$CB$13:$CD$113,2,FALSE))","v":""},{"$f":"IF(B341=\"\",\"\",VLOOKUP(B341,CAD_AREA!$CB$13:$CD$113,3,FALSE))","v":""},null,{"$f":"IF(E341=\"\",\"\",VLOOKUP(E341,PCMSO!$B$13:$E$614,4,FALSE))","v":""},null,null,null,"","",{"$f":"IF(G341=\"\",\"\",VLOOKUP(MONTH(G341),'C-A'!$J$13:$K$24,2,FALSE))","v":""},null,null,null,null,null,3.2900000000000149E-4,""]
["",null,{"$f":"IF(B342=\"\",\"\",VLOOKUP(B342,CAD_AREA!$CB$13:$CD$113,2,FALSE))","v":""},{"$f":"IF(B342=\"\",\"\",VLOOKUP(B342,CAD_AREA!$CB$13:$CD$113,3,FALSE))","v":""},null,{"$f":"IF(E342=\"\",\"\",VLOOKUP(E342,PCMSO!$B$13:$E$614,4,FALSE))","v":""},null,null,null,"","",{"$f":"IF(G342=\"\",\"\",VLOOKUP(MONTH(G342),'C-A'!$J$13:$K$24,2,FALSE))","v":""},null,null,null,null,null,3.3000000000000152E-4,""]
["",null,{"$f":"IF(B343=\"\",\"\",VLOOKUP(B343,CAD_AREA!$CB$13:$CD$113,2,FALSE))","v":""},{"$f":"IF(B343=\"\",\"\",VLOOKUP(B343,CAD_AREA!$CB$13:$CD$113,3,FALSE))","v":""},null,{"$f":"IF(E343=\"\",\"\",VLOOKUP(E343,PCMSO!$B$13:$E$614,4,FALSE))","v":""},null,null,null,"","",{"$f":"IF(G343=\"\",\"\",VLOOKUP(MONTH(G343),'C-A'!$J$13:$K$24,2,FALSE))","v":""},null,null,null,null,null,3.3100000000000154E-4,""]
["",null,{"$f":"IF(B344=\"\",\"\",VLOOKUP(B344,CAD_AREA!$CB$13:$CD$113,2,FALSE))","v":""},{"$f":"IF(B344=\"\",\"\",VLOOKUP(B344,CAD_AREA!$CB$13:$CD$113,3,FALSE))","v":""},null,{"$f":"IF(E344=\"\",\"\",VLOOKUP(E344,PCMSO!$B$13:$E$614,4,FALSE))","v":""},null,null,null,"","",{"$f":"IF(G344=\"\",\"\",VLOOKUP(MONTH(G344),'C-A'!$J$13:$K$24,2,FALSE))","v":""},null,null,null,null,null,3.3200000000000156E-4,""]
[{"$f":"IF(S345=\"\",\"\",SUM(R345:S345))","v":""},null,{"$f":"IF(B345=\"\",\"\",VLOOKUP(B345,CAD_AREA!$CB$13:$CD$113,2,FALSE))","v":""},{"$f":"IF(B345=\"\",\"\",VLOOKUP(B345,CAD_AREA!$CB$13:$CD$113,3,FALSE))","v":""},null,{"$f":"IF(E345=\"\",\"\",VLOOKUP(E345,PCMSO!$B$13:$E$614,4,FALSE))","v":""},null,null,null,"","",{"$f":"IF(G345=\"\",\"\",VLOOKUP(MONTH(G345),'C-A'!$J$13:$K$24,2,FALSE))","v":""},null,null,null,null,null,3.3300000000000159E-4,""]
["",null,{"$f":"IF(B346=\"\",\"\",VLOOKUP(B346,CAD_AREA!$CB$13:$CD$113,2,FALSE))","v":""},{"$f":"IF(B346=\"\",\"\",VLOOKUP(B346,CAD_AREA!$CB$13:$CD$113,3,FALSE))","v":""},null,{"$f":"IF(E346=\"\",\"\",VLOOKUP(E346,PCMSO!$B$13:$E$614,4,FALSE))","v":""},null,null,null,"","",{"$f":"IF(G346=\"\",\"\",VLOOKUP(MONTH(G346),'C-A'!$J$13:$K$24,2,FALSE))","v":""},null,null,null,null,null,3.3400000000000161E-4,""]
["",null,{"$f":"IF(B347=\"\",\"\",VLOOKUP(B347,CAD_AREA!$CB$13:$CD$113,2,FALSE))","v":""},{"$f":"IF(B347=\"\",\"\",VLOOKUP(B347,CAD_AREA!$CB$13:$CD$113,3,FALSE))","v":""},null,{"$f":"IF(E347=\"\",\"\",VLOOKUP(E347,PCMSO!$B$13:$E$614,4,FALSE))","v":""},null,null,null,"","",{"$f":"IF(G347=\"\",\"\",VLOOKUP(MONTH(G347),'C-A'!$J$13:$K$24,2,FALSE))","v":""},null,null,null,null,null,3.3500000000000164E-4,""]
["",null,{"$f":"IF(B348=\"\",\"\",VLOOKUP(B348,CAD_AREA!$CB$13:$CD$113,2,FALSE))","v":""},{"$f":"IF(B348=\"\",\"\",VLOOKUP(B348,CAD_AREA!$CB$13:$CD$113,3,FALSE))","v":""},null,{"$f":"IF(E348=\"\",\"\",VLOOKUP(E348,PCMSO!$B$13:$E$614,4,FALSE))","v":""},null,null,null,"","",{"$f":"IF(G348=\"\",\"\",VLOOKUP(MONTH(G348),'C-A'!$J$13:$K$24,2,FALSE))","v":""},null,null,null,null,null,3.3600000000000166E-4,""]
["",null,{"$f":"IF(B349=\"\",\"\",VLOOKUP(B349,CAD_AREA!$CB$13:$CD$113,2,FALSE))","v":""},{"$f":"IF(B349=\"\",\"\",VLOOKUP(B349,CAD_AREA!$CB$13:$CD$113,3,FALSE))","v":""},null,{"$f":"IF(E349=\"\",\"\",VLOOKUP(E349,PCMSO!$B$13:$E$614,4,FALSE))","v":""},null,null,null,"","",{"$f":"IF(G349=\"\",\"\",VLOOKUP(MONTH(G349),'C-A'!$J$13:$K$24,2,FALSE))","v":""},null,null,null,null,null,3.3700000000000169E-4,""]
["",null,{"$f":"IF(B350=\"\",\"\",VLOOKUP(B350,CAD_AREA!$CB$13:$CD$113,2,FALSE))","v":""},{"$f":"IF(B350=\"\",\"\",VLOOKUP(B350,CAD_AREA!$CB$13:$CD$113,3,FALSE))","v":""},null,{"$f":"IF(E350=\"\",\"\",VLOOKUP(E350,PCMSO!$B$13:$E$614,4,FALSE))","v":""},null,null,null,"","",{"$f":"IF(G350=\"\",\"\",VLOOKUP(MONTH(G350),'C-A'!$J$13:$K$24,2,FALSE))","v":""},null,null,null,null,null,3.3800000000000171E-4,""]
["",null,{"$f":"IF(B351=\"\",\"\",VLOOKUP(B351,CAD_AREA!$CB$13:$CD$113,2,FALSE))","v":""},{"$f":"IF(B351=\"\",\"\",VLOOKUP(B351,CAD_AREA!$CB$13:$CD$113,3,FALSE))","v":""},null,{"$f":"IF(E351=\"\",\"\",VLOOKUP(E351,PCMSO!$B$13:$E$614,4,FALSE))","v":""},null,null,null,"","",{"$f":"IF(G351=\"\",\"\",VLOOKUP(MONTH(G351),'C-A'!$J$13:$K$24,2,FALSE))","v":""},null,null,null,null,null,3.3900000000000173E-4,""]
["",null,{"$f":"IF(B352=\"\",\"\",VLOOKUP(B352,CAD_AREA!$CB$13:$CD$113,2,FALSE))","v":""},{"$f":"IF(B352=\"\",\"\",VLOOKUP(B352,CAD_AREA!$CB$13:$CD$113,3,FALSE))","v":""},null,{"$f":"IF(E352=\"\",\"\",VLOOKUP(E352,PCMSO!$B$13:$E$614,4,FALSE))","v":""},null,null,null,"","",{"$f":"IF(G352=\"\",\"\",VLOOKUP(MONTH(G352),'C-A'!$J$13:$K$24,2,FALSE))","v":""},null,null,null,null,null,3.4000000000000176E-4,""]
["",null,{"$f":"IF(B353=\"\",\"\",VLOOKUP(B353,CAD_AREA!$CB$13:$CD$113,2,FALSE))","v":""},{"$f":"IF(B353=\"\",\"\",VLOOKUP(B353,CAD_AREA!$CB$13:$CD$113,3,FALSE))","v":""},null,{"$f":"IF(E353=\"\",\"\",VLOOKUP(E353,PCMSO!$B$13:$E$614,4,FALSE))","v":""},null,null,null,"","",{"$f":"IF(G353=\"\",\"\",VLOOKUP(MONTH(G353),'C-A'!$J$13:$K$24,2,FALSE))","v":""},null,null,null,null,null,3.4100000000000178E-4,""]
["",null,{"$f":"IF(B354=\"\",\"\",VLOOKUP(B354,CAD_AREA!$CB$13:$CD$113,2,FALSE))","v":""},{"$f":"IF(B354=\"\",\"\",VLOOKUP(B354,CAD_AREA!$CB$13:$CD$113,3,FALSE))","v":""},null,{"$f":"IF(E354=\"\",\"\",VLOOKUP(E354,PCMSO!$B$13:$E$614,4,FALSE))","v":""},null,null,null,"","",{"$f":"IF(G354=\"\",\"\",VLOOKUP(MONTH(G354),'C-A'!$J$13:$K$24,2,FALSE))","v":""},null,null,null,null,null,3.4200000000000181E-4,""]
["",null,{"$f":"IF(B355=\"\",\"\",VLOOKUP(B355,CAD_AREA!$CB$13:$CD$113,2,FALSE))","v":""},{"$f":"IF(B355=\"\",\"\",VLOOKUP(B355,CAD_AREA!$CB$13:$CD$113,3,FALSE))","v":""},null,{"$f":"IF(E355=\"\",\"\",VLOOKUP(E355,PCMSO!$B$13:$E$614,4,FALSE))","v":""},null,null,null,"","",{"$f":"IF(G355=\"\",\"\",VLOOKUP(MONTH(G355),'C-A'!$J$13:$K$24,2,FALSE))","v":""},null,null,null,null,null,3.4300000000000183E-4,""]
["",null,{"$f":"IF(B356=\"\",\"\",VLOOKUP(B356,CAD_AREA!$CB$13:$CD$113,2,FALSE))","v":""},{"$f":"IF(B356=\"\",\"\",VLOOKUP(B356,CAD_AREA!$CB$13:$CD$113,3,FALSE))","v":""},null,{"$f":"IF(E356=\"\",\"\",VLOOKUP(E356,PCMSO!$B$13:$E$614,4,FALSE))","v":""},null,null,null,"","",{"$f":"IF(G356=\"\",\"\",VLOOKUP(MONTH(G356),'C-A'!$J$13:$K$24,2,FALSE))","v":""},null,null,null,null,null,3.4400000000000186E-4,""]
["",null,{"$f":"IF(B357=\"\",\"\",VLOOKUP(B357,CAD_AREA!$CB$13:$CD$113,2,FALSE))","v":""},{"$f":"IF(B357=\"\",\"\",VLOOKUP(B357,CAD_AREA!$CB$13:$CD$113,3,FALSE))","v":""},null,{"$f":"IF(E357=\"\",\"\",VLOOKUP(E357,PCMSO!$B$13:$E$614,4,FALSE))","v":""},null,null,null,"","",{"$f":"IF(G357=\"\",\"\",VLOOKUP(MONTH(G357),'C-A'!$J$13:$K$24,2,FALSE))","v":""},null,null,null,null,null,3.4500000000000188E-4,""]
["",null,{"$f":"IF(B358=\"\",\"\",VLOOKUP(B358,CAD_AREA!$CB$13:$CD$113,2,FALSE))","v":""},{"$f":"IF(B358=\"\",\"\",VLOOKUP(B358,CAD_AREA!$CB$13:$CD$113,3,FALSE))","v":""},null,{"$f":"IF(E358=\"\",\"\",VLOOKUP(E358,PCMSO!$B$13:$E$614,4,FALSE))","v":""},null,null,null,"","",{"$f":"IF(G358=\"\",\"\",VLOOKUP(MONTH(G358),'C-A'!$J$13:$K$24,2,FALSE))","v":""},null,null,null,null,null,3.460000000000019E-4,""]
["",null,{"$f":"IF(B359=\"\",\"\",VLOOKUP(B359,CAD_AREA!$CB$13:$CD$113,2,FALSE))","v":""},{"$f":"IF(B359=\"\",\"\",VLOOKUP(B359,CAD_AREA!$CB$13:$CD$113,3,FALSE))","v":""},null,{"$f":"IF(E359=\"\",\"\",VLOOKUP(E359,PCMSO!$B$13:$E$614,4,FALSE))","v":""},null,null,null,"","",{"$f":"IF(G359=\"\",\"\",VLOOKUP(MONTH(G359),'C-A'!$J$13:$K$24,2,FALSE))","v":""},null,null,null,null,null,3.4700000000000193E-4,""]
["",null,{"$f":"IF(B360=\"\",\"\",VLOOKUP(B360,CAD_AREA!$CB$13:$CD$113,2,FALSE))","v":""},{"$f":"IF(B360=\"\",\"\",VLOOKUP(B360,CAD_AREA!$CB$13:$CD$113,3,FALSE))","v":""},null,{"$f":"IF(E360=\"\",\"\",VLOOKUP(E360,PCMSO!$B$13:$E$614,4,FALSE))","v":""},null,null,null,"","",{"$f":"IF(G360=\"\",\"\",VLOOKUP(MONTH(G360),'C-A'!$J$13:$K$24,2,FALSE))","v":""},null,null,null,null,null,3.4800000000000195E-4,""]
["",null,{"$f":"IF(B361=\"\",\"\",VLOOKUP(B361,CAD_AREA!$CB$13:$CD$113,2,FALSE))","v":""},{"$f":"IF(B361=\"\",\"\",VLOOKUP(B361,CAD_AREA!$CB$13:$CD$113,3,FALSE))","v":""},null,{"$f":"IF(E361=\"\",\"\",VLOOKUP(E361,PCMSO!$B$13:$E$614,4,FALSE))","v":""},null,null,null,"","",{"$f":"IF(G361=\"\",\"\",VLOOKUP(MONTH(G361),'C-A'!$J$13:$K$24,2,FALSE))","v":""},null,null,null,null,null,3.4900000000000198E-4,""]
["",null,{"$f":"IF(B362=\"\",\"\",VLOOKUP(B362,CAD_AREA!$CB$13:$CD$113,2,FALSE))","v":""},{"$f":"IF(B362=\"\",\"\",VLOOKUP(B362,CAD_AREA!$CB$13:$CD$113,3,FALSE))","v":""},null,{"$f":"IF(E362=\"\",\"\",VLOOKUP(E362,PCMSO!$B$13:$E$614,4,FALSE))","v":""},null,null,null,"","",{"$f":"IF(G362=\"\",\"\",VLOOKUP(MONTH(G362),'C-A'!$J$13:$K$24,2,FALSE))","v":""},null,null,null,null,null,3.50000000000002E-4,""]
["",null,{"$f":"IF(B363=\"\",\"\",VLOOKUP(B363,CAD_AREA!$CB$13:$CD$113,2,FALSE))","v":""},{"$f":"IF(B363=\"\",\"\",VLOOKUP(B363,CAD_AREA!$CB$13:$CD$113,3,FALSE))","v":""},null,{"$f":"IF(E363=\"\",\"\",VLOOKUP(E363,PCMSO!$B$13:$E$614,4,FALSE))","v":""},null,null,null,"","",{"$f":"IF(G363=\"\",\"\",VLOOKUP(MONTH(G363),'C-A'!$J$13:$K$24,2,FALSE))","v":""},null,null,null,null,null,3.5100000000000203E-4,""]
["",null,{"$f":"IF(B364=\"\",\"\",VLOOKUP(B364,CAD_AREA!$CB$13:$CD$113,2,FALSE))","v":""},{"$f":"IF(B364=\"\",\"\",VLOOKUP(B364,CAD_AREA!$CB$13:$CD$113,3,FALSE))","v":""},null,{"$f":"IF(E364=\"\",\"\",VLOOKUP(E364,PCMSO!$B$13:$E$614,4,FALSE))","v":""},null,null,null,"","",{"$f":"IF(G364=\"\",\"\",VLOOKUP(MONTH(G364),'C-A'!$J$13:$K$24,2,FALSE))","v":""},null,null,null,null,null,3.5200000000000205E-4,""]
["",null,{"$f":"IF(B365=\"\",\"\",VLOOKUP(B365,CAD_AREA!$CB$13:$CD$113,2,FALSE))","v":""},{"$f":"IF(B365=\"\",\"\",VLOOKUP(B365,CAD_AREA!$CB$13:$CD$113,3,FALSE))","v":""},null,{"$f":"IF(E365=\"\",\"\",VLOOKUP(E365,PCMSO!$B$13:$E$614,4,FALSE))","v":""},null,null,null,"","",{"$f":"IF(G365=\"\",\"\",VLOOKUP(MONTH(G365),'C-A'!$J$13:$K$24,2,FALSE))","v":""},null,null,null,null,null,3.5300000000000208E-4,""]
["",null,{"$f":"IF(B366=\"\",\"\",VLOOKUP(B366,CAD_AREA!$CB$13:$CD$113,2,FALSE))","v":""},{"$f":"IF(B366=\"\",\"\",VLOOKUP(B366,CAD_AREA!$CB$13:$CD$113,3,FALSE))","v":""},null,{"$f":"IF(E366=\"\",\"\",VLOOKUP(E366,PCMSO!$B$13:$E$614,4,FALSE))","v":""},null,null,null,"","",{"$f":"IF(G366=\"\",\"\",VLOOKUP(MONTH(G366),'C-A'!$J$13:$K$24,2,FALSE))","v":""},null,null,null,null,null,3.540000000000021E-4,""]
["",null,{"$f":"IF(B367=\"\",\"\",VLOOKUP(B367,CAD_AREA!$CB$13:$CD$113,2,FALSE))","v":""},{"$f":"IF(B367=\"\",\"\",VLOOKUP(B367,CAD_AREA!$CB$13:$CD$113,3,FALSE))","v":""},null,{"$f":"IF(E367=\"\",\"\",VLOOKUP(E367,PCMSO!$B$13:$E$614,4,FALSE))","v":""},null,null,null,"","",{"$f":"IF(G367=\"\",\"\",VLOOKUP(MONTH(G367),'C-A'!$J$13:$K$24,2,FALSE))","v":""},null,null,null,null,null,3.5500000000000212E-4,""]
["",null,{"$f":"IF(B368=\"\",\"\",VLOOKUP(B368,CAD_AREA!$CB$13:$CD$113,2,FALSE))","v":""},{"$f":"IF(B368=\"\",\"\",VLOOKUP(B368,CAD_AREA!$CB$13:$CD$113,3,FALSE))","v":""},null,{"$f":"IF(E368=\"\",\"\",VLOOKUP(E368,PCMSO!$B$13:$E$614,4,FALSE))","v":""},null,null,null,"","",{"$f":"IF(G368=\"\",\"\",VLOOKUP(MONTH(G368),'C-A'!$J$13:$K$24,2,FALSE))","v":""},null,null,null,null,null,3.5600000000000215E-4,""]
["",null,{"$f":"IF(B369=\"\",\"\",VLOOKUP(B369,CAD_AREA!$CB$13:$CD$113,2,FALSE))","v":""},{"$f":"IF(B369=\"\",\"\",VLOOKUP(B369,CAD_AREA!$CB$13:$CD$113,3,FALSE))","v":""},null,{"$f":"IF(E369=\"\",\"\",VLOOKUP(E369,PCMSO!$B$13:$E$614,4,FALSE))","v":""},null,null,null,"","",{"$f":"IF(G369=\"\",\"\",VLOOKUP(MONTH(G369),'C-A'!$J$13:$K$24,2,FALSE))","v":""},null,null,null,null,null,3.5700000000000217E-4,""]
["",null,{"$f":"IF(B370=\"\",\"\",VLOOKUP(B370,CAD_AREA!$CB$13:$CD$113,2,FALSE))","v":""},{"$f":"IF(B370=\"\",\"\",VLOOKUP(B370,CAD_AREA!$CB$13:$CD$113,3,FALSE))","v":""},null,{"$f":"IF(E370=\"\",\"\",VLOOKUP(E370,PCMSO!$B$13:$E$614,4,FALSE))","v":""},null,null,null,"","",{"$f":"IF(G370=\"\",\"\",VLOOKUP(MONTH(G370),'C-A'!$J$13:$K$24,2,FALSE))","v":""},null,null,null,null,null,3.580000000000022E-4,""]
["",null,{"$f":"IF(B371=\"\",\"\",VLOOKUP(B371,CAD_AREA!$CB$13:$CD$113,2,FALSE))","v":""},{"$f":"IF(B371=\"\",\"\",VLOOKUP(B371,CAD_AREA!$CB$13:$CD$113,3,FALSE))","v":""},null,{"$f":"IF(E371=\"\",\"\",VLOOKUP(E371,PCMSO!$B$13:$E$614,4,FALSE))","v":""},null,null,null,"","",{"$f":"IF(G371=\"\",\"\",VLOOKUP(MONTH(G371),'C-A'!$J$13:$K$24,2,FALSE))","v":""},null,null,null,null,null,3.5900000000000222E-4,""]
["",null,{"$f":"IF(B372=\"\",\"\",VLOOKUP(B372,CAD_AREA!$CB$13:$CD$113,2,FALSE))","v":""},{"$f":"IF(B372=\"\",\"\",VLOOKUP(B372,CAD_AREA!$CB$13:$CD$113,3,FALSE))","v":""},null,{"$f":"IF(E372=\"\",\"\",VLOOKUP(E372,PCMSO!$B$13:$E$614,4,FALSE))","v":""},null,null,null,"","",{"$f":"IF(G372=\"\",\"\",VLOOKUP(MONTH(G372),'C-A'!$J$13:$K$24,2,FALSE))","v":""},null,null,null,null,null,3.6000000000000225E-4,""]
["",null,{"$f":"IF(B373=\"\",\"\",VLOOKUP(B373,CAD_AREA!$CB$13:$CD$113,2,FALSE))","v":""},{"$f":"IF(B373=\"\",\"\",VLOOKUP(B373,CAD_AREA!$CB$13:$CD$113,3,FALSE))","v":""},null,{"$f":"IF(E373=\"\",\"\",VLOOKUP(E373,PCMSO!$B$13:$E$614,4,FALSE))","v":""},null,null,null,"","",{"$f":"IF(G373=\"\",\"\",VLOOKUP(MONTH(G373),'C-A'!$J$13:$K$24,2,FALSE))","v":""},null,null,null,null,null,3.6100000000000227E-4,""]
["",null,{"$f":"IF(B374=\"\",\"\",VLOOKUP(B374,CAD_AREA!$CB$13:$CD$113,2,FALSE))","v":""},{"$f":"IF(B374=\"\",\"\",VLOOKUP(B374,CAD_AREA!$CB$13:$CD$113,3,FALSE))","v":""},null,{"$f":"IF(E374=\"\",\"\",VLOOKUP(E374,PCMSO!$B$13:$E$614,4,FALSE))","v":""},null,null,null,"","",{"$f":"IF(G374=\"\",\"\",VLOOKUP(MONTH(G374),'C-A'!$J$13:$K$24,2,FALSE))","v":""},null,null,null,null,null,3.6200000000000229E-4,""]
["",null,{"$f":"IF(B375=\"\",\"\",VLOOKUP(B375,CAD_AREA!$CB$13:$CD$113,2,FALSE))","v":""},{"$f":"IF(B375=\"\",\"\",VLOOKUP(B375,CAD_AREA!$CB$13:$CD$113,3,FALSE))","v":""},null,{"$f":"IF(E375=\"\",\"\",VLOOKUP(E375,PCMSO!$B$13:$E$614,4,FALSE))","v":""},null,null,null,"","",{"$f":"IF(G375=\"\",\"\",VLOOKUP(MONTH(G375),'C-A'!$J$13:$K$24,2,FALSE))","v":""},null,null,null,null,null,3.6300000000000232E-4,""]
["",null,{"$f":"IF(B376=\"\",\"\",VLOOKUP(B376,CAD_AREA!$CB$13:$CD$113,2,FALSE))","v":""},{"$f":"IF(B376=\"\",\"\",VLOOKUP(B376,CAD_AREA!$CB$13:$CD$113,3,FALSE))","v":""},null,{"$f":"IF(E376=\"\",\"\",VLOOKUP(E376,PCMSO!$B$13:$E$614,4,FALSE))","v":""},null,null,null,"","",{"$f":"IF(G376=\"\",\"\",VLOOKUP(MONTH(G376),'C-A'!$J$13:$K$24,2,FALSE))","v":""},null,null,null,null,null,3.6400000000000234E-4,""]
["",null,{"$f":"IF(B377=\"\",\"\",VLOOKUP(B377,CAD_AREA!$CB$13:$CD$113,2,FALSE))","v":""},{"$f":"IF(B377=\"\",\"\",VLOOKUP(B377,CAD_AREA!$CB$13:$CD$113,3,FALSE))","v":""},null,{"$f":"IF(E377=\"\",\"\",VLOOKUP(E377,PCMSO!$B$13:$E$614,4,FALSE))","v":""},null,null,null,"","",{"$f":"IF(G377=\"\",\"\",VLOOKUP(MONTH(G377),'C-A'!$J$13:$K$24,2,FALSE))","v":""},null,null,null,null,null,3.6500000000000237E-4,""]
["",null,{"$f":"IF(B378=\"\",\"\",VLOOKUP(B378,CAD_AREA!$CB$13:$CD$113,2,FALSE))","v":""},{"$f":"IF(B378=\"\",\"\",VLOOKUP(B378,CAD_AREA!$CB$13:$CD$113,3,FALSE))","v":""},null,{"$f":"IF(E378=\"\",\"\",VLOOKUP(E378,PCMSO!$B$13:$E$614,4,FALSE))","v":""},null,null,null,"","",{"$f":"IF(G378=\"\",\"\",VLOOKUP(MONTH(G378),'C-A'!$J$13:$K$24,2,FALSE))","v":""},null,null,null,null,null,3.6600000000000239E-4,""]
["",null,{"$f":"IF(B379=\"\",\"\",VLOOKUP(B379,CAD_AREA!$CB$13:$CD$113,2,FALSE))","v":""},{"$f":"IF(B379=\"\",\"\",VLOOKUP(B379,CAD_AREA!$CB$13:$CD$113,3,FALSE))","v":""},null,{"$f":"IF(E379=\"\",\"\",VLOOKUP(E379,PCMSO!$B$13:$E$614,4,FALSE))","v":""},null,null,null,"","",{"$f":"IF(G379=\"\",\"\",VLOOKUP(MONTH(G379),'C-A'!$J$13:$K$24,2,FALSE))","v":""},null,null,null,null,null,3.6700000000000242E-4,""]
["",null,{"$f":"IF(B380=\"\",\"\",VLOOKUP(B380,CAD_AREA!$CB$13:$CD$113,2,FALSE))","v":""},{"$f":"IF(B380=\"\",\"\",VLOOKUP(B380,CAD_AREA!$CB$13:$CD$113,3,FALSE))","v":""},null,{"$f":"IF(E380=\"\",\"\",VLOOKUP(E380,PCMSO!$B$13:$E$614,4,FALSE))","v":""},null,null,null,"","",{"$f":"IF(G380=\"\",\"\",VLOOKUP(MONTH(G380),'C-A'!$J$13:$K$24,2,FALSE))","v":""},null,null,null,null,null,3.6800000000000244E-4,""]
["",null,{"$f":"IF(B381=\"\",\"\",VLOOKUP(B381,CAD_AREA!$CB$13:$CD$113,2,FALSE))","v":""},{"$f":"IF(B381=\"\",\"\",VLOOKUP(B381,CAD_AREA!$CB$13:$CD$113,3,FALSE))","v":""},null,{"$f":"IF(E381=\"\",\"\",VLOOKUP(E381,PCMSO!$B$13:$E$614,4,FALSE))","v":""},null,null,null,"","",{"$f":"IF(G381=\"\",\"\",VLOOKUP(MONTH(G381),'C-A'!$J$13:$K$24,2,FALSE))","v":""},null,null,null,null,null,3.6900000000000246E-4,""]
["",null,{"$f":"IF(B382=\"\",\"\",VLOOKUP(B382,CAD_AREA!$CB$13:$CD$113,2,FALSE))","v":""},{"$f":"IF(B382=\"\",\"\",VLOOKUP(B382,CAD_AREA!$CB$13:$CD$113,3,FALSE))","v":""},null,{"$f":"IF(E382=\"\",\"\",VLOOKUP(E382,PCMSO!$B$13:$E$614,4,FALSE))","v":""},null,null,null,"","",{"$f":"IF(G382=\"\",\"\",VLOOKUP(MONTH(G382),'C-A'!$J$13:$K$24,2,FALSE))","v":""},null,null,null,null,null,3.7000000000000249E-4,""]
["",null,{"$f":"IF(B383=\"\",\"\",VLOOKUP(B383,CAD_AREA!$CB$13:$CD$113,2,FALSE))","v":""},{"$f":"IF(B383=\"\",\"\",VLOOKUP(B383,CAD_AREA!$CB$13:$CD$113,3,FALSE))","v":""},null,{"$f":"IF(E383=\"\",\"\",VLOOKUP(E383,PCMSO!$B$13:$E$614,4,FALSE))","v":""},null,null,null,"","",{"$f":"IF(G383=\"\",\"\",VLOOKUP(MONTH(G383),'C-A'!$J$13:$K$24,2,FALSE))","v":""},null,null,null,null,null,3.7100000000000251E-4,""]
["",null,{"$f":"IF(B384=\"\",\"\",VLOOKUP(B384,CAD_AREA!$CB$13:$CD$113,2,FALSE))","v":""},{"$f":"IF(B384=\"\",\"\",VLOOKUP(B384,CAD_AREA!$CB$13:$CD$113,3,FALSE))","v":""},null,{"$f":"IF(E384=\"\",\"\",VLOOKUP(E384,PCMSO!$B$13:$E$614,4,FALSE))","v":""},null,null,null,"","",{"$f":"IF(G384=\"\",\"\",VLOOKUP(MONTH(G384),'C-A'!$J$13:$K$24,2,FALSE))","v":""},null,null,null,null,null,3.7200000000000254E-4,""]
["",null,{"$f":"IF(B385=\"\",\"\",VLOOKUP(B385,CAD_AREA!$CB$13:$CD$113,2,FALSE))","v":""},{"$f":"IF(B385=\"\",\"\",VLOOKUP(B385,CAD_AREA!$CB$13:$CD$113,3,FALSE))","v":""},null,{"$f":"IF(E385=\"\",\"\",VLOOKUP(E385,PCMSO!$B$13:$E$614,4,FALSE))","v":""},null,null,null,"","",{"$f":"IF(G385=\"\",\"\",VLOOKUP(MONTH(G385),'C-A'!$J$13:$K$24,2,FALSE))","v":""},null,null,null,null,null,3.7300000000000256E-4,""]
["",null,{"$f":"IF(B386=\"\",\"\",VLOOKUP(B386,CAD_AREA!$CB$13:$CD$113,2,FALSE))","v":""},{"$f":"IF(B386=\"\",\"\",VLOOKUP(B386,CAD_AREA!$CB$13:$CD$113,3,FALSE))","v":""},null,{"$f":"IF(E386=\"\",\"\",VLOOKUP(E386,PCMSO!$B$13:$E$614,4,FALSE))","v":""},null,null,null,"","",{"$f":"IF(G386=\"\",\"\",VLOOKUP(MONTH(G386),'C-A'!$J$13:$K$24,2,FALSE))","v":""},null,null,null,null,null,3.7400000000000259E-4,""]
["",null,{"$f":"IF(B387=\"\",\"\",VLOOKUP(B387,CAD_AREA!$CB$13:$CD$113,2,FALSE))","v":""},{"$f":"IF(B387=\"\",\"\",VLOOKUP(B387,CAD_AREA!$CB$13:$CD$113,3,FALSE))","v":""},null,{"$f":"IF(E387=\"\",\"\",VLOOKUP(E387,PCMSO!$B$13:$E$614,4,FALSE))","v":""},null,null,null,"","",{"$f":"IF(G387=\"\",\"\",VLOOKUP(MONTH(G387),'C-A'!$J$13:$K$24,2,FALSE))","v":""},null,null,null,null,null,3.7500000000000261E-4,""]
["",null,{"$f":"IF(B388=\"\",\"\",VLOOKUP(B388,CAD_AREA!$CB$13:$CD$113,2,FALSE))","v":""},{"$f":"IF(B388=\"\",\"\",VLOOKUP(B388,CAD_AREA!$CB$13:$CD$113,3,FALSE))","v":""},null,{"$f":"IF(E388=\"\",\"\",VLOOKUP(E388,PCMSO!$B$13:$E$614,4,FALSE))","v":""},null,null,null,"","",{"$f":"IF(G388=\"\",\"\",VLOOKUP(MONTH(G388),'C-A'!$J$13:$K$24,2,FALSE))","v":""},null,null,null,null,null,3.7600000000000263E-4,""]
["",null,{"$f":"IF(B389=\"\",\"\",VLOOKUP(B389,CAD_AREA!$CB$13:$CD$113,2,FALSE))","v":""},{"$f":"IF(B389=\"\",\"\",VLOOKUP(B389,CAD_AREA!$CB$13:$CD$113,3,FALSE))","v":""},null,{"$f":"IF(E389=\"\",\"\",VLOOKUP(E389,PCMSO!$B$13:$E$614,4,FALSE))","v":""},null,null,null,"","",{"$f":"IF(G389=\"\",\"\",VLOOKUP(MONTH(G389),'C-A'!$J$13:$K$24,2,FALSE))","v":""},null,null,null,null,null,3.7700000000000266E-4,""]
["",null,{"$f":"IF(B390=\"\",\"\",VLOOKUP(B390,CAD_AREA!$CB$13:$CD$113,2,FALSE))","v":""},{"$f":"IF(B390=\"\",\"\",VLOOKUP(B390,CAD_AREA!$CB$13:$CD$113,3,FALSE))","v":""},null,{"$f":"IF(E390=\"\",\"\",VLOOKUP(E390,PCMSO!$B$13:$E$614,4,FALSE))","v":""},null,null,null,"","",{"$f":"IF(G390=\"\",\"\",VLOOKUP(MONTH(G390),'C-A'!$J$13:$K$24,2,FALSE))","v":""},null,null,null,null,null,3.7800000000000268E-4,""]
["",null,{"$f":"IF(B391=\"\",\"\",VLOOKUP(B391,CAD_AREA!$CB$13:$CD$113,2,FALSE))","v":""},{"$f":"IF(B391=\"\",\"\",VLOOKUP(B391,CAD_AREA!$CB$13:$CD$113,3,FALSE))","v":""},null,{"$f":"IF(E391=\"\",\"\",VLOOKUP(E391,PCMSO!$B$13:$E$614,4,FALSE))","v":""},null,null,null,"","",{"$f":"IF(G391=\"\",\"\",VLOOKUP(MONTH(G391),'C-A'!$J$13:$K$24,2,FALSE))","v":""},null,null,null,null,null,3.7900000000000271E-4,""]
["",null,{"$f":"IF(B392=\"\",\"\",VLOOKUP(B392,CAD_AREA!$CB$13:$CD$113,2,FALSE))","v":""},{"$f":"IF(B392=\"\",\"\",VLOOKUP(B392,CAD_AREA!$CB$13:$CD$113,3,FALSE))","v":""},null,{"$f":"IF(E392=\"\",\"\",VLOOKUP(E392,PCMSO!$B$13:$E$614,4,FALSE))","v":""},null,null,null,"","",{"$f":"IF(G392=\"\",\"\",VLOOKUP(MONTH(G392),'C-A'!$J$13:$K$24,2,FALSE))","v":""},null,null,null,null,null,3.8000000000000273E-4,""]
["",null,{"$f":"IF(B393=\"\",\"\",VLOOKUP(B393,CAD_AREA!$CB$13:$CD$113,2,FALSE))","v":""},{"$f":"IF(B393=\"\",\"\",VLOOKUP(B393,CAD_AREA!$CB$13:$CD$113,3,FALSE))","v":""},null,{"$f":"IF(E393=\"\",\"\",VLOOKUP(E393,PCMSO!$B$13:$E$614,4,FALSE))","v":""},null,null,null,"","",{"$f":"IF(G393=\"\",\"\",VLOOKUP(MONTH(G393),'C-A'!$J$13:$K$24,2,FALSE))","v":""},null,null,null,null,null,3.8100000000000276E-4,""]
["",null,{"$f":"IF(B394=\"\",\"\",VLOOKUP(B394,CAD_AREA!$CB$13:$CD$113,2,FALSE))","v":""},{"$f":"IF(B394=\"\",\"\",VLOOKUP(B394,CAD_AREA!$CB$13:$CD$113,3,FALSE))","v":""},null,{"$f":"IF(E394=\"\",\"\",VLOOKUP(E394,PCMSO!$B$13:$E$614,4,FALSE))","v":""},null,null,null,"","",{"$f":"IF(G394=\"\",\"\",VLOOKUP(MONTH(G394),'C-A'!$J$13:$K$24,2,FALSE))","v":""},null,null,null,null,null,3.8200000000000278E-4,""]
["",null,{"$f":"IF(B395=\"\",\"\",VLOOKUP(B395,CAD_AREA!$CB$13:$CD$113,2,FALSE))","v":""},{"$f":"IF(B395=\"\",\"\",VLOOKUP(B395,CAD_AREA!$CB$13:$CD$113,3,FALSE))","v":""},null,{"$f":"IF(E395=\"\",\"\",VLOOKUP(E395,PCMSO!$B$13:$E$614,4,FALSE))","v":""},null,null,null,"","",{"$f":"IF(G395=\"\",\"\",VLOOKUP(MONTH(G395),'C-A'!$J$13:$K$24,2,FALSE))","v":""},null,null,null,null,null,3.830000000000028E-4,""]
["",null,{"$f":"IF(B396=\"\",\"\",VLOOKUP(B396,CAD_AREA!$CB$13:$CD$113,2,FALSE))","v":""},{"$f":"IF(B396=\"\",\"\",VLOOKUP(B396,CAD_AREA!$CB$13:$CD$113,3,FALSE))","v":""},null,{"$f":"IF(E396=\"\",\"\",VLOOKUP(E396,PCMSO!$B$13:$E$614,4,FALSE))","v":""},null,null,null,"","",{"$f":"IF(G396=\"\",\"\",VLOOKUP(MONTH(G396),'C-A'!$J$13:$K$24,2,FALSE))","v":""},null,null,null,null,null,3.8400000000000283E-4,""]
["",null,{"$f":"IF(B397=\"\",\"\",VLOOKUP(B397,CAD_AREA!$CB$13:$CD$113,2,FALSE))","v":""},{"$f":"IF(B397=\"\",\"\",VLOOKUP(B397,CAD_AREA!$CB$13:$CD$113,3,FALSE))","v":""},null,{"$f":"IF(E397=\"\",\"\",VLOOKUP(E397,PCMSO!$B$13:$E$614,4,FALSE))","v":""},null,null,null,{"$f":"IF(F397=\"\",\"\",VLOOKUP(F397,$N$13:$O$19,2,FALSE)+G397)","v":""},"",{"$f":"IF(G397=\"\",\"\",VLOOKUP(MONTH(G397),'C-A'!$J$13:$K$24,2,FALSE))","v":""},null,null,null,null,null,3.8500000000000285E-4,{"$f":"IF(K397=\"Vencido\",\"\",J397)","v":""}]
["",null,{"$f":"IF(B398=\"\",\"\",VLOOKUP(B398,CAD_AREA!$CB$13:$CD$113,2,FALSE))","v":""},{"$f":"IF(B398=\"\",\"\",VLOOKUP(B398,CAD_AREA!$CB$13:$CD$113,3,FALSE))","v":""},null,{"$f":"IF(E398=\"\",\"\",VLOOKUP(E398,PCMSO!$B$13:$E$614,4,FALSE))","v":""},null,null,null,"",{"$f":"IF(J398=\"\",\"\",IF(J398-TODAY()<0,\"Vencido\",IF(J398-TODAY()=0,\"Realizar hoje\",\"Realizar em \"&J398-TODAY()&\" dias\")))","v":""},{"$f":"IF(G398=\"\",\"\",VLOOKUP(MONTH(G398),'C-A'!$J$13:$K$24,2,FALSE))","v":""},null,null,null,null,null,3.8600000000000288E-4,""]
["",null,{"$f":"IF(B399=\"\",\"\",VLOOKUP(B399,CAD_AREA!$CB$13:$CD$113,2,FALSE))","v":""},{"$f":"IF(B399=\"\",\"\",VLOOKUP(B399,CAD_AREA!$CB$13:$CD$113,3,FALSE))","v":""},null,{"$f":"IF(E399=\"\",\"\",VLOOKUP(E399,PCMSO!$B$13:$E$614,4,FALSE))","v":""},null,null,null,"","",{"$f":"IF(G399=\"\",\"\",VLOOKUP(MONTH(G399),'C-A'!$J$13:$K$24,2,FALSE))","v":""},null,null,null,null,null,{"$f":"R398+$R$13","v":3.870000000000029E-4},""]
["",null,{"$f":"IF(B400=\"\",\"\",VLOOKUP(B400,CAD_AREA!$CB$13:$CD$113,2,FALSE))","v":""},{"$f":"IF(B400=\"\",\"\",VLOOKUP(B400,CAD_AREA!$CB$13:$CD$113,3,FALSE))","v":""},null,{"$f":"IF(E400=\"\",\"\",VLOOKUP(E400,PCMSO!$B$13:$E$614,4,FALSE))","v":""},null,null,null,"","",{"$f":"IF(G400=\"\",\"\",VLOOKUP(MONTH(G400),'C-A'!$J$13:$K$24,2,FALSE))","v":""},null,null,null,null,null,3.8800000000000293E-4,""]
["",null,{"$f":"IF(B401=\"\",\"\",VLOOKUP(B401,CAD_AREA!$CB$13:$CD$113,2,FALSE))","v":""},{"$f":"IF(B401=\"\",\"\",VLOOKUP(B401,CAD_AREA!$CB$13:$CD$113,3,FALSE))","v":""},null,{"$f":"IF(E401=\"\",\"\",VLOOKUP(E401,PCMSO!$B$13:$E$614,4,FALSE))","v":""},null,null,null,"","",{"$f":"IF(G401=\"\",\"\",VLOOKUP(MONTH(G401),'C-A'!$J$13:$K$24,2,FALSE))","v":""},null,null,null,null,null,3.8900000000000295E-4,""]
["",null,{"$f":"IF(B402=\"\",\"\",VLOOKUP(B402,CAD_AREA!$CB$13:$CD$113,2,FALSE))","v":""},{"$f":"IF(B402=\"\",\"\",VLOOKUP(B402,CAD_AREA!$CB$13:$CD$113,3,FALSE))","v":""},null,{"$f":"IF(E402=\"\",\"\",VLOOKUP(E402,PCMSO!$B$13:$E$614,4,FALSE))","v":""},null,null,null,"","",{"$f":"IF(G402=\"\",\"\",VLOOKUP(MONTH(G402),'C-A'!$J$13:$K$24,2,FALSE))","v":""},null,null,null,null,null,3.9000000000000297E-4,""]
["",null,{"$f":"IF(B403=\"\",\"\",VLOOKUP(B403,CAD_AREA!$CB$13:$CD$113,2,FALSE))","v":""},{"$f":"IF(B403=\"\",\"\",VLOOKUP(B403,CAD_AREA!$CB$13:$CD$113,3,FALSE))","v":""},null,{"$f":"IF(E403=\"\",\"\",VLOOKUP(E403,PCMSO!$B$13:$E$614,4,FALSE))","v":""},null,null,null,"","",{"$f":"IF(G403=\"\",\"\",VLOOKUP(MONTH(G403),'C-A'!$J$13:$K$24,2,FALSE))","v":""},null,null,null,null,null,3.91000000000003E-4,""]
["",null,{"$f":"IF(B404=\"\",\"\",VLOOKUP(B404,CAD_AREA!$CB$13:$CD$113,2,FALSE))","v":""},{"$f":"IF(B404=\"\",\"\",VLOOKUP(B404,CAD_AREA!$CB$13:$CD$113,3,FALSE))","v":""},null,{"$f":"IF(E404=\"\",\"\",VLOOKUP(E404,PCMSO!$B$13:$E$614,4,FALSE))","v":""},null,null,null,"","",{"$f":"IF(G404=\"\",\"\",VLOOKUP(MONTH(G404),'C-A'!$J$13:$K$24,2,FALSE))","v":""},null,null,null,null,null,3.9200000000000302E-4,""]
["",null,{"$f":"IF(B405=\"\",\"\",VLOOKUP(B405,CAD_AREA!$CB$13:$CD$113,2,FALSE))","v":""},{"$f":"IF(B405=\"\",\"\",VLOOKUP(B405,CAD_AREA!$CB$13:$CD$113,3,FALSE))","v":""},null,{"$f":"IF(E405=\"\",\"\",VLOOKUP(E405,PCMSO!$B$13:$E$614,4,FALSE))","v":""},null,null,null,"","",{"$f":"IF(G405=\"\",\"\",VLOOKUP(MONTH(G405),'C-A'!$J$13:$K$24,2,FALSE))","v":""},null,null,null,null,null,3.9300000000000305E-4,""]
["",null,{"$f":"IF(B406=\"\",\"\",VLOOKUP(B406,CAD_AREA!$CB$13:$CD$113,2,FALSE))","v":""},{"$f":"IF(B406=\"\",\"\",VLOOKUP(B406,CAD_AREA!$CB$13:$CD$113,3,FALSE))","v":""},null,{"$f":"IF(E406=\"\",\"\",VLOOKUP(E406,PCMSO!$B$13:$E$614,4,FALSE))","v":""},null,null,null,"","",{"$f":"IF(G406=\"\",\"\",VLOOKUP(MONTH(G406),'C-A'!$J$13:$K$24,2,FALSE))","v":""},null,null,null,null,null,3.9400000000000307E-4,""]
["",null,{"$f":"IF(B407=\"\",\"\",VLOOKUP(B407,CAD_AREA!$CB$13:$CD$113,2,FALSE))","v":""},{"$f":"IF(B407=\"\",\"\",VLOOKUP(B407,CAD_AREA!$CB$13:$CD$113,3,FALSE))","v":""},null,{"$f":"IF(E407=\"\",\"\",VLOOKUP(E407,PCMSO!$B$13:$E$614,4,FALSE))","v":""},null,null,null,"","",{"$f":"IF(G407=\"\",\"\",VLOOKUP(MONTH(G407),'C-A'!$J$13:$K$24,2,FALSE))","v":""},null,null,null,null,null,3.950000000000031E-4,""]
["",null,{"$f":"IF(B408=\"\",\"\",VLOOKUP(B408,CAD_AREA!$CB$13:$CD$113,2,FALSE))","v":""},{"$f":"IF(B408=\"\",\"\",VLOOKUP(B408,CAD_AREA!$CB$13:$CD$113,3,FALSE))","v":""},null,{"$f":"IF(E408=\"\",\"\",VLOOKUP(E408,PCMSO!$B$13:$E$614,4,FALSE))","v":""},null,null,null,"","",{"$f":"IF(G408=\"\",\"\",VLOOKUP(MONTH(G408),'C-A'!$J$13:$K$24,2,FALSE))","v":""},null,null,null,null,null,3.9600000000000312E-4,""]
[{"$f":"IF(S409=\"\",\"\",SUM(R409:S409))","v":""},null,{"$f":"IF(B409=\"\",\"\",VLOOKUP(B409,CAD_AREA!$CB$13:$CD$113,2,FALSE))","v":""},{"$f":"IF(B409=\"\",\"\",VLOOKUP(B409,CAD_AREA!$CB$13:$CD$113,3,FALSE))","v":""},null,{"$f":"IF(E409=\"\",\"\",VLOOKUP(E409,PCMSO!$B$13:$E$614,4,FALSE))","v":""},null,null,null,"","",{"$f":"IF(G409=\"\",\"\",VLOOKUP(MONTH(G409),'C-A'!$J$13:$K$24,2,FALSE))","v":""},null,null,null,null,null,3.9700000000000314E-4,""]
["",null,{"$f":"IF(B410=\"\",\"\",VLOOKUP(B410,CAD_AREA!$CB$13:$CD$113,2,FALSE))","v":""},{"$f":"IF(B410=\"\",\"\",VLOOKUP(B410,CAD_AREA!$CB$13:$CD$113,3,FALSE))","v":""},null,{"$f":"IF(E410=\"\",\"\",VLOOKUP(E410,PCMSO!$B$13:$E$614,4,FALSE))","v":""},null,null,null,"","",{"$f":"IF(G410=\"\",\"\",VLOOKUP(MONTH(G410),'C-A'!$J$13:$K$24,2,FALSE))","v":""},null,null,null,null,null,3.9800000000000317E-4,""]
["",null,{"$f":"IF(B411=\"\",\"\",VLOOKUP(B411,CAD_AREA!$CB$13:$CD$113,2,FALSE))","v":""},{"$f":"IF(B411=\"\",\"\",VLOOKUP(B411,CAD_AREA!$CB$13:$CD$113,3,FALSE))","v":""},null,{"$f":"IF(E411=\"\",\"\",VLOOKUP(E411,PCMSO!$B$13:$E$614,4,FALSE))","v":""},null,null,null,"","",{"$f":"IF(G411=\"\",\"\",VLOOKUP(MONTH(G411),'C-A'!$J$13:$K$24,2,FALSE))","v":""},null,null,null,null,null,3.9900000000000319E-4,""]
["",null,{"$f":"IF(B412=\"\",\"\",VLOOKUP(B412,CAD_AREA!$CB$13:$CD$113,2,FALSE))","v":""},{"$f":"IF(B412=\"\",\"\",VLOOKUP(B412,CAD_AREA!$CB$13:$CD$113,3,FALSE))","v":""},null,{"$f":"IF(E412=\"\",\"\",VLOOKUP(E412,PCMSO!$B$13:$E$614,4,FALSE))","v":""},null,null,null,"","",{"$f":"IF(G412=\"\",\"\",VLOOKUP(MONTH(G412),'C-A'!$J$13:$K$24,2,FALSE))","v":""},null,null,null,null,null,4.0000000000000322E-4,""]
["",null,{"$f":"IF(B413=\"\",\"\",VLOOKUP(B413,CAD_AREA!$CB$13:$CD$113,2,FALSE))","v":""},{"$f":"IF(B413=\"\",\"\",VLOOKUP(B413,CAD_AREA!$CB$13:$CD$113,3,FALSE))","v":""},null,{"$f":"IF(E413=\"\",\"\",VLOOKUP(E413,PCMSO!$B$13:$E$614,4,FALSE))","v":""},null,null,null,"","",{"$f":"IF(G413=\"\",\"\",VLOOKUP(MONTH(G413),'C-A'!$J$13:$K$24,2,FALSE))","v":""},null,null,null,null,null,4.0100000000000324E-4,""]
["",null,{"$f":"IF(B414=\"\",\"\",VLOOKUP(B414,CAD_AREA!$CB$13:$CD$113,2,FALSE))","v":""},{"$f":"IF(B414=\"\",\"\",VLOOKUP(B414,CAD_AREA!$CB$13:$CD$113,3,FALSE))","v":""},null,{"$f":"IF(E414=\"\",\"\",VLOOKUP(E414,PCMSO!$B$13:$E$614,4,FALSE))","v":""},null,null,null,"","",{"$f":"IF(G414=\"\",\"\",VLOOKUP(MONTH(G414),'C-A'!$J$13:$K$24,2,FALSE))","v":""},null,null,null,null,null,4.0200000000000327E-4,""]
["",null,{"$f":"IF(B415=\"\",\"\",VLOOKUP(B415,CAD_AREA!$CB$13:$CD$113,2,FALSE))","v":""},{"$f":"IF(B415=\"\",\"\",VLOOKUP(B415,CAD_AREA!$CB$13:$CD$113,3,FALSE))","v":""},null,{"$f":"IF(E415=\"\",\"\",VLOOKUP(E415,PCMSO!$B$13:$E$614,4,FALSE))","v":""},null,null,null,"","",{"$f":"IF(G415=\"\",\"\",VLOOKUP(MONTH(G415),'C-A'!$J$13:$K$24,2,FALSE))","v":""},null,null,null,null,null,4.0300000000000329E-4,""]
["",null,{"$f":"IF(B416=\"\",\"\",VLOOKUP(B416,CAD_AREA!$CB$13:$CD$113,2,FALSE))","v":""},{"$f":"IF(B416=\"\",\"\",VLOOKUP(B416,CAD_AREA!$CB$13:$CD$113,3,FALSE))","v":""},null,{"$f":"IF(E416=\"\",\"\",VLOOKUP(E416,PCMSO!$B$13:$E$614,4,FALSE))","v":""},null,null,null,"","",{"$f":"IF(G416=\"\",\"\",VLOOKUP(MONTH(G416),'C-A'!$J$13:$K$24,2,FALSE))","v":""},null,null,null,null,null,4.0400000000000331E-4,""]
["",null,{"$f":"IF(B417=\"\",\"\",VLOOKUP(B417,CAD_AREA!$CB$13:$CD$113,2,FALSE))","v":""},{"$f":"IF(B417=\"\",\"\",VLOOKUP(B417,CAD_AREA!$CB$13:$CD$113,3,FALSE))","v":""},null,{"$f":"IF(E417=\"\",\"\",VLOOKUP(E417,PCMSO!$B$13:$E$614,4,FALSE))","v":""},null,null,null,"","",{"$f":"IF(G417=\"\",\"\",VLOOKUP(MONTH(G417),'C-A'!$J$13:$K$24,2,FALSE))","v":""},null,null,null,null,null,4.0500000000000334E-4,""]
["",null,{"$f":"IF(B418=\"\",\"\",VLOOKUP(B418,CAD_AREA!$CB$13:$CD$113,2,FALSE))","v":""},{"$f":"IF(B418=\"\",\"\",VLOOKUP(B418,CAD_AREA!$CB$13:$CD$113,3,FALSE))","v":""},null,{"$f":"IF(E418=\"\",\"\",VLOOKUP(E418,PCMSO!$B$13:$E$614,4,FALSE))","v":""},null,null,null,"","",{"$f":"IF(G418=\"\",\"\",VLOOKUP(MONTH(G418),'C-A'!$J$13:$K$24,2,FALSE))","v":""},null,null,null,null,null,4.0600000000000336E-4,""]
["",null,{"$f":"IF(B419=\"\",\"\",VLOOKUP(B419,CAD_AREA!$CB$13:$CD$113,2,FALSE))","v":""},{"$f":"IF(B419=\"\",\"\",VLOOKUP(B419,CAD_AREA!$CB$13:$CD$113,3,FALSE))","v":""},null,{"$f":"IF(E419=\"\",\"\",VLOOKUP(E419,PCMSO!$B$13:$E$614,4,FALSE))","v":""},null,null,null,"","",{"$f":"IF(G419=\"\",\"\",VLOOKUP(MONTH(G419),'C-A'!$J$13:$K$24,2,FALSE))","v":""},null,null,null,null,null,4.0700000000000339E-4,""]
["",null,{"$f":"IF(B420=\"\",\"\",VLOOKUP(B420,CAD_AREA!$CB$13:$CD$113,2,FALSE))","v":""},{"$f":"IF(B420=\"\",\"\",VLOOKUP(B420,CAD_AREA!$CB$13:$CD$113,3,FALSE))","v":""},null,{"$f":"IF(E420=\"\",\"\",VLOOKUP(E420,PCMSO!$B$13:$E$614,4,FALSE))","v":""},null,null,null,"","",{"$f":"IF(G420=\"\",\"\",VLOOKUP(MONTH(G420),'C-A'!$J$13:$K$24,2,FALSE))","v":""},null,null,null,null,null,4.0800000000000341E-4,""]
["",null,{"$f":"IF(B421=\"\",\"\",VLOOKUP(B421,CAD_AREA!$CB$13:$CD$113,2,FALSE))","v":""},{"$f":"IF(B421=\"\",\"\",VLOOKUP(B421,CAD_AREA!$CB$13:$CD$113,3,FALSE))","v":""},null,{"$f":"IF(E421=\"\",\"\",VLOOKUP(E421,PCMSO!$B$13:$E$614,4,FALSE))","v":""},null,null,null,"","",{"$f":"IF(G421=\"\",\"\",VLOOKUP(MONTH(G421),'C-A'!$J$13:$K$24,2,FALSE))","v":""},null,null,null,null,null,4.0900000000000344E-4,""]
["",null,{"$f":"IF(B422=\"\",\"\",VLOOKUP(B422,CAD_AREA!$CB$13:$CD$113,2,FALSE))","v":""},{"$f":"IF(B422=\"\",\"\",VLOOKUP(B422,CAD_AREA!$CB$13:$CD$113,3,FALSE))","v":""},null,{"$f":"IF(E422=\"\",\"\",VLOOKUP(E422,PCMSO!$B$13:$E$614,4,FALSE))","v":""},null,null,null,"","",{"$f":"IF(G422=\"\",\"\",VLOOKUP(MONTH(G422),'C-A'!$J$13:$K$24,2,FALSE))","v":""},null,null,null,null,null,4.1000000000000346E-4,""]
["",null,{"$f":"IF(B423=\"\",\"\",VLOOKUP(B423,CAD_AREA!$CB$13:$CD$113,2,FALSE))","v":""},{"$f":"IF(B423=\"\",\"\",VLOOKUP(B423,CAD_AREA!$CB$13:$CD$113,3,FALSE))","v":""},null,{"$f":"IF(E423=\"\",\"\",VLOOKUP(E423,PCMSO!$B$13:$E$614,4,FALSE))","v":""},null,null,null,"","",{"$f":"IF(G423=\"\",\"\",VLOOKUP(MONTH(G423),'C-A'!$J$13:$K$24,2,FALSE))","v":""},null,null,null,null,null,4.1100000000000348E-4,""]
["",null,{"$f":"IF(B424=\"\",\"\",VLOOKUP(B424,CAD_AREA!$CB$13:$CD$113,2,FALSE))","v":""},{"$f":"IF(B424=\"\",\"\",VLOOKUP(B424,CAD_AREA!$CB$13:$CD$113,3,FALSE))","v":""},null,{"$f":"IF(E424=\"\",\"\",VLOOKUP(E424,PCMSO!$B$13:$E$614,4,FALSE))","v":""},null,null,null,"","",{"$f":"IF(G424=\"\",\"\",VLOOKUP(MONTH(G424),'C-A'!$J$13:$K$24,2,FALSE))","v":""},null,null,null,null,null,4.1200000000000351E-4,""]
["",null,{"$f":"IF(B425=\"\",\"\",VLOOKUP(B425,CAD_AREA!$CB$13:$CD$113,2,FALSE))","v":""},{"$f":"IF(B425=\"\",\"\",VLOOKUP(B425,CAD_AREA!$CB$13:$CD$113,3,FALSE))","v":""},null,{"$f":"IF(E425=\"\",\"\",VLOOKUP(E425,PCMSO!$B$13:$E$614,4,FALSE))","v":""},null,null,null,"","",{"$f":"IF(G425=\"\",\"\",VLOOKUP(MONTH(G425),'C-A'!$J$13:$K$24,2,FALSE))","v":""},null,null,null,null,null,4.1300000000000353E-4,""]
["",null,{"$f":"IF(B426=\"\",\"\",VLOOKUP(B426,CAD_AREA!$CB$13:$CD$113,2,FALSE))","v":""},{"$f":"IF(B426=\"\",\"\",VLOOKUP(B426,CAD_AREA!$CB$13:$CD$113,3,FALSE))","v":""},null,{"$f":"IF(E426=\"\",\"\",VLOOKUP(E426,PCMSO!$B$13:$E$614,4,FALSE))","v":""},null,null,null,"","",{"$f":"IF(G426=\"\",\"\",VLOOKUP(MONTH(G426),'C-A'!$J$13:$K$24,2,FALSE))","v":""},null,null,null,null,null,4.1400000000000356E-4,""]
["",null,{"$f":"IF(B427=\"\",\"\",VLOOKUP(B427,CAD_AREA!$CB$13:$CD$113,2,FALSE))","v":""},{"$f":"IF(B427=\"\",\"\",VLOOKUP(B427,CAD_AREA!$CB$13:$CD$113,3,FALSE))","v":""},null,{"$f":"IF(E427=\"\",\"\",VLOOKUP(E427,PCMSO!$B$13:$E$614,4,FALSE))","v":""},null,null,null,"","",{"$f":"IF(G427=\"\",\"\",VLOOKUP(MONTH(G427),'C-A'!$J$13:$K$24,2,FALSE))","v":""},null,null,null,null,null,4.1500000000000358E-4,""]
["",null,{"$f":"IF(B428=\"\",\"\",VLOOKUP(B428,CAD_AREA!$CB$13:$CD$113,2,FALSE))","v":""},{"$f":"IF(B428=\"\",\"\",VLOOKUP(B428,CAD_AREA!$CB$13:$CD$113,3,FALSE))","v":""},null,{"$f":"IF(E428=\"\",\"\",VLOOKUP(E428,PCMSO!$B$13:$E$614,4,FALSE))","v":""},null,null,null,"","",{"$f":"IF(G428=\"\",\"\",VLOOKUP(MONTH(G428),'C-A'!$J$13:$K$24,2,FALSE))","v":""},null,null,null,null,null,4.1600000000000361E-4,""]
["",null,{"$f":"IF(B429=\"\",\"\",VLOOKUP(B429,CAD_AREA!$CB$13:$CD$113,2,FALSE))","v":""},{"$f":"IF(B429=\"\",\"\",VLOOKUP(B429,CAD_AREA!$CB$13:$CD$113,3,FALSE))","v":""},null,{"$f":"IF(E429=\"\",\"\",VLOOKUP(E429,PCMSO!$B$13:$E$614,4,FALSE))","v":""},null,null,null,"","",{"$f":"IF(G429=\"\",\"\",VLOOKUP(MONTH(G429),'C-A'!$J$13:$K$24,2,FALSE))","v":""},null,null,null,null,null,4.1700000000000363E-4,""]
["",null,{"$f":"IF(B430=\"\",\"\",VLOOKUP(B430,CAD_AREA!$CB$13:$CD$113,2,FALSE))","v":""},{"$f":"IF(B430=\"\",\"\",VLOOKUP(B430,CAD_AREA!$CB$13:$CD$113,3,FALSE))","v":""},null,{"$f":"IF(E430=\"\",\"\",VLOOKUP(E430,PCMSO!$B$13:$E$614,4,FALSE))","v":""},null,null,null,"","",{"$f":"IF(G430=\"\",\"\",VLOOKUP(MONTH(G430),'C-A'!$J$13:$K$24,2,FALSE))","v":""},null,null,null,null,null,4.1800000000000366E-4,""]
["",null,{"$f":"IF(B431=\"\",\"\",VLOOKUP(B431,CAD_AREA!$CB$13:$CD$113,2,FALSE))","v":""},{"$f":"IF(B431=\"\",\"\",VLOOKUP(B431,CAD_AREA!$CB$13:$CD$113,3,FALSE))","v":""},null,{"$f":"IF(E431=\"\",\"\",VLOOKUP(E431,PCMSO!$B$13:$E$614,4,FALSE))","v":""},null,null,null,"","",{"$f":"IF(G431=\"\",\"\",VLOOKUP(MONTH(G431),'C-A'!$J$13:$K$24,2,FALSE))","v":""},null,null,null,null,null,4.1900000000000368E-4,""]
["",null,{"$f":"IF(B432=\"\",\"\",VLOOKUP(B432,CAD_AREA!$CB$13:$CD$113,2,FALSE))","v":""},{"$f":"IF(B432=\"\",\"\",VLOOKUP(B432,CAD_AREA!$CB$13:$CD$113,3,FALSE))","v":""},null,{"$f":"IF(E432=\"\",\"\",VLOOKUP(E432,PCMSO!$B$13:$E$614,4,FALSE))","v":""},null,null,null,"","",{"$f":"IF(G432=\"\",\"\",VLOOKUP(MONTH(G432),'C-A'!$J$13:$K$24,2,FALSE))","v":""},null,null,null,null,null,4.200000000000037E-4,""]
["",null,{"$f":"IF(B433=\"\",\"\",VLOOKUP(B433,CAD_AREA!$CB$13:$CD$113,2,FALSE))","v":""},{"$f":"IF(B433=\"\",\"\",VLOOKUP(B433,CAD_AREA!$CB$13:$CD$113,3,FALSE))","v":""},null,{"$f":"IF(E433=\"\",\"\",VLOOKUP(E433,PCMSO!$B$13:$E$614,4,FALSE))","v":""},null,null,null,"","",{"$f":"IF(G433=\"\",\"\",VLOOKUP(MONTH(G433),'C-A'!$J$13:$K$24,2,FALSE))","v":""},null,null,null,null,null,4.2100000000000373E-4,""]
["",null,{"$f":"IF(B434=\"\",\"\",VLOOKUP(B434,CAD_AREA!$CB$13:$CD$113,2,FALSE))","v":""},{"$f":"IF(B434=\"\",\"\",VLOOKUP(B434,CAD_AREA!$CB$13:$CD$113,3,FALSE))","v":""},null,{"$f":"IF(E434=\"\",\"\",VLOOKUP(E434,PCMSO!$B$13:$E$614,4,FALSE))","v":""},null,null,null,"","",{"$f":"IF(G434=\"\",\"\",VLOOKUP(MONTH(G434),'C-A'!$J$13:$K$24,2,FALSE))","v":""},null,null,null,null,null,4.2200000000000375E-4,""]
["",null,{"$f":"IF(B435=\"\",\"\",VLOOKUP(B435,CAD_AREA!$CB$13:$CD$113,2,FALSE))","v":""},{"$f":"IF(B435=\"\",\"\",VLOOKUP(B435,CAD_AREA!$CB$13:$CD$113,3,FALSE))","v":""},null,{"$f":"IF(E435=\"\",\"\",VLOOKUP(E435,PCMSO!$B$13:$E$614,4,FALSE))","v":""},null,null,null,"","",{"$f":"IF(G435=\"\",\"\",VLOOKUP(MONTH(G435),'C-A'!$J$13:$K$24,2,FALSE))","v":""},null,null,null,null,null,4.2300000000000378E-4,""]
["",null,{"$f":"IF(B436=\"\",\"\",VLOOKUP(B436,CAD_AREA!$CB$13:$CD$113,2,FALSE))","v":""},{"$f":"IF(B436=\"\",\"\",VLOOKUP(B436,CAD_AREA!$CB$13:$CD$113,3,FALSE))","v":""},null,{"$f":"IF(E436=\"\",\"\",VLOOKUP(E436,PCMSO!$B$13:$E$614,4,FALSE))","v":""},null,null,null,"","",{"$f":"IF(G436=\"\",\"\",VLOOKUP(MONTH(G436),'C-A'!$J$13:$K$24,2,FALSE))","v":""},null,null,null,null,null,4.240000000000038E-4,""]
["",null,{"$f":"IF(B437=\"\",\"\",VLOOKUP(B437,CAD_AREA!$CB$13:$CD$113,2,FALSE))","v":""},{"$f":"IF(B437=\"\",\"\",VLOOKUP(B437,CAD_AREA!$CB$13:$CD$113,3,FALSE))","v":""},null,{"$f":"IF(E437=\"\",\"\",VLOOKUP(E437,PCMSO!$B$13:$E$614,4,FALSE))","v":""},null,null,null,"","",{"$f":"IF(G437=\"\",\"\",VLOOKUP(MONTH(G437),'C-A'!$J$13:$K$24,2,FALSE))","v":""},null,null,null,null,null,4.2500000000000383E-4,""]
["",null,{"$f":"IF(B438=\"\",\"\",VLOOKUP(B438,CAD_AREA!$CB$13:$CD$113,2,FALSE))","v":""},{"$f":"IF(B438=\"\",\"\",VLOOKUP(B438,CAD_AREA!$CB$13:$CD$113,3,FALSE))","v":""},null,{"$f":"IF(E438=\"\",\"\",VLOOKUP(E438,PCMSO!$B$13:$E$614,4,FALSE))","v":""},null,null,null,"","",{"$f":"IF(G438=\"\",\"\",VLOOKUP(MONTH(G438),'C-A'!$J$13:$K$24,2,FALSE))","v":""},null,null,null,null,null,4.2600000000000385E-4,""]
["",null,{"$f":"IF(B439=\"\",\"\",VLOOKUP(B439,CAD_AREA!$CB$13:$CD$113,2,FALSE))","v":""},{"$f":"IF(B439=\"\",\"\",VLOOKUP(B439,CAD_AREA!$CB$13:$CD$113,3,FALSE))","v":""},null,{"$f":"IF(E439=\"\",\"\",VLOOKUP(E439,PCMSO!$B$13:$E$614,4,FALSE))","v":""},null,null,null,"","",{"$f":"IF(G439=\"\",\"\",VLOOKUP(MONTH(G439),'C-A'!$J$13:$K$24,2,FALSE))","v":""},null,null,null,null,null,4.2700000000000387E-4,""]
["",null,{"$f":"IF(B440=\"\",\"\",VLOOKUP(B440,CAD_AREA!$CB$13:$CD$113,2,FALSE))","v":""},{"$f":"IF(B440=\"\",\"\",VLOOKUP(B440,CAD_AREA!$CB$13:$CD$113,3,FALSE))","v":""},null,{"$f":"IF(E440=\"\",\"\",VLOOKUP(E440,PCMSO!$B$13:$E$614,4,FALSE))","v":""},null,null,null,"","",{"$f":"IF(G440=\"\",\"\",VLOOKUP(MONTH(G440),'C-A'!$J$13:$K$24,2,FALSE))","v":""},null,null,null,null,null,4.280000000000039E-4,""]
["",null,{"$f":"IF(B441=\"\",\"\",VLOOKUP(B441,CAD_AREA!$CB$13:$CD$113,2,FALSE))","v":""},{"$f":"IF(B441=\"\",\"\",VLOOKUP(B441,CAD_AREA!$CB$13:$CD$113,3,FALSE))","v":""},null,{"$f":"IF(E441=\"\",\"\",VLOOKUP(E441,PCMSO!$B$13:$E$614,4,FALSE))","v":""},null,null,null,"","",{"$f":"IF(G441=\"\",\"\",VLOOKUP(MONTH(G441),'C-A'!$J$13:$K$24,2,FALSE))","v":""},null,null,null,null,null,4.2900000000000392E-4,""]
["",null,{"$f":"IF(B442=\"\",\"\",VLOOKUP(B442,CAD_AREA!$CB$13:$CD$113,2,FALSE))","v":""},{"$f":"IF(B442=\"\",\"\",VLOOKUP(B442,CAD_AREA!$CB$13:$CD$113,3,FALSE))","v":""},null,{"$f":"IF(E442=\"\",\"\",VLOOKUP(E442,PCMSO!$B$13:$E$614,4,FALSE))","v":""},null,null,null,"","",{"$f":"IF(G442=\"\",\"\",VLOOKUP(MONTH(G442),'C-A'!$J$13:$K$24,2,FALSE))","v":""},null,null,null,null,null,4.3000000000000395E-4,""]
["",null,{"$f":"IF(B443=\"\",\"\",VLOOKUP(B443,CAD_AREA!$CB$13:$CD$113,2,FALSE))","v":""},{"$f":"IF(B443=\"\",\"\",VLOOKUP(B443,CAD_AREA!$CB$13:$CD$113,3,FALSE))","v":""},null,{"$f":"IF(E443=\"\",\"\",VLOOKUP(E443,PCMSO!$B$13:$E$614,4,FALSE))","v":""},null,null,null,"","",{"$f":"IF(G443=\"\",\"\",VLOOKUP(MONTH(G443),'C-A'!$J$13:$K$24,2,FALSE))","v":""},null,null,null,null,null,4.3100000000000397E-4,""]
["",null,{"$f":"IF(B444=\"\",\"\",VLOOKUP(B444,CAD_AREA!$CB$13:$CD$113,2,FALSE))","v":""},{"$f":"IF(B444=\"\",\"\",VLOOKUP(B444,CAD_AREA!$CB$13:$CD$113,3,FALSE))","v":""},null,{"$f":"IF(E444=\"\",\"\",VLOOKUP(E444,PCMSO!$B$13:$E$614,4,FALSE))","v":""},null,null,null,"","",{"$f":"IF(G444=\"\",\"\",VLOOKUP(MONTH(G444),'C-A'!$J$13:$K$24,2,FALSE))","v":""},null,null,null,null,null,4.32000000000004E-4,""]
["",null,{"$f":"IF(B445=\"\",\"\",VLOOKUP(B445,CAD_AREA!$CB$13:$CD$113,2,FALSE))","v":""},{"$f":"IF(B445=\"\",\"\",VLOOKUP(B445,CAD_AREA!$CB$13:$CD$113,3,FALSE))","v":""},null,{"$f":"IF(E445=\"\",\"\",VLOOKUP(E445,PCMSO!$B$13:$E$614,4,FALSE))","v":""},null,null,null,"","",{"$f":"IF(G445=\"\",\"\",VLOOKUP(MONTH(G445),'C-A'!$J$13:$K$24,2,FALSE))","v":""},null,null,null,null,null,4.3300000000000402E-4,""]
["",null,{"$f":"IF(B446=\"\",\"\",VLOOKUP(B446,CAD_AREA!$CB$13:$CD$113,2,FALSE))","v":""},{"$f":"IF(B446=\"\",\"\",VLOOKUP(B446,CAD_AREA!$CB$13:$CD$113,3,FALSE))","v":""},null,{"$f":"IF(E446=\"\",\"\",VLOOKUP(E446,PCMSO!$B$13:$E$614,4,FALSE))","v":""},null,null,null,"","",{"$f":"IF(G446=\"\",\"\",VLOOKUP(MONTH(G446),'C-A'!$J$13:$K$24,2,FALSE))","v":""},null,null,null,null,null,4.3400000000000404E-4,""]
["",null,{"$f":"IF(B447=\"\",\"\",VLOOKUP(B447,CAD_AREA!$CB$13:$CD$113,2,FALSE))","v":""},{"$f":"IF(B447=\"\",\"\",VLOOKUP(B447,CAD_AREA!$CB$13:$CD$113,3,FALSE))","v":""},null,{"$f":"IF(E447=\"\",\"\",VLOOKUP(E447,PCMSO!$B$13:$E$614,4,FALSE))","v":""},null,null,null,"","",{"$f":"IF(G447=\"\",\"\",VLOOKUP(MONTH(G447),'C-A'!$J$13:$K$24,2,FALSE))","v":""},null,null,null,null,null,4.3500000000000407E-4,""]
["",null,{"$f":"IF(B448=\"\",\"\",VLOOKUP(B448,CAD_AREA!$CB$13:$CD$113,2,FALSE))","v":""},{"$f":"IF(B448=\"\",\"\",VLOOKUP(B448,CAD_AREA!$CB$13:$CD$113,3,FALSE))","v":""},null,{"$f":"IF(E448=\"\",\"\",VLOOKUP(E448,PCMSO!$B$13:$E$614,4,FALSE))","v":""},null,null,null,"","",{"$f":"IF(G448=\"\",\"\",VLOOKUP(MONTH(G448),'C-A'!$J$13:$K$24,2,FALSE))","v":""},null,null,null,null,null,4.3600000000000409E-4,""]
["",null,{"$f":"IF(B449=\"\",\"\",VLOOKUP(B449,CAD_AREA!$CB$13:$CD$113,2,FALSE))","v":""},{"$f":"IF(B449=\"\",\"\",VLOOKUP(B449,CAD_AREA!$CB$13:$CD$113,3,FALSE))","v":""},null,{"$f":"IF(E449=\"\",\"\",VLOOKUP(E449,PCMSO!$B$13:$E$614,4,FALSE))","v":""},null,null,null,"","",{"$f":"IF(G449=\"\",\"\",VLOOKUP(MONTH(G449),'C-A'!$J$13:$K$24,2,FALSE))","v":""},null,null,null,null,null,4.3700000000000412E-4,""]
["",null,{"$f":"IF(B450=\"\",\"\",VLOOKUP(B450,CAD_AREA!$CB$13:$CD$113,2,FALSE))","v":""},{"$f":"IF(B450=\"\",\"\",VLOOKUP(B450,CAD_AREA!$CB$13:$CD$113,3,FALSE))","v":""},null,{"$f":"IF(E450=\"\",\"\",VLOOKUP(E450,PCMSO!$B$13:$E$614,4,FALSE))","v":""},null,null,null,"","",{"$f":"IF(G450=\"\",\"\",VLOOKUP(MONTH(G450),'C-A'!$J$13:$K$24,2,FALSE))","v":""},null,null,null,null,null,4.3800000000000414E-4,""]
["",null,{"$f":"IF(B451=\"\",\"\",VLOOKUP(B451,CAD_AREA!$CB$13:$CD$113,2,FALSE))","v":""},{"$f":"IF(B451=\"\",\"\",VLOOKUP(B451,CAD_AREA!$CB$13:$CD$113,3,FALSE))","v":""},null,{"$f":"IF(E451=\"\",\"\",VLOOKUP(E451,PCMSO!$B$13:$E$614,4,FALSE))","v":""},null,null,null,"","",{"$f":"IF(G451=\"\",\"\",VLOOKUP(MONTH(G451),'C-A'!$J$13:$K$24,2,FALSE))","v":""},null,null,null,null,null,4.3900000000000417E-4,""]
["",null,{"$f":"IF(B452=\"\",\"\",VLOOKUP(B452,CAD_AREA!$CB$13:$CD$113,2,FALSE))","v":""},{"$f":"IF(B452=\"\",\"\",VLOOKUP(B452,CAD_AREA!$CB$13:$CD$113,3,FALSE))","v":""},null,{"$f":"IF(E452=\"\",\"\",VLOOKUP(E452,PCMSO!$B$13:$E$614,4,FALSE))","v":""},null,null,null,"","",{"$f":"IF(G452=\"\",\"\",VLOOKUP(MONTH(G452),'C-A'!$J$13:$K$24,2,FALSE))","v":""},null,null,null,null,null,4.4000000000000419E-4,""]
["",null,{"$f":"IF(B453=\"\",\"\",VLOOKUP(B453,CAD_AREA!$CB$13:$CD$113,2,FALSE))","v":""},{"$f":"IF(B453=\"\",\"\",VLOOKUP(B453,CAD_AREA!$CB$13:$CD$113,3,FALSE))","v":""},null,{"$f":"IF(E453=\"\",\"\",VLOOKUP(E453,PCMSO!$B$13:$E$614,4,FALSE))","v":""},null,null,null,"","",{"$f":"IF(G453=\"\",\"\",VLOOKUP(MONTH(G453),'C-A'!$J$13:$K$24,2,FALSE))","v":""},null,null,null,null,null,4.4100000000000421E-4,""]
["",null,{"$f":"IF(B454=\"\",\"\",VLOOKUP(B454,CAD_AREA!$CB$13:$CD$113,2,FALSE))","v":""},{"$f":"IF(B454=\"\",\"\",VLOOKUP(B454,CAD_AREA!$CB$13:$CD$113,3,FALSE))","v":""},null,{"$f":"IF(E454=\"\",\"\",VLOOKUP(E454,PCMSO!$B$13:$E$614,4,FALSE))","v":""},null,null,null,"","",{"$f":"IF(G454=\"\",\"\",VLOOKUP(MONTH(G454),'C-A'!$J$13:$K$24,2,FALSE))","v":""},null,null,null,null,null,4.4200000000000424E-4,""]
["",null,{"$f":"IF(B455=\"\",\"\",VLOOKUP(B455,CAD_AREA!$CB$13:$CD$113,2,FALSE))","v":""},{"$f":"IF(B455=\"\",\"\",VLOOKUP(B455,CAD_AREA!$CB$13:$CD$113,3,FALSE))","v":""},null,{"$f":"IF(E455=\"\",\"\",VLOOKUP(E455,PCMSO!$B$13:$E$614,4,FALSE))","v":""},null,null,null,"","",{"$f":"IF(G455=\"\",\"\",VLOOKUP(MONTH(G455),'C-A'!$J$13:$K$24,2,FALSE))","v":""},null,null,null,null,null,4.4300000000000426E-4,""]
["",null,{"$f":"IF(B456=\"\",\"\",VLOOKUP(B456,CAD_AREA!$CB$13:$CD$113,2,FALSE))","v":""},{"$f":"IF(B456=\"\",\"\",VLOOKUP(B456,CAD_AREA!$CB$13:$CD$113,3,FALSE))","v":""},null,{"$f":"IF(E456=\"\",\"\",VLOOKUP(E456,PCMSO!$B$13:$E$614,4,FALSE))","v":""},null,null,null,"","",{"$f":"IF(G456=\"\",\"\",VLOOKUP(MONTH(G456),'C-A'!$J$13:$K$24,2,FALSE))","v":""},null,null,null,null,null,4.4400000000000429E-4,""]
["",null,{"$f":"IF(B457=\"\",\"\",VLOOKUP(B457,CAD_AREA!$CB$13:$CD$113,2,FALSE))","v":""},{"$f":"IF(B457=\"\",\"\",VLOOKUP(B457,CAD_AREA!$CB$13:$CD$113,3,FALSE))","v":""},null,{"$f":"IF(E457=\"\",\"\",VLOOKUP(E457,PCMSO!$B$13:$E$614,4,FALSE))","v":""},null,null,null,"","",{"$f":"IF(G457=\"\",\"\",VLOOKUP(MONTH(G457),'C-A'!$J$13:$K$24,2,FALSE))","v":""},null,null,null,null,null,4.4500000000000431E-4,""]
["",null,{"$f":"IF(B458=\"\",\"\",VLOOKUP(B458,CAD_AREA!$CB$13:$CD$113,2,FALSE))","v":""},{"$f":"IF(B458=\"\",\"\",VLOOKUP(B458,CAD_AREA!$CB$13:$CD$113,3,FALSE))","v":""},null,{"$f":"IF(E458=\"\",\"\",VLOOKUP(E458,PCMSO!$B$13:$E$614,4,FALSE))","v":""},null,null,null,"","",{"$f":"IF(G458=\"\",\"\",VLOOKUP(MONTH(G458),'C-A'!$J$13:$K$24,2,FALSE))","v":""},null,null,null,null,null,4.4600000000000434E-4,""]
["",null,{"$f":"IF(B459=\"\",\"\",VLOOKUP(B459,CAD_AREA!$CB$13:$CD$113,2,FALSE))","v":""},{"$f":"IF(B459=\"\",\"\",VLOOKUP(B459,CAD_AREA!$CB$13:$CD$113,3,FALSE))","v":""},null,{"$f":"IF(E459=\"\",\"\",VLOOKUP(E459,PCMSO!$B$13:$E$614,4,FALSE))","v":""},null,null,null,"","",{"$f":"IF(G459=\"\",\"\",VLOOKUP(MONTH(G459),'C-A'!$J$13:$K$24,2,FALSE))","v":""},null,null,null,null,null,4.4700000000000436E-4,""]
["",null,{"$f":"IF(B460=\"\",\"\",VLOOKUP(B460,CAD_AREA!$CB$13:$CD$113,2,FALSE))","v":""},{"$f":"IF(B460=\"\",\"\",VLOOKUP(B460,CAD_AREA!$CB$13:$CD$113,3,FALSE))","v":""},null,{"$f":"IF(E460=\"\",\"\",VLOOKUP(E460,PCMSO!$B$13:$E$614,4,FALSE))","v":""},null,null,null,"","",{"$f":"IF(G460=\"\",\"\",VLOOKUP(MONTH(G460),'C-A'!$J$13:$K$24,2,FALSE))","v":""},null,null,null,null,null,4.4800000000000438E-4,""]
["",null,{"$f":"IF(B461=\"\",\"\",VLOOKUP(B461,CAD_AREA!$CB$13:$CD$113,2,FALSE))","v":""},{"$f":"IF(B461=\"\",\"\",VLOOKUP(B461,CAD_AREA!$CB$13:$CD$113,3,FALSE))","v":""},null,{"$f":"IF(E461=\"\",\"\",VLOOKUP(E461,PCMSO!$B$13:$E$614,4,FALSE))","v":""},null,null,null,{"$f":"IF(F461=\"\",\"\",VLOOKUP(F461,$N$13:$O$19,2,FALSE)+G461)","v":""},"",{"$f":"IF(G461=\"\",\"\",VLOOKUP(MONTH(G461),'C-A'!$J$13:$K$24,2,FALSE))","v":""},null,null,null,null,null,4.4900000000000441E-4,{"$f":"IF(K461=\"Vencido\",\"\",J461)","v":""}]
["",null,{"$f":"IF(B462=\"\",\"\",VLOOKUP(B462,CAD_AREA!$CB$13:$CD$113,2,FALSE))","v":""},{"$f":"IF(B462=\"\",\"\",VLOOKUP(B462,CAD_AREA!$CB$13:$CD$113,3,FALSE))","v":""},null,{"$f":"IF(E462=\"\",\"\",VLOOKUP(E462,PCMSO!$B$13:$E$614,4,FALSE))","v":""},null,null,null,"",{"$f":"IF(J462=\"\",\"\",IF(J462-TODAY()<0,\"Vencido\",IF(J462-TODAY()=0,\"Realizar hoje\",\"Realizar em \"&J462-TODAY()&\" dias\")))","v":""},{"$f":"IF(G462=\"\",\"\",VLOOKUP(MONTH(G462),'C-A'!$J$13:$K$24,2,FALSE))","v":""},null,null,null,null,null,4.5000000000000443E-4,""]
["",null,{"$f":"IF(B463=\"\",\"\",VLOOKUP(B463,CAD_AREA!$CB$13:$CD$113,2,FALSE))","v":""},{"$f":"IF(B463=\"\",\"\",VLOOKUP(B463,CAD_AREA!$CB$13:$CD$113,3,FALSE))","v":""},null,{"$f":"IF(E463=\"\",\"\",VLOOKUP(E463,PCMSO!$B$13:$E$614,4,FALSE))","v":""},null,null,null,"","",{"$f":"IF(G463=\"\",\"\",VLOOKUP(MONTH(G463),'C-A'!$J$13:$K$24,2,FALSE))","v":""},null,null,null,null,null,{"$f":"R462+$R$13","v":4.5100000000000446E-4},""]
["",null,{"$f":"IF(B464=\"\",\"\",VLOOKUP(B464,CAD_AREA!$CB$13:$CD$113,2,FALSE))","v":""},{"$f":"IF(B464=\"\",\"\",VLOOKUP(B464,CAD_AREA!$CB$13:$CD$113,3,FALSE))","v":""},null,{"$f":"IF(E464=\"\",\"\",VLOOKUP(E464,PCMSO!$B$13:$E$614,4,FALSE))","v":""},null,null,null,"","",{"$f":"IF(G464=\"\",\"\",VLOOKUP(MONTH(G464),'C-A'!$J$13:$K$24,2,FALSE))","v":""},null,null,null,null,null,4.5200000000000448E-4,""]
["",null,{"$f":"IF(B465=\"\",\"\",VLOOKUP(B465,CAD_AREA!$CB$13:$CD$113,2,FALSE))","v":""},{"$f":"IF(B465=\"\",\"\",VLOOKUP(B465,CAD_AREA!$CB$13:$CD$113,3,FALSE))","v":""},null,{"$f":"IF(E465=\"\",\"\",VLOOKUP(E465,PCMSO!$B$13:$E$614,4,FALSE))","v":""},null,null,null,"","",{"$f":"IF(G465=\"\",\"\",VLOOKUP(MONTH(G465),'C-A'!$J$13:$K$24,2,FALSE))","v":""},null,null,null,null,null,4.5300000000000451E-4,""]
["",null,{"$f":"IF(B466=\"\",\"\",VLOOKUP(B466,CAD_AREA!$CB$13:$CD$113,2,FALSE))","v":""},{"$f":"IF(B466=\"\",\"\",VLOOKUP(B466,CAD_AREA!$CB$13:$CD$113,3,FALSE))","v":""},null,{"$f":"IF(E466=\"\",\"\",VLOOKUP(E466,PCMSO!$B$13:$E$614,4,FALSE))","v":""},null,null,null,"","",{"$f":"IF(G466=\"\",\"\",VLOOKUP(MONTH(G466),'C-A'!$J$13:$K$24,2,FALSE))","v":""},null,null,null,null,null,4.5400000000000453E-4,""]
["",null,{"$f":"IF(B467=\"\",\"\",VLOOKUP(B467,CAD_AREA!$CB$13:$CD$113,2,FALSE))","v":""},{"$f":"IF(B467=\"\",\"\",VLOOKUP(B467,CAD_AREA!$CB$13:$CD$113,3,FALSE))","v":""},null,{"$f":"IF(E467=\"\",\"\",VLOOKUP(E467,PCMSO!$B$13:$E$614,4,FALSE))","v":""},null,null,null,"","",{"$f":"IF(G467=\"\",\"\",VLOOKUP(MONTH(G467),'C-A'!$J$13:$K$24,2,FALSE))","v":""},null,null,null,null,null,4.5500000000000455E-4,""]
["",null,{"$f":"IF(B468=\"\",\"\",VLOOKUP(B468,CAD_AREA!$CB$13:$CD$113,2,FALSE))","v":""},{"$f":"IF(B468=\"\",\"\",VLOOKUP(B468,CAD_AREA!$CB$13:$CD$113,3,FALSE))","v":""},null,{"$f":"IF(E468=\"\",\"\",VLOOKUP(E468,PCMSO!$B$13:$E$614,4,FALSE))","v":""},null,null,null,"","",{"$f":"IF(G468=\"\",\"\",VLOOKUP(MONTH(G468),'C-A'!$J$13:$K$24,2,FALSE))","v":""},null,null,null,null,null,4.5600000000000458E-4,""]
["",null,{"$f":"IF(B469=\"\",\"\",VLOOKUP(B469,CAD_AREA!$CB$13:$CD$113,2,FALSE))","v":""},{"$f":"IF(B469=\"\",\"\",VLOOKUP(B469,CAD_AREA!$CB$13:$CD$113,3,FALSE))","v":""},null,{"$f":"IF(E469=\"\",\"\",VLOOKUP(E469,PCMSO!$B$13:$E$614,4,FALSE))","v":""},null,null,null,"","",{"$f":"IF(G469=\"\",\"\",VLOOKUP(MONTH(G469),'C-A'!$J$13:$K$24,2,FALSE))","v":""},null,null,null,null,null,4.570000000000046E-4,""]
["",null,{"$f":"IF(B470=\"\",\"\",VLOOKUP(B470,CAD_AREA!$CB$13:$CD$113,2,FALSE))","v":""},{"$f":"IF(B470=\"\",\"\",VLOOKUP(B470,CAD_AREA!$CB$13:$CD$113,3,FALSE))","v":""},null,{"$f":"IF(E470=\"\",\"\",VLOOKUP(E470,PCMSO!$B$13:$E$614,4,FALSE))","v":""},null,null,null,"","",{"$f":"IF(G470=\"\",\"\",VLOOKUP(MONTH(G470),'C-A'!$J$13:$K$24,2,FALSE))","v":""},null,null,null,null,null,4.5800000000000463E-4,""]
["",null,{"$f":"IF(B471=\"\",\"\",VLOOKUP(B471,CAD_AREA!$CB$13:$CD$113,2,FALSE))","v":""},{"$f":"IF(B471=\"\",\"\",VLOOKUP(B471,CAD_AREA!$CB$13:$CD$113,3,FALSE))","v":""},null,{"$f":"IF(E471=\"\",\"\",VLOOKUP(E471,PCMSO!$B$13:$E$614,4,FALSE))","v":""},null,null,null,"","",{"$f":"IF(G471=\"\",\"\",VLOOKUP(MONTH(G471),'C-A'!$J$13:$K$24,2,FALSE))","v":""},null,null,null,null,null,4.5900000000000465E-4,""]
["",null,{"$f":"IF(B472=\"\",\"\",VLOOKUP(B472,CAD_AREA!$CB$13:$CD$113,2,FALSE))","v":""},{"$f":"IF(B472=\"\",\"\",VLOOKUP(B472,CAD_AREA!$CB$13:$CD$113,3,FALSE))","v":""},null,{"$f":"IF(E472=\"\",\"\",VLOOKUP(E472,PCMSO!$B$13:$E$614,4,FALSE))","v":""},null,null,null,"","",{"$f":"IF(G472=\"\",\"\",VLOOKUP(MONTH(G472),'C-A'!$J$13:$K$24,2,FALSE))","v":""},null,null,null,null,null,4.6000000000000468E-4,""]
[{"$f":"IF(S473=\"\",\"\",SUM(R473:S473))","v":""},null,{"$f":"IF(B473=\"\",\"\",VLOOKUP(B473,CAD_AREA!$CB$13:$CD$113,2,FALSE))","v":""},{"$f":"IF(B473=\"\",\"\",VLOOKUP(B473,CAD_AREA!$CB$13:$CD$113,3,FALSE))","v":""},null,{"$f":"IF(E473=\"\",\"\",VLOOKUP(E473,PCMSO!$B$13:$E$614,4,FALSE))","v":""},null,null,null,"","",{"$f":"IF(G473=\"\",\"\",VLOOKUP(MONTH(G473),'C-A'!$J$13:$K$24,2,FALSE))","v":""},null,null,null,null,null,4.610000000000047E-4,""]
["",null,{"$f":"IF(B474=\"\",\"\",VLOOKUP(B474,CAD_AREA!$CB$13:$CD$113,2,FALSE))","v":""},{"$f":"IF(B474=\"\",\"\",VLOOKUP(B474,CAD_AREA!$CB$13:$CD$113,3,FALSE))","v":""},null,{"$f":"IF(E474=\"\",\"\",VLOOKUP(E474,PCMSO!$B$13:$E$614,4,FALSE))","v":""},null,null,null,"","",{"$f":"IF(G474=\"\",\"\",VLOOKUP(MONTH(G474),'C-A'!$J$13:$K$24,2,FALSE))","v":""},null,null,null,null,null,4.6200000000000472E-4,""]
["",null,{"$f":"IF(B475=\"\",\"\",VLOOKUP(B475,CAD_AREA!$CB$13:$CD$113,2,FALSE))","v":""},{"$f":"IF(B475=\"\",\"\",VLOOKUP(B475,CAD_AREA!$CB$13:$CD$113,3,FALSE))","v":""},null,{"$f":"IF(E475=\"\",\"\",VLOOKUP(E475,PCMSO!$B$13:$E$614,4,FALSE))","v":""},null,null,null,"","",{"$f":"IF(G475=\"\",\"\",VLOOKUP(MONTH(G475),'C-A'!$J$13:$K$24,2,FALSE))","v":""},null,null,null,null,null,4.6300000000000475E-4,""]
["",null,{"$f":"IF(B476=\"\",\"\",VLOOKUP(B476,CAD_AREA!$CB$13:$CD$113,2,FALSE))","v":""},{"$f":"IF(B476=\"\",\"\",VLOOKUP(B476,CAD_AREA!$CB$13:$CD$113,3,FALSE))","v":""},null,{"$f":"IF(E476=\"\",\"\",VLOOKUP(E476,PCMSO!$B$13:$E$614,4,FALSE))","v":""},null,null,null,"","",{"$f":"IF(G476=\"\",\"\",VLOOKUP(MONTH(G476),'C-A'!$J$13:$K$24,2,FALSE))","v":""},null,null,null,null,null,4.6400000000000477E-4,""]
["",null,{"$f":"IF(B477=\"\",\"\",VLOOKUP(B477,CAD_AREA!$CB$13:$CD$113,2,FALSE))","v":""},{"$f":"IF(B477=\"\",\"\",VLOOKUP(B477,CAD_AREA!$CB$13:$CD$113,3,FALSE))","v":""},null,{"$f":"IF(E477=\"\",\"\",VLOOKUP(E477,PCMSO!$B$13:$E$614,4,FALSE))","v":""},null,null,null,"","",{"$f":"IF(G477=\"\",\"\",VLOOKUP(MONTH(G477),'C-A'!$J$13:$K$24,2,FALSE))","v":""},null,null,null,null,null,4.650000000000048E-4,""]
["",null,{"$f":"IF(B478=\"\",\"\",VLOOKUP(B478,CAD_AREA!$CB$13:$CD$113,2,FALSE))","v":""},{"$f":"IF(B478=\"\",\"\",VLOOKUP(B478,CAD_AREA!$CB$13:$CD$113,3,FALSE))","v":""},null,{"$f":"IF(E478=\"\",\"\",VLOOKUP(E478,PCMSO!$B$13:$E$614,4,FALSE))","v":""},null,null,null,"","",{"$f":"IF(G478=\"\",\"\",VLOOKUP(MONTH(G478),'C-A'!$J$13:$K$24,2,FALSE))","v":""},null,null,null,null,null,4.6600000000000482E-4,""]
["",null,{"$f":"IF(B479=\"\",\"\",VLOOKUP(B479,CAD_AREA!$CB$13:$CD$113,2,FALSE))","v":""},{"$f":"IF(B479=\"\",\"\",VLOOKUP(B479,CAD_AREA!$CB$13:$CD$113,3,FALSE))","v":""},null,{"$f":"IF(E479=\"\",\"\",VLOOKUP(E479,PCMSO!$B$13:$E$614,4,FALSE))","v":""},null,null,null,"","",{"$f":"IF(G479=\"\",\"\",VLOOKUP(MONTH(G479),'C-A'!$J$13:$K$24,2,FALSE))","v":""},null,null,null,null,null,4.6700000000000485E-4,""]
["",null,{"$f":"IF(B480=\"\",\"\",VLOOKUP(B480,CAD_AREA!$CB$13:$CD$113,2,FALSE))","v":""},{"$f":"IF(B480=\"\",\"\",VLOOKUP(B480,CAD_AREA!$CB$13:$CD$113,3,FALSE))","v":""},null,{"$f":"IF(E480=\"\",\"\",VLOOKUP(E480,PCMSO!$B$13:$E$614,4,FALSE))","v":""},null,null,null,"","",{"$f":"IF(G480=\"\",\"\",VLOOKUP(MONTH(G480),'C-A'!$J$13:$K$24,2,FALSE))","v":""},null,null,null,null,null,4.6800000000000487E-4,""]
["",null,{"$f":"IF(B481=\"\",\"\",VLOOKUP(B481,CAD_AREA!$CB$13:$CD$113,2,FALSE))","v":""},{"$f":"IF(B481=\"\",\"\",VLOOKUP(B481,CAD_AREA!$CB$13:$CD$113,3,FALSE))","v":""},null,{"$f":"IF(E481=\"\",\"\",VLOOKUP(E481,PCMSO!$B$13:$E$614,4,FALSE))","v":""},null,null,null,"","",{"$f":"IF(G481=\"\",\"\",VLOOKUP(MONTH(G481),'C-A'!$J$13:$K$24,2,FALSE))","v":""},null,null,null,null,null,4.6900000000000489E-4,""]
["",null,{"$f":"IF(B482=\"\",\"\",VLOOKUP(B482,CAD_AREA!$CB$13:$CD$113,2,FALSE))","v":""},{"$f":"IF(B482=\"\",\"\",VLOOKUP(B482,CAD_AREA!$CB$13:$CD$113,3,FALSE))","v":""},null,{"$f":"IF(E482=\"\",\"\",VLOOKUP(E482,PCMSO!$B$13:$E$614,4,FALSE))","v":""},null,null,null,"","",{"$f":"IF(G482=\"\",\"\",VLOOKUP(MONTH(G482),'C-A'!$J$13:$K$24,2,FALSE))","v":""},null,null,null,null,null,4.7000000000000492E-4,""]
["",null,{"$f":"IF(B483=\"\",\"\",VLOOKUP(B483,CAD_AREA!$CB$13:$CD$113,2,FALSE))","v":""},{"$f":"IF(B483=\"\",\"\",VLOOKUP(B483,CAD_AREA!$CB$13:$CD$113,3,FALSE))","v":""},null,{"$f":"IF(E483=\"\",\"\",VLOOKUP(E483,PCMSO!$B$13:$E$614,4,FALSE))","v":""},null,null,null,"","",{"$f":"IF(G483=\"\",\"\",VLOOKUP(MONTH(G483),'C-A'!$J$13:$K$24,2,FALSE))","v":""},null,null,null,null,null,4.7100000000000494E-4,""]
["",null,{"$f":"IF(B484=\"\",\"\",VLOOKUP(B484,CAD_AREA!$CB$13:$CD$113,2,FALSE))","v":""},{"$f":"IF(B484=\"\",\"\",VLOOKUP(B484,CAD_AREA!$CB$13:$CD$113,3,FALSE))","v":""},null,{"$f":"IF(E484=\"\",\"\",VLOOKUP(E484,PCMSO!$B$13:$E$614,4,FALSE))","v":""},null,null,null,"","",{"$f":"IF(G484=\"\",\"\",VLOOKUP(MONTH(G484),'C-A'!$J$13:$K$24,2,FALSE))","v":""},null,null,null,null,null,4.7200000000000497E-4,""]
["",null,{"$f":"IF(B485=\"\",\"\",VLOOKUP(B485,CAD_AREA!$CB$13:$CD$113,2,FALSE))","v":""},{"$f":"IF(B485=\"\",\"\",VLOOKUP(B485,CAD_AREA!$CB$13:$CD$113,3,FALSE))","v":""},null,{"$f":"IF(E485=\"\",\"\",VLOOKUP(E485,PCMSO!$B$13:$E$614,4,FALSE))","v":""},null,null,null,"","",{"$f":"IF(G485=\"\",\"\",VLOOKUP(MONTH(G485),'C-A'!$J$13:$K$24,2,FALSE))","v":""},null,null,null,null,null,4.7300000000000499E-4,""]
["",null,{"$f":"IF(B486=\"\",\"\",VLOOKUP(B486,CAD_AREA!$CB$13:$CD$113,2,FALSE))","v":""},{"$f":"IF(B486=\"\",\"\",VLOOKUP(B486,CAD_AREA!$CB$13:$CD$113,3,FALSE))","v":""},null,{"$f":"IF(E486=\"\",\"\",VLOOKUP(E486,PCMSO!$B$13:$E$614,4,FALSE))","v":""},null,null,null,"","",{"$f":"IF(G486=\"\",\"\",VLOOKUP(MONTH(G486),'C-A'!$J$13:$K$24,2,FALSE))","v":""},null,null,null,null,null,4.7400000000000502E-4,""]
["",null,{"$f":"IF(B487=\"\",\"\",VLOOKUP(B487,CAD_AREA!$CB$13:$CD$113,2,FALSE))","v":""},{"$f":"IF(B487=\"\",\"\",VLOOKUP(B487,CAD_AREA!$CB$13:$CD$113,3,FALSE))","v":""},null,{"$f":"IF(E487=\"\",\"\",VLOOKUP(E487,PCMSO!$B$13:$E$614,4,FALSE))","v":""},null,null,null,"","",{"$f":"IF(G487=\"\",\"\",VLOOKUP(MONTH(G487),'C-A'!$J$13:$K$24,2,FALSE))","v":""},null,null,null,null,null,4.7500000000000504E-4,""]
["",null,{"$f":"IF(B488=\"\",\"\",VLOOKUP(B488,CAD_AREA!$CB$13:$CD$113,2,FALSE))","v":""},{"$f":"IF(B488=\"\",\"\",VLOOKUP(B488,CAD_AREA!$CB$13:$CD$113,3,FALSE))","v":""},null,{"$f":"IF(E488=\"\",\"\",VLOOKUP(E488,PCMSO!$B$13:$E$614,4,FALSE))","v":""},null,null,null,"","",{"$f":"IF(G488=\"\",\"\",VLOOKUP(MONTH(G488),'C-A'!$J$13:$K$24,2,FALSE))","v":""},null,null,null,null,null,4.7600000000000506E-4,""]
["",null,{"$f":"IF(B489=\"\",\"\",VLOOKUP(B489,CAD_AREA!$CB$13:$CD$113,2,FALSE))","v":""},{"$f":"IF(B489=\"\",\"\",VLOOKUP(B489,CAD_AREA!$CB$13:$CD$113,3,FALSE))","v":""},null,{"$f":"IF(E489=\"\",\"\",VLOOKUP(E489,PCMSO!$B$13:$E$614,4,FALSE))","v":""},null,null,null,"","",{"$f":"IF(G489=\"\",\"\",VLOOKUP(MONTH(G489),'C-A'!$J$13:$K$24,2,FALSE))","v":""},null,null,null,null,null,4.7700000000000509E-4,""]
["",null,{"$f":"IF(B490=\"\",\"\",VLOOKUP(B490,CAD_AREA!$CB$13:$CD$113,2,FALSE))","v":""},{"$f":"IF(B490=\"\",\"\",VLOOKUP(B490,CAD_AREA!$CB$13:$CD$113,3,FALSE))","v":""},null,{"$f":"IF(E490=\"\",\"\",VLOOKUP(E490,PCMSO!$B$13:$E$614,4,FALSE))","v":""},null,null,null,"","",{"$f":"IF(G490=\"\",\"\",VLOOKUP(MONTH(G490),'C-A'!$J$13:$K$24,2,FALSE))","v":""},null,null,null,null,null,4.7800000000000511E-4,""]
["",null,{"$f":"IF(B491=\"\",\"\",VLOOKUP(B491,CAD_AREA!$CB$13:$CD$113,2,FALSE))","v":""},{"$f":"IF(B491=\"\",\"\",VLOOKUP(B491,CAD_AREA!$CB$13:$CD$113,3,FALSE))","v":""},null,{"$f":"IF(E491=\"\",\"\",VLOOKUP(E491,PCMSO!$B$13:$E$614,4,FALSE))","v":""},null,null,null,"","",{"$f":"IF(G491=\"\",\"\",VLOOKUP(MONTH(G491),'C-A'!$J$13:$K$24,2,FALSE))","v":""},null,null,null,null,null,4.7900000000000514E-4,""]
["",null,{"$f":"IF(B492=\"\",\"\",VLOOKUP(B492,CAD_AREA!$CB$13:$CD$113,2,FALSE))","v":""},{"$f":"IF(B492=\"\",\"\",VLOOKUP(B492,CAD_AREA!$CB$13:$CD$113,3,FALSE))","v":""},null,{"$f":"IF(E492=\"\",\"\",VLOOKUP(E492,PCMSO!$B$13:$E$614,4,FALSE))","v":""},null,null,null,"","",{"$f":"IF(G492=\"\",\"\",VLOOKUP(MONTH(G492),'C-A'!$J$13:$K$24,2,FALSE))","v":""},null,null,null,null,null,4.8000000000000516E-4,""]
["",null,{"$f":"IF(B493=\"\",\"\",VLOOKUP(B493,CAD_AREA!$CB$13:$CD$113,2,FALSE))","v":""},{"$f":"IF(B493=\"\",\"\",VLOOKUP(B493,CAD_AREA!$CB$13:$CD$113,3,FALSE))","v":""},null,{"$f":"IF(E493=\"\",\"\",VLOOKUP(E493,PCMSO!$B$13:$E$614,4,FALSE))","v":""},null,null,null,"","",{"$f":"IF(G493=\"\",\"\",VLOOKUP(MONTH(G493),'C-A'!$J$13:$K$24,2,FALSE))","v":""},null,null,null,null,null,4.8100000000000519E-4,""]
["",null,{"$f":"IF(B494=\"\",\"\",VLOOKUP(B494,CAD_AREA!$CB$13:$CD$113,2,FALSE))","v":""},{"$f":"IF(B494=\"\",\"\",VLOOKUP(B494,CAD_AREA!$CB$13:$CD$113,3,FALSE))","v":""},null,{"$f":"IF(E494=\"\",\"\",VLOOKUP(E494,PCMSO!$B$13:$E$614,4,FALSE))","v":""},null,null,null,"","",{"$f":"IF(G494=\"\",\"\",VLOOKUP(MONTH(G494),'C-A'!$J$13:$K$24,2,FALSE))","v":""},null,null,null,null,null,4.8200000000000521E-4,""]
["",null,{"$f":"IF(B495=\"\",\"\",VLOOKUP(B495,CAD_AREA!$CB$13:$CD$113,2,FALSE))","v":""},{"$f":"IF(B495=\"\",\"\",VLOOKUP(B495,CAD_AREA!$CB$13:$CD$113,3,FALSE))","v":""},null,{"$f":"IF(E495=\"\",\"\",VLOOKUP(E495,PCMSO!$B$13:$E$614,4,FALSE))","v":""},null,null,null,"","",{"$f":"IF(G495=\"\",\"\",VLOOKUP(MONTH(G495),'C-A'!$J$13:$K$24,2,FALSE))","v":""},null,null,null,null,null,4.8300000000000524E-4,""]
["",null,{"$f":"IF(B496=\"\",\"\",VLOOKUP(B496,CAD_AREA!$CB$13:$CD$113,2,FALSE))","v":""},{"$f":"IF(B496=\"\",\"\",VLOOKUP(B496,CAD_AREA!$CB$13:$CD$113,3,FALSE))","v":""},null,{"$f":"IF(E496=\"\",\"\",VLOOKUP(E496,PCMSO!$B$13:$E$614,4,FALSE))","v":""},null,null,null,"","",{"$f":"IF(G496=\"\",\"\",VLOOKUP(MONTH(G496),'C-A'!$J$13:$K$24,2,FALSE))","v":""},null,null,null,null,null,4.8400000000000526E-4,""]
["",null,{"$f":"IF(B497=\"\",\"\",VLOOKUP(B497,CAD_AREA!$CB$13:$CD$113,2,FALSE))","v":""},{"$f":"IF(B497=\"\",\"\",VLOOKUP(B497,CAD_AREA!$CB$13:$CD$113,3,FALSE))","v":""},null,{"$f":"IF(E497=\"\",\"\",VLOOKUP(E497,PCMSO!$B$13:$E$614,4,FALSE))","v":""},null,null,null,"","",{"$f":"IF(G497=\"\",\"\",VLOOKUP(MONTH(G497),'C-A'!$J$13:$K$24,2,FALSE))","v":""},null,null,null,null,null,4.8500000000000528E-4,""]
["",null,{"$f":"IF(B498=\"\",\"\",VLOOKUP(B498,CAD_AREA!$CB$13:$CD$113,2,FALSE))","v":""},{"$f":"IF(B498=\"\",\"\",VLOOKUP(B498,CAD_AREA!$CB$13:$CD$113,3,FALSE))","v":""},null,{"$f":"IF(E498=\"\",\"\",VLOOKUP(E498,PCMSO!$B$13:$E$614,4,FALSE))","v":""},null,null,null,"","",{"$f":"IF(G498=\"\",\"\",VLOOKUP(MONTH(G498),'C-A'!$J$13:$K$24,2,FALSE))","v":""},null,null,null,null,null,4.8600000000000531E-4,""]
["",null,{"$f":"IF(B499=\"\",\"\",VLOOKUP(B499,CAD_AREA!$CB$13:$CD$113,2,FALSE))","v":""},{"$f":"IF(B499=\"\",\"\",VLOOKUP(B499,CAD_AREA!$CB$13:$CD$113,3,FALSE))","v":""},null,{"$f":"IF(E499=\"\",\"\",VLOOKUP(E499,PCMSO!$B$13:$E$614,4,FALSE))","v":""},null,null,null,"","",{"$f":"IF(G499=\"\",\"\",VLOOKUP(MONTH(G499),'C-A'!$J$13:$K$24,2,FALSE))","v":""},null,null,null,null,null,4.8700000000000533E-4,""]
["",null,{"$f":"IF(B500=\"\",\"\",VLOOKUP(B500,CAD_AREA!$CB$13:$CD$113,2,FALSE))","v":""},{"$f":"IF(B500=\"\",\"\",VLOOKUP(B500,CAD_AREA!$CB$13:$CD$113,3,FALSE))","v":""},null,{"$f":"IF(E500=\"\",\"\",VLOOKUP(E500,PCMSO!$B$13:$E$614,4,FALSE))","v":""},null,null,null,"","",{"$f":"IF(G500=\"\",\"\",VLOOKUP(MONTH(G500),'C-A'!$J$13:$K$24,2,FALSE))","v":""},null,null,null,null,null,4.8800000000000536E-4,""]
["",null,{"$f":"IF(B501=\"\",\"\",VLOOKUP(B501,CAD_AREA!$CB$13:$CD$113,2,FALSE))","v":""},{"$f":"IF(B501=\"\",\"\",VLOOKUP(B501,CAD_AREA!$CB$13:$CD$113,3,FALSE))","v":""},null,{"$f":"IF(E501=\"\",\"\",VLOOKUP(E501,PCMSO!$B$13:$E$614,4,FALSE))","v":""},null,null,null,"","",{"$f":"IF(G501=\"\",\"\",VLOOKUP(MONTH(G501),'C-A'!$J$13:$K$24,2,FALSE))","v":""},null,null,null,null,null,4.8900000000000538E-4,""]
["",null,{"$f":"IF(B502=\"\",\"\",VLOOKUP(B502,CAD_AREA!$CB$13:$CD$113,2,FALSE))","v":""},{"$f":"IF(B502=\"\",\"\",VLOOKUP(B502,CAD_AREA!$CB$13:$CD$113,3,FALSE))","v":""},null,{"$f":"IF(E502=\"\",\"\",VLOOKUP(E502,PCMSO!$B$13:$E$614,4,FALSE))","v":""},null,null,null,"","",{"$f":"IF(G502=\"\",\"\",VLOOKUP(MONTH(G502),'C-A'!$J$13:$K$24,2,FALSE))","v":""},null,null,null,null,null,4.9000000000000541E-4,""]
["",null,{"$f":"IF(B503=\"\",\"\",VLOOKUP(B503,CAD_AREA!$CB$13:$CD$113,2,FALSE))","v":""},{"$f":"IF(B503=\"\",\"\",VLOOKUP(B503,CAD_AREA!$CB$13:$CD$113,3,FALSE))","v":""},null,{"$f":"IF(E503=\"\",\"\",VLOOKUP(E503,PCMSO!$B$13:$E$614,4,FALSE))","v":""},null,null,null,"","",{"$f":"IF(G503=\"\",\"\",VLOOKUP(MONTH(G503),'C-A'!$J$13:$K$24,2,FALSE))","v":""},null,null,null,null,null,4.9100000000000543E-4,""]
["",null,{"$f":"IF(B504=\"\",\"\",VLOOKUP(B504,CAD_AREA!$CB$13:$CD$113,2,FALSE))","v":""},{"$f":"IF(B504=\"\",\"\",VLOOKUP(B504,CAD_AREA!$CB$13:$CD$113,3,FALSE))","v":""},null,{"$f":"IF(E504=\"\",\"\",VLOOKUP(E504,PCMSO!$B$13:$E$614,4,FALSE))","v":""},null,null,null,"","",{"$f":"IF(G504=\"\",\"\",VLOOKUP(MONTH(G504),'C-A'!$J$13:$K$24,2,FALSE))","v":""},null,null,null,null,null,4.9200000000000545E-4,""]
["",null,{"$f":"IF(B505=\"\",\"\",VLOOKUP(B505,CAD_AREA!$CB$13:$CD$113,2,FALSE))","v":""},{"$f":"IF(B505=\"\",\"\",VLOOKUP(B505,CAD_AREA!$CB$13:$CD$113,3,FALSE))","v":""},null,{"$f":"IF(E505=\"\",\"\",VLOOKUP(E505,PCMSO!$B$13:$E$614,4,FALSE))","v":""},null,null,null,"","",{"$f":"IF(G505=\"\",\"\",VLOOKUP(MONTH(G505),'C-A'!$J$13:$K$24,2,FALSE))","v":""},null,null,null,null,null,4.9300000000000548E-4,""]
["",null,{"$f":"IF(B506=\"\",\"\",VLOOKUP(B506,CAD_AREA!$CB$13:$CD$113,2,FALSE))","v":""},{"$f":"IF(B506=\"\",\"\",VLOOKUP(B506,CAD_AREA!$CB$13:$CD$113,3,FALSE))","v":""},null,{"$f":"IF(E506=\"\",\"\",VLOOKUP(E506,PCMSO!$B$13:$E$614,4,FALSE))","v":""},null,null,null,"","",{"$f":"IF(G506=\"\",\"\",VLOOKUP(MONTH(G506),'C-A'!$J$13:$K$24,2,FALSE))","v":""},null,null,null,null,null,4.940000000000055E-4,""]
["",null,{"$f":"IF(B507=\"\",\"\",VLOOKUP(B507,CAD_AREA!$CB$13:$CD$113,2,FALSE))","v":""},{"$f":"IF(B507=\"\",\"\",VLOOKUP(B507,CAD_AREA!$CB$13:$CD$113,3,FALSE))","v":""},null,{"$f":"IF(E507=\"\",\"\",VLOOKUP(E507,PCMSO!$B$13:$E$614,4,FALSE))","v":""},null,null,null,"","",{"$f":"IF(G507=\"\",\"\",VLOOKUP(MONTH(G507),'C-A'!$J$13:$K$24,2,FALSE))","v":""},null,null,null,null,null,4.9500000000000553E-4,""]
["",null,{"$f":"IF(B508=\"\",\"\",VLOOKUP(B508,CAD_AREA!$CB$13:$CD$113,2,FALSE))","v":""},{"$f":"IF(B508=\"\",\"\",VLOOKUP(B508,CAD_AREA!$CB$13:$CD$113,3,FALSE))","v":""},null,{"$f":"IF(E508=\"\",\"\",VLOOKUP(E508,PCMSO!$B$13:$E$614,4,FALSE))","v":""},null,null,null,"","",{"$f":"IF(G508=\"\",\"\",VLOOKUP(MONTH(G508),'C-A'!$J$13:$K$24,2,FALSE))","v":""},null,null,null,null,null,4.9600000000000555E-4,""]
["",null,{"$f":"IF(B509=\"\",\"\",VLOOKUP(B509,CAD_AREA!$CB$13:$CD$113,2,FALSE))","v":""},{"$f":"IF(B509=\"\",\"\",VLOOKUP(B509,CAD_AREA!$CB$13:$CD$113,3,FALSE))","v":""},null,{"$f":"IF(E509=\"\",\"\",VLOOKUP(E509,PCMSO!$B$13:$E$614,4,FALSE))","v":""},null,null,null,"","",{"$f":"IF(G509=\"\",\"\",VLOOKUP(MONTH(G509),'C-A'!$J$13:$K$24,2,FALSE))","v":""},null,null,null,null,null,4.9700000000000558E-4,""]
["",null,{"$f":"IF(B510=\"\",\"\",VLOOKUP(B510,CAD_AREA!$CB$13:$CD$113,2,FALSE))","v":""},{"$f":"IF(B510=\"\",\"\",VLOOKUP(B510,CAD_AREA!$CB$13:$CD$113,3,FALSE))","v":""},null,{"$f":"IF(E510=\"\",\"\",VLOOKUP(E510,PCMSO!$B$13:$E$614,4,FALSE))","v":""},null,null,null,"","",{"$f":"IF(G510=\"\",\"\",VLOOKUP(MONTH(G510),'C-A'!$J$13:$K$24,2,FALSE))","v":""},null,null,null,null,null,4.980000000000056E-4,""]
["",null,{"$f":"IF(B511=\"\",\"\",VLOOKUP(B511,CAD_AREA!$CB$13:$CD$113,2,FALSE))","v":""},{"$f":"IF(B511=\"\",\"\",VLOOKUP(B511,CAD_AREA!$CB$13:$CD$113,3,FALSE))","v":""},null,{"$f":"IF(E511=\"\",\"\",VLOOKUP(E511,PCMSO!$B$13:$E$614,4,FALSE))","v":""},null,null,null,"","",{"$f":"IF(G511=\"\",\"\",VLOOKUP(MONTH(G511),'C-A'!$J$13:$K$24,2,FALSE))","v":""},null,null,null,null,null,4.9900000000000562E-4,""]
["",null,{"$f":"IF(B512=\"\",\"\",VLOOKUP(B512,CAD_AREA!$CB$13:$CD$113,2,FALSE))","v":""},{"$f":"IF(B512=\"\",\"\",VLOOKUP(B512,CAD_AREA!$CB$13:$CD$113,3,FALSE))","v":""},null,{"$f":"IF(E512=\"\",\"\",VLOOKUP(E512,PCMSO!$B$13:$E$614,4,FALSE))","v":""},null,null,null,"","",{"$f":"IF(G512=\"\",\"\",VLOOKUP(MONTH(G512),'C-A'!$J$13:$K$24,2,FALSE))","v":""},null,null,null,null,null,5.0000000000000565E-4,""]
["",null,{"$f":"IF(B513=\"\",\"\",VLOOKUP(B513,CAD_AREA!$CB$13:$CD$113,2,FALSE))","v":""},{"$f":"IF(B513=\"\",\"\",VLOOKUP(B513,CAD_AREA!$CB$13:$CD$113,3,FALSE))","v":""},null,{"$f":"IF(E513=\"\",\"\",VLOOKUP(E513,PCMSO!$B$13:$E$614,4,FALSE))","v":""},null,null,null,"","",{"$f":"IF(G513=\"\",\"\",VLOOKUP(MONTH(G513),'C-A'!$J$13:$K$24,2,FALSE))","v":""},null,null,null,null,null,5.0100000000000567E-4,""]
["",null,{"$f":"IF(B514=\"\",\"\",VLOOKUP(B514,CAD_AREA!$CB$13:$CD$113,2,FALSE))","v":""},{"$f":"IF(B514=\"\",\"\",VLOOKUP(B514,CAD_AREA!$CB$13:$CD$113,3,FALSE))","v":""},null,{"$f":"IF(E514=\"\",\"\",VLOOKUP(E514,PCMSO!$B$13:$E$614,4,FALSE))","v":""},null,null,null,"","",{"$f":"IF(G514=\"\",\"\",VLOOKUP(MONTH(G514),'C-A'!$J$13:$K$24,2,FALSE))","v":""},null,null,null,null,null,5.020000000000057E-4,""]
["",null,{"$f":"IF(B515=\"\",\"\",VLOOKUP(B515,CAD_AREA!$CB$13:$CD$113,2,FALSE))","v":""},{"$f":"IF(B515=\"\",\"\",VLOOKUP(B515,CAD_AREA!$CB$13:$CD$113,3,FALSE))","v":""},null,{"$f":"IF(E515=\"\",\"\",VLOOKUP(E515,PCMSO!$B$13:$E$614,4,FALSE))","v":""},null,null,null,"","",{"$f":"IF(G515=\"\",\"\",VLOOKUP(MONTH(G515),'C-A'!$J$13:$K$24,2,FALSE))","v":""},null,null,null,null,null,5.0300000000000572E-4,""]
["",null,{"$f":"IF(B516=\"\",\"\",VLOOKUP(B516,CAD_AREA!$CB$13:$CD$113,2,FALSE))","v":""},{"$f":"IF(B516=\"\",\"\",VLOOKUP(B516,CAD_AREA!$CB$13:$CD$113,3,FALSE))","v":""},null,{"$f":"IF(E516=\"\",\"\",VLOOKUP(E516,PCMSO!$B$13:$E$614,4,FALSE))","v":""},null,null,null,"","",{"$f":"IF(G516=\"\",\"\",VLOOKUP(MONTH(G516),'C-A'!$J$13:$K$24,2,FALSE))","v":""},null,null,null,null,null,5.0400000000000575E-4,""]
["",null,{"$f":"IF(B517=\"\",\"\",VLOOKUP(B517,CAD_AREA!$CB$13:$CD$113,2,FALSE))","v":""},{"$f":"IF(B517=\"\",\"\",VLOOKUP(B517,CAD_AREA!$CB$13:$CD$113,3,FALSE))","v":""},null,{"$f":"IF(E517=\"\",\"\",VLOOKUP(E517,PCMSO!$B$13:$E$614,4,FALSE))","v":""},null,null,null,"","",{"$f":"IF(G517=\"\",\"\",VLOOKUP(MONTH(G517),'C-A'!$J$13:$K$24,2,FALSE))","v":""},null,null,null,null,null,5.0500000000000577E-4,""]
["",null,{"$f":"IF(B518=\"\",\"\",VLOOKUP(B518,CAD_AREA!$CB$13:$CD$113,2,FALSE))","v":""},{"$f":"IF(B518=\"\",\"\",VLOOKUP(B518,CAD_AREA!$CB$13:$CD$113,3,FALSE))","v":""},null,{"$f":"IF(E518=\"\",\"\",VLOOKUP(E518,PCMSO!$B$13:$E$614,4,FALSE))","v":""},null,null,null,"","",{"$f":"IF(G518=\"\",\"\",VLOOKUP(MONTH(G518),'C-A'!$J$13:$K$24,2,FALSE))","v":""},null,null,null,null,null,5.0600000000000579E-4,""]
["",null,{"$f":"IF(B519=\"\",\"\",VLOOKUP(B519,CAD_AREA!$CB$13:$CD$113,2,FALSE))","v":""},{"$f":"IF(B519=\"\",\"\",VLOOKUP(B519,CAD_AREA!$CB$13:$CD$113,3,FALSE))","v":""},null,{"$f":"IF(E519=\"\",\"\",VLOOKUP(E519,PCMSO!$B$13:$E$614,4,FALSE))","v":""},null,null,null,"","",{"$f":"IF(G519=\"\",\"\",VLOOKUP(MONTH(G519),'C-A'!$J$13:$K$24,2,FALSE))","v":""},null,null,null,null,null,5.0700000000000582E-4,""]
["",null,{"$f":"IF(B520=\"\",\"\",VLOOKUP(B520,CAD_AREA!$CB$13:$CD$113,2,FALSE))","v":""},{"$f":"IF(B520=\"\",\"\",VLOOKUP(B520,CAD_AREA!$CB$13:$CD$113,3,FALSE))","v":""},null,{"$f":"IF(E520=\"\",\"\",VLOOKUP(E520,PCMSO!$B$13:$E$614,4,FALSE))","v":""},null,null,null,"","",{"$f":"IF(G520=\"\",\"\",VLOOKUP(MONTH(G520),'C-A'!$J$13:$K$24,2,FALSE))","v":""},null,null,null,null,null,5.0800000000000584E-4,""]
["",null,{"$f":"IF(B521=\"\",\"\",VLOOKUP(B521,CAD_AREA!$CB$13:$CD$113,2,FALSE))","v":""},{"$f":"IF(B521=\"\",\"\",VLOOKUP(B521,CAD_AREA!$CB$13:$CD$113,3,FALSE))","v":""},null,{"$f":"IF(E521=\"\",\"\",VLOOKUP(E521,PCMSO!$B$13:$E$614,4,FALSE))","v":""},null,null,null,"","",{"$f":"IF(G521=\"\",\"\",VLOOKUP(MONTH(G521),'C-A'!$J$13:$K$24,2,FALSE))","v":""},null,null,null,null,null,5.0900000000000587E-4,""]
["",null,{"$f":"IF(B522=\"\",\"\",VLOOKUP(B522,CAD_AREA!$CB$13:$CD$113,2,FALSE))","v":""},{"$f":"IF(B522=\"\",\"\",VLOOKUP(B522,CAD_AREA!$CB$13:$CD$113,3,FALSE))","v":""},null,{"$f":"IF(E522=\"\",\"\",VLOOKUP(E522,PCMSO!$B$13:$E$614,4,FALSE))","v":""},null,null,null,"","",{"$f":"IF(G522=\"\",\"\",VLOOKUP(MONTH(G522),'C-A'!$J$13:$K$24,2,FALSE))","v":""},null,null,null,null,null,5.1000000000000589E-4,""]
["",null,{"$f":"IF(B523=\"\",\"\",VLOOKUP(B523,CAD_AREA!$CB$13:$CD$113,2,FALSE))","v":""},{"$f":"IF(B523=\"\",\"\",VLOOKUP(B523,CAD_AREA!$CB$13:$CD$113,3,FALSE))","v":""},null,{"$f":"IF(E523=\"\",\"\",VLOOKUP(E523,PCMSO!$B$13:$E$614,4,FALSE))","v":""},null,null,null,"","",{"$f":"IF(G523=\"\",\"\",VLOOKUP(MONTH(G523),'C-A'!$J$13:$K$24,2,FALSE))","v":""},null,null,null,null,null,5.1100000000000592E-4,""]
["",null,{"$f":"IF(B524=\"\",\"\",VLOOKUP(B524,CAD_AREA!$CB$13:$CD$113,2,FALSE))","v":""},{"$f":"IF(B524=\"\",\"\",VLOOKUP(B524,CAD_AREA!$CB$13:$CD$113,3,FALSE))","v":""},null,{"$f":"IF(E524=\"\",\"\",VLOOKUP(E524,PCMSO!$B$13:$E$614,4,FALSE))","v":""},null,null,null,"","",{"$f":"IF(G524=\"\",\"\",VLOOKUP(MONTH(G524),'C-A'!$J$13:$K$24,2,FALSE))","v":""},null,null,null,null,null,5.1200000000000594E-4,""]
["",null,{"$f":"IF(B525=\"\",\"\",VLOOKUP(B525,CAD_AREA!$CB$13:$CD$113,2,FALSE))","v":""},{"$f":"IF(B525=\"\",\"\",VLOOKUP(B525,CAD_AREA!$CB$13:$CD$113,3,FALSE))","v":""},null,{"$f":"IF(E525=\"\",\"\",VLOOKUP(E525,PCMSO!$B$13:$E$614,4,FALSE))","v":""},null,null,null,{"$f":"IF(F525=\"\",\"\",VLOOKUP(F525,$N$13:$O$19,2,FALSE)+G525)","v":""},"",{"$f":"IF(G525=\"\",\"\",VLOOKUP(MONTH(G525),'C-A'!$J$13:$K$24,2,FALSE))","v":""},null,null,null,null,null,5.1300000000000596E-4,{"$f":"IF(K525=\"Vencido\",\"\",J525)","v":""}]
["",null,{"$f":"IF(B526=\"\",\"\",VLOOKUP(B526,CAD_AREA!$CB$13:$CD$113,2,FALSE))","v":""},{"$f":"IF(B526=\"\",\"\",VLOOKUP(B526,CAD_AREA!$CB$13:$CD$113,3,FALSE))","v":""},null,{"$f":"IF(E526=\"\",\"\",VLOOKUP(E526,PCMSO!$B$13:$E$614,4,FALSE))","v":""},null,null,null,"",{"$f":"IF(J526=\"\",\"\",IF(J526-TODAY()<0,\"Vencido\",IF(J526-TODAY()=0,\"Realizar hoje\",\"Realizar em \"&J526-TODAY()&\" dias\")))","v":""},{"$f":"IF(G526=\"\",\"\",VLOOKUP(MONTH(G526),'C-A'!$J$13:$K$24,2,FALSE))","v":""},null,null,null,null,null,5.1400000000000599E-4,""]
["",null,{"$f":"IF(B527=\"\",\"\",VLOOKUP(B527,CAD_AREA!$CB$13:$CD$113,2,FALSE))","v":""},{"$f":"IF(B527=\"\",\"\",VLOOKUP(B527,CAD_AREA!$CB$13:$CD$113,3,FALSE))","v":""},null,{"$f":"IF(E527=\"\",\"\",VLOOKUP(E527,PCMSO!$B$13:$E$614,4,FALSE))","v":""},null,null,null,"","",{"$f":"IF(G527=\"\",\"\",VLOOKUP(MONTH(G527),'C-A'!$J$13:$K$24,2,FALSE))","v":""},null,null,null,null,null,{"$f":"R526+$R$13","v":5.1500000000000601E-4},""]
["",null,{"$f":"IF(B528=\"\",\"\",VLOOKUP(B528,CAD_AREA!$CB$13:$CD$113,2,FALSE))","v":""},{"$f":"IF(B528=\"\",\"\",VLOOKUP(B528,CAD_AREA!$CB$13:$CD$113,3,FALSE))","v":""},null,{"$f":"IF(E528=\"\",\"\",VLOOKUP(E528,PCMSO!$B$13:$E$614,4,FALSE))","v":""},null,null,null,"","",{"$f":"IF(G528=\"\",\"\",VLOOKUP(MONTH(G528),'C-A'!$J$13:$K$24,2,FALSE))","v":""},null,null,null,null,null,5.1600000000000604E-4,""]
["",null,{"$f":"IF(B529=\"\",\"\",VLOOKUP(B529,CAD_AREA!$CB$13:$CD$113,2,FALSE))","v":""},{"$f":"IF(B529=\"\",\"\",VLOOKUP(B529,CAD_AREA!$CB$13:$CD$113,3,FALSE))","v":""},null,{"$f":"IF(E529=\"\",\"\",VLOOKUP(E529,PCMSO!$B$13:$E$614,4,FALSE))","v":""},null,null,null,"","",{"$f":"IF(G529=\"\",\"\",VLOOKUP(MONTH(G529),'C-A'!$J$13:$K$24,2,FALSE))","v":""},null,null,null,null,null,5.1700000000000606E-4,""]
["",null,{"$f":"IF(B530=\"\",\"\",VLOOKUP(B530,CAD_AREA!$CB$13:$CD$113,2,FALSE))","v":""},{"$f":"IF(B530=\"\",\"\",VLOOKUP(B530,CAD_AREA!$CB$13:$CD$113,3,FALSE))","v":""},null,{"$f":"IF(E530=\"\",\"\",VLOOKUP(E530,PCMSO!$B$13:$E$614,4,FALSE))","v":""},null,null,null,"","",{"$f":"IF(G530=\"\",\"\",VLOOKUP(MONTH(G530),'C-A'!$J$13:$K$24,2,FALSE))","v":""},null,null,null,null,null,5.1800000000000609E-4,""]
["",null,{"$f":"IF(B531=\"\",\"\",VLOOKUP(B531,CAD_AREA!$CB$13:$CD$113,2,FALSE))","v":""},{"$f":"IF(B531=\"\",\"\",VLOOKUP(B531,CAD_AREA!$CB$13:$CD$113,3,FALSE))","v":""},null,{"$f":"IF(E531=\"\",\"\",VLOOKUP(E531,PCMSO!$B$13:$E$614,4,FALSE))","v":""},null,null,null,"","",{"$f":"IF(G531=\"\",\"\",VLOOKUP(MONTH(G531),'C-A'!$J$13:$K$24,2,FALSE))","v":""},null,null,null,null,null,5.1900000000000611E-4,""]
["",null,{"$f":"IF(B532=\"\",\"\",VLOOKUP(B532,CAD_AREA!$CB$13:$CD$113,2,FALSE))","v":""},{"$f":"IF(B532=\"\",\"\",VLOOKUP(B532,CAD_AREA!$CB$13:$CD$113,3,FALSE))","v":""},null,{"$f":"IF(E532=\"\",\"\",VLOOKUP(E532,PCMSO!$B$13:$E$614,4,FALSE))","v":""},null,null,null,"","",{"$f":"IF(G532=\"\",\"\",VLOOKUP(MONTH(G532),'C-A'!$J$13:$K$24,2,FALSE))","v":""},null,null,null,null,null,5.2000000000000613E-4,""]
["",null,{"$f":"IF(B533=\"\",\"\",VLOOKUP(B533,CAD_AREA!$CB$13:$CD$113,2,FALSE))","v":""},{"$f":"IF(B533=\"\",\"\",VLOOKUP(B533,CAD_AREA!$CB$13:$CD$113,3,FALSE))","v":""},null,{"$f":"IF(E533=\"\",\"\",VLOOKUP(E533,PCMSO!$B$13:$E$614,4,FALSE))","v":""},null,null,null,"","",{"$f":"IF(G533=\"\",\"\",VLOOKUP(MONTH(G533),'C-A'!$J$13:$K$24,2,FALSE))","v":""},null,null,null,null,null,5.2100000000000616E-4,""]
["",null,{"$f":"IF(B534=\"\",\"\",VLOOKUP(B534,CAD_AREA!$CB$13:$CD$113,2,FALSE))","v":""},{"$f":"IF(B534=\"\",\"\",VLOOKUP(B534,CAD_AREA!$CB$13:$CD$113,3,FALSE))","v":""},null,{"$f":"IF(E534=\"\",\"\",VLOOKUP(E534,PCMSO!$B$13:$E$614,4,FALSE))","v":""},null,null,null,"","",{"$f":"IF(G534=\"\",\"\",VLOOKUP(MONTH(G534),'C-A'!$J$13:$K$24,2,FALSE))","v":""},null,null,null,null,null,5.2200000000000618E-4,""]
["",null,{"$f":"IF(B535=\"\",\"\",VLOOKUP(B535,CAD_AREA!$CB$13:$CD$113,2,FALSE))","v":""},{"$f":"IF(B535=\"\",\"\",VLOOKUP(B535,CAD_AREA!$CB$13:$CD$113,3,FALSE))","v":""},null,{"$f":"IF(E535=\"\",\"\",VLOOKUP(E535,PCMSO!$B$13:$E$614,4,FALSE))","v":""},null,null,null,"","",{"$f":"IF(G535=\"\",\"\",VLOOKUP(MONTH(G535),'C-A'!$J$13:$K$24,2,FALSE))","v":""},null,null,null,null,null,5.2300000000000621E-4,""]
["",null,{"$f":"IF(B536=\"\",\"\",VLOOKUP(B536,CAD_AREA!$CB$13:$CD$113,2,FALSE))","v":""},{"$f":"IF(B536=\"\",\"\",VLOOKUP(B536,CAD_AREA!$CB$13:$CD$113,3,FALSE))","v":""},null,{"$f":"IF(E536=\"\",\"\",VLOOKUP(E536,PCMSO!$B$13:$E$614,4,FALSE))","v":""},null,null,null,"","",{"$f":"IF(G536=\"\",\"\",VLOOKUP(MONTH(G536),'C-A'!$J$13:$K$24,2,FALSE))","v":""},null,null,null,null,null,5.2400000000000623E-4,""]
["",null,{"$f":"IF(B537=\"\",\"\",VLOOKUP(B537,CAD_AREA!$CB$13:$CD$113,2,FALSE))","v":""},{"$f":"IF(B537=\"\",\"\",VLOOKUP(B537,CAD_AREA!$CB$13:$CD$113,3,FALSE))","v":""},null,{"$f":"IF(E537=\"\",\"\",VLOOKUP(E537,PCMSO!$B$13:$E$614,4,FALSE))","v":""},null,null,null,"","",{"$f":"IF(G537=\"\",\"\",VLOOKUP(MONTH(G537),'C-A'!$J$13:$K$24,2,FALSE))","v":""},null,null,null,null,null,5.2500000000000626E-4,""]
["",null,{"$f":"IF(B538=\"\",\"\",VLOOKUP(B538,CAD_AREA!$CB$13:$CD$113,2,FALSE))","v":""},{"$f":"IF(B538=\"\",\"\",VLOOKUP(B538,CAD_AREA!$CB$13:$CD$113,3,FALSE))","v":""},null,{"$f":"IF(E538=\"\",\"\",VLOOKUP(E538,PCMSO!$B$13:$E$614,4,FALSE))","v":""},null,null,null,"","",{"$f":"IF(G538=\"\",\"\",VLOOKUP(MONTH(G538),'C-A'!$J$13:$K$24,2,FALSE))","v":""},null,null,null,null,null,5.2600000000000628E-4,""]
["",null,{"$f":"IF(B539=\"\",\"\",VLOOKUP(B539,CAD_AREA!$CB$13:$CD$113,2,FALSE))","v":""},{"$f":"IF(B539=\"\",\"\",VLOOKUP(B539,CAD_AREA!$CB$13:$CD$113,3,FALSE))","v":""},null,{"$f":"IF(E539=\"\",\"\",VLOOKUP(E539,PCMSO!$B$13:$E$614,4,FALSE))","v":""},null,null,null,"","",{"$f":"IF(G539=\"\",\"\",VLOOKUP(MONTH(G539),'C-A'!$J$13:$K$24,2,FALSE))","v":""},null,null,null,null,null,5.270000000000063E-4,""]
["",null,{"$f":"IF(B540=\"\",\"\",VLOOKUP(B540,CAD_AREA!$CB$13:$CD$113,2,FALSE))","v":""},{"$f":"IF(B540=\"\",\"\",VLOOKUP(B540,CAD_AREA!$CB$13:$CD$113,3,FALSE))","v":""},null,{"$f":"IF(E540=\"\",\"\",VLOOKUP(E540,PCMSO!$B$13:$E$614,4,FALSE))","v":""},null,null,null,"","",{"$f":"IF(G540=\"\",\"\",VLOOKUP(MONTH(G540),'C-A'!$J$13:$K$24,2,FALSE))","v":""},null,null,null,null,null,5.2800000000000633E-4,""]
["",null,{"$f":"IF(B541=\"\",\"\",VLOOKUP(B541,CAD_AREA!$CB$13:$CD$113,2,FALSE))","v":""},{"$f":"IF(B541=\"\",\"\",VLOOKUP(B541,CAD_AREA!$CB$13:$CD$113,3,FALSE))","v":""},null,{"$f":"IF(E541=\"\",\"\",VLOOKUP(E541,PCMSO!$B$13:$E$614,4,FALSE))","v":""},null,null,null,"","",{"$f":"IF(G541=\"\",\"\",VLOOKUP(MONTH(G541),'C-A'!$J$13:$K$24,2,FALSE))","v":""},null,null,null,null,null,5.2900000000000635E-4,""]
["",null,{"$f":"IF(B542=\"\",\"\",VLOOKUP(B542,CAD_AREA!$CB$13:$CD$113,2,FALSE))","v":""},{"$f":"IF(B542=\"\",\"\",VLOOKUP(B542,CAD_AREA!$CB$13:$CD$113,3,FALSE))","v":""},null,{"$f":"IF(E542=\"\",\"\",VLOOKUP(E542,PCMSO!$B$13:$E$614,4,FALSE))","v":""},null,null,null,"","",{"$f":"IF(G542=\"\",\"\",VLOOKUP(MONTH(G542),'C-A'!$J$13:$K$24,2,FALSE))","v":""},null,null,null,null,null,5.3000000000000638E-4,""]
["",null,{"$f":"IF(B543=\"\",\"\",VLOOKUP(B543,CAD_AREA!$CB$13:$CD$113,2,FALSE))","v":""},{"$f":"IF(B543=\"\",\"\",VLOOKUP(B543,CAD_AREA!$CB$13:$CD$113,3,FALSE))","v":""},null,{"$f":"IF(E543=\"\",\"\",VLOOKUP(E543,PCMSO!$B$13:$E$614,4,FALSE))","v":""},null,null,null,"","",{"$f":"IF(G543=\"\",\"\",VLOOKUP(MONTH(G543),'C-A'!$J$13:$K$24,2,FALSE))","v":""},null,null,null,null,null,5.310000000000064E-4,""]
["",null,{"$f":"IF(B544=\"\",\"\",VLOOKUP(B544,CAD_AREA!$CB$13:$CD$113,2,FALSE))","v":""},{"$f":"IF(B544=\"\",\"\",VLOOKUP(B544,CAD_AREA!$CB$13:$CD$113,3,FALSE))","v":""},null,{"$f":"IF(E544=\"\",\"\",VLOOKUP(E544,PCMSO!$B$13:$E$614,4,FALSE))","v":""},null,null,null,"","",{"$f":"IF(G544=\"\",\"\",VLOOKUP(MONTH(G544),'C-A'!$J$13:$K$24,2,FALSE))","v":""},null,null,null,null,null,5.3200000000000643E-4,""]
["",null,{"$f":"IF(B545=\"\",\"\",VLOOKUP(B545,CAD_AREA!$CB$13:$CD$113,2,FALSE))","v":""},{"$f":"IF(B545=\"\",\"\",VLOOKUP(B545,CAD_AREA!$CB$13:$CD$113,3,FALSE))","v":""},null,{"$f":"IF(E545=\"\",\"\",VLOOKUP(E545,PCMSO!$B$13:$E$614,4,FALSE))","v":""},null,null,null,"","",{"$f":"IF(G545=\"\",\"\",VLOOKUP(MONTH(G545),'C-A'!$J$13:$K$24,2,FALSE))","v":""},null,null,null,null,null,5.3300000000000645E-4,""]
["",null,{"$f":"IF(B546=\"\",\"\",VLOOKUP(B546,CAD_AREA!$CB$13:$CD$113,2,FALSE))","v":""},{"$f":"IF(B546=\"\",\"\",VLOOKUP(B546,CAD_AREA!$CB$13:$CD$113,3,FALSE))","v":""},null,{"$f":"IF(E546=\"\",\"\",VLOOKUP(E546,PCMSO!$B$13:$E$614,4,FALSE))","v":""},null,null,null,"","",{"$f":"IF(G546=\"\",\"\",VLOOKUP(MONTH(G546),'C-A'!$J$13:$K$24,2,FALSE))","v":""},null,null,null,null,null,5.3400000000000647E-4,""]
["",null,{"$f":"IF(B547=\"\",\"\",VLOOKUP(B547,CAD_AREA!$CB$13:$CD$113,2,FALSE))","v":""},{"$f":"IF(B547=\"\",\"\",VLOOKUP(B547,CAD_AREA!$CB$13:$CD$113,3,FALSE))","v":""},null,{"$f":"IF(E547=\"\",\"\",VLOOKUP(E547,PCMSO!$B$13:$E$614,4,FALSE))","v":""},null,null,null,"","",{"$f":"IF(G547=\"\",\"\",VLOOKUP(MONTH(G547),'C-A'!$J$13:$K$24,2,FALSE))","v":""},null,null,null,null,null,5.350000000000065E-4,""]
["",null,{"$f":"IF(B548=\"\",\"\",VLOOKUP(B548,CAD_AREA!$CB$13:$CD$113,2,FALSE))","v":""},{"$f":"IF(B548=\"\",\"\",VLOOKUP(B548,CAD_AREA!$CB$13:$CD$113,3,FALSE))","v":""},null,{"$f":"IF(E548=\"\",\"\",VLOOKUP(E548,PCMSO!$B$13:$E$614,4,FALSE))","v":""},null,null,null,"","",{"$f":"IF(G548=\"\",\"\",VLOOKUP(MONTH(G548),'C-A'!$J$13:$K$24,2,FALSE))","v":""},null,null,null,null,null,5.3600000000000652E-4,""]
["",null,{"$f":"IF(B549=\"\",\"\",VLOOKUP(B549,CAD_AREA!$CB$13:$CD$113,2,FALSE))","v":""},{"$f":"IF(B549=\"\",\"\",VLOOKUP(B549,CAD_AREA!$CB$13:$CD$113,3,FALSE))","v":""},null,{"$f":"IF(E549=\"\",\"\",VLOOKUP(E549,PCMSO!$B$13:$E$614,4,FALSE))","v":""},null,null,null,"","",{"$f":"IF(G549=\"\",\"\",VLOOKUP(MONTH(G549),'C-A'!$J$13:$K$24,2,FALSE))","v":""},null,null,null,null,null,5.3700000000000655E-4,""]
["",null,{"$f":"IF(B550=\"\",\"\",VLOOKUP(B550,CAD_AREA!$CB$13:$CD$113,2,FALSE))","v":""},{"$f":"IF(B550=\"\",\"\",VLOOKUP(B550,CAD_AREA!$CB$13:$CD$113,3,FALSE))","v":""},null,{"$f":"IF(E550=\"\",\"\",VLOOKUP(E550,PCMSO!$B$13:$E$614,4,FALSE))","v":""},null,null,null,"","",{"$f":"IF(G550=\"\",\"\",VLOOKUP(MONTH(G550),'C-A'!$J$13:$K$24,2,FALSE))","v":""},null,null,null,null,null,5.3800000000000657E-4,""]
["",null,{"$f":"IF(B551=\"\",\"\",VLOOKUP(B551,CAD_AREA!$CB$13:$CD$113,2,FALSE))","v":""},{"$f":"IF(B551=\"\",\"\",VLOOKUP(B551,CAD_AREA!$CB$13:$CD$113,3,FALSE))","v":""},null,{"$f":"IF(E551=\"\",\"\",VLOOKUP(E551,PCMSO!$B$13:$E$614,4,FALSE))","v":""},null,null,null,"","",{"$f":"IF(G551=\"\",\"\",VLOOKUP(MONTH(G551),'C-A'!$J$13:$K$24,2,FALSE))","v":""},null,null,null,null,null,5.390000000000066E-4,""]
["",null,{"$f":"IF(B552=\"\",\"\",VLOOKUP(B552,CAD_AREA!$CB$13:$CD$113,2,FALSE))","v":""},{"$f":"IF(B552=\"\",\"\",VLOOKUP(B552,CAD_AREA!$CB$13:$CD$113,3,FALSE))","v":""},null,{"$f":"IF(E552=\"\",\"\",VLOOKUP(E552,PCMSO!$B$13:$E$614,4,FALSE))","v":""},null,null,null,"","",{"$f":"IF(G552=\"\",\"\",VLOOKUP(MONTH(G552),'C-A'!$J$13:$K$24,2,FALSE))","v":""},null,null,null,null,null,5.4000000000000662E-4,""]
["",null,{"$f":"IF(B553=\"\",\"\",VLOOKUP(B553,CAD_AREA!$CB$13:$CD$113,2,FALSE))","v":""},{"$f":"IF(B553=\"\",\"\",VLOOKUP(B553,CAD_AREA!$CB$13:$CD$113,3,FALSE))","v":""},null,{"$f":"IF(E553=\"\",\"\",VLOOKUP(E553,PCMSO!$B$13:$E$614,4,FALSE))","v":""},null,null,null,"","",{"$f":"IF(G553=\"\",\"\",VLOOKUP(MONTH(G553),'C-A'!$J$13:$K$24,2,FALSE))","v":""},null,null,null,null,null,5.4100000000000664E-4,""]
["",null,{"$f":"IF(B554=\"\",\"\",VLOOKUP(B554,CAD_AREA!$CB$13:$CD$113,2,FALSE))","v":""},{"$f":"IF(B554=\"\",\"\",VLOOKUP(B554,CAD_AREA!$CB$13:$CD$113,3,FALSE))","v":""},null,{"$f":"IF(E554=\"\",\"\",VLOOKUP(E554,PCMSO!$B$13:$E$614,4,FALSE))","v":""},null,null,null,"","",{"$f":"IF(G554=\"\",\"\",VLOOKUP(MONTH(G554),'C-A'!$J$13:$K$24,2,FALSE))","v":""},null,null,null,null,null,5.4200000000000667E-4,""]
["",null,{"$f":"IF(B555=\"\",\"\",VLOOKUP(B555,CAD_AREA!$CB$13:$CD$113,2,FALSE))","v":""},{"$f":"IF(B555=\"\",\"\",VLOOKUP(B555,CAD_AREA!$CB$13:$CD$113,3,FALSE))","v":""},null,{"$f":"IF(E555=\"\",\"\",VLOOKUP(E555,PCMSO!$B$13:$E$614,4,FALSE))","v":""},null,null,null,"","",{"$f":"IF(G555=\"\",\"\",VLOOKUP(MONTH(G555),'C-A'!$J$13:$K$24,2,FALSE))","v":""},null,null,null,null,null,5.4300000000000669E-4,""]
["",null,{"$f":"IF(B556=\"\",\"\",VLOOKUP(B556,CAD_AREA!$CB$13:$CD$113,2,FALSE))","v":""},{"$f":"IF(B556=\"\",\"\",VLOOKUP(B556,CAD_AREA!$CB$13:$CD$113,3,FALSE))","v":""},null,{"$f":"IF(E556=\"\",\"\",VLOOKUP(E556,PCMSO!$B$13:$E$614,4,FALSE))","v":""},null,null,null,"","",{"$f":"IF(G556=\"\",\"\",VLOOKUP(MONTH(G556),'C-A'!$J$13:$K$24,2,FALSE))","v":""},null,null,null,null,null,5.4400000000000672E-4,""]
["",null,{"$f":"IF(B557=\"\",\"\",VLOOKUP(B557,CAD_AREA!$CB$13:$CD$113,2,FALSE))","v":""},{"$f":"IF(B557=\"\",\"\",VLOOKUP(B557,CAD_AREA!$CB$13:$CD$113,3,FALSE))","v":""},null,{"$f":"IF(E557=\"\",\"\",VLOOKUP(E557,PCMSO!$B$13:$E$614,4,FALSE))","v":""},null,null,null,"","",{"$f":"IF(G557=\"\",\"\",VLOOKUP(MONTH(G557),'C-A'!$J$13:$K$24,2,FALSE))","v":""},null,null,null,null,null,5.4500000000000674E-4,""]
["",null,{"$f":"IF(B558=\"\",\"\",VLOOKUP(B558,CAD_AREA!$CB$13:$CD$113,2,FALSE))","v":""},{"$f":"IF(B558=\"\",\"\",VLOOKUP(B558,CAD_AREA!$CB$13:$CD$113,3,FALSE))","v":""},null,{"$f":"IF(E558=\"\",\"\",VLOOKUP(E558,PCMSO!$B$13:$E$614,4,FALSE))","v":""},null,null,null,"","",{"$f":"IF(G558=\"\",\"\",VLOOKUP(MONTH(G558),'C-A'!$J$13:$K$24,2,FALSE))","v":""},null,null,null,null,null,5.4600000000000677E-4,""]
["",null,{"$f":"IF(B559=\"\",\"\",VLOOKUP(B559,CAD_AREA!$CB$13:$CD$113,2,FALSE))","v":""},{"$f":"IF(B559=\"\",\"\",VLOOKUP(B559,CAD_AREA!$CB$13:$CD$113,3,FALSE))","v":""},null,{"$f":"IF(E559=\"\",\"\",VLOOKUP(E559,PCMSO!$B$13:$E$614,4,FALSE))","v":""},null,null,null,"","",{"$f":"IF(G559=\"\",\"\",VLOOKUP(MONTH(G559),'C-A'!$J$13:$K$24,2,FALSE))","v":""},null,null,null,null,null,5.4700000000000679E-4,""]
["",null,{"$f":"IF(B560=\"\",\"\",VLOOKUP(B560,CAD_AREA!$CB$13:$CD$113,2,FALSE))","v":""},{"$f":"IF(B560=\"\",\"\",VLOOKUP(B560,CAD_AREA!$CB$13:$CD$113,3,FALSE))","v":""},null,{"$f":"IF(E560=\"\",\"\",VLOOKUP(E560,PCMSO!$B$13:$E$614,4,FALSE))","v":""},null,null,null,"","",{"$f":"IF(G560=\"\",\"\",VLOOKUP(MONTH(G560),'C-A'!$J$13:$K$24,2,FALSE))","v":""},null,null,null,null,null,5.4800000000000681E-4,""]
["",null,{"$f":"IF(B561=\"\",\"\",VLOOKUP(B561,CAD_AREA!$CB$13:$CD$113,2,FALSE))","v":""},{"$f":"IF(B561=\"\",\"\",VLOOKUP(B561,CAD_AREA!$CB$13:$CD$113,3,FALSE))","v":""},null,{"$f":"IF(E561=\"\",\"\",VLOOKUP(E561,PCMSO!$B$13:$E$614,4,FALSE))","v":""},null,null,null,"","",{"$f":"IF(G561=\"\",\"\",VLOOKUP(MONTH(G561),'C-A'!$J$13:$K$24,2,FALSE))","v":""},null,null,null,null,null,5.4900000000000684E-4,""]
["",null,{"$f":"IF(B562=\"\",\"\",VLOOKUP(B562,CAD_AREA!$CB$13:$CD$113,2,FALSE))","v":""},{"$f":"IF(B562=\"\",\"\",VLOOKUP(B562,CAD_AREA!$CB$13:$CD$113,3,FALSE))","v":""},null,{"$f":"IF(E562=\"\",\"\",VLOOKUP(E562,PCMSO!$B$13:$E$614,4,FALSE))","v":""},null,null,null,"","",{"$f":"IF(G562=\"\",\"\",VLOOKUP(MONTH(G562),'C-A'!$J$13:$K$24,2,FALSE))","v":""},null,null,null,null,null,5.5000000000000686E-4,""]
["",null,{"$f":"IF(B563=\"\",\"\",VLOOKUP(B563,CAD_AREA!$CB$13:$CD$113,2,FALSE))","v":""},{"$f":"IF(B563=\"\",\"\",VLOOKUP(B563,CAD_AREA!$CB$13:$CD$113,3,FALSE))","v":""},null,{"$f":"IF(E563=\"\",\"\",VLOOKUP(E563,PCMSO!$B$13:$E$614,4,FALSE))","v":""},null,null,null,"","",{"$f":"IF(G563=\"\",\"\",VLOOKUP(MONTH(G563),'C-A'!$J$13:$K$24,2,FALSE))","v":""},null,null,null,null,null,5.5100000000000689E-4,""]
["",null,{"$f":"IF(B564=\"\",\"\",VLOOKUP(B564,CAD_AREA!$CB$13:$CD$113,2,FALSE))","v":""},{"$f":"IF(B564=\"\",\"\",VLOOKUP(B564,CAD_AREA!$CB$13:$CD$113,3,FALSE))","v":""},null,{"$f":"IF(E564=\"\",\"\",VLOOKUP(E564,PCMSO!$B$13:$E$614,4,FALSE))","v":""},null,null,null,"","",{"$f":"IF(G564=\"\",\"\",VLOOKUP(MONTH(G564),'C-A'!$J$13:$K$24,2,FALSE))","v":""},null,null,null,null,null,5.5200000000000691E-4,""]
["",null,{"$f":"IF(B565=\"\",\"\",VLOOKUP(B565,CAD_AREA!$CB$13:$CD$113,2,FALSE))","v":""},{"$f":"IF(B565=\"\",\"\",VLOOKUP(B565,CAD_AREA!$CB$13:$CD$113,3,FALSE))","v":""},null,{"$f":"IF(E565=\"\",\"\",VLOOKUP(E565,PCMSO!$B$13:$E$614,4,FALSE))","v":""},null,null,null,"","",{"$f":"IF(G565=\"\",\"\",VLOOKUP(MONTH(G565),'C-A'!$J$13:$K$24,2,FALSE))","v":""},null,null,null,null,null,5.5300000000000694E-4,""]
[{"$f":"IF(S566=\"\",\"\",SUM(R566:S566))","v":""},null,{"$f":"IF(B566=\"\",\"\",VLOOKUP(B566,CAD_AREA!$CB$13:$CD$113,2,FALSE))","v":""},{"$f":"IF(B566=\"\",\"\",VLOOKUP(B566,CAD_AREA!$CB$13:$CD$113,3,FALSE))","v":""},null,{"$f":"IF(E566=\"\",\"\",VLOOKUP(E566,PCMSO!$B$13:$E$614,4,FALSE))","v":""},null,null,null,"","",{"$f":"IF(G566=\"\",\"\",VLOOKUP(MONTH(G566),'C-A'!$J$13:$K$24,2,FALSE))","v":""},null,null,null,null,null,5.5400000000000696E-4,""]
["",null,{"$f":"IF(B567=\"\",\"\",VLOOKUP(B567,CAD_AREA!$CB$13:$CD$113,2,FALSE))","v":""},{"$f":"IF(B567=\"\",\"\",VLOOKUP(B567,CAD_AREA!$CB$13:$CD$113,3,FALSE))","v":""},null,{"$f":"IF(E567=\"\",\"\",VLOOKUP(E567,PCMSO!$B$13:$E$614,4,FALSE))","v":""},null,null,null,"","",{"$f":"IF(G567=\"\",\"\",VLOOKUP(MONTH(G567),'C-A'!$J$13:$K$24,2,FALSE))","v":""},null,null,null,null,null,5.5500000000000699E-4,""]
["",null,{"$f":"IF(B568=\"\",\"\",VLOOKUP(B568,CAD_AREA!$CB$13:$CD$113,2,FALSE))","v":""},{"$f":"IF(B568=\"\",\"\",VLOOKUP(B568,CAD_AREA!$CB$13:$CD$113,3,FALSE))","v":""},null,{"$f":"IF(E568=\"\",\"\",VLOOKUP(E568,PCMSO!$B$13:$E$614,4,FALSE))","v":""},null,null,null,"","",{"$f":"IF(G568=\"\",\"\",VLOOKUP(MONTH(G568),'C-A'!$J$13:$K$24,2,FALSE))","v":""},null,null,null,null,null,5.5600000000000701E-4,""]
["",null,{"$f":"IF(B569=\"\",\"\",VLOOKUP(B569,CAD_AREA!$CB$13:$CD$113,2,FALSE))","v":""},{"$f":"IF(B569=\"\",\"\",VLOOKUP(B569,CAD_AREA!$CB$13:$CD$113,3,FALSE))","v":""},null,{"$f":"IF(E569=\"\",\"\",VLOOKUP(E569,PCMSO!$B$13:$E$614,4,FALSE))","v":""},null,null,null,"","",{"$f":"IF(G569=\"\",\"\",VLOOKUP(MONTH(G569),'C-A'!$J$13:$K$24,2,FALSE))","v":""},null,null,null,null,null,5.5700000000000703E-4,""]
["",null,{"$f":"IF(B570=\"\",\"\",VLOOKUP(B570,CAD_AREA!$CB$13:$CD$113,2,FALSE))","v":""},{"$f":"IF(B570=\"\",\"\",VLOOKUP(B570,CAD_AREA!$CB$13:$CD$113,3,FALSE))","v":""},null,{"$f":"IF(E570=\"\",\"\",VLOOKUP(E570,PCMSO!$B$13:$E$614,4,FALSE))","v":""},null,null,null,"","",{"$f":"IF(G570=\"\",\"\",VLOOKUP(MONTH(G570),'C-A'!$J$13:$K$24,2,FALSE))","v":""},null,null,null,null,null,5.5800000000000706E-4,""]
["",null,{"$f":"IF(B571=\"\",\"\",VLOOKUP(B571,CAD_AREA!$CB$13:$CD$113,2,FALSE))","v":""},{"$f":"IF(B571=\"\",\"\",VLOOKUP(B571,CAD_AREA!$CB$13:$CD$113,3,FALSE))","v":""},null,{"$f":"IF(E571=\"\",\"\",VLOOKUP(E571,PCMSO!$B$13:$E$614,4,FALSE))","v":""},null,null,null,"","",{"$f":"IF(G571=\"\",\"\",VLOOKUP(MONTH(G571),'C-A'!$J$13:$K$24,2,FALSE))","v":""},null,null,null,null,null,5.5900000000000708E-4,""]
["",null,{"$f":"IF(B572=\"\",\"\",VLOOKUP(B572,CAD_AREA!$CB$13:$CD$113,2,FALSE))","v":""},{"$f":"IF(B572=\"\",\"\",VLOOKUP(B572,CAD_AREA!$CB$13:$CD$113,3,FALSE))","v":""},null,{"$f":"IF(E572=\"\",\"\",VLOOKUP(E572,PCMSO!$B$13:$E$614,4,FALSE))","v":""},null,null,null,"","",{"$f":"IF(G572=\"\",\"\",VLOOKUP(MONTH(G572),'C-A'!$J$13:$K$24,2,FALSE))","v":""},null,null,null,null,null,5.6000000000000711E-4,""]
["",null,{"$f":"IF(B573=\"\",\"\",VLOOKUP(B573,CAD_AREA!$CB$13:$CD$113,2,FALSE))","v":""},{"$f":"IF(B573=\"\",\"\",VLOOKUP(B573,CAD_AREA!$CB$13:$CD$113,3,FALSE))","v":""},null,{"$f":"IF(E573=\"\",\"\",VLOOKUP(E573,PCMSO!$B$13:$E$614,4,FALSE))","v":""},null,null,null,"","",{"$f":"IF(G573=\"\",\"\",VLOOKUP(MONTH(G573),'C-A'!$J$13:$K$24,2,FALSE))","v":""},null,null,null,null,null,5.6100000000000713E-4,""]
["",null,{"$f":"IF(B574=\"\",\"\",VLOOKUP(B574,CAD_AREA!$CB$13:$CD$113,2,FALSE))","v":""},{"$f":"IF(B574=\"\",\"\",VLOOKUP(B574,CAD_AREA!$CB$13:$CD$113,3,FALSE))","v":""},null,{"$f":"IF(E574=\"\",\"\",VLOOKUP(E574,PCMSO!$B$13:$E$614,4,FALSE))","v":""},null,null,null,"","",{"$f":"IF(G574=\"\",\"\",VLOOKUP(MONTH(G574),'C-A'!$J$13:$K$24,2,FALSE))","v":""},null,null,null,null,null,5.6200000000000716E-4,""]
["",null,{"$f":"IF(B575=\"\",\"\",VLOOKUP(B575,CAD_AREA!$CB$13:$CD$113,2,FALSE))","v":""},{"$f":"IF(B575=\"\",\"\",VLOOKUP(B575,CAD_AREA!$CB$13:$CD$113,3,FALSE))","v":""},null,{"$f":"IF(E575=\"\",\"\",VLOOKUP(E575,PCMSO!$B$13:$E$614,4,FALSE))","v":""},null,null,null,"","",{"$f":"IF(G575=\"\",\"\",VLOOKUP(MONTH(G575),'C-A'!$J$13:$K$24,2,FALSE))","v":""},null,null,null,null,null,5.6300000000000718E-4,""]
["",null,{"$f":"IF(B576=\"\",\"\",VLOOKUP(B576,CAD_AREA!$CB$13:$CD$113,2,FALSE))","v":""},{"$f":"IF(B576=\"\",\"\",VLOOKUP(B576,CAD_AREA!$CB$13:$CD$113,3,FALSE))","v":""},null,{"$f":"IF(E576=\"\",\"\",VLOOKUP(E576,PCMSO!$B$13:$E$614,4,FALSE))","v":""},null,null,null,"","",{"$f":"IF(G576=\"\",\"\",VLOOKUP(MONTH(G576),'C-A'!$J$13:$K$24,2,FALSE))","v":""},null,null,null,null,null,5.640000000000072E-4,""]
["",null,{"$f":"IF(B577=\"\",\"\",VLOOKUP(B577,CAD_AREA!$CB$13:$CD$113,2,FALSE))","v":""},{"$f":"IF(B577=\"\",\"\",VLOOKUP(B577,CAD_AREA!$CB$13:$CD$113,3,FALSE))","v":""},null,{"$f":"IF(E577=\"\",\"\",VLOOKUP(E577,PCMSO!$B$13:$E$614,4,FALSE))","v":""},null,null,null,"","",{"$f":"IF(G577=\"\",\"\",VLOOKUP(MONTH(G577),'C-A'!$J$13:$K$24,2,FALSE))","v":""},null,null,null,null,null,5.6500000000000723E-4,""]
["",null,{"$f":"IF(B578=\"\",\"\",VLOOKUP(B578,CAD_AREA!$CB$13:$CD$113,2,FALSE))","v":""},{"$f":"IF(B578=\"\",\"\",VLOOKUP(B578,CAD_AREA!$CB$13:$CD$113,3,FALSE))","v":""},null,{"$f":"IF(E578=\"\",\"\",VLOOKUP(E578,PCMSO!$B$13:$E$614,4,FALSE))","v":""},null,null,null,"","",{"$f":"IF(G578=\"\",\"\",VLOOKUP(MONTH(G578),'C-A'!$J$13:$K$24,2,FALSE))","v":""},null,null,null,null,null,5.6600000000000725E-4,""]
["",null,{"$f":"IF(B579=\"\",\"\",VLOOKUP(B579,CAD_AREA!$CB$13:$CD$113,2,FALSE))","v":""},{"$f":"IF(B579=\"\",\"\",VLOOKUP(B579,CAD_AREA!$CB$13:$CD$113,3,FALSE))","v":""},null,{"$f":"IF(E579=\"\",\"\",VLOOKUP(E579,PCMSO!$B$13:$E$614,4,FALSE))","v":""},null,null,null,"","",{"$f":"IF(G579=\"\",\"\",VLOOKUP(MONTH(G579),'C-A'!$J$13:$K$24,2,FALSE))","v":""},null,null,null,null,null,5.6700000000000728E-4,""]
["",null,{"$f":"IF(B580=\"\",\"\",VLOOKUP(B580,CAD_AREA!$CB$13:$CD$113,2,FALSE))","v":""},{"$f":"IF(B580=\"\",\"\",VLOOKUP(B580,CAD_AREA!$CB$13:$CD$113,3,FALSE))","v":""},null,{"$f":"IF(E580=\"\",\"\",VLOOKUP(E580,PCMSO!$B$13:$E$614,4,FALSE))","v":""},null,null,null,"","",{"$f":"IF(G580=\"\",\"\",VLOOKUP(MONTH(G580),'C-A'!$J$13:$K$24,2,FALSE))","v":""},null,null,null,null,null,5.680000000000073E-4,""]
["",null,{"$f":"IF(B581=\"\",\"\",VLOOKUP(B581,CAD_AREA!$CB$13:$CD$113,2,FALSE))","v":""},{"$f":"IF(B581=\"\",\"\",VLOOKUP(B581,CAD_AREA!$CB$13:$CD$113,3,FALSE))","v":""},null,{"$f":"IF(E581=\"\",\"\",VLOOKUP(E581,PCMSO!$B$13:$E$614,4,FALSE))","v":""},null,null,null,"","",{"$f":"IF(G581=\"\",\"\",VLOOKUP(MONTH(G581),'C-A'!$J$13:$K$24,2,FALSE))","v":""},null,null,null,null,null,5.6900000000000733E-4,""]
["",null,{"$f":"IF(B582=\"\",\"\",VLOOKUP(B582,CAD_AREA!$CB$13:$CD$113,2,FALSE))","v":""},{"$f":"IF(B582=\"\",\"\",VLOOKUP(B582,CAD_AREA!$CB$13:$CD$113,3,FALSE))","v":""},null,{"$f":"IF(E582=\"\",\"\",VLOOKUP(E582,PCMSO!$B$13:$E$614,4,FALSE))","v":""},null,null,null,"","",{"$f":"IF(G582=\"\",\"\",VLOOKUP(MONTH(G582),'C-A'!$J$13:$K$24,2,FALSE))","v":""},null,null,null,null,null,5.7000000000000735E-4,""]
["",null,{"$f":"IF(B583=\"\",\"\",VLOOKUP(B583,CAD_AREA!$CB$13:$CD$113,2,FALSE))","v":""},{"$f":"IF(B583=\"\",\"\",VLOOKUP(B583,CAD_AREA!$CB$13:$CD$113,3,FALSE))","v":""},null,{"$f":"IF(E583=\"\",\"\",VLOOKUP(E583,PCMSO!$B$13:$E$614,4,FALSE))","v":""},null,null,null,"","",{"$f":"IF(G583=\"\",\"\",VLOOKUP(MONTH(G583),'C-A'!$J$13:$K$24,2,FALSE))","v":""},null,null,null,null,null,5.7100000000000737E-4,""]
["",null,{"$f":"IF(B584=\"\",\"\",VLOOKUP(B584,CAD_AREA!$CB$13:$CD$113,2,FALSE))","v":""},{"$f":"IF(B584=\"\",\"\",VLOOKUP(B584,CAD_AREA!$CB$13:$CD$113,3,FALSE))","v":""},null,{"$f":"IF(E584=\"\",\"\",VLOOKUP(E584,PCMSO!$B$13:$E$614,4,FALSE))","v":""},null,null,null,"","",{"$f":"IF(G584=\"\",\"\",VLOOKUP(MONTH(G584),'C-A'!$J$13:$K$24,2,FALSE))","v":""},null,null,null,null,null,5.720000000000074E-4,""]
["",null,{"$f":"IF(B585=\"\",\"\",VLOOKUP(B585,CAD_AREA!$CB$13:$CD$113,2,FALSE))","v":""},{"$f":"IF(B585=\"\",\"\",VLOOKUP(B585,CAD_AREA!$CB$13:$CD$113,3,FALSE))","v":""},null,{"$f":"IF(E585=\"\",\"\",VLOOKUP(E585,PCMSO!$B$13:$E$614,4,FALSE))","v":""},null,null,null,"","",{"$f":"IF(G585=\"\",\"\",VLOOKUP(MONTH(G585),'C-A'!$J$13:$K$24,2,FALSE))","v":""},null,null,null,null,null,5.7300000000000742E-4,""]
["",null,{"$f":"IF(B586=\"\",\"\",VLOOKUP(B586,CAD_AREA!$CB$13:$CD$113,2,FALSE))","v":""},{"$f":"IF(B586=\"\",\"\",VLOOKUP(B586,CAD_AREA!$CB$13:$CD$113,3,FALSE))","v":""},null,{"$f":"IF(E586=\"\",\"\",VLOOKUP(E586,PCMSO!$B$13:$E$614,4,FALSE))","v":""},null,null,null,"","",{"$f":"IF(G586=\"\",\"\",VLOOKUP(MONTH(G586),'C-A'!$J$13:$K$24,2,FALSE))","v":""},null,null,null,null,null,5.7400000000000745E-4,""]
["",null,{"$f":"IF(B587=\"\",\"\",VLOOKUP(B587,CAD_AREA!$CB$13:$CD$113,2,FALSE))","v":""},{"$f":"IF(B587=\"\",\"\",VLOOKUP(B587,CAD_AREA!$CB$13:$CD$113,3,FALSE))","v":""},null,{"$f":"IF(E587=\"\",\"\",VLOOKUP(E587,PCMSO!$B$13:$E$614,4,FALSE))","v":""},null,null,null,"","",{"$f":"IF(G587=\"\",\"\",VLOOKUP(MONTH(G587),'C-A'!$J$13:$K$24,2,FALSE))","v":""},null,null,null,null,null,5.7500000000000747E-4,""]
["",null,{"$f":"IF(B588=\"\",\"\",VLOOKUP(B588,CAD_AREA!$CB$13:$CD$113,2,FALSE))","v":""},{"$f":"IF(B588=\"\",\"\",VLOOKUP(B588,CAD_AREA!$CB$13:$CD$113,3,FALSE))","v":""},null,{"$f":"IF(E588=\"\",\"\",VLOOKUP(E588,PCMSO!$B$13:$E$614,4,FALSE))","v":""},null,null,null,"","",{"$f":"IF(G588=\"\",\"\",VLOOKUP(MONTH(G588),'C-A'!$J$13:$K$24,2,FALSE))","v":""},null,null,null,null,null,5.760000000000075E-4,""]
["",null,{"$f":"IF(B589=\"\",\"\",VLOOKUP(B589,CAD_AREA!$CB$13:$CD$113,2,FALSE))","v":""},{"$f":"IF(B589=\"\",\"\",VLOOKUP(B589,CAD_AREA!$CB$13:$CD$113,3,FALSE))","v":""},null,{"$f":"IF(E589=\"\",\"\",VLOOKUP(E589,PCMSO!$B$13:$E$614,4,FALSE))","v":""},null,null,null,{"$f":"IF(F589=\"\",\"\",VLOOKUP(F589,$N$13:$O$19,2,FALSE)+G589)","v":""},"",{"$f":"IF(G589=\"\",\"\",VLOOKUP(MONTH(G589),'C-A'!$J$13:$K$24,2,FALSE))","v":""},null,null,null,null,null,5.7700000000000752E-4,{"$f":"IF(K589=\"Vencido\",\"\",J589)","v":""}]
["",null,{"$f":"IF(B590=\"\",\"\",VLOOKUP(B590,CAD_AREA!$CB$13:$CD$113,2,FALSE))","v":""},{"$f":"IF(B590=\"\",\"\",VLOOKUP(B590,CAD_AREA!$CB$13:$CD$113,3,FALSE))","v":""},null,{"$f":"IF(E590=\"\",\"\",VLOOKUP(E590,PCMSO!$B$13:$E$614,4,FALSE))","v":""},null,null,null,"",{"$f":"IF(J590=\"\",\"\",IF(J590-TODAY()<0,\"Vencido\",IF(J590-TODAY()=0,\"Realizar hoje\",\"Realizar em \"&J590-TODAY()&\" dias\")))","v":""},{"$f":"IF(G590=\"\",\"\",VLOOKUP(MONTH(G590),'C-A'!$J$13:$K$24,2,FALSE))","v":""},null,null,null,null,null,5.7800000000000754E-4,""]
["",null,{"$f":"IF(B591=\"\",\"\",VLOOKUP(B591,CAD_AREA!$CB$13:$CD$113,2,FALSE))","v":""},{"$f":"IF(B591=\"\",\"\",VLOOKUP(B591,CAD_AREA!$CB$13:$CD$113,3,FALSE))","v":""},null,{"$f":"IF(E591=\"\",\"\",VLOOKUP(E591,PCMSO!$B$13:$E$614,4,FALSE))","v":""},null,null,null,"","",{"$f":"IF(G591=\"\",\"\",VLOOKUP(MONTH(G591),'C-A'!$J$13:$K$24,2,FALSE))","v":""},null,null,null,null,null,{"$f":"R590+$R$13","v":5.7900000000000757E-4},""]
["",null,{"$f":"IF(B592=\"\",\"\",VLOOKUP(B592,CAD_AREA!$CB$13:$CD$113,2,FALSE))","v":""},{"$f":"IF(B592=\"\",\"\",VLOOKUP(B592,CAD_AREA!$CB$13:$CD$113,3,FALSE))","v":""},null,{"$f":"IF(E592=\"\",\"\",VLOOKUP(E592,PCMSO!$B$13:$E$614,4,FALSE))","v":""},null,null,null,"","",{"$f":"IF(G592=\"\",\"\",VLOOKUP(MONTH(G592),'C-A'!$J$13:$K$24,2,FALSE))","v":""},null,null,null,null,null,5.8000000000000759E-4,""]
["",null,{"$f":"IF(B593=\"\",\"\",VLOOKUP(B593,CAD_AREA!$CB$13:$CD$113,2,FALSE))","v":""},{"$f":"IF(B593=\"\",\"\",VLOOKUP(B593,CAD_AREA!$CB$13:$CD$113,3,FALSE))","v":""},null,{"$f":"IF(E593=\"\",\"\",VLOOKUP(E593,PCMSO!$B$13:$E$614,4,FALSE))","v":""},null,null,null,"","",{"$f":"IF(G593=\"\",\"\",VLOOKUP(MONTH(G593),'C-A'!$J$13:$K$24,2,FALSE))","v":""},null,null,null,null,null,5.8100000000000762E-4,""]
["",null,{"$f":"IF(B594=\"\",\"\",VLOOKUP(B594,CAD_AREA!$CB$13:$CD$113,2,FALSE))","v":""},{"$f":"IF(B594=\"\",\"\",VLOOKUP(B594,CAD_AREA!$CB$13:$CD$113,3,FALSE))","v":""},null,{"$f":"IF(E594=\"\",\"\",VLOOKUP(E594,PCMSO!$B$13:$E$614,4,FALSE))","v":""},null,null,null,"","",{"$f":"IF(G594=\"\",\"\",VLOOKUP(MONTH(G594),'C-A'!$J$13:$K$24,2,FALSE))","v":""},null,null,null,null,null,5.8200000000000764E-4,""]
["",null,{"$f":"IF(B595=\"\",\"\",VLOOKUP(B595,CAD_AREA!$CB$13:$CD$113,2,FALSE))","v":""},{"$f":"IF(B595=\"\",\"\",VLOOKUP(B595,CAD_AREA!$CB$13:$CD$113,3,FALSE))","v":""},null,{"$f":"IF(E595=\"\",\"\",VLOOKUP(E595,PCMSO!$B$13:$E$614,4,FALSE))","v":""},null,null,null,"","",{"$f":"IF(G595=\"\",\"\",VLOOKUP(MONTH(G595),'C-A'!$J$13:$K$24,2,FALSE))","v":""},null,null,null,null,null,5.8300000000000767E-4,""]
["",null,{"$f":"IF(B596=\"\",\"\",VLOOKUP(B596,CAD_AREA!$CB$13:$CD$113,2,FALSE))","v":""},{"$f":"IF(B596=\"\",\"\",VLOOKUP(B596,CAD_AREA!$CB$13:$CD$113,3,FALSE))","v":""},null,{"$f":"IF(E596=\"\",\"\",VLOOKUP(E596,PCMSO!$B$13:$E$614,4,FALSE))","v":""},null,null,null,"","",{"$f":"IF(G596=\"\",\"\",VLOOKUP(MONTH(G596),'C-A'!$J$13:$K$24,2,FALSE))","v":""},null,null,null,null,null,5.8400000000000769E-4,""]
["",null,{"$f":"IF(B597=\"\",\"\",VLOOKUP(B597,CAD_AREA!$CB$13:$CD$113,2,FALSE))","v":""},{"$f":"IF(B597=\"\",\"\",VLOOKUP(B597,CAD_AREA!$CB$13:$CD$113,3,FALSE))","v":""},null,{"$f":"IF(E597=\"\",\"\",VLOOKUP(E597,PCMSO!$B$13:$E$614,4,FALSE))","v":""},null,null,null,"","",{"$f":"IF(G597=\"\",\"\",VLOOKUP(MONTH(G597),'C-A'!$J$13:$K$24,2,FALSE))","v":""},null,null,null,null,null,5.8500000000000771E-4,""]
["",null,{"$f":"IF(B598=\"\",\"\",VLOOKUP(B598,CAD_AREA!$CB$13:$CD$113,2,FALSE))","v":""},{"$f":"IF(B598=\"\",\"\",VLOOKUP(B598,CAD_AREA!$CB$13:$CD$113,3,FALSE))","v":""},null,{"$f":"IF(E598=\"\",\"\",VLOOKUP(E598,PCMSO!$B$13:$E$614,4,FALSE))","v":""},null,null,null,"","",{"$f":"IF(G598=\"\",\"\",VLOOKUP(MONTH(G598),'C-A'!$J$13:$K$24,2,FALSE))","v":""},null,null,null,null,null,5.8600000000000774E-4,""]
["",null,{"$f":"IF(B599=\"\",\"\",VLOOKUP(B599,CAD_AREA!$CB$13:$CD$113,2,FALSE))","v":""},{"$f":"IF(B599=\"\",\"\",VLOOKUP(B599,CAD_AREA!$CB$13:$CD$113,3,FALSE))","v":""},null,{"$f":"IF(E599=\"\",\"\",VLOOKUP(E599,PCMSO!$B$13:$E$614,4,FALSE))","v":""},null,null,null,"","",{"$f":"IF(G599=\"\",\"\",VLOOKUP(MONTH(G599),'C-A'!$J$13:$K$24,2,FALSE))","v":""},null,null,null,null,null,5.8700000000000776E-4,""]
["",null,{"$f":"IF(B600=\"\",\"\",VLOOKUP(B600,CAD_AREA!$CB$13:$CD$113,2,FALSE))","v":""},{"$f":"IF(B600=\"\",\"\",VLOOKUP(B600,CAD_AREA!$CB$13:$CD$113,3,FALSE))","v":""},null,{"$f":"IF(E600=\"\",\"\",VLOOKUP(E600,PCMSO!$B$13:$E$614,4,FALSE))","v":""},null,null,null,"","",{"$f":"IF(G600=\"\",\"\",VLOOKUP(MONTH(G600),'C-A'!$J$13:$K$24,2,FALSE))","v":""},null,null,null,null,null,5.8800000000000779E-4,""]
["",null,{"$f":"IF(B601=\"\",\"\",VLOOKUP(B601,CAD_AREA!$CB$13:$CD$113,2,FALSE))","v":""},{"$f":"IF(B601=\"\",\"\",VLOOKUP(B601,CAD_AREA!$CB$13:$CD$113,3,FALSE))","v":""},null,{"$f":"IF(E601=\"\",\"\",VLOOKUP(E601,PCMSO!$B$13:$E$614,4,FALSE))","v":""},null,null,null,"","",{"$f":"IF(G601=\"\",\"\",VLOOKUP(MONTH(G601),'C-A'!$J$13:$K$24,2,FALSE))","v":""},null,null,null,null,null,5.8900000000000781E-4,""]
["",null,{"$f":"IF(B602=\"\",\"\",VLOOKUP(B602,CAD_AREA!$CB$13:$CD$113,2,FALSE))","v":""},{"$f":"IF(B602=\"\",\"\",VLOOKUP(B602,CAD_AREA!$CB$13:$CD$113,3,FALSE))","v":""},null,{"$f":"IF(E602=\"\",\"\",VLOOKUP(E602,PCMSO!$B$13:$E$614,4,FALSE))","v":""},null,null,null,"","",{"$f":"IF(G602=\"\",\"\",VLOOKUP(MONTH(G602),'C-A'!$J$13:$K$24,2,FALSE))","v":""},null,null,null,null,null,5.9000000000000784E-4,""]
["",null,{"$f":"IF(B603=\"\",\"\",VLOOKUP(B603,CAD_AREA!$CB$13:$CD$113,2,FALSE))","v":""},{"$f":"IF(B603=\"\",\"\",VLOOKUP(B603,CAD_AREA!$CB$13:$CD$113,3,FALSE))","v":""},null,{"$f":"IF(E603=\"\",\"\",VLOOKUP(E603,PCMSO!$B$13:$E$614,4,FALSE))","v":""},null,null,null,"","",{"$f":"IF(G603=\"\",\"\",VLOOKUP(MONTH(G603),'C-A'!$J$13:$K$24,2,FALSE))","v":""},null,null,null,null,null,5.9100000000000786E-4,""]
["",null,{"$f":"IF(B604=\"\",\"\",VLOOKUP(B604,CAD_AREA!$CB$13:$CD$113,2,FALSE))","v":""},{"$f":"IF(B604=\"\",\"\",VLOOKUP(B604,CAD_AREA!$CB$13:$CD$113,3,FALSE))","v":""},null,{"$f":"IF(E604=\"\",\"\",VLOOKUP(E604,PCMSO!$B$13:$E$614,4,FALSE))","v":""},null,null,null,"","",{"$f":"IF(G604=\"\",\"\",VLOOKUP(MONTH(G604),'C-A'!$J$13:$K$24,2,FALSE))","v":""},null,null,null,null,null,5.9200000000000788E-4,""]
["",null,{"$f":"IF(B605=\"\",\"\",VLOOKUP(B605,CAD_AREA!$CB$13:$CD$113,2,FALSE))","v":""},{"$f":"IF(B605=\"\",\"\",VLOOKUP(B605,CAD_AREA!$CB$13:$CD$113,3,FALSE))","v":""},null,{"$f":"IF(E605=\"\",\"\",VLOOKUP(E605,PCMSO!$B$13:$E$614,4,FALSE))","v":""},null,null,null,"","",{"$f":"IF(G605=\"\",\"\",VLOOKUP(MONTH(G605),'C-A'!$J$13:$K$24,2,FALSE))","v":""},null,null,null,null,null,5.9300000000000791E-4,""]
["",null,{"$f":"IF(B606=\"\",\"\",VLOOKUP(B606,CAD_AREA!$CB$13:$CD$113,2,FALSE))","v":""},{"$f":"IF(B606=\"\",\"\",VLOOKUP(B606,CAD_AREA!$CB$13:$CD$113,3,FALSE))","v":""},null,{"$f":"IF(E606=\"\",\"\",VLOOKUP(E606,PCMSO!$B$13:$E$614,4,FALSE))","v":""},null,null,null,"","",{"$f":"IF(G606=\"\",\"\",VLOOKUP(MONTH(G606),'C-A'!$J$13:$K$24,2,FALSE))","v":""},null,null,null,null,null,5.9400000000000793E-4,""]
["",null,{"$f":"IF(B607=\"\",\"\",VLOOKUP(B607,CAD_AREA!$CB$13:$CD$113,2,FALSE))","v":""},{"$f":"IF(B607=\"\",\"\",VLOOKUP(B607,CAD_AREA!$CB$13:$CD$113,3,FALSE))","v":""},null,{"$f":"IF(E607=\"\",\"\",VLOOKUP(E607,PCMSO!$B$13:$E$614,4,FALSE))","v":""},null,null,null,"","",{"$f":"IF(G607=\"\",\"\",VLOOKUP(MONTH(G607),'C-A'!$J$13:$K$24,2,FALSE))","v":""},null,null,null,null,null,5.9500000000000796E-4,""]
["",null,{"$f":"IF(B608=\"\",\"\",VLOOKUP(B608,CAD_AREA!$CB$13:$CD$113,2,FALSE))","v":""},{"$f":"IF(B608=\"\",\"\",VLOOKUP(B608,CAD_AREA!$CB$13:$CD$113,3,FALSE))","v":""},null,{"$f":"IF(E608=\"\",\"\",VLOOKUP(E608,PCMSO!$B$13:$E$614,4,FALSE))","v":""},null,null,null,"","",{"$f":"IF(G608=\"\",\"\",VLOOKUP(MONTH(G608),'C-A'!$J$13:$K$24,2,FALSE))","v":""},null,null,null,null,null,5.9600000000000798E-4,""]
["",null,{"$f":"IF(B609=\"\",\"\",VLOOKUP(B609,CAD_AREA!$CB$13:$CD$113,2,FALSE))","v":""},{"$f":"IF(B609=\"\",\"\",VLOOKUP(B609,CAD_AREA!$CB$13:$CD$113,3,FALSE))","v":""},null,{"$f":"IF(E609=\"\",\"\",VLOOKUP(E609,PCMSO!$B$13:$E$614,4,FALSE))","v":""},null,null,null,"","",{"$f":"IF(G609=\"\",\"\",VLOOKUP(MONTH(G609),'C-A'!$J$13:$K$24,2,FALSE))","v":""},null,null,null,null,null,5.9700000000000801E-4,""]
["",null,{"$f":"IF(B610=\"\",\"\",VLOOKUP(B610,CAD_AREA!$CB$13:$CD$113,2,FALSE))","v":""},{"$f":"IF(B610=\"\",\"\",VLOOKUP(B610,CAD_AREA!$CB$13:$CD$113,3,FALSE))","v":""},null,{"$f":"IF(E610=\"\",\"\",VLOOKUP(E610,PCMSO!$B$13:$E$614,4,FALSE))","v":""},null,null,null,"","",{"$f":"IF(G610=\"\",\"\",VLOOKUP(MONTH(G610),'C-A'!$J$13:$K$24,2,FALSE))","v":""},null,null,null,null,null,5.9800000000000803E-4,""]
["",null,{"$f":"IF(B611=\"\",\"\",VLOOKUP(B611,CAD_AREA!$CB$13:$CD$113,2,FALSE))","v":""},{"$f":"IF(B611=\"\",\"\",VLOOKUP(B611,CAD_AREA!$CB$13:$CD$113,3,FALSE))","v":""},null,{"$f":"IF(E611=\"\",\"\",VLOOKUP(E611,PCMSO!$B$13:$E$614,4,FALSE))","v":""},null,null,null,"","",{"$f":"IF(G611=\"\",\"\",VLOOKUP(MONTH(G611),'C-A'!$J$13:$K$24,2,FALSE))","v":""},null,null,null,null,null,5.9900000000000805E-4,""]
["",null,{"$f":"IF(B612=\"\",\"\",VLOOKUP(B612,CAD_AREA!$CB$13:$CD$113,2,FALSE))","v":""},{"$f":"IF(B612=\"\",\"\",VLOOKUP(B612,CAD_AREA!$CB$13:$CD$113,3,FALSE))","v":""},null,{"$f":"IF(E612=\"\",\"\",VLOOKUP(E612,PCMSO!$B$13:$E$614,4,FALSE))","v":""},null,null,null,"","",{"$f":"IF(G612=\"\",\"\",VLOOKUP(MONTH(G612),'C-A'!$J$13:$K$24,2,FALSE))","v":""},null,null,null,null,null,6.0000000000000808E-4,""]
["",null,{"$f":"IF(B613=\"\",\"\",VLOOKUP(B613,CAD_AREA!$CB$13:$CD$113,2,FALSE))","v":""},{"$f":"IF(B613=\"\",\"\",VLOOKUP(B613,CAD_AREA!$CB$13:$CD$113,3,FALSE))","v":""},null,{"$f":"IF(E613=\"\",\"\",VLOOKUP(E613,PCMSO!$B$13:$E$614,4,FALSE))","v":""},null,null,null,"","",{"$f":"IF(G613=\"\",\"\",VLOOKUP(MONTH(G613),'C-A'!$J$13:$K$24,2,FALSE))","v":""},null,null,null,null,null,6.010000000000081E-4,""]
["",null,{"$f":"IF(B614=\"\",\"\",VLOOKUP(B614,CAD_AREA!$CB$13:$CD$113,2,FALSE))","v":""},{"$f":"IF(B614=\"\",\"\",VLOOKUP(B614,CAD_AREA!$CB$13:$CD$113,3,FALSE))","v":""},null,{"$f":"IF(E614=\"\",\"\",VLOOKUP(E614,PCMSO!$B$13:$E$614,4,FALSE))","v":""},null,null,null,"","",{"$f":"IF(G614=\"\",\"\",VLOOKUP(MONTH(G614),'C-A'!$J$13:$K$24,2,FALSE))","v":""},null,null,null,null,null,6.0200000000000813E-4,""]
["",null,{"$f":"IF(B615=\"\",\"\",VLOOKUP(B615,CAD_AREA!$CB$13:$CD$113,2,FALSE))","v":""},{"$f":"IF(B615=\"\",\"\",VLOOKUP(B615,CAD_AREA!$CB$13:$CD$113,3,FALSE))","v":""},null,{"$f":"IF(E615=\"\",\"\",VLOOKUP(E615,PCMSO!$B$13:$E$614,4,FALSE))","v":""},null,null,null,"","",{"$f":"IF(G615=\"\",\"\",VLOOKUP(MONTH(G615),'C-A'!$J$13:$K$24,2,FALSE))","v":""},null,null,null,null,null,6.0300000000000815E-4,""]
["",null,{"$f":"IF(B616=\"\",\"\",VLOOKUP(B616,CAD_AREA!$CB$13:$CD$113,2,FALSE))","v":""},{"$f":"IF(B616=\"\",\"\",VLOOKUP(B616,CAD_AREA!$CB$13:$CD$113,3,FALSE))","v":""},null,{"$f":"IF(E616=\"\",\"\",VLOOKUP(E616,PCMSO!$B$13:$E$614,4,FALSE))","v":""},null,null,null,"","",{"$f":"IF(G616=\"\",\"\",VLOOKUP(MONTH(G616),'C-A'!$J$13:$K$24,2,FALSE))","v":""},null,null,null,null,null,6.0400000000000818E-4,""]
["",null,{"$f":"IF(B617=\"\",\"\",VLOOKUP(B617,CAD_AREA!$CB$13:$CD$113,2,FALSE))","v":""},{"$f":"IF(B617=\"\",\"\",VLOOKUP(B617,CAD_AREA!$CB$13:$CD$113,3,FALSE))","v":""},null,{"$f":"IF(E617=\"\",\"\",VLOOKUP(E617,PCMSO!$B$13:$E$614,4,FALSE))","v":""},null,null,null,"","",{"$f":"IF(G617=\"\",\"\",VLOOKUP(MONTH(G617),'C-A'!$J$13:$K$24,2,FALSE))","v":""},null,null,null,null,null,6.050000000000082E-4,""]
["",null,{"$f":"IF(B618=\"\",\"\",VLOOKUP(B618,CAD_AREA!$CB$13:$CD$113,2,FALSE))","v":""},{"$f":"IF(B618=\"\",\"\",VLOOKUP(B618,CAD_AREA!$CB$13:$CD$113,3,FALSE))","v":""},null,{"$f":"IF(E618=\"\",\"\",VLOOKUP(E618,PCMSO!$B$13:$E$614,4,FALSE))","v":""},null,null,null,"","",{"$f":"IF(G618=\"\",\"\",VLOOKUP(MONTH(G618),'C-A'!$J$13:$K$24,2,FALSE))","v":""},null,null,null,null,null,6.0600000000000822E-4,""]
["",null,{"$f":"IF(B619=\"\",\"\",VLOOKUP(B619,CAD_AREA!$CB$13:$CD$113,2,FALSE))","v":""},{"$f":"IF(B619=\"\",\"\",VLOOKUP(B619,CAD_AREA!$CB$13:$CD$113,3,FALSE))","v":""},null,{"$f":"IF(E619=\"\",\"\",VLOOKUP(E619,PCMSO!$B$13:$E$614,4,FALSE))","v":""},null,null,null,"","",{"$f":"IF(G619=\"\",\"\",VLOOKUP(MONTH(G619),'C-A'!$J$13:$K$24,2,FALSE))","v":""},null,null,null,null,null,6.0700000000000825E-4,""]
["",null,{"$f":"IF(B620=\"\",\"\",VLOOKUP(B620,CAD_AREA!$CB$13:$CD$113,2,FALSE))","v":""},{"$f":"IF(B620=\"\",\"\",VLOOKUP(B620,CAD_AREA!$CB$13:$CD$113,3,FALSE))","v":""},null,{"$f":"IF(E620=\"\",\"\",VLOOKUP(E620,PCMSO!$B$13:$E$614,4,FALSE))","v":""},null,null,null,"","",{"$f":"IF(G620=\"\",\"\",VLOOKUP(MONTH(G620),'C-A'!$J$13:$K$24,2,FALSE))","v":""},null,null,null,null,null,6.0800000000000827E-4,""]
["",null,{"$f":"IF(B621=\"\",\"\",VLOOKUP(B621,CAD_AREA!$CB$13:$CD$113,2,FALSE))","v":""},{"$f":"IF(B621=\"\",\"\",VLOOKUP(B621,CAD_AREA!$CB$13:$CD$113,3,FALSE))","v":""},null,{"$f":"IF(E621=\"\",\"\",VLOOKUP(E621,PCMSO!$B$13:$E$614,4,FALSE))","v":""},null,null,null,"","",{"$f":"IF(G621=\"\",\"\",VLOOKUP(MONTH(G621),'C-A'!$J$13:$K$24,2,FALSE))","v":""},null,null,null,null,null,6.090000000000083E-4,""]
["",null,{"$f":"IF(B622=\"\",\"\",VLOOKUP(B622,CAD_AREA!$CB$13:$CD$113,2,FALSE))","v":""},{"$f":"IF(B622=\"\",\"\",VLOOKUP(B622,CAD_AREA!$CB$13:$CD$113,3,FALSE))","v":""},null,{"$f":"IF(E622=\"\",\"\",VLOOKUP(E622,PCMSO!$B$13:$E$614,4,FALSE))","v":""},null,null,null,"","",{"$f":"IF(G622=\"\",\"\",VLOOKUP(MONTH(G622),'C-A'!$J$13:$K$24,2,FALSE))","v":""},null,null,null,null,null,6.1000000000000832E-4,""]
["",null,{"$f":"IF(B623=\"\",\"\",VLOOKUP(B623,CAD_AREA!$CB$13:$CD$113,2,FALSE))","v":""},{"$f":"IF(B623=\"\",\"\",VLOOKUP(B623,CAD_AREA!$CB$13:$CD$113,3,FALSE))","v":""},null,{"$f":"IF(E623=\"\",\"\",VLOOKUP(E623,PCMSO!$B$13:$E$614,4,FALSE))","v":""},null,null,null,"","",{"$f":"IF(G623=\"\",\"\",VLOOKUP(MONTH(G623),'C-A'!$J$13:$K$24,2,FALSE))","v":""},null,null,null,null,null,6.1100000000000835E-4,""]
["",null,{"$f":"IF(B624=\"\",\"\",VLOOKUP(B624,CAD_AREA!$CB$13:$CD$113,2,FALSE))","v":""},{"$f":"IF(B624=\"\",\"\",VLOOKUP(B624,CAD_AREA!$CB$13:$CD$113,3,FALSE))","v":""},null,{"$f":"IF(E624=\"\",\"\",VLOOKUP(E624,PCMSO!$B$13:$E$614,4,FALSE))","v":""},null,null,null,"","",{"$f":"IF(G624=\"\",\"\",VLOOKUP(MONTH(G624),'C-A'!$J$13:$K$24,2,FALSE))","v":""},null,null,null,null,null,6.1200000000000837E-4,""]
["",null,{"$f":"IF(B625=\"\",\"\",VLOOKUP(B625,CAD_AREA!$CB$13:$CD$113,2,FALSE))","v":""},{"$f":"IF(B625=\"\",\"\",VLOOKUP(B625,CAD_AREA!$CB$13:$CD$113,3,FALSE))","v":""},null,{"$f":"IF(E625=\"\",\"\",VLOOKUP(E625,PCMSO!$B$13:$E$614,4,FALSE))","v":""},null,null,null,"","",{"$f":"IF(G625=\"\",\"\",VLOOKUP(MONTH(G625),'C-A'!$J$13:$K$24,2,FALSE))","v":""},null,null,null,null,null,6.1300000000000839E-4,""]
["",null,{"$f":"IF(B626=\"\",\"\",VLOOKUP(B626,CAD_AREA!$CB$13:$CD$113,2,FALSE))","v":""},{"$f":"IF(B626=\"\",\"\",VLOOKUP(B626,CAD_AREA!$CB$13:$CD$113,3,FALSE))","v":""},null,{"$f":"IF(E626=\"\",\"\",VLOOKUP(E626,PCMSO!$B$13:$E$614,4,FALSE))","v":""},null,null,null,"","",{"$f":"IF(G626=\"\",\"\",VLOOKUP(MONTH(G626),'C-A'!$J$13:$K$24,2,FALSE))","v":""},null,null,null,null,null,6.1400000000000842E-4,""]
["",null,{"$f":"IF(B627=\"\",\"\",VLOOKUP(B627,CAD_AREA!$CB$13:$CD$113,2,FALSE))","v":""},{"$f":"IF(B627=\"\",\"\",VLOOKUP(B627,CAD_AREA!$CB$13:$CD$113,3,FALSE))","v":""},null,{"$f":"IF(E627=\"\",\"\",VLOOKUP(E627,PCMSO!$B$13:$E$614,4,FALSE))","v":""},null,null,null,"","",{"$f":"IF(G627=\"\",\"\",VLOOKUP(MONTH(G627),'C-A'!$J$13:$K$24,2,FALSE))","v":""},null,null,null,null,null,6.1500000000000844E-4,""]
["",null,{"$f":"IF(B628=\"\",\"\",VLOOKUP(B628,CAD_AREA!$CB$13:$CD$113,2,FALSE))","v":""},{"$f":"IF(B628=\"\",\"\",VLOOKUP(B628,CAD_AREA!$CB$13:$CD$113,3,FALSE))","v":""},null,{"$f":"IF(E628=\"\",\"\",VLOOKUP(E628,PCMSO!$B$13:$E$614,4,FALSE))","v":""},null,null,null,"","",{"$f":"IF(G628=\"\",\"\",VLOOKUP(MONTH(G628),'C-A'!$J$13:$K$24,2,FALSE))","v":""},null,null,null,null,null,6.1600000000000847E-4,""]
["",null,{"$f":"IF(B629=\"\",\"\",VLOOKUP(B629,CAD_AREA!$CB$13:$CD$113,2,FALSE))","v":""},{"$f":"IF(B629=\"\",\"\",VLOOKUP(B629,CAD_AREA!$CB$13:$CD$113,3,FALSE))","v":""},null,{"$f":"IF(E629=\"\",\"\",VLOOKUP(E629,PCMSO!$B$13:$E$614,4,FALSE))","v":""},null,null,null,"","",{"$f":"IF(G629=\"\",\"\",VLOOKUP(MONTH(G629),'C-A'!$J$13:$K$24,2,FALSE))","v":""},null,null,null,null,null,6.1700000000000849E-4,""]
[{"$f":"IF(S630=\"\",\"\",SUM(R630:S630))","v":""},null,{"$f":"IF(B630=\"\",\"\",VLOOKUP(B630,CAD_AREA!$CB$13:$CD$113,2,FALSE))","v":""},{"$f":"IF(B630=\"\",\"\",VLOOKUP(B630,CAD_AREA!$CB$13:$CD$113,3,FALSE))","v":""},null,{"$f":"IF(E630=\"\",\"\",VLOOKUP(E630,PCMSO!$B$13:$E$614,4,FALSE))","v":""},null,null,null,"","",{"$f":"IF(G630=\"\",\"\",VLOOKUP(MONTH(G630),'C-A'!$J$13:$K$24,2,FALSE))","v":""},null,null,null,null,null,6.1800000000000852E-4,""]
["",null,{"$f":"IF(B631=\"\",\"\",VLOOKUP(B631,CAD_AREA!$CB$13:$CD$113,2,FALSE))","v":""},{"$f":"IF(B631=\"\",\"\",VLOOKUP(B631,CAD_AREA!$CB$13:$CD$113,3,FALSE))","v":""},null,{"$f":"IF(E631=\"\",\"\",VLOOKUP(E631,PCMSO!$B$13:$E$614,4,FALSE))","v":""},null,null,null,"","",{"$f":"IF(G631=\"\",\"\",VLOOKUP(MONTH(G631),'C-A'!$J$13:$K$24,2,FALSE))","v":""},null,null,null,null,null,6.1900000000000854E-4,""]
["",null,{"$f":"IF(B632=\"\",\"\",VLOOKUP(B632,CAD_AREA!$CB$13:$CD$113,2,FALSE))","v":""},{"$f":"IF(B632=\"\",\"\",VLOOKUP(B632,CAD_AREA!$CB$13:$CD$113,3,FALSE))","v":""},null,{"$f":"IF(E632=\"\",\"\",VLOOKUP(E632,PCMSO!$B$13:$E$614,4,FALSE))","v":""},null,null,null,"","",{"$f":"IF(G632=\"\",\"\",VLOOKUP(MONTH(G632),'C-A'!$J$13:$K$24,2,FALSE))","v":""},null,null,null,null,null,6.2000000000000857E-4,""]
["",null,{"$f":"IF(B633=\"\",\"\",VLOOKUP(B633,CAD_AREA!$CB$13:$CD$113,2,FALSE))","v":""},{"$f":"IF(B633=\"\",\"\",VLOOKUP(B633,CAD_AREA!$CB$13:$CD$113,3,FALSE))","v":""},null,{"$f":"IF(E633=\"\",\"\",VLOOKUP(E633,PCMSO!$B$13:$E$614,4,FALSE))","v":""},null,null,null,"","",{"$f":"IF(G633=\"\",\"\",VLOOKUP(MONTH(G633),'C-A'!$J$13:$K$24,2,FALSE))","v":""},null,null,null,null,null,6.2100000000000859E-4,""]
["",null,{"$f":"IF(B634=\"\",\"\",VLOOKUP(B634,CAD_AREA!$CB$13:$CD$113,2,FALSE))","v":""},{"$f":"IF(B634=\"\",\"\",VLOOKUP(B634,CAD_AREA!$CB$13:$CD$113,3,FALSE))","v":""},null,{"$f":"IF(E634=\"\",\"\",VLOOKUP(E634,PCMSO!$B$13:$E$614,4,FALSE))","v":""},null,null,null,"","",{"$f":"IF(G634=\"\",\"\",VLOOKUP(MONTH(G634),'C-A'!$J$13:$K$24,2,FALSE))","v":""},null,null,null,null,null,6.2200000000000861E-4,""]
["",null,{"$f":"IF(B635=\"\",\"\",VLOOKUP(B635,CAD_AREA!$CB$13:$CD$113,2,FALSE))","v":""},{"$f":"IF(B635=\"\",\"\",VLOOKUP(B635,CAD_AREA!$CB$13:$CD$113,3,FALSE))","v":""},null,{"$f":"IF(E635=\"\",\"\",VLOOKUP(E635,PCMSO!$B$13:$E$614,4,FALSE))","v":""},null,null,null,"","",{"$f":"IF(G635=\"\",\"\",VLOOKUP(MONTH(G635),'C-A'!$J$13:$K$24,2,FALSE))","v":""},null,null,null,null,null,6.2300000000000864E-4,""]
["",null,{"$f":"IF(B636=\"\",\"\",VLOOKUP(B636,CAD_AREA!$CB$13:$CD$113,2,FALSE))","v":""},{"$f":"IF(B636=\"\",\"\",VLOOKUP(B636,CAD_AREA!$CB$13:$CD$113,3,FALSE))","v":""},null,{"$f":"IF(E636=\"\",\"\",VLOOKUP(E636,PCMSO!$B$13:$E$614,4,FALSE))","v":""},null,null,null,"","",{"$f":"IF(G636=\"\",\"\",VLOOKUP(MONTH(G636),'C-A'!$J$13:$K$24,2,FALSE))","v":""},null,null,null,null,null,6.2400000000000866E-4,""]
["",null,{"$f":"IF(B637=\"\",\"\",VLOOKUP(B637,CAD_AREA!$CB$13:$CD$113,2,FALSE))","v":""},{"$f":"IF(B637=\"\",\"\",VLOOKUP(B637,CAD_AREA!$CB$13:$CD$113,3,FALSE))","v":""},null,{"$f":"IF(E637=\"\",\"\",VLOOKUP(E637,PCMSO!$B$13:$E$614,4,FALSE))","v":""},null,null,null,"","",{"$f":"IF(G637=\"\",\"\",VLOOKUP(MONTH(G637),'C-A'!$J$13:$K$24,2,FALSE))","v":""},null,null,null,null,null,6.2500000000000869E-4,""]
["",null,{"$f":"IF(B638=\"\",\"\",VLOOKUP(B638,CAD_AREA!$CB$13:$CD$113,2,FALSE))","v":""},{"$f":"IF(B638=\"\",\"\",VLOOKUP(B638,CAD_AREA!$CB$13:$CD$113,3,FALSE))","v":""},null,{"$f":"IF(E638=\"\",\"\",VLOOKUP(E638,PCMSO!$B$13:$E$614,4,FALSE))","v":""},null,null,null,"","",{"$f":"IF(G638=\"\",\"\",VLOOKUP(MONTH(G638),'C-A'!$J$13:$K$24,2,FALSE))","v":""},null,null,null,null,null,6.2600000000000871E-4,""]
["",null,{"$f":"IF(B639=\"\",\"\",VLOOKUP(B639,CAD_AREA!$CB$13:$CD$113,2,FALSE))","v":""},{"$f":"IF(B639=\"\",\"\",VLOOKUP(B639,CAD_AREA!$CB$13:$CD$113,3,FALSE))","v":""},null,{"$f":"IF(E639=\"\",\"\",VLOOKUP(E639,PCMSO!$B$13:$E$614,4,FALSE))","v":""},null,null,null,"","",{"$f":"IF(G639=\"\",\"\",VLOOKUP(MONTH(G639),'C-A'!$J$13:$K$24,2,FALSE))","v":""},null,null,null,null,null,6.2700000000000874E-4,""]
["",null,{"$f":"IF(B640=\"\",\"\",VLOOKUP(B640,CAD_AREA!$CB$13:$CD$113,2,FALSE))","v":""},{"$f":"IF(B640=\"\",\"\",VLOOKUP(B640,CAD_AREA!$CB$13:$CD$113,3,FALSE))","v":""},null,{"$f":"IF(E640=\"\",\"\",VLOOKUP(E640,PCMSO!$B$13:$E$614,4,FALSE))","v":""},null,null,null,"","",{"$f":"IF(G640=\"\",\"\",VLOOKUP(MONTH(G640),'C-A'!$J$13:$K$24,2,FALSE))","v":""},null,null,null,null,null,6.2800000000000876E-4,""]
["",null,{"$f":"IF(B641=\"\",\"\",VLOOKUP(B641,CAD_AREA!$CB$13:$CD$113,2,FALSE))","v":""},{"$f":"IF(B641=\"\",\"\",VLOOKUP(B641,CAD_AREA!$CB$13:$CD$113,3,FALSE))","v":""},null,{"$f":"IF(E641=\"\",\"\",VLOOKUP(E641,PCMSO!$B$13:$E$614,4,FALSE))","v":""},null,null,null,"","",{"$f":"IF(G641=\"\",\"\",VLOOKUP(MONTH(G641),'C-A'!$J$13:$K$24,2,FALSE))","v":""},null,null,null,null,null,6.2900000000000878E-4,""]
["",null,{"$f":"IF(B642=\"\",\"\",VLOOKUP(B642,CAD_AREA!$CB$13:$CD$113,2,FALSE))","v":""},{"$f":"IF(B642=\"\",\"\",VLOOKUP(B642,CAD_AREA!$CB$13:$CD$113,3,FALSE))","v":""},null,{"$f":"IF(E642=\"\",\"\",VLOOKUP(E642,PCMSO!$B$13:$E$614,4,FALSE))","v":""},null,null,null,"","",{"$f":"IF(G642=\"\",\"\",VLOOKUP(MONTH(G642),'C-A'!$J$13:$K$24,2,FALSE))","v":""},null,null,null,null,null,6.3000000000000881E-4,""]
["",null,{"$f":"IF(B643=\"\",\"\",VLOOKUP(B643,CAD_AREA!$CB$13:$CD$113,2,FALSE))","v":""},{"$f":"IF(B643=\"\",\"\",VLOOKUP(B643,CAD_AREA!$CB$13:$CD$113,3,FALSE))","v":""},null,{"$f":"IF(E643=\"\",\"\",VLOOKUP(E643,PCMSO!$B$13:$E$614,4,FALSE))","v":""},null,null,null,"","",{"$f":"IF(G643=\"\",\"\",VLOOKUP(MONTH(G643),'C-A'!$J$13:$K$24,2,FALSE))","v":""},null,null,null,null,null,6.3100000000000883E-4,""]
["",null,{"$f":"IF(B644=\"\",\"\",VLOOKUP(B644,CAD_AREA!$CB$13:$CD$113,2,FALSE))","v":""},{"$f":"IF(B644=\"\",\"\",VLOOKUP(B644,CAD_AREA!$CB$13:$CD$113,3,FALSE))","v":""},null,{"$f":"IF(E644=\"\",\"\",VLOOKUP(E644,PCMSO!$B$13:$E$614,4,FALSE))","v":""},null,null,null,"","",{"$f":"IF(G644=\"\",\"\",VLOOKUP(MONTH(G644),'C-A'!$J$13:$K$24,2,FALSE))","v":""},null,null,null,null,null,6.3200000000000886E-4,""]
["",null,{"$f":"IF(B645=\"\",\"\",VLOOKUP(B645,CAD_AREA!$CB$13:$CD$113,2,FALSE))","v":""},{"$f":"IF(B645=\"\",\"\",VLOOKUP(B645,CAD_AREA!$CB$13:$CD$113,3,FALSE))","v":""},null,{"$f":"IF(E645=\"\",\"\",VLOOKUP(E645,PCMSO!$B$13:$E$614,4,FALSE))","v":""},null,null,null,"","",{"$f":"IF(G645=\"\",\"\",VLOOKUP(MONTH(G645),'C-A'!$J$13:$K$24,2,FALSE))","v":""},null,null,null,null,null,6.3300000000000888E-4,""]
["",null,{"$f":"IF(B646=\"\",\"\",VLOOKUP(B646,CAD_AREA!$CB$13:$CD$113,2,FALSE))","v":""},{"$f":"IF(B646=\"\",\"\",VLOOKUP(B646,CAD_AREA!$CB$13:$CD$113,3,FALSE))","v":""},null,{"$f":"IF(E646=\"\",\"\",VLOOKUP(E646,PCMSO!$B$13:$E$614,4,FALSE))","v":""},null,null,null,"","",{"$f":"IF(G646=\"\",\"\",VLOOKUP(MONTH(G646),'C-A'!$J$13:$K$24,2,FALSE))","v":""},null,null,null,null,null,6.3400000000000891E-4,""]
["",null,{"$f":"IF(B647=\"\",\"\",VLOOKUP(B647,CAD_AREA!$CB$13:$CD$113,2,FALSE))","v":""},{"$f":"IF(B647=\"\",\"\",VLOOKUP(B647,CAD_AREA!$CB$13:$CD$113,3,FALSE))","v":""},null,{"$f":"IF(E647=\"\",\"\",VLOOKUP(E647,PCMSO!$B$13:$E$614,4,FALSE))","v":""},null,null,null,"","",{"$f":"IF(G647=\"\",\"\",VLOOKUP(MONTH(G647),'C-A'!$J$13:$K$24,2,FALSE))","v":""},null,null,null,null,null,6.3500000000000893E-4,""]
["",null,{"$f":"IF(B648=\"\",\"\",VLOOKUP(B648,CAD_AREA!$CB$13:$CD$113,2,FALSE))","v":""},{"$f":"IF(B648=\"\",\"\",VLOOKUP(B648,CAD_AREA!$CB$13:$CD$113,3,FALSE))","v":""},null,{"$f":"IF(E648=\"\",\"\",VLOOKUP(E648,PCMSO!$B$13:$E$614,4,FALSE))","v":""},null,null,null,"","",{"$f":"IF(G648=\"\",\"\",VLOOKUP(MONTH(G648),'C-A'!$J$13:$K$24,2,FALSE))","v":""},null,null,null,null,null,6.3600000000000895E-4,""]
["",null,{"$f":"IF(B649=\"\",\"\",VLOOKUP(B649,CAD_AREA!$CB$13:$CD$113,2,FALSE))","v":""},{"$f":"IF(B649=\"\",\"\",VLOOKUP(B649,CAD_AREA!$CB$13:$CD$113,3,FALSE))","v":""},null,{"$f":"IF(E649=\"\",\"\",VLOOKUP(E649,PCMSO!$B$13:$E$614,4,FALSE))","v":""},null,null,null,"","",{"$f":"IF(G649=\"\",\"\",VLOOKUP(MONTH(G649),'C-A'!$J$13:$K$24,2,FALSE))","v":""},null,null,null,null,null,6.3700000000000898E-4,""]
["",null,{"$f":"IF(B650=\"\",\"\",VLOOKUP(B650,CAD_AREA!$CB$13:$CD$113,2,FALSE))","v":""},{"$f":"IF(B650=\"\",\"\",VLOOKUP(B650,CAD_AREA!$CB$13:$CD$113,3,FALSE))","v":""},null,{"$f":"IF(E650=\"\",\"\",VLOOKUP(E650,PCMSO!$B$13:$E$614,4,FALSE))","v":""},null,null,null,"","",{"$f":"IF(G650=\"\",\"\",VLOOKUP(MONTH(G650),'C-A'!$J$13:$K$24,2,FALSE))","v":""},null,null,null,null,null,6.38000000000009E-4,""]
["",null,{"$f":"IF(B651=\"\",\"\",VLOOKUP(B651,CAD_AREA!$CB$13:$CD$113,2,FALSE))","v":""},{"$f":"IF(B651=\"\",\"\",VLOOKUP(B651,CAD_AREA!$CB$13:$CD$113,3,FALSE))","v":""},null,{"$f":"IF(E651=\"\",\"\",VLOOKUP(E651,PCMSO!$B$13:$E$614,4,FALSE))","v":""},null,null,null,"","",{"$f":"IF(G651=\"\",\"\",VLOOKUP(MONTH(G651),'C-A'!$J$13:$K$24,2,FALSE))","v":""},null,null,null,null,null,6.3900000000000903E-4,""]
["",null,{"$f":"IF(B652=\"\",\"\",VLOOKUP(B652,CAD_AREA!$CB$13:$CD$113,2,FALSE))","v":""},{"$f":"IF(B652=\"\",\"\",VLOOKUP(B652,CAD_AREA!$CB$13:$CD$113,3,FALSE))","v":""},null,{"$f":"IF(E652=\"\",\"\",VLOOKUP(E652,PCMSO!$B$13:$E$614,4,FALSE))","v":""},null,null,null,"","",{"$f":"IF(G652=\"\",\"\",VLOOKUP(MONTH(G652),'C-A'!$J$13:$K$24,2,FALSE))","v":""},null,null,null,null,null,6.4000000000000905E-4,""]
["",null,{"$f":"IF(B653=\"\",\"\",VLOOKUP(B653,CAD_AREA!$CB$13:$CD$113,2,FALSE))","v":""},{"$f":"IF(B653=\"\",\"\",VLOOKUP(B653,CAD_AREA!$CB$13:$CD$113,3,FALSE))","v":""},null,{"$f":"IF(E653=\"\",\"\",VLOOKUP(E653,PCMSO!$B$13:$E$614,4,FALSE))","v":""},null,null,null,{"$f":"IF(F653=\"\",\"\",VLOOKUP(F653,$N$13:$O$19,2,FALSE)+G653)","v":""},"",{"$f":"IF(G653=\"\",\"\",VLOOKUP(MONTH(G653),'C-A'!$J$13:$K$24,2,FALSE))","v":""},null,null,null,null,null,6.4100000000000908E-4,{"$f":"IF(K653=\"Vencido\",\"\",J653)","v":""}]
["",null,{"$f":"IF(B654=\"\",\"\",VLOOKUP(B654,CAD_AREA!$CB$13:$CD$113,2,FALSE))","v":""},{"$f":"IF(B654=\"\",\"\",VLOOKUP(B654,CAD_AREA!$CB$13:$CD$113,3,FALSE))","v":""},null,{"$f":"IF(E654=\"\",\"\",VLOOKUP(E654,PCMSO!$B$13:$E$614,4,FALSE))","v":""},null,null,null,"",{"$f":"IF(J654=\"\",\"\",IF(J654-TODAY()<0,\"Vencido\",IF(J654-TODAY()=0,\"Realizar hoje\",\"Realizar em \"&J654-TODAY()&\" dias\")))","v":""},{"$f":"IF(G654=\"\",\"\",VLOOKUP(MONTH(G654),'C-A'!$J$13:$K$24,2,FALSE))","v":""},null,null,null,null,null,6.420000000000091E-4,""]
["",null,{"$f":"IF(B655=\"\",\"\",VLOOKUP(B655,CAD_AREA!$CB$13:$CD$113,2,FALSE))","v":""},{"$f":"IF(B655=\"\",\"\",VLOOKUP(B655,CAD_AREA!$CB$13:$CD$113,3,FALSE))","v":""},null,{"$f":"IF(E655=\"\",\"\",VLOOKUP(E655,PCMSO!$B$13:$E$614,4,FALSE))","v":""},null,null,null,"","",{"$f":"IF(G655=\"\",\"\",VLOOKUP(MONTH(G655),'C-A'!$J$13:$K$24,2,FALSE))","v":""},null,null,null,null,null,{"$f":"R654+$R$13","v":6.4300000000000912E-4},""]
["",null,{"$f":"IF(B656=\"\",\"\",VLOOKUP(B656,CAD_AREA!$CB$13:$CD$113,2,FALSE))","v":""},{"$f":"IF(B656=\"\",\"\",VLOOKUP(B656,CAD_AREA!$CB$13:$CD$113,3,FALSE))","v":""},null,{"$f":"IF(E656=\"\",\"\",VLOOKUP(E656,PCMSO!$B$13:$E$614,4,FALSE))","v":""},null,null,null,"","",{"$f":"IF(G656=\"\",\"\",VLOOKUP(MONTH(G656),'C-A'!$J$13:$K$24,2,FALSE))","v":""},null,null,null,null,null,6.4400000000000915E-4,""]
["",null,{"$f":"IF(B657=\"\",\"\",VLOOKUP(B657,CAD_AREA!$CB$13:$CD$113,2,FALSE))","v":""},{"$f":"IF(B657=\"\",\"\",VLOOKUP(B657,CAD_AREA!$CB$13:$CD$113,3,FALSE))","v":""},null,{"$f":"IF(E657=\"\",\"\",VLOOKUP(E657,PCMSO!$B$13:$E$614,4,FALSE))","v":""},null,null,null,"","",{"$f":"IF(G657=\"\",\"\",VLOOKUP(MONTH(G657),'C-A'!$J$13:$K$24,2,FALSE))","v":""},null,null,null,null,null,6.4500000000000917E-4,""]
["",null,{"$f":"IF(B658=\"\",\"\",VLOOKUP(B658,CAD_AREA!$CB$13:$CD$113,2,FALSE))","v":""},{"$f":"IF(B658=\"\",\"\",VLOOKUP(B658,CAD_AREA!$CB$13:$CD$113,3,FALSE))","v":""},null,{"$f":"IF(E658=\"\",\"\",VLOOKUP(E658,PCMSO!$B$13:$E$614,4,FALSE))","v":""},null,null,null,"","",{"$f":"IF(G658=\"\",\"\",VLOOKUP(MONTH(G658),'C-A'!$J$13:$K$24,2,FALSE))","v":""},null,null,null,null,null,6.460000000000092E-4,""]
["",null,{"$f":"IF(B659=\"\",\"\",VLOOKUP(B659,CAD_AREA!$CB$13:$CD$113,2,FALSE))","v":""},{"$f":"IF(B659=\"\",\"\",VLOOKUP(B659,CAD_AREA!$CB$13:$CD$113,3,FALSE))","v":""},null,{"$f":"IF(E659=\"\",\"\",VLOOKUP(E659,PCMSO!$B$13:$E$614,4,FALSE))","v":""},null,null,null,"","",{"$f":"IF(G659=\"\",\"\",VLOOKUP(MONTH(G659),'C-A'!$J$13:$K$24,2,FALSE))","v":""},null,null,null,null,null,6.4700000000000922E-4,""]
["",null,{"$f":"IF(B660=\"\",\"\",VLOOKUP(B660,CAD_AREA!$CB$13:$CD$113,2,FALSE))","v":""},{"$f":"IF(B660=\"\",\"\",VLOOKUP(B660,CAD_AREA!$CB$13:$CD$113,3,FALSE))","v":""},null,{"$f":"IF(E660=\"\",\"\",VLOOKUP(E660,PCMSO!$B$13:$E$614,4,FALSE))","v":""},null,null,null,"","",{"$f":"IF(G660=\"\",\"\",VLOOKUP(MONTH(G660),'C-A'!$J$13:$K$24,2,FALSE))","v":""},null,null,null,null,null,6.4800000000000925E-4,""]
["",null,{"$f":"IF(B661=\"\",\"\",VLOOKUP(B661,CAD_AREA!$CB$13:$CD$113,2,FALSE))","v":""},{"$f":"IF(B661=\"\",\"\",VLOOKUP(B661,CAD_AREA!$CB$13:$CD$113,3,FALSE))","v":""},null,{"$f":"IF(E661=\"\",\"\",VLOOKUP(E661,PCMSO!$B$13:$E$614,4,FALSE))","v":""},null,null,null,"","",{"$f":"IF(G661=\"\",\"\",VLOOKUP(MONTH(G661),'C-A'!$J$13:$K$24,2,FALSE))","v":""},null,null,null,null,null,6.4900000000000927E-4,""]
["",null,{"$f":"IF(B662=\"\",\"\",VLOOKUP(B662,CAD_AREA!$CB$13:$CD$113,2,FALSE))","v":""},{"$f":"IF(B662=\"\",\"\",VLOOKUP(B662,CAD_AREA!$CB$13:$CD$113,3,FALSE))","v":""},null,{"$f":"IF(E662=\"\",\"\",VLOOKUP(E662,PCMSO!$B$13:$E$614,4,FALSE))","v":""},null,null,null,"","",{"$f":"IF(G662=\"\",\"\",VLOOKUP(MONTH(G662),'C-A'!$J$13:$K$24,2,FALSE))","v":""},null,null,null,null,null,6.5000000000000929E-4,""]
["",null,{"$f":"IF(B663=\"\",\"\",VLOOKUP(B663,CAD_AREA!$CB$13:$CD$113,2,FALSE))","v":""},{"$f":"IF(B663=\"\",\"\",VLOOKUP(B663,CAD_AREA!$CB$13:$CD$113,3,FALSE))","v":""},null,{"$f":"IF(E663=\"\",\"\",VLOOKUP(E663,PCMSO!$B$13:$E$614,4,FALSE))","v":""},null,null,null,"","",{"$f":"IF(G663=\"\",\"\",VLOOKUP(MONTH(G663),'C-A'!$J$13:$K$24,2,FALSE))","v":""},null,null,null,null,null,6.5100000000000932E-4,""]
["",null,{"$f":"IF(B664=\"\",\"\",VLOOKUP(B664,CAD_AREA!$CB$13:$CD$113,2,FALSE))","v":""},{"$f":"IF(B664=\"\",\"\",VLOOKUP(B664,CAD_AREA!$CB$13:$CD$113,3,FALSE))","v":""},null,{"$f":"IF(E664=\"\",\"\",VLOOKUP(E664,PCMSO!$B$13:$E$614,4,FALSE))","v":""},null,null,null,"","",{"$f":"IF(G664=\"\",\"\",VLOOKUP(MONTH(G664),'C-A'!$J$13:$K$24,2,FALSE))","v":""},null,null,null,null,null,6.5200000000000934E-4,""]
["",null,{"$f":"IF(B665=\"\",\"\",VLOOKUP(B665,CAD_AREA!$CB$13:$CD$113,2,FALSE))","v":""},{"$f":"IF(B665=\"\",\"\",VLOOKUP(B665,CAD_AREA!$CB$13:$CD$113,3,FALSE))","v":""},null,{"$f":"IF(E665=\"\",\"\",VLOOKUP(E665,PCMSO!$B$13:$E$614,4,FALSE))","v":""},null,null,null,"","",{"$f":"IF(G665=\"\",\"\",VLOOKUP(MONTH(G665),'C-A'!$J$13:$K$24,2,FALSE))","v":""},null,null,null,null,null,6.5300000000000937E-4,""]
["",null,{"$f":"IF(B666=\"\",\"\",VLOOKUP(B666,CAD_AREA!$CB$13:$CD$113,2,FALSE))","v":""},{"$f":"IF(B666=\"\",\"\",VLOOKUP(B666,CAD_AREA!$CB$13:$CD$113,3,FALSE))","v":""},null,{"$f":"IF(E666=\"\",\"\",VLOOKUP(E666,PCMSO!$B$13:$E$614,4,FALSE))","v":""},null,null,null,"","",{"$f":"IF(G666=\"\",\"\",VLOOKUP(MONTH(G666),'C-A'!$J$13:$K$24,2,FALSE))","v":""},null,null,null,null,null,6.5400000000000939E-4,""]
["",null,{"$f":"IF(B667=\"\",\"\",VLOOKUP(B667,CAD_AREA!$CB$13:$CD$113,2,FALSE))","v":""},{"$f":"IF(B667=\"\",\"\",VLOOKUP(B667,CAD_AREA!$CB$13:$CD$113,3,FALSE))","v":""},null,{"$f":"IF(E667=\"\",\"\",VLOOKUP(E667,PCMSO!$B$13:$E$614,4,FALSE))","v":""},null,null,null,"","",{"$f":"IF(G667=\"\",\"\",VLOOKUP(MONTH(G667),'C-A'!$J$13:$K$24,2,FALSE))","v":""},null,null,null,null,null,6.5500000000000942E-4,""]
["",null,{"$f":"IF(B668=\"\",\"\",VLOOKUP(B668,CAD_AREA!$CB$13:$CD$113,2,FALSE))","v":""},{"$f":"IF(B668=\"\",\"\",VLOOKUP(B668,CAD_AREA!$CB$13:$CD$113,3,FALSE))","v":""},null,{"$f":"IF(E668=\"\",\"\",VLOOKUP(E668,PCMSO!$B$13:$E$614,4,FALSE))","v":""},null,null,null,"","",{"$f":"IF(G668=\"\",\"\",VLOOKUP(MONTH(G668),'C-A'!$J$13:$K$24,2,FALSE))","v":""},null,null,null,null,null,6.5600000000000944E-4,""]
["",null,{"$f":"IF(B669=\"\",\"\",VLOOKUP(B669,CAD_AREA!$CB$13:$CD$113,2,FALSE))","v":""},{"$f":"IF(B669=\"\",\"\",VLOOKUP(B669,CAD_AREA!$CB$13:$CD$113,3,FALSE))","v":""},null,{"$f":"IF(E669=\"\",\"\",VLOOKUP(E669,PCMSO!$B$13:$E$614,4,FALSE))","v":""},null,null,null,"","",{"$f":"IF(G669=\"\",\"\",VLOOKUP(MONTH(G669),'C-A'!$J$13:$K$24,2,FALSE))","v":""},null,null,null,null,null,6.5700000000000946E-4,""]
["",null,{"$f":"IF(B670=\"\",\"\",VLOOKUP(B670,CAD_AREA!$CB$13:$CD$113,2,FALSE))","v":""},{"$f":"IF(B670=\"\",\"\",VLOOKUP(B670,CAD_AREA!$CB$13:$CD$113,3,FALSE))","v":""},null,{"$f":"IF(E670=\"\",\"\",VLOOKUP(E670,PCMSO!$B$13:$E$614,4,FALSE))","v":""},null,null,null,"","",{"$f":"IF(G670=\"\",\"\",VLOOKUP(MONTH(G670),'C-A'!$J$13:$K$24,2,FALSE))","v":""},null,null,null,null,null,6.5800000000000949E-4,""]
["",null,{"$f":"IF(B671=\"\",\"\",VLOOKUP(B671,CAD_AREA!$CB$13:$CD$113,2,FALSE))","v":""},{"$f":"IF(B671=\"\",\"\",VLOOKUP(B671,CAD_AREA!$CB$13:$CD$113,3,FALSE))","v":""},null,{"$f":"IF(E671=\"\",\"\",VLOOKUP(E671,PCMSO!$B$13:$E$614,4,FALSE))","v":""},null,null,null,"","",{"$f":"IF(G671=\"\",\"\",VLOOKUP(MONTH(G671),'C-A'!$J$13:$K$24,2,FALSE))","v":""},null,null,null,null,null,6.5900000000000951E-4,""]
["",null,{"$f":"IF(B672=\"\",\"\",VLOOKUP(B672,CAD_AREA!$CB$13:$CD$113,2,FALSE))","v":""},{"$f":"IF(B672=\"\",\"\",VLOOKUP(B672,CAD_AREA!$CB$13:$CD$113,3,FALSE))","v":""},null,{"$f":"IF(E672=\"\",\"\",VLOOKUP(E672,PCMSO!$B$13:$E$614,4,FALSE))","v":""},null,null,null,"","",{"$f":"IF(G672=\"\",\"\",VLOOKUP(MONTH(G672),'C-A'!$J$13:$K$24,2,FALSE))","v":""},null,null,null,null,null,6.6000000000000954E-4,""]
["",null,{"$f":"IF(B673=\"\",\"\",VLOOKUP(B673,CAD_AREA!$CB$13:$CD$113,2,FALSE))","v":""},{"$f":"IF(B673=\"\",\"\",VLOOKUP(B673,CAD_AREA!$CB$13:$CD$113,3,FALSE))","v":""},null,{"$f":"IF(E673=\"\",\"\",VLOOKUP(E673,PCMSO!$B$13:$E$614,4,FALSE))","v":""},null,null,null,"","",{"$f":"IF(G673=\"\",\"\",VLOOKUP(MONTH(G673),'C-A'!$J$13:$K$24,2,FALSE))","v":""},null,null,null,null,null,6.6100000000000956E-4,""]
["",null,{"$f":"IF(B674=\"\",\"\",VLOOKUP(B674,CAD_AREA!$CB$13:$CD$113,2,FALSE))","v":""},{"$f":"IF(B674=\"\",\"\",VLOOKUP(B674,CAD_AREA!$CB$13:$CD$113,3,FALSE))","v":""},null,{"$f":"IF(E674=\"\",\"\",VLOOKUP(E674,PCMSO!$B$13:$E$614,4,FALSE))","v":""},null,null,null,"","",{"$f":"IF(G674=\"\",\"\",VLOOKUP(MONTH(G674),'C-A'!$J$13:$K$24,2,FALSE))","v":""},null,null,null,null,null,6.6200000000000959E-4,""]
["",null,{"$f":"IF(B675=\"\",\"\",VLOOKUP(B675,CAD_AREA!$CB$13:$CD$113,2,FALSE))","v":""},{"$f":"IF(B675=\"\",\"\",VLOOKUP(B675,CAD_AREA!$CB$13:$CD$113,3,FALSE))","v":""},null,{"$f":"IF(E675=\"\",\"\",VLOOKUP(E675,PCMSO!$B$13:$E$614,4,FALSE))","v":""},null,null,null,"","",{"$f":"IF(G675=\"\",\"\",VLOOKUP(MONTH(G675),'C-A'!$J$13:$K$24,2,FALSE))","v":""},null,null,null,null,null,6.6300000000000961E-4,""]
["",null,{"$f":"IF(B676=\"\",\"\",VLOOKUP(B676,CAD_AREA!$CB$13:$CD$113,2,FALSE))","v":""},{"$f":"IF(B676=\"\",\"\",VLOOKUP(B676,CAD_AREA!$CB$13:$CD$113,3,FALSE))","v":""},null,{"$f":"IF(E676=\"\",\"\",VLOOKUP(E676,PCMSO!$B$13:$E$614,4,FALSE))","v":""},null,null,null,"","",{"$f":"IF(G676=\"\",\"\",VLOOKUP(MONTH(G676),'C-A'!$J$13:$K$24,2,FALSE))","v":""},null,null,null,null,null,6.6400000000000963E-4,""]
["",null,{"$f":"IF(B677=\"\",\"\",VLOOKUP(B677,CAD_AREA!$CB$13:$CD$113,2,FALSE))","v":""},{"$f":"IF(B677=\"\",\"\",VLOOKUP(B677,CAD_AREA!$CB$13:$CD$113,3,FALSE))","v":""},null,{"$f":"IF(E677=\"\",\"\",VLOOKUP(E677,PCMSO!$B$13:$E$614,4,FALSE))","v":""},null,null,null,"","",{"$f":"IF(G677=\"\",\"\",VLOOKUP(MONTH(G677),'C-A'!$J$13:$K$24,2,FALSE))","v":""},null,null,null,null,null,6.6500000000000966E-4,""]
["",null,{"$f":"IF(B678=\"\",\"\",VLOOKUP(B678,CAD_AREA!$CB$13:$CD$113,2,FALSE))","v":""},{"$f":"IF(B678=\"\",\"\",VLOOKUP(B678,CAD_AREA!$CB$13:$CD$113,3,FALSE))","v":""},null,{"$f":"IF(E678=\"\",\"\",VLOOKUP(E678,PCMSO!$B$13:$E$614,4,FALSE))","v":""},null,null,null,"","",{"$f":"IF(G678=\"\",\"\",VLOOKUP(MONTH(G678),'C-A'!$J$13:$K$24,2,FALSE))","v":""},null,null,null,null,null,6.6600000000000968E-4,""]
["",null,{"$f":"IF(B679=\"\",\"\",VLOOKUP(B679,CAD_AREA!$CB$13:$CD$113,2,FALSE))","v":""},{"$f":"IF(B679=\"\",\"\",VLOOKUP(B679,CAD_AREA!$CB$13:$CD$113,3,FALSE))","v":""},null,{"$f":"IF(E679=\"\",\"\",VLOOKUP(E679,PCMSO!$B$13:$E$614,4,FALSE))","v":""},null,null,null,"","",{"$f":"IF(G679=\"\",\"\",VLOOKUP(MONTH(G679),'C-A'!$J$13:$K$24,2,FALSE))","v":""},null,null,null,null,null,6.6700000000000971E-4,""]
["",null,{"$f":"IF(B680=\"\",\"\",VLOOKUP(B680,CAD_AREA!$CB$13:$CD$113,2,FALSE))","v":""},{"$f":"IF(B680=\"\",\"\",VLOOKUP(B680,CAD_AREA!$CB$13:$CD$113,3,FALSE))","v":""},null,{"$f":"IF(E680=\"\",\"\",VLOOKUP(E680,PCMSO!$B$13:$E$614,4,FALSE))","v":""},null,null,null,"","",{"$f":"IF(G680=\"\",\"\",VLOOKUP(MONTH(G680),'C-A'!$J$13:$K$24,2,FALSE))","v":""},null,null,null,null,null,6.6800000000000973E-4,""]
["",null,{"$f":"IF(B681=\"\",\"\",VLOOKUP(B681,CAD_AREA!$CB$13:$CD$113,2,FALSE))","v":""},{"$f":"IF(B681=\"\",\"\",VLOOKUP(B681,CAD_AREA!$CB$13:$CD$113,3,FALSE))","v":""},null,{"$f":"IF(E681=\"\",\"\",VLOOKUP(E681,PCMSO!$B$13:$E$614,4,FALSE))","v":""},null,null,null,"","",{"$f":"IF(G681=\"\",\"\",VLOOKUP(MONTH(G681),'C-A'!$J$13:$K$24,2,FALSE))","v":""},null,null,null,null,null,6.6900000000000976E-4,""]
["",null,{"$f":"IF(B682=\"\",\"\",VLOOKUP(B682,CAD_AREA!$CB$13:$CD$113,2,FALSE))","v":""},{"$f":"IF(B682=\"\",\"\",VLOOKUP(B682,CAD_AREA!$CB$13:$CD$113,3,FALSE))","v":""},null,{"$f":"IF(E682=\"\",\"\",VLOOKUP(E682,PCMSO!$B$13:$E$614,4,FALSE))","v":""},null,null,null,"","",{"$f":"IF(G682=\"\",\"\",VLOOKUP(MONTH(G682),'C-A'!$J$13:$K$24,2,FALSE))","v":""},null,null,null,null,null,6.7000000000000978E-4,""]
["",null,{"$f":"IF(B683=\"\",\"\",VLOOKUP(B683,CAD_AREA!$CB$13:$CD$113,2,FALSE))","v":""},{"$f":"IF(B683=\"\",\"\",VLOOKUP(B683,CAD_AREA!$CB$13:$CD$113,3,FALSE))","v":""},null,{"$f":"IF(E683=\"\",\"\",VLOOKUP(E683,PCMSO!$B$13:$E$614,4,FALSE))","v":""},null,null,null,"","",{"$f":"IF(G683=\"\",\"\",VLOOKUP(MONTH(G683),'C-A'!$J$13:$K$24,2,FALSE))","v":""},null,null,null,null,null,6.710000000000098E-4,""]
["",null,{"$f":"IF(B684=\"\",\"\",VLOOKUP(B684,CAD_AREA!$CB$13:$CD$113,2,FALSE))","v":""},{"$f":"IF(B684=\"\",\"\",VLOOKUP(B684,CAD_AREA!$CB$13:$CD$113,3,FALSE))","v":""},null,{"$f":"IF(E684=\"\",\"\",VLOOKUP(E684,PCMSO!$B$13:$E$614,4,FALSE))","v":""},null,null,null,"","",{"$f":"IF(G684=\"\",\"\",VLOOKUP(MONTH(G684),'C-A'!$J$13:$K$24,2,FALSE))","v":""},null,null,null,null,null,6.7200000000000983E-4,""]
["",null,{"$f":"IF(B685=\"\",\"\",VLOOKUP(B685,CAD_AREA!$CB$13:$CD$113,2,FALSE))","v":""},{"$f":"IF(B685=\"\",\"\",VLOOKUP(B685,CAD_AREA!$CB$13:$CD$113,3,FALSE))","v":""},null,{"$f":"IF(E685=\"\",\"\",VLOOKUP(E685,PCMSO!$B$13:$E$614,4,FALSE))","v":""},null,null,null,"","",{"$f":"IF(G685=\"\",\"\",VLOOKUP(MONTH(G685),'C-A'!$J$13:$K$24,2,FALSE))","v":""},null,null,null,null,null,6.7300000000000985E-4,""]
["",null,{"$f":"IF(B686=\"\",\"\",VLOOKUP(B686,CAD_AREA!$CB$13:$CD$113,2,FALSE))","v":""},{"$f":"IF(B686=\"\",\"\",VLOOKUP(B686,CAD_AREA!$CB$13:$CD$113,3,FALSE))","v":""},null,{"$f":"IF(E686=\"\",\"\",VLOOKUP(E686,PCMSO!$B$13:$E$614,4,FALSE))","v":""},null,null,null,"","",{"$f":"IF(G686=\"\",\"\",VLOOKUP(MONTH(G686),'C-A'!$J$13:$K$24,2,FALSE))","v":""},null,null,null,null,null,6.7400000000000988E-4,""]
["",null,{"$f":"IF(B687=\"\",\"\",VLOOKUP(B687,CAD_AREA!$CB$13:$CD$113,2,FALSE))","v":""},{"$f":"IF(B687=\"\",\"\",VLOOKUP(B687,CAD_AREA!$CB$13:$CD$113,3,FALSE))","v":""},null,{"$f":"IF(E687=\"\",\"\",VLOOKUP(E687,PCMSO!$B$13:$E$614,4,FALSE))","v":""},null,null,null,"","",{"$f":"IF(G687=\"\",\"\",VLOOKUP(MONTH(G687),'C-A'!$J$13:$K$24,2,FALSE))","v":""},null,null,null,null,null,6.750000000000099E-4,""]
["",null,{"$f":"IF(B688=\"\",\"\",VLOOKUP(B688,CAD_AREA!$CB$13:$CD$113,2,FALSE))","v":""},{"$f":"IF(B688=\"\",\"\",VLOOKUP(B688,CAD_AREA!$CB$13:$CD$113,3,FALSE))","v":""},null,{"$f":"IF(E688=\"\",\"\",VLOOKUP(E688,PCMSO!$B$13:$E$614,4,FALSE))","v":""},null,null,null,"","",{"$f":"IF(G688=\"\",\"\",VLOOKUP(MONTH(G688),'C-A'!$J$13:$K$24,2,FALSE))","v":""},null,null,null,null,null,6.7600000000000993E-4,""]
["",null,{"$f":"IF(B689=\"\",\"\",VLOOKUP(B689,CAD_AREA!$CB$13:$CD$113,2,FALSE))","v":""},{"$f":"IF(B689=\"\",\"\",VLOOKUP(B689,CAD_AREA!$CB$13:$CD$113,3,FALSE))","v":""},null,{"$f":"IF(E689=\"\",\"\",VLOOKUP(E689,PCMSO!$B$13:$E$614,4,FALSE))","v":""},null,null,null,"","",{"$f":"IF(G689=\"\",\"\",VLOOKUP(MONTH(G689),'C-A'!$J$13:$K$24,2,FALSE))","v":""},null,null,null,null,null,6.7700000000000995E-4,""]
["",null,{"$f":"IF(B690=\"\",\"\",VLOOKUP(B690,CAD_AREA!$CB$13:$CD$113,2,FALSE))","v":""},{"$f":"IF(B690=\"\",\"\",VLOOKUP(B690,CAD_AREA!$CB$13:$CD$113,3,FALSE))","v":""},null,{"$f":"IF(E690=\"\",\"\",VLOOKUP(E690,PCMSO!$B$13:$E$614,4,FALSE))","v":""},null,null,null,"","",{"$f":"IF(G690=\"\",\"\",VLOOKUP(MONTH(G690),'C-A'!$J$13:$K$24,2,FALSE))","v":""},null,null,null,null,null,6.7800000000000997E-4,""]
["",null,{"$f":"IF(B691=\"\",\"\",VLOOKUP(B691,CAD_AREA!$CB$13:$CD$113,2,FALSE))","v":""},{"$f":"IF(B691=\"\",\"\",VLOOKUP(B691,CAD_AREA!$CB$13:$CD$113,3,FALSE))","v":""},null,{"$f":"IF(E691=\"\",\"\",VLOOKUP(E691,PCMSO!$B$13:$E$614,4,FALSE))","v":""},null,null,null,"","",{"$f":"IF(G691=\"\",\"\",VLOOKUP(MONTH(G691),'C-A'!$J$13:$K$24,2,FALSE))","v":""},null,null,null,null,null,6.7900000000001E-4,""]
["",null,{"$f":"IF(B692=\"\",\"\",VLOOKUP(B692,CAD_AREA!$CB$13:$CD$113,2,FALSE))","v":""},{"$f":"IF(B692=\"\",\"\",VLOOKUP(B692,CAD_AREA!$CB$13:$CD$113,3,FALSE))","v":""},null,{"$f":"IF(E692=\"\",\"\",VLOOKUP(E692,PCMSO!$B$13:$E$614,4,FALSE))","v":""},null,null,null,"","",{"$f":"IF(G692=\"\",\"\",VLOOKUP(MONTH(G692),'C-A'!$J$13:$K$24,2,FALSE))","v":""},null,null,null,null,null,6.8000000000001002E-4,""]
["",null,{"$f":"IF(B693=\"\",\"\",VLOOKUP(B693,CAD_AREA!$CB$13:$CD$113,2,FALSE))","v":""},{"$f":"IF(B693=\"\",\"\",VLOOKUP(B693,CAD_AREA!$CB$13:$CD$113,3,FALSE))","v":""},null,{"$f":"IF(E693=\"\",\"\",VLOOKUP(E693,PCMSO!$B$13:$E$614,4,FALSE))","v":""},null,null,null,"","",{"$f":"IF(G693=\"\",\"\",VLOOKUP(MONTH(G693),'C-A'!$J$13:$K$24,2,FALSE))","v":""},null,null,null,null,null,6.8100000000001005E-4,""]
[{"$f":"IF(S694=\"\",\"\",SUM(R694:S694))","v":""},null,{"$f":"IF(B694=\"\",\"\",VLOOKUP(B694,CAD_AREA!$CB$13:$CD$113,2,FALSE))","v":""},{"$f":"IF(B694=\"\",\"\",VLOOKUP(B694,CAD_AREA!$CB$13:$CD$113,3,FALSE))","v":""},null,{"$f":"IF(E694=\"\",\"\",VLOOKUP(E694,PCMSO!$B$13:$E$614,4,FALSE))","v":""},null,null,null,"","",{"$f":"IF(G694=\"\",\"\",VLOOKUP(MONTH(G694),'C-A'!$J$13:$K$24,2,FALSE))","v":""},null,null,null,null,null,6.8200000000001007E-4,""]
["",null,{"$f":"IF(B695=\"\",\"\",VLOOKUP(B695,CAD_AREA!$CB$13:$CD$113,2,FALSE))","v":""},{"$f":"IF(B695=\"\",\"\",VLOOKUP(B695,CAD_AREA!$CB$13:$CD$113,3,FALSE))","v":""},null,{"$f":"IF(E695=\"\",\"\",VLOOKUP(E695,PCMSO!$B$13:$E$614,4,FALSE))","v":""},null,null,null,"","",{"$f":"IF(G695=\"\",\"\",VLOOKUP(MONTH(G695),'C-A'!$J$13:$K$24,2,FALSE))","v":""},null,null,null,null,null,6.830000000000101E-4,""]
["",null,{"$f":"IF(B696=\"\",\"\",VLOOKUP(B696,CAD_AREA!$CB$13:$CD$113,2,FALSE))","v":""},{"$f":"IF(B696=\"\",\"\",VLOOKUP(B696,CAD_AREA!$CB$13:$CD$113,3,FALSE))","v":""},null,{"$f":"IF(E696=\"\",\"\",VLOOKUP(E696,PCMSO!$B$13:$E$614,4,FALSE))","v":""},null,null,null,"","",{"$f":"IF(G696=\"\",\"\",VLOOKUP(MONTH(G696),'C-A'!$J$13:$K$24,2,FALSE))","v":""},null,null,null,null,null,6.8400000000001012E-4,""]
["",null,{"$f":"IF(B697=\"\",\"\",VLOOKUP(B697,CAD_AREA!$CB$13:$CD$113,2,FALSE))","v":""},{"$f":"IF(B697=\"\",\"\",VLOOKUP(B697,CAD_AREA!$CB$13:$CD$113,3,FALSE))","v":""},null,{"$f":"IF(E697=\"\",\"\",VLOOKUP(E697,PCMSO!$B$13:$E$614,4,FALSE))","v":""},null,null,null,"","",{"$f":"IF(G697=\"\",\"\",VLOOKUP(MONTH(G697),'C-A'!$J$13:$K$24,2,FALSE))","v":""},null,null,null,null,null,6.8500000000001015E-4,""]
["",null,{"$f":"IF(B698=\"\",\"\",VLOOKUP(B698,CAD_AREA!$CB$13:$CD$113,2,FALSE))","v":""},{"$f":"IF(B698=\"\",\"\",VLOOKUP(B698,CAD_AREA!$CB$13:$CD$113,3,FALSE))","v":""},null,{"$f":"IF(E698=\"\",\"\",VLOOKUP(E698,PCMSO!$B$13:$E$614,4,FALSE))","v":""},null,null,null,"","",{"$f":"IF(G698=\"\",\"\",VLOOKUP(MONTH(G698),'C-A'!$J$13:$K$24,2,FALSE))","v":""},null,null,null,null,null,6.8600000000001017E-4,""]
["",null,{"$f":"IF(B699=\"\",\"\",VLOOKUP(B699,CAD_AREA!$CB$13:$CD$113,2,FALSE))","v":""},{"$f":"IF(B699=\"\",\"\",VLOOKUP(B699,CAD_AREA!$CB$13:$CD$113,3,FALSE))","v":""},null,{"$f":"IF(E699=\"\",\"\",VLOOKUP(E699,PCMSO!$B$13:$E$614,4,FALSE))","v":""},null,null,null,"","",{"$f":"IF(G699=\"\",\"\",VLOOKUP(MONTH(G699),'C-A'!$J$13:$K$24,2,FALSE))","v":""},null,null,null,null,null,6.8700000000001019E-4,""]
["",null,{"$f":"IF(B700=\"\",\"\",VLOOKUP(B700,CAD_AREA!$CB$13:$CD$113,2,FALSE))","v":""},{"$f":"IF(B700=\"\",\"\",VLOOKUP(B700,CAD_AREA!$CB$13:$CD$113,3,FALSE))","v":""},null,{"$f":"IF(E700=\"\",\"\",VLOOKUP(E700,PCMSO!$B$13:$E$614,4,FALSE))","v":""},null,null,null,"","",{"$f":"IF(G700=\"\",\"\",VLOOKUP(MONTH(G700),'C-A'!$J$13:$K$24,2,FALSE))","v":""},null,null,null,null,null,6.8800000000001022E-4,""]
["",null,{"$f":"IF(B701=\"\",\"\",VLOOKUP(B701,CAD_AREA!$CB$13:$CD$113,2,FALSE))","v":""},{"$f":"IF(B701=\"\",\"\",VLOOKUP(B701,CAD_AREA!$CB$13:$CD$113,3,FALSE))","v":""},null,{"$f":"IF(E701=\"\",\"\",VLOOKUP(E701,PCMSO!$B$13:$E$614,4,FALSE))","v":""},null,null,null,"","",{"$f":"IF(G701=\"\",\"\",VLOOKUP(MONTH(G701),'C-A'!$J$13:$K$24,2,FALSE))","v":""},null,null,null,null,null,6.8900000000001024E-4,""]
["",null,{"$f":"IF(B702=\"\",\"\",VLOOKUP(B702,CAD_AREA!$CB$13:$CD$113,2,FALSE))","v":""},{"$f":"IF(B702=\"\",\"\",VLOOKUP(B702,CAD_AREA!$CB$13:$CD$113,3,FALSE))","v":""},null,{"$f":"IF(E702=\"\",\"\",VLOOKUP(E702,PCMSO!$B$13:$E$614,4,FALSE))","v":""},null,null,null,"","",{"$f":"IF(G702=\"\",\"\",VLOOKUP(MONTH(G702),'C-A'!$J$13:$K$24,2,FALSE))","v":""},null,null,null,null,null,6.9000000000001027E-4,""]
["",null,{"$f":"IF(B703=\"\",\"\",VLOOKUP(B703,CAD_AREA!$CB$13:$CD$113,2,FALSE))","v":""},{"$f":"IF(B703=\"\",\"\",VLOOKUP(B703,CAD_AREA!$CB$13:$CD$113,3,FALSE))","v":""},null,{"$f":"IF(E703=\"\",\"\",VLOOKUP(E703,PCMSO!$B$13:$E$614,4,FALSE))","v":""},null,null,null,"","",{"$f":"IF(G703=\"\",\"\",VLOOKUP(MONTH(G703),'C-A'!$J$13:$K$24,2,FALSE))","v":""},null,null,null,null,null,6.9100000000001029E-4,""]
["",null,{"$f":"IF(B704=\"\",\"\",VLOOKUP(B704,CAD_AREA!$CB$13:$CD$113,2,FALSE))","v":""},{"$f":"IF(B704=\"\",\"\",VLOOKUP(B704,CAD_AREA!$CB$13:$CD$113,3,FALSE))","v":""},null,{"$f":"IF(E704=\"\",\"\",VLOOKUP(E704,PCMSO!$B$13:$E$614,4,FALSE))","v":""},null,null,null,"","",{"$f":"IF(G704=\"\",\"\",VLOOKUP(MONTH(G704),'C-A'!$J$13:$K$24,2,FALSE))","v":""},null,null,null,null,null,6.9200000000001032E-4,""]
["",null,{"$f":"IF(B705=\"\",\"\",VLOOKUP(B705,CAD_AREA!$CB$13:$CD$113,2,FALSE))","v":""},{"$f":"IF(B705=\"\",\"\",VLOOKUP(B705,CAD_AREA!$CB$13:$CD$113,3,FALSE))","v":""},null,{"$f":"IF(E705=\"\",\"\",VLOOKUP(E705,PCMSO!$B$13:$E$614,4,FALSE))","v":""},null,null,null,"","",{"$f":"IF(G705=\"\",\"\",VLOOKUP(MONTH(G705),'C-A'!$J$13:$K$24,2,FALSE))","v":""},null,null,null,null,null,6.9300000000001034E-4,""]
["",null,{"$f":"IF(B706=\"\",\"\",VLOOKUP(B706,CAD_AREA!$CB$13:$CD$113,2,FALSE))","v":""},{"$f":"IF(B706=\"\",\"\",VLOOKUP(B706,CAD_AREA!$CB$13:$CD$113,3,FALSE))","v":""},null,{"$f":"IF(E706=\"\",\"\",VLOOKUP(E706,PCMSO!$B$13:$E$614,4,FALSE))","v":""},null,null,null,"","",{"$f":"IF(G706=\"\",\"\",VLOOKUP(MONTH(G706),'C-A'!$J$13:$K$24,2,FALSE))","v":""},null,null,null,null,null,6.9400000000001036E-4,""]
["",null,{"$f":"IF(B707=\"\",\"\",VLOOKUP(B707,CAD_AREA!$CB$13:$CD$113,2,FALSE))","v":""},{"$f":"IF(B707=\"\",\"\",VLOOKUP(B707,CAD_AREA!$CB$13:$CD$113,3,FALSE))","v":""},null,{"$f":"IF(E707=\"\",\"\",VLOOKUP(E707,PCMSO!$B$13:$E$614,4,FALSE))","v":""},null,null,null,"","",{"$f":"IF(G707=\"\",\"\",VLOOKUP(MONTH(G707),'C-A'!$J$13:$K$24,2,FALSE))","v":""},null,null,null,null,null,6.9500000000001039E-4,""]
["",null,{"$f":"IF(B708=\"\",\"\",VLOOKUP(B708,CAD_AREA!$CB$13:$CD$113,2,FALSE))","v":""},{"$f":"IF(B708=\"\",\"\",VLOOKUP(B708,CAD_AREA!$CB$13:$CD$113,3,FALSE))","v":""},null,{"$f":"IF(E708=\"\",\"\",VLOOKUP(E708,PCMSO!$B$13:$E$614,4,FALSE))","v":""},null,null,null,"","",{"$f":"IF(G708=\"\",\"\",VLOOKUP(MONTH(G708),'C-A'!$J$13:$K$24,2,FALSE))","v":""},null,null,null,null,null,6.9600000000001041E-4,""]
["",null,{"$f":"IF(B709=\"\",\"\",VLOOKUP(B709,CAD_AREA!$CB$13:$CD$113,2,FALSE))","v":""},{"$f":"IF(B709=\"\",\"\",VLOOKUP(B709,CAD_AREA!$CB$13:$CD$113,3,FALSE))","v":""},null,{"$f":"IF(E709=\"\",\"\",VLOOKUP(E709,PCMSO!$B$13:$E$614,4,FALSE))","v":""},null,null,null,"","",{"$f":"IF(G709=\"\",\"\",VLOOKUP(MONTH(G709),'C-A'!$J$13:$K$24,2,FALSE))","v":""},null,null,null,null,null,6.9700000000001044E-4,""]
["",null,{"$f":"IF(B710=\"\",\"\",VLOOKUP(B710,CAD_AREA!$CB$13:$CD$113,2,FALSE))","v":""},{"$f":"IF(B710=\"\",\"\",VLOOKUP(B710,CAD_AREA!$CB$13:$CD$113,3,FALSE))","v":""},null,{"$f":"IF(E710=\"\",\"\",VLOOKUP(E710,PCMSO!$B$13:$E$614,4,FALSE))","v":""},null,null,null,"","",{"$f":"IF(G710=\"\",\"\",VLOOKUP(MONTH(G710),'C-A'!$J$13:$K$24,2,FALSE))","v":""},null,null,null,null,null,6.9800000000001046E-4,""]
["",null,{"$f":"IF(B711=\"\",\"\",VLOOKUP(B711,CAD_AREA!$CB$13:$CD$113,2,FALSE))","v":""},{"$f":"IF(B711=\"\",\"\",VLOOKUP(B711,CAD_AREA!$CB$13:$CD$113,3,FALSE))","v":""},null,{"$f":"IF(E711=\"\",\"\",VLOOKUP(E711,PCMSO!$B$13:$E$614,4,FALSE))","v":""},null,null,null,"","",{"$f":"IF(G711=\"\",\"\",VLOOKUP(MONTH(G711),'C-A'!$J$13:$K$24,2,FALSE))","v":""},null,null,null,null,null,6.9900000000001049E-4,""]
["",null,{"$f":"IF(B712=\"\",\"\",VLOOKUP(B712,CAD_AREA!$CB$13:$CD$113,2,FALSE))","v":""},{"$f":"IF(B712=\"\",\"\",VLOOKUP(B712,CAD_AREA!$CB$13:$CD$113,3,FALSE))","v":""},null,{"$f":"IF(E712=\"\",\"\",VLOOKUP(E712,PCMSO!$B$13:$E$614,4,FALSE))","v":""},null,null,null,"","",{"$f":"IF(G712=\"\",\"\",VLOOKUP(MONTH(G712),'C-A'!$J$13:$K$24,2,FALSE))","v":""},null,null,null,null,null,7.0000000000001051E-4,""]
["",null,{"$f":"IF(B713=\"\",\"\",VLOOKUP(B713,CAD_AREA!$CB$13:$CD$113,2,FALSE))","v":""},{"$f":"IF(B713=\"\",\"\",VLOOKUP(B713,CAD_AREA!$CB$13:$CD$113,3,FALSE))","v":""},null,{"$f":"IF(E713=\"\",\"\",VLOOKUP(E713,PCMSO!$B$13:$E$614,4,FALSE))","v":""},null,null,null,"","",{"$f":"IF(G713=\"\",\"\",VLOOKUP(MONTH(G713),'C-A'!$J$13:$K$24,2,FALSE))","v":""},null,null,null,null,null,7.0100000000001053E-4,""]
["",null,{"$f":"IF(B714=\"\",\"\",VLOOKUP(B714,CAD_AREA!$CB$13:$CD$113,2,FALSE))","v":""},{"$f":"IF(B714=\"\",\"\",VLOOKUP(B714,CAD_AREA!$CB$13:$CD$113,3,FALSE))","v":""},null,{"$f":"IF(E714=\"\",\"\",VLOOKUP(E714,PCMSO!$B$13:$E$614,4,FALSE))","v":""},null,null,null,"","",{"$f":"IF(G714=\"\",\"\",VLOOKUP(MONTH(G714),'C-A'!$J$13:$K$24,2,FALSE))","v":""},null,null,null,null,null,7.0200000000001056E-4,""]
["",null,{"$f":"IF(B715=\"\",\"\",VLOOKUP(B715,CAD_AREA!$CB$13:$CD$113,2,FALSE))","v":""},{"$f":"IF(B715=\"\",\"\",VLOOKUP(B715,CAD_AREA!$CB$13:$CD$113,3,FALSE))","v":""},null,{"$f":"IF(E715=\"\",\"\",VLOOKUP(E715,PCMSO!$B$13:$E$614,4,FALSE))","v":""},null,null,null,"","",{"$f":"IF(G715=\"\",\"\",VLOOKUP(MONTH(G715),'C-A'!$J$13:$K$24,2,FALSE))","v":""},null,null,null,null,null,7.0300000000001058E-4,""]
["",null,{"$f":"IF(B716=\"\",\"\",VLOOKUP(B716,CAD_AREA!$CB$13:$CD$113,2,FALSE))","v":""},{"$f":"IF(B716=\"\",\"\",VLOOKUP(B716,CAD_AREA!$CB$13:$CD$113,3,FALSE))","v":""},null,{"$f":"IF(E716=\"\",\"\",VLOOKUP(E716,PCMSO!$B$13:$E$614,4,FALSE))","v":""},null,null,null,"","",{"$f":"IF(G716=\"\",\"\",VLOOKUP(MONTH(G716),'C-A'!$J$13:$K$24,2,FALSE))","v":""},null,null,null,null,null,7.0400000000001061E-4,""]
["",null,{"$f":"IF(B717=\"\",\"\",VLOOKUP(B717,CAD_AREA!$CB$13:$CD$113,2,FALSE))","v":""},{"$f":"IF(B717=\"\",\"\",VLOOKUP(B717,CAD_AREA!$CB$13:$CD$113,3,FALSE))","v":""},null,{"$f":"IF(E717=\"\",\"\",VLOOKUP(E717,PCMSO!$B$13:$E$614,4,FALSE))","v":""},null,null,null,{"$f":"IF(F717=\"\",\"\",VLOOKUP(F717,$N$13:$O$19,2,FALSE)+G717)","v":""},"",{"$f":"IF(G717=\"\",\"\",VLOOKUP(MONTH(G717),'C-A'!$J$13:$K$24,2,FALSE))","v":""},null,null,null,null,null,7.0500000000001063E-4,{"$f":"IF(K717=\"Vencido\",\"\",J717)","v":""}]
["",null,{"$f":"IF(B718=\"\",\"\",VLOOKUP(B718,CAD_AREA!$CB$13:$CD$113,2,FALSE))","v":""},{"$f":"IF(B718=\"\",\"\",VLOOKUP(B718,CAD_AREA!$CB$13:$CD$113,3,FALSE))","v":""},null,{"$f":"IF(E718=\"\",\"\",VLOOKUP(E718,PCMSO!$B$13:$E$614,4,FALSE))","v":""},null,null,null,"",{"$f":"IF(J718=\"\",\"\",IF(J718-TODAY()<0,\"Vencido\",IF(J718-TODAY()=0,\"Realizar hoje\",\"Realizar em \"&J718-TODAY()&\" dias\")))","v":""},{"$f":"IF(G718=\"\",\"\",VLOOKUP(MONTH(G718),'C-A'!$J$13:$K$24,2,FALSE))","v":""},null,null,null,null,null,7.0600000000001066E-4,""]
["",null,{"$f":"IF(B719=\"\",\"\",VLOOKUP(B719,CAD_AREA!$CB$13:$CD$113,2,FALSE))","v":""},{"$f":"IF(B719=\"\",\"\",VLOOKUP(B719,CAD_AREA!$CB$13:$CD$113,3,FALSE))","v":""},null,{"$f":"IF(E719=\"\",\"\",VLOOKUP(E719,PCMSO!$B$13:$E$614,4,FALSE))","v":""},null,null,null,"","",{"$f":"IF(G719=\"\",\"\",VLOOKUP(MONTH(G719),'C-A'!$J$13:$K$24,2,FALSE))","v":""},null,null,null,null,null,{"$f":"R718+$R$13","v":7.0700000000001068E-4},""]
["",null,{"$f":"IF(B720=\"\",\"\",VLOOKUP(B720,CAD_AREA!$CB$13:$CD$113,2,FALSE))","v":""},{"$f":"IF(B720=\"\",\"\",VLOOKUP(B720,CAD_AREA!$CB$13:$CD$113,3,FALSE))","v":""},null,{"$f":"IF(E720=\"\",\"\",VLOOKUP(E720,PCMSO!$B$13:$E$614,4,FALSE))","v":""},null,null,null,"","",{"$f":"IF(G720=\"\",\"\",VLOOKUP(MONTH(G720),'C-A'!$J$13:$K$24,2,FALSE))","v":""},null,null,null,null,null,7.080000000000107E-4,""]
["",null,{"$f":"IF(B721=\"\",\"\",VLOOKUP(B721,CAD_AREA!$CB$13:$CD$113,2,FALSE))","v":""},{"$f":"IF(B721=\"\",\"\",VLOOKUP(B721,CAD_AREA!$CB$13:$CD$113,3,FALSE))","v":""},null,{"$f":"IF(E721=\"\",\"\",VLOOKUP(E721,PCMSO!$B$13:$E$614,4,FALSE))","v":""},null,null,null,"","",{"$f":"IF(G721=\"\",\"\",VLOOKUP(MONTH(G721),'C-A'!$J$13:$K$24,2,FALSE))","v":""},null,null,null,null,null,7.0900000000001073E-4,""]
["",null,{"$f":"IF(B722=\"\",\"\",VLOOKUP(B722,CAD_AREA!$CB$13:$CD$113,2,FALSE))","v":""},{"$f":"IF(B722=\"\",\"\",VLOOKUP(B722,CAD_AREA!$CB$13:$CD$113,3,FALSE))","v":""},null,{"$f":"IF(E722=\"\",\"\",VLOOKUP(E722,PCMSO!$B$13:$E$614,4,FALSE))","v":""},null,null,null,"","",{"$f":"IF(G722=\"\",\"\",VLOOKUP(MONTH(G722),'C-A'!$J$13:$K$24,2,FALSE))","v":""},null,null,null,null,null,7.1000000000001075E-4,""]
["",null,{"$f":"IF(B723=\"\",\"\",VLOOKUP(B723,CAD_AREA!$CB$13:$CD$113,2,FALSE))","v":""},{"$f":"IF(B723=\"\",\"\",VLOOKUP(B723,CAD_AREA!$CB$13:$CD$113,3,FALSE))","v":""},null,{"$f":"IF(E723=\"\",\"\",VLOOKUP(E723,PCMSO!$B$13:$E$614,4,FALSE))","v":""},null,null,null,"","",{"$f":"IF(G723=\"\",\"\",VLOOKUP(MONTH(G723),'C-A'!$J$13:$K$24,2,FALSE))","v":""},null,null,null,null,null,7.1100000000001078E-4,""]
["",null,{"$f":"IF(B724=\"\",\"\",VLOOKUP(B724,CAD_AREA!$CB$13:$CD$113,2,FALSE))","v":""},{"$f":"IF(B724=\"\",\"\",VLOOKUP(B724,CAD_AREA!$CB$13:$CD$113,3,FALSE))","v":""},null,{"$f":"IF(E724=\"\",\"\",VLOOKUP(E724,PCMSO!$B$13:$E$614,4,FALSE))","v":""},null,null,null,"","",{"$f":"IF(G724=\"\",\"\",VLOOKUP(MONTH(G724),'C-A'!$J$13:$K$24,2,FALSE))","v":""},null,null,null,null,null,7.120000000000108E-4,""]
["",null,{"$f":"IF(B725=\"\",\"\",VLOOKUP(B725,CAD_AREA!$CB$13:$CD$113,2,FALSE))","v":""},{"$f":"IF(B725=\"\",\"\",VLOOKUP(B725,CAD_AREA!$CB$13:$CD$113,3,FALSE))","v":""},null,{"$f":"IF(E725=\"\",\"\",VLOOKUP(E725,PCMSO!$B$13:$E$614,4,FALSE))","v":""},null,null,null,"","",{"$f":"IF(G725=\"\",\"\",VLOOKUP(MONTH(G725),'C-A'!$J$13:$K$24,2,FALSE))","v":""},null,null,null,null,null,7.1300000000001083E-4,""]
["",null,{"$f":"IF(B726=\"\",\"\",VLOOKUP(B726,CAD_AREA!$CB$13:$CD$113,2,FALSE))","v":""},{"$f":"IF(B726=\"\",\"\",VLOOKUP(B726,CAD_AREA!$CB$13:$CD$113,3,FALSE))","v":""},null,{"$f":"IF(E726=\"\",\"\",VLOOKUP(E726,PCMSO!$B$13:$E$614,4,FALSE))","v":""},null,null,null,"","",{"$f":"IF(G726=\"\",\"\",VLOOKUP(MONTH(G726),'C-A'!$J$13:$K$24,2,FALSE))","v":""},null,null,null,null,null,7.1400000000001085E-4,""]
["",null,{"$f":"IF(B727=\"\",\"\",VLOOKUP(B727,CAD_AREA!$CB$13:$CD$113,2,FALSE))","v":""},{"$f":"IF(B727=\"\",\"\",VLOOKUP(B727,CAD_AREA!$CB$13:$CD$113,3,FALSE))","v":""},null,{"$f":"IF(E727=\"\",\"\",VLOOKUP(E727,PCMSO!$B$13:$E$614,4,FALSE))","v":""},null,null,null,"","",{"$f":"IF(G727=\"\",\"\",VLOOKUP(MONTH(G727),'C-A'!$J$13:$K$24,2,FALSE))","v":""},null,null,null,null,null,7.1500000000001087E-4,""]
["",null,{"$f":"IF(B728=\"\",\"\",VLOOKUP(B728,CAD_AREA!$CB$13:$CD$113,2,FALSE))","v":""},{"$f":"IF(B728=\"\",\"\",VLOOKUP(B728,CAD_AREA!$CB$13:$CD$113,3,FALSE))","v":""},null,{"$f":"IF(E728=\"\",\"\",VLOOKUP(E728,PCMSO!$B$13:$E$614,4,FALSE))","v":""},null,null,null,"","",{"$f":"IF(G728=\"\",\"\",VLOOKUP(MONTH(G728),'C-A'!$J$13:$K$24,2,FALSE))","v":""},null,null,null,null,null,7.160000000000109E-4,""]
["",null,{"$f":"IF(B729=\"\",\"\",VLOOKUP(B729,CAD_AREA!$CB$13:$CD$113,2,FALSE))","v":""},{"$f":"IF(B729=\"\",\"\",VLOOKUP(B729,CAD_AREA!$CB$13:$CD$113,3,FALSE))","v":""},null,{"$f":"IF(E729=\"\",\"\",VLOOKUP(E729,PCMSO!$B$13:$E$614,4,FALSE))","v":""},null,null,null,"","",{"$f":"IF(G729=\"\",\"\",VLOOKUP(MONTH(G729),'C-A'!$J$13:$K$24,2,FALSE))","v":""},null,null,null,null,null,7.1700000000001092E-4,""]
["",null,{"$f":"IF(B730=\"\",\"\",VLOOKUP(B730,CAD_AREA!$CB$13:$CD$113,2,FALSE))","v":""},{"$f":"IF(B730=\"\",\"\",VLOOKUP(B730,CAD_AREA!$CB$13:$CD$113,3,FALSE))","v":""},null,{"$f":"IF(E730=\"\",\"\",VLOOKUP(E730,PCMSO!$B$13:$E$614,4,FALSE))","v":""},null,null,null,"","",{"$f":"IF(G730=\"\",\"\",VLOOKUP(MONTH(G730),'C-A'!$J$13:$K$24,2,FALSE))","v":""},null,null,null,null,null,7.1800000000001095E-4,""]
["",null,{"$f":"IF(B731=\"\",\"\",VLOOKUP(B731,CAD_AREA!$CB$13:$CD$113,2,FALSE))","v":""},{"$f":"IF(B731=\"\",\"\",VLOOKUP(B731,CAD_AREA!$CB$13:$CD$113,3,FALSE))","v":""},null,{"$f":"IF(E731=\"\",\"\",VLOOKUP(E731,PCMSO!$B$13:$E$614,4,FALSE))","v":""},null,null,null,"","",{"$f":"IF(G731=\"\",\"\",VLOOKUP(MONTH(G731),'C-A'!$J$13:$K$24,2,FALSE))","v":""},null,null,null,null,null,7.1900000000001097E-4,""]
["",null,{"$f":"IF(B732=\"\",\"\",VLOOKUP(B732,CAD_AREA!$CB$13:$CD$113,2,FALSE))","v":""},{"$f":"IF(B732=\"\",\"\",VLOOKUP(B732,CAD_AREA!$CB$13:$CD$113,3,FALSE))","v":""},null,{"$f":"IF(E732=\"\",\"\",VLOOKUP(E732,PCMSO!$B$13:$E$614,4,FALSE))","v":""},null,null,null,"","",{"$f":"IF(G732=\"\",\"\",VLOOKUP(MONTH(G732),'C-A'!$J$13:$K$24,2,FALSE))","v":""},null,null,null,null,null,7.20000000000011E-4,""]
["",null,{"$f":"IF(B733=\"\",\"\",VLOOKUP(B733,CAD_AREA!$CB$13:$CD$113,2,FALSE))","v":""},{"$f":"IF(B733=\"\",\"\",VLOOKUP(B733,CAD_AREA!$CB$13:$CD$113,3,FALSE))","v":""},null,{"$f":"IF(E733=\"\",\"\",VLOOKUP(E733,PCMSO!$B$13:$E$614,4,FALSE))","v":""},null,null,null,"","",{"$f":"IF(G733=\"\",\"\",VLOOKUP(MONTH(G733),'C-A'!$J$13:$K$24,2,FALSE))","v":""},null,null,null,null,null,7.2100000000001102E-4,""]
["",null,{"$f":"IF(B734=\"\",\"\",VLOOKUP(B734,CAD_AREA!$CB$13:$CD$113,2,FALSE))","v":""},{"$f":"IF(B734=\"\",\"\",VLOOKUP(B734,CAD_AREA!$CB$13:$CD$113,3,FALSE))","v":""},null,{"$f":"IF(E734=\"\",\"\",VLOOKUP(E734,PCMSO!$B$13:$E$614,4,FALSE))","v":""},null,null,null,"","",{"$f":"IF(G734=\"\",\"\",VLOOKUP(MONTH(G734),'C-A'!$J$13:$K$24,2,FALSE))","v":""},null,null,null,null,null,7.2200000000001104E-4,""]
["",null,{"$f":"IF(B735=\"\",\"\",VLOOKUP(B735,CAD_AREA!$CB$13:$CD$113,2,FALSE))","v":""},{"$f":"IF(B735=\"\",\"\",VLOOKUP(B735,CAD_AREA!$CB$13:$CD$113,3,FALSE))","v":""},null,{"$f":"IF(E735=\"\",\"\",VLOOKUP(E735,PCMSO!$B$13:$E$614,4,FALSE))","v":""},null,null,null,"","",{"$f":"IF(G735=\"\",\"\",VLOOKUP(MONTH(G735),'C-A'!$J$13:$K$24,2,FALSE))","v":""},null,null,null,null,null,7.2300000000001107E-4,""]
["",null,{"$f":"IF(B736=\"\",\"\",VLOOKUP(B736,CAD_AREA!$CB$13:$CD$113,2,FALSE))","v":""},{"$f":"IF(B736=\"\",\"\",VLOOKUP(B736,CAD_AREA!$CB$13:$CD$113,3,FALSE))","v":""},null,{"$f":"IF(E736=\"\",\"\",VLOOKUP(E736,PCMSO!$B$13:$E$614,4,FALSE))","v":""},null,null,null,"","",{"$f":"IF(G736=\"\",\"\",VLOOKUP(MONTH(G736),'C-A'!$J$13:$K$24,2,FALSE))","v":""},null,null,null,null,null,7.2400000000001109E-4,""]
["",null,{"$f":"IF(B737=\"\",\"\",VLOOKUP(B737,CAD_AREA!$CB$13:$CD$113,2,FALSE))","v":""},{"$f":"IF(B737=\"\",\"\",VLOOKUP(B737,CAD_AREA!$CB$13:$CD$113,3,FALSE))","v":""},null,{"$f":"IF(E737=\"\",\"\",VLOOKUP(E737,PCMSO!$B$13:$E$614,4,FALSE))","v":""},null,null,null,"","",{"$f":"IF(G737=\"\",\"\",VLOOKUP(MONTH(G737),'C-A'!$J$13:$K$24,2,FALSE))","v":""},null,null,null,null,null,7.2500000000001112E-4,""]
["",null,{"$f":"IF(B738=\"\",\"\",VLOOKUP(B738,CAD_AREA!$CB$13:$CD$113,2,FALSE))","v":""},{"$f":"IF(B738=\"\",\"\",VLOOKUP(B738,CAD_AREA!$CB$13:$CD$113,3,FALSE))","v":""},null,{"$f":"IF(E738=\"\",\"\",VLOOKUP(E738,PCMSO!$B$13:$E$614,4,FALSE))","v":""},null,null,null,"","",{"$f":"IF(G738=\"\",\"\",VLOOKUP(MONTH(G738),'C-A'!$J$13:$K$24,2,FALSE))","v":""},null,null,null,null,null,7.2600000000001114E-4,""]
["",null,{"$f":"IF(B739=\"\",\"\",VLOOKUP(B739,CAD_AREA!$CB$13:$CD$113,2,FALSE))","v":""},{"$f":"IF(B739=\"\",\"\",VLOOKUP(B739,CAD_AREA!$CB$13:$CD$113,3,FALSE))","v":""},null,{"$f":"IF(E739=\"\",\"\",VLOOKUP(E739,PCMSO!$B$13:$E$614,4,FALSE))","v":""},null,null,null,"","",{"$f":"IF(G739=\"\",\"\",VLOOKUP(MONTH(G739),'C-A'!$J$13:$K$24,2,FALSE))","v":""},null,null,null,null,null,7.2700000000001117E-4,""]
["",null,{"$f":"IF(B740=\"\",\"\",VLOOKUP(B740,CAD_AREA!$CB$13:$CD$113,2,FALSE))","v":""},{"$f":"IF(B740=\"\",\"\",VLOOKUP(B740,CAD_AREA!$CB$13:$CD$113,3,FALSE))","v":""},null,{"$f":"IF(E740=\"\",\"\",VLOOKUP(E740,PCMSO!$B$13:$E$614,4,FALSE))","v":""},null,null,null,"","",{"$f":"IF(G740=\"\",\"\",VLOOKUP(MONTH(G740),'C-A'!$J$13:$K$24,2,FALSE))","v":""},null,null,null,null,null,7.2800000000001119E-4,""]
["",null,{"$f":"IF(B741=\"\",\"\",VLOOKUP(B741,CAD_AREA!$CB$13:$CD$113,2,FALSE))","v":""},{"$f":"IF(B741=\"\",\"\",VLOOKUP(B741,CAD_AREA!$CB$13:$CD$113,3,FALSE))","v":""},null,{"$f":"IF(E741=\"\",\"\",VLOOKUP(E741,PCMSO!$B$13:$E$614,4,FALSE))","v":""},null,null,null,"","",{"$f":"IF(G741=\"\",\"\",VLOOKUP(MONTH(G741),'C-A'!$J$13:$K$24,2,FALSE))","v":""},null,null,null,null,null,7.2900000000001121E-4,""]
["",null,{"$f":"IF(B742=\"\",\"\",VLOOKUP(B742,CAD_AREA!$CB$13:$CD$113,2,FALSE))","v":""},{"$f":"IF(B742=\"\",\"\",VLOOKUP(B742,CAD_AREA!$CB$13:$CD$113,3,FALSE))","v":""},null,{"$f":"IF(E742=\"\",\"\",VLOOKUP(E742,PCMSO!$B$13:$E$614,4,FALSE))","v":""},null,null,null,"","",{"$f":"IF(G742=\"\",\"\",VLOOKUP(MONTH(G742),'C-A'!$J$13:$K$24,2,FALSE))","v":""},null,null,null,null,null,7.3000000000001124E-4,""]
["",null,{"$f":"IF(B743=\"\",\"\",VLOOKUP(B743,CAD_AREA!$CB$13:$CD$113,2,FALSE))","v":""},{"$f":"IF(B743=\"\",\"\",VLOOKUP(B743,CAD_AREA!$CB$13:$CD$113,3,FALSE))","v":""},null,{"$f":"IF(E743=\"\",\"\",VLOOKUP(E743,PCMSO!$B$13:$E$614,4,FALSE))","v":""},null,null,null,"","",{"$f":"IF(G743=\"\",\"\",VLOOKUP(MONTH(G743),'C-A'!$J$13:$K$24,2,FALSE))","v":""},null,null,null,null,null,7.3100000000001126E-4,""]
["",null,{"$f":"IF(B744=\"\",\"\",VLOOKUP(B744,CAD_AREA!$CB$13:$CD$113,2,FALSE))","v":""},{"$f":"IF(B744=\"\",\"\",VLOOKUP(B744,CAD_AREA!$CB$13:$CD$113,3,FALSE))","v":""},null,{"$f":"IF(E744=\"\",\"\",VLOOKUP(E744,PCMSO!$B$13:$E$614,4,FALSE))","v":""},null,null,null,"","",{"$f":"IF(G744=\"\",\"\",VLOOKUP(MONTH(G744),'C-A'!$J$13:$K$24,2,FALSE))","v":""},null,null,null,null,null,7.3200000000001129E-4,""]
["",null,{"$f":"IF(B745=\"\",\"\",VLOOKUP(B745,CAD_AREA!$CB$13:$CD$113,2,FALSE))","v":""},{"$f":"IF(B745=\"\",\"\",VLOOKUP(B745,CAD_AREA!$CB$13:$CD$113,3,FALSE))","v":""},null,{"$f":"IF(E745=\"\",\"\",VLOOKUP(E745,PCMSO!$B$13:$E$614,4,FALSE))","v":""},null,null,null,"","",{"$f":"IF(G745=\"\",\"\",VLOOKUP(MONTH(G745),'C-A'!$J$13:$K$24,2,FALSE))","v":""},null,null,null,null,null,7.3300000000001131E-4,""]
["",null,{"$f":"IF(B746=\"\",\"\",VLOOKUP(B746,CAD_AREA!$CB$13:$CD$113,2,FALSE))","v":""},{"$f":"IF(B746=\"\",\"\",VLOOKUP(B746,CAD_AREA!$CB$13:$CD$113,3,FALSE))","v":""},null,{"$f":"IF(E746=\"\",\"\",VLOOKUP(E746,PCMSO!$B$13:$E$614,4,FALSE))","v":""},null,null,null,"","",{"$f":"IF(G746=\"\",\"\",VLOOKUP(MONTH(G746),'C-A'!$J$13:$K$24,2,FALSE))","v":""},null,null,null,null,null,7.3400000000001134E-4,""]
["",null,{"$f":"IF(B747=\"\",\"\",VLOOKUP(B747,CAD_AREA!$CB$13:$CD$113,2,FALSE))","v":""},{"$f":"IF(B747=\"\",\"\",VLOOKUP(B747,CAD_AREA!$CB$13:$CD$113,3,FALSE))","v":""},null,{"$f":"IF(E747=\"\",\"\",VLOOKUP(E747,PCMSO!$B$13:$E$614,4,FALSE))","v":""},null,null,null,"","",{"$f":"IF(G747=\"\",\"\",VLOOKUP(MONTH(G747),'C-A'!$J$13:$K$24,2,FALSE))","v":""},null,null,null,null,null,7.3500000000001136E-4,""]
["",null,{"$f":"IF(B748=\"\",\"\",VLOOKUP(B748,CAD_AREA!$CB$13:$CD$113,2,FALSE))","v":""},{"$f":"IF(B748=\"\",\"\",VLOOKUP(B748,CAD_AREA!$CB$13:$CD$113,3,FALSE))","v":""},null,{"$f":"IF(E748=\"\",\"\",VLOOKUP(E748,PCMSO!$B$13:$E$614,4,FALSE))","v":""},null,null,null,"","",{"$f":"IF(G748=\"\",\"\",VLOOKUP(MONTH(G748),'C-A'!$J$13:$K$24,2,FALSE))","v":""},null,null,null,null,null,7.3600000000001138E-4,""]
["",null,{"$f":"IF(B749=\"\",\"\",VLOOKUP(B749,CAD_AREA!$CB$13:$CD$113,2,FALSE))","v":""},{"$f":"IF(B749=\"\",\"\",VLOOKUP(B749,CAD_AREA!$CB$13:$CD$113,3,FALSE))","v":""},null,{"$f":"IF(E749=\"\",\"\",VLOOKUP(E749,PCMSO!$B$13:$E$614,4,FALSE))","v":""},null,null,null,"","",{"$f":"IF(G749=\"\",\"\",VLOOKUP(MONTH(G749),'C-A'!$J$13:$K$24,2,FALSE))","v":""},null,null,null,null,null,7.3700000000001141E-4,""]
["",null,{"$f":"IF(B750=\"\",\"\",VLOOKUP(B750,CAD_AREA!$CB$13:$CD$113,2,FALSE))","v":""},{"$f":"IF(B750=\"\",\"\",VLOOKUP(B750,CAD_AREA!$CB$13:$CD$113,3,FALSE))","v":""},null,{"$f":"IF(E750=\"\",\"\",VLOOKUP(E750,PCMSO!$B$13:$E$614,4,FALSE))","v":""},null,null,null,"","",{"$f":"IF(G750=\"\",\"\",VLOOKUP(MONTH(G750),'C-A'!$J$13:$K$24,2,FALSE))","v":""},null,null,null,null,null,7.3800000000001143E-4,""]
["",null,{"$f":"IF(B751=\"\",\"\",VLOOKUP(B751,CAD_AREA!$CB$13:$CD$113,2,FALSE))","v":""},{"$f":"IF(B751=\"\",\"\",VLOOKUP(B751,CAD_AREA!$CB$13:$CD$113,3,FALSE))","v":""},null,{"$f":"IF(E751=\"\",\"\",VLOOKUP(E751,PCMSO!$B$13:$E$614,4,FALSE))","v":""},null,null,null,"","",{"$f":"IF(G751=\"\",\"\",VLOOKUP(MONTH(G751),'C-A'!$J$13:$K$24,2,FALSE))","v":""},null,null,null,null,null,7.3900000000001146E-4,""]
["",null,{"$f":"IF(B752=\"\",\"\",VLOOKUP(B752,CAD_AREA!$CB$13:$CD$113,2,FALSE))","v":""},{"$f":"IF(B752=\"\",\"\",VLOOKUP(B752,CAD_AREA!$CB$13:$CD$113,3,FALSE))","v":""},null,{"$f":"IF(E752=\"\",\"\",VLOOKUP(E752,PCMSO!$B$13:$E$614,4,FALSE))","v":""},null,null,null,"","",{"$f":"IF(G752=\"\",\"\",VLOOKUP(MONTH(G752),'C-A'!$J$13:$K$24,2,FALSE))","v":""},null,null,null,null,null,7.4000000000001148E-4,""]
["",null,{"$f":"IF(B753=\"\",\"\",VLOOKUP(B753,CAD_AREA!$CB$13:$CD$113,2,FALSE))","v":""},{"$f":"IF(B753=\"\",\"\",VLOOKUP(B753,CAD_AREA!$CB$13:$CD$113,3,FALSE))","v":""},null,{"$f":"IF(E753=\"\",\"\",VLOOKUP(E753,PCMSO!$B$13:$E$614,4,FALSE))","v":""},null,null,null,"","",{"$f":"IF(G753=\"\",\"\",VLOOKUP(MONTH(G753),'C-A'!$J$13:$K$24,2,FALSE))","v":""},null,null,null,null,null,7.4100000000001151E-4,""]
["",null,{"$f":"IF(B754=\"\",\"\",VLOOKUP(B754,CAD_AREA!$CB$13:$CD$113,2,FALSE))","v":""},{"$f":"IF(B754=\"\",\"\",VLOOKUP(B754,CAD_AREA!$CB$13:$CD$113,3,FALSE))","v":""},null,{"$f":"IF(E754=\"\",\"\",VLOOKUP(E754,PCMSO!$B$13:$E$614,4,FALSE))","v":""},null,null,null,"","",{"$f":"IF(G754=\"\",\"\",VLOOKUP(MONTH(G754),'C-A'!$J$13:$K$24,2,FALSE))","v":""},null,null,null,null,null,7.4200000000001153E-4,""]
["",null,{"$f":"IF(B755=\"\",\"\",VLOOKUP(B755,CAD_AREA!$CB$13:$CD$113,2,FALSE))","v":""},{"$f":"IF(B755=\"\",\"\",VLOOKUP(B755,CAD_AREA!$CB$13:$CD$113,3,FALSE))","v":""},null,{"$f":"IF(E755=\"\",\"\",VLOOKUP(E755,PCMSO!$B$13:$E$614,4,FALSE))","v":""},null,null,null,"","",{"$f":"IF(G755=\"\",\"\",VLOOKUP(MONTH(G755),'C-A'!$J$13:$K$24,2,FALSE))","v":""},null,null,null,null,null,7.4300000000001155E-4,""]
["",null,{"$f":"IF(B756=\"\",\"\",VLOOKUP(B756,CAD_AREA!$CB$13:$CD$113,2,FALSE))","v":""},{"$f":"IF(B756=\"\",\"\",VLOOKUP(B756,CAD_AREA!$CB$13:$CD$113,3,FALSE))","v":""},null,{"$f":"IF(E756=\"\",\"\",VLOOKUP(E756,PCMSO!$B$13:$E$614,4,FALSE))","v":""},null,null,null,"","",{"$f":"IF(G756=\"\",\"\",VLOOKUP(MONTH(G756),'C-A'!$J$13:$K$24,2,FALSE))","v":""},null,null,null,null,null,7.4400000000001158E-4,""]
["",null,{"$f":"IF(B757=\"\",\"\",VLOOKUP(B757,CAD_AREA!$CB$13:$CD$113,2,FALSE))","v":""},{"$f":"IF(B757=\"\",\"\",VLOOKUP(B757,CAD_AREA!$CB$13:$CD$113,3,FALSE))","v":""},null,{"$f":"IF(E757=\"\",\"\",VLOOKUP(E757,PCMSO!$B$13:$E$614,4,FALSE))","v":""},null,null,null,"","",{"$f":"IF(G757=\"\",\"\",VLOOKUP(MONTH(G757),'C-A'!$J$13:$K$24,2,FALSE))","v":""},null,null,null,null,null,7.450000000000116E-4,""]
[{"$f":"IF(S758=\"\",\"\",SUM(R758:S758))","v":""},null,{"$f":"IF(B758=\"\",\"\",VLOOKUP(B758,CAD_AREA!$CB$13:$CD$113,2,FALSE))","v":""},{"$f":"IF(B758=\"\",\"\",VLOOKUP(B758,CAD_AREA!$CB$13:$CD$113,3,FALSE))","v":""},null,{"$f":"IF(E758=\"\",\"\",VLOOKUP(E758,PCMSO!$B$13:$E$614,4,FALSE))","v":""},null,null,null,"","",{"$f":"IF(G758=\"\",\"\",VLOOKUP(MONTH(G758),'C-A'!$J$13:$K$24,2,FALSE))","v":""},null,null,null,null,null,7.4600000000001163E-4,""]
["",null,{"$f":"IF(B759=\"\",\"\",VLOOKUP(B759,CAD_AREA!$CB$13:$CD$113,2,FALSE))","v":""},{"$f":"IF(B759=\"\",\"\",VLOOKUP(B759,CAD_AREA!$CB$13:$CD$113,3,FALSE))","v":""},null,{"$f":"IF(E759=\"\",\"\",VLOOKUP(E759,PCMSO!$B$13:$E$614,4,FALSE))","v":""},null,null,null,"","",{"$f":"IF(G759=\"\",\"\",VLOOKUP(MONTH(G759),'C-A'!$J$13:$K$24,2,FALSE))","v":""},null,null,null,null,null,7.4700000000001165E-4,""]
["",null,{"$f":"IF(B760=\"\",\"\",VLOOKUP(B760,CAD_AREA!$CB$13:$CD$113,2,FALSE))","v":""},{"$f":"IF(B760=\"\",\"\",VLOOKUP(B760,CAD_AREA!$CB$13:$CD$113,3,FALSE))","v":""},null,{"$f":"IF(E760=\"\",\"\",VLOOKUP(E760,PCMSO!$B$13:$E$614,4,FALSE))","v":""},null,null,null,"","",{"$f":"IF(G760=\"\",\"\",VLOOKUP(MONTH(G760),'C-A'!$J$13:$K$24,2,FALSE))","v":""},null,null,null,null,null,7.4800000000001168E-4,""]
["",null,{"$f":"IF(B761=\"\",\"\",VLOOKUP(B761,CAD_AREA!$CB$13:$CD$113,2,FALSE))","v":""},{"$f":"IF(B761=\"\",\"\",VLOOKUP(B761,CAD_AREA!$CB$13:$CD$113,3,FALSE))","v":""},null,{"$f":"IF(E761=\"\",\"\",VLOOKUP(E761,PCMSO!$B$13:$E$614,4,FALSE))","v":""},null,null,null,"","",{"$f":"IF(G761=\"\",\"\",VLOOKUP(MONTH(G761),'C-A'!$J$13:$K$24,2,FALSE))","v":""},null,null,null,null,null,7.490000000000117E-4,""]
["",null,{"$f":"IF(B762=\"\",\"\",VLOOKUP(B762,CAD_AREA!$CB$13:$CD$113,2,FALSE))","v":""},{"$f":"IF(B762=\"\",\"\",VLOOKUP(B762,CAD_AREA!$CB$13:$CD$113,3,FALSE))","v":""},null,{"$f":"IF(E762=\"\",\"\",VLOOKUP(E762,PCMSO!$B$13:$E$614,4,FALSE))","v":""},null,null,null,"","",{"$f":"IF(G762=\"\",\"\",VLOOKUP(MONTH(G762),'C-A'!$J$13:$K$24,2,FALSE))","v":""},null,null,null,null,null,7.5000000000001172E-4,""]
["",null,{"$f":"IF(B763=\"\",\"\",VLOOKUP(B763,CAD_AREA!$CB$13:$CD$113,2,FALSE))","v":""},{"$f":"IF(B763=\"\",\"\",VLOOKUP(B763,CAD_AREA!$CB$13:$CD$113,3,FALSE))","v":""},null,{"$f":"IF(E763=\"\",\"\",VLOOKUP(E763,PCMSO!$B$13:$E$614,4,FALSE))","v":""},null,null,null,"","",{"$f":"IF(G763=\"\",\"\",VLOOKUP(MONTH(G763),'C-A'!$J$13:$K$24,2,FALSE))","v":""},null,null,null,null,null,7.5100000000001175E-4,""]
["",null,{"$f":"IF(B764=\"\",\"\",VLOOKUP(B764,CAD_AREA!$CB$13:$CD$113,2,FALSE))","v":""},{"$f":"IF(B764=\"\",\"\",VLOOKUP(B764,CAD_AREA!$CB$13:$CD$113,3,FALSE))","v":""},null,{"$f":"IF(E764=\"\",\"\",VLOOKUP(E764,PCMSO!$B$13:$E$614,4,FALSE))","v":""},null,null,null,"","",{"$f":"IF(G764=\"\",\"\",VLOOKUP(MONTH(G764),'C-A'!$J$13:$K$24,2,FALSE))","v":""},null,null,null,null,null,7.5200000000001177E-4,""]
["",null,{"$f":"IF(B765=\"\",\"\",VLOOKUP(B765,CAD_AREA!$CB$13:$CD$113,2,FALSE))","v":""},{"$f":"IF(B765=\"\",\"\",VLOOKUP(B765,CAD_AREA!$CB$13:$CD$113,3,FALSE))","v":""},null,{"$f":"IF(E765=\"\",\"\",VLOOKUP(E765,PCMSO!$B$13:$E$614,4,FALSE))","v":""},null,null,null,"","",{"$f":"IF(G765=\"\",\"\",VLOOKUP(MONTH(G765),'C-A'!$J$13:$K$24,2,FALSE))","v":""},null,null,null,null,null,7.530000000000118E-4,""]
["",null,{"$f":"IF(B766=\"\",\"\",VLOOKUP(B766,CAD_AREA!$CB$13:$CD$113,2,FALSE))","v":""},{"$f":"IF(B766=\"\",\"\",VLOOKUP(B766,CAD_AREA!$CB$13:$CD$113,3,FALSE))","v":""},null,{"$f":"IF(E766=\"\",\"\",VLOOKUP(E766,PCMSO!$B$13:$E$614,4,FALSE))","v":""},null,null,null,"","",{"$f":"IF(G766=\"\",\"\",VLOOKUP(MONTH(G766),'C-A'!$J$13:$K$24,2,FALSE))","v":""},null,null,null,null,null,7.5400000000001182E-4,""]
["",null,{"$f":"IF(B767=\"\",\"\",VLOOKUP(B767,CAD_AREA!$CB$13:$CD$113,2,FALSE))","v":""},{"$f":"IF(B767=\"\",\"\",VLOOKUP(B767,CAD_AREA!$CB$13:$CD$113,3,FALSE))","v":""},null,{"$f":"IF(E767=\"\",\"\",VLOOKUP(E767,PCMSO!$B$13:$E$614,4,FALSE))","v":""},null,null,null,"","",{"$f":"IF(G767=\"\",\"\",VLOOKUP(MONTH(G767),'C-A'!$J$13:$K$24,2,FALSE))","v":""},null,null,null,null,null,7.5500000000001185E-4,""]
["",null,{"$f":"IF(B768=\"\",\"\",VLOOKUP(B768,CAD_AREA!$CB$13:$CD$113,2,FALSE))","v":""},{"$f":"IF(B768=\"\",\"\",VLOOKUP(B768,CAD_AREA!$CB$13:$CD$113,3,FALSE))","v":""},null,{"$f":"IF(E768=\"\",\"\",VLOOKUP(E768,PCMSO!$B$13:$E$614,4,FALSE))","v":""},null,null,null,"","",{"$f":"IF(G768=\"\",\"\",VLOOKUP(MONTH(G768),'C-A'!$J$13:$K$24,2,FALSE))","v":""},null,null,null,null,null,7.5600000000001187E-4,""]
["",null,{"$f":"IF(B769=\"\",\"\",VLOOKUP(B769,CAD_AREA!$CB$13:$CD$113,2,FALSE))","v":""},{"$f":"IF(B769=\"\",\"\",VLOOKUP(B769,CAD_AREA!$CB$13:$CD$113,3,FALSE))","v":""},null,{"$f":"IF(E769=\"\",\"\",VLOOKUP(E769,PCMSO!$B$13:$E$614,4,FALSE))","v":""},null,null,null,"","",{"$f":"IF(G769=\"\",\"\",VLOOKUP(MONTH(G769),'C-A'!$J$13:$K$24,2,FALSE))","v":""},null,null,null,null,null,7.570000000000119E-4,""]
["",null,{"$f":"IF(B770=\"\",\"\",VLOOKUP(B770,CAD_AREA!$CB$13:$CD$113,2,FALSE))","v":""},{"$f":"IF(B770=\"\",\"\",VLOOKUP(B770,CAD_AREA!$CB$13:$CD$113,3,FALSE))","v":""},null,{"$f":"IF(E770=\"\",\"\",VLOOKUP(E770,PCMSO!$B$13:$E$614,4,FALSE))","v":""},null,null,null,"","",{"$f":"IF(G770=\"\",\"\",VLOOKUP(MONTH(G770),'C-A'!$J$13:$K$24,2,FALSE))","v":""},null,null,null,null,null,7.5800000000001192E-4,""]
["",null,{"$f":"IF(B771=\"\",\"\",VLOOKUP(B771,CAD_AREA!$CB$13:$CD$113,2,FALSE))","v":""},{"$f":"IF(B771=\"\",\"\",VLOOKUP(B771,CAD_AREA!$CB$13:$CD$113,3,FALSE))","v":""},null,{"$f":"IF(E771=\"\",\"\",VLOOKUP(E771,PCMSO!$B$13:$E$614,4,FALSE))","v":""},null,null,null,"","",{"$f":"IF(G771=\"\",\"\",VLOOKUP(MONTH(G771),'C-A'!$J$13:$K$24,2,FALSE))","v":""},null,null,null,null,null,7.5900000000001194E-4,""]
["",null,{"$f":"IF(B772=\"\",\"\",VLOOKUP(B772,CAD_AREA!$CB$13:$CD$113,2,FALSE))","v":""},{"$f":"IF(B772=\"\",\"\",VLOOKUP(B772,CAD_AREA!$CB$13:$CD$113,3,FALSE))","v":""},null,{"$f":"IF(E772=\"\",\"\",VLOOKUP(E772,PCMSO!$B$13:$E$614,4,FALSE))","v":""},null,null,null,"","",{"$f":"IF(G772=\"\",\"\",VLOOKUP(MONTH(G772),'C-A'!$J$13:$K$24,2,FALSE))","v":""},null,null,null,null,null,7.6000000000001197E-4,""]
["",null,{"$f":"IF(B773=\"\",\"\",VLOOKUP(B773,CAD_AREA!$CB$13:$CD$113,2,FALSE))","v":""},{"$f":"IF(B773=\"\",\"\",VLOOKUP(B773,CAD_AREA!$CB$13:$CD$113,3,FALSE))","v":""},null,{"$f":"IF(E773=\"\",\"\",VLOOKUP(E773,PCMSO!$B$13:$E$614,4,FALSE))","v":""},null,null,null,"","",{"$f":"IF(G773=\"\",\"\",VLOOKUP(MONTH(G773),'C-A'!$J$13:$K$24,2,FALSE))","v":""},null,null,null,null,null,7.6100000000001199E-4,""]
["",null,{"$f":"IF(B774=\"\",\"\",VLOOKUP(B774,CAD_AREA!$CB$13:$CD$113,2,FALSE))","v":""},{"$f":"IF(B774=\"\",\"\",VLOOKUP(B774,CAD_AREA!$CB$13:$CD$113,3,FALSE))","v":""},null,{"$f":"IF(E774=\"\",\"\",VLOOKUP(E774,PCMSO!$B$13:$E$614,4,FALSE))","v":""},null,null,null,"","",{"$f":"IF(G774=\"\",\"\",VLOOKUP(MONTH(G774),'C-A'!$J$13:$K$24,2,FALSE))","v":""},null,null,null,null,null,7.6200000000001202E-4,""]
["",null,{"$f":"IF(B775=\"\",\"\",VLOOKUP(B775,CAD_AREA!$CB$13:$CD$113,2,FALSE))","v":""},{"$f":"IF(B775=\"\",\"\",VLOOKUP(B775,CAD_AREA!$CB$13:$CD$113,3,FALSE))","v":""},null,{"$f":"IF(E775=\"\",\"\",VLOOKUP(E775,PCMSO!$B$13:$E$614,4,FALSE))","v":""},null,null,null,"","",{"$f":"IF(G775=\"\",\"\",VLOOKUP(MONTH(G775),'C-A'!$J$13:$K$24,2,FALSE))","v":""},null,null,null,null,null,7.6300000000001204E-4,""]
["",null,{"$f":"IF(B776=\"\",\"\",VLOOKUP(B776,CAD_AREA!$CB$13:$CD$113,2,FALSE))","v":""},{"$f":"IF(B776=\"\",\"\",VLOOKUP(B776,CAD_AREA!$CB$13:$CD$113,3,FALSE))","v":""},null,{"$f":"IF(E776=\"\",\"\",VLOOKUP(E776,PCMSO!$B$13:$E$614,4,FALSE))","v":""},null,null,null,"","",{"$f":"IF(G776=\"\",\"\",VLOOKUP(MONTH(G776),'C-A'!$J$13:$K$24,2,FALSE))","v":""},null,null,null,null,null,7.6400000000001207E-4,""]
["",null,{"$f":"IF(B777=\"\",\"\",VLOOKUP(B777,CAD_AREA!$CB$13:$CD$113,2,FALSE))","v":""},{"$f":"IF(B777=\"\",\"\",VLOOKUP(B777,CAD_AREA!$CB$13:$CD$113,3,FALSE))","v":""},null,{"$f":"IF(E777=\"\",\"\",VLOOKUP(E777,PCMSO!$B$13:$E$614,4,FALSE))","v":""},null,null,null,"","",{"$f":"IF(G777=\"\",\"\",VLOOKUP(MONTH(G777),'C-A'!$J$13:$K$24,2,FALSE))","v":""},null,null,null,null,null,7.6500000000001209E-4,""]
["",null,{"$f":"IF(B778=\"\",\"\",VLOOKUP(B778,CAD_AREA!$CB$13:$CD$113,2,FALSE))","v":""},{"$f":"IF(B778=\"\",\"\",VLOOKUP(B778,CAD_AREA!$CB$13:$CD$113,3,FALSE))","v":""},null,{"$f":"IF(E778=\"\",\"\",VLOOKUP(E778,PCMSO!$B$13:$E$614,4,FALSE))","v":""},null,null,null,"","",{"$f":"IF(G778=\"\",\"\",VLOOKUP(MONTH(G778),'C-A'!$J$13:$K$24,2,FALSE))","v":""},null,null,null,null,null,7.6600000000001211E-4,""]
["",null,{"$f":"IF(B779=\"\",\"\",VLOOKUP(B779,CAD_AREA!$CB$13:$CD$113,2,FALSE))","v":""},{"$f":"IF(B779=\"\",\"\",VLOOKUP(B779,CAD_AREA!$CB$13:$CD$113,3,FALSE))","v":""},null,{"$f":"IF(E779=\"\",\"\",VLOOKUP(E779,PCMSO!$B$13:$E$614,4,FALSE))","v":""},null,null,null,"","",{"$f":"IF(G779=\"\",\"\",VLOOKUP(MONTH(G779),'C-A'!$J$13:$K$24,2,FALSE))","v":""},null,null,null,null,null,7.6700000000001214E-4,""]
["",null,{"$f":"IF(B780=\"\",\"\",VLOOKUP(B780,CAD_AREA!$CB$13:$CD$113,2,FALSE))","v":""},{"$f":"IF(B780=\"\",\"\",VLOOKUP(B780,CAD_AREA!$CB$13:$CD$113,3,FALSE))","v":""},null,{"$f":"IF(E780=\"\",\"\",VLOOKUP(E780,PCMSO!$B$13:$E$614,4,FALSE))","v":""},null,null,null,"","",{"$f":"IF(G780=\"\",\"\",VLOOKUP(MONTH(G780),'C-A'!$J$13:$K$24,2,FALSE))","v":""},null,null,null,null,null,7.6800000000001216E-4,""]
["",null,{"$f":"IF(B781=\"\",\"\",VLOOKUP(B781,CAD_AREA!$CB$13:$CD$113,2,FALSE))","v":""},{"$f":"IF(B781=\"\",\"\",VLOOKUP(B781,CAD_AREA!$CB$13:$CD$113,3,FALSE))","v":""},null,{"$f":"IF(E781=\"\",\"\",VLOOKUP(E781,PCMSO!$B$13:$E$614,4,FALSE))","v":""},null,null,null,{"$f":"IF(F781=\"\",\"\",VLOOKUP(F781,$N$13:$O$19,2,FALSE)+G781)","v":""},"",{"$f":"IF(G781=\"\",\"\",VLOOKUP(MONTH(G781),'C-A'!$J$13:$K$24,2,FALSE))","v":""},null,null,null,null,null,7.6900000000001219E-4,{"$f":"IF(K781=\"Vencido\",\"\",J781)","v":""}]
["",null,{"$f":"IF(B782=\"\",\"\",VLOOKUP(B782,CAD_AREA!$CB$13:$CD$113,2,FALSE))","v":""},{"$f":"IF(B782=\"\",\"\",VLOOKUP(B782,CAD_AREA!$CB$13:$CD$113,3,FALSE))","v":""},null,{"$f":"IF(E782=\"\",\"\",VLOOKUP(E782,PCMSO!$B$13:$E$614,4,FALSE))","v":""},null,null,null,"",{"$f":"IF(J782=\"\",\"\",IF(J782-TODAY()<0,\"Vencido\",IF(J782-TODAY()=0,\"Realizar hoje\",\"Realizar em \"&J782-TODAY()&\" dias\")))","v":""},{"$f":"IF(G782=\"\",\"\",VLOOKUP(MONTH(G782),'C-A'!$J$13:$K$24,2,FALSE))","v":""},null,null,null,null,null,7.7000000000001221E-4,""]
["",null,{"$f":"IF(B783=\"\",\"\",VLOOKUP(B783,CAD_AREA!$CB$13:$CD$113,2,FALSE))","v":""},{"$f":"IF(B783=\"\",\"\",VLOOKUP(B783,CAD_AREA!$CB$13:$CD$113,3,FALSE))","v":""},null,{"$f":"IF(E783=\"\",\"\",VLOOKUP(E783,PCMSO!$B$13:$E$614,4,FALSE))","v":""},null,null,null,"","",{"$f":"IF(G783=\"\",\"\",VLOOKUP(MONTH(G783),'C-A'!$J$13:$K$24,2,FALSE))","v":""},null,null,null,null,null,{"$f":"R782+$R$13","v":7.7100000000001224E-4},""]
["",null,{"$f":"IF(B784=\"\",\"\",VLOOKUP(B784,CAD_AREA!$CB$13:$CD$113,2,FALSE))","v":""},{"$f":"IF(B784=\"\",\"\",VLOOKUP(B784,CAD_AREA!$CB$13:$CD$113,3,FALSE))","v":""},null,{"$f":"IF(E784=\"\",\"\",VLOOKUP(E784,PCMSO!$B$13:$E$614,4,FALSE))","v":""},null,null,null,"","",{"$f":"IF(G784=\"\",\"\",VLOOKUP(MONTH(G784),'C-A'!$J$13:$K$24,2,FALSE))","v":""},null,null,null,null,null,7.7200000000001226E-4,""]
["",null,{"$f":"IF(B785=\"\",\"\",VLOOKUP(B785,CAD_AREA!$CB$13:$CD$113,2,FALSE))","v":""},{"$f":"IF(B785=\"\",\"\",VLOOKUP(B785,CAD_AREA!$CB$13:$CD$113,3,FALSE))","v":""},null,{"$f":"IF(E785=\"\",\"\",VLOOKUP(E785,PCMSO!$B$13:$E$614,4,FALSE))","v":""},null,null,null,"","",{"$f":"IF(G785=\"\",\"\",VLOOKUP(MONTH(G785),'C-A'!$J$13:$K$24,2,FALSE))","v":""},null,null,null,null,null,7.7300000000001228E-4,""]
["",null,{"$f":"IF(B786=\"\",\"\",VLOOKUP(B786,CAD_AREA!$CB$13:$CD$113,2,FALSE))","v":""},{"$f":"IF(B786=\"\",\"\",VLOOKUP(B786,CAD_AREA!$CB$13:$CD$113,3,FALSE))","v":""},null,{"$f":"IF(E786=\"\",\"\",VLOOKUP(E786,PCMSO!$B$13:$E$614,4,FALSE))","v":""},null,null,null,"","",{"$f":"IF(G786=\"\",\"\",VLOOKUP(MONTH(G786),'C-A'!$J$13:$K$24,2,FALSE))","v":""},null,null,null,null,null,7.7400000000001231E-4,""]
["",null,{"$f":"IF(B787=\"\",\"\",VLOOKUP(B787,CAD_AREA!$CB$13:$CD$113,2,FALSE))","v":""},{"$f":"IF(B787=\"\",\"\",VLOOKUP(B787,CAD_AREA!$CB$13:$CD$113,3,FALSE))","v":""},null,{"$f":"IF(E787=\"\",\"\",VLOOKUP(E787,PCMSO!$B$13:$E$614,4,FALSE))","v":""},null,null,null,"","",{"$f":"IF(G787=\"\",\"\",VLOOKUP(MONTH(G787),'C-A'!$J$13:$K$24,2,FALSE))","v":""},null,null,null,null,null,7.7500000000001233E-4,""]
["",null,{"$f":"IF(B788=\"\",\"\",VLOOKUP(B788,CAD_AREA!$CB$13:$CD$113,2,FALSE))","v":""},{"$f":"IF(B788=\"\",\"\",VLOOKUP(B788,CAD_AREA!$CB$13:$CD$113,3,FALSE))","v":""},null,{"$f":"IF(E788=\"\",\"\",VLOOKUP(E788,PCMSO!$B$13:$E$614,4,FALSE))","v":""},null,null,null,"","",{"$f":"IF(G788=\"\",\"\",VLOOKUP(MONTH(G788),'C-A'!$J$13:$K$24,2,FALSE))","v":""},null,null,null,null,null,7.7600000000001236E-4,""]
["",null,{"$f":"IF(B789=\"\",\"\",VLOOKUP(B789,CAD_AREA!$CB$13:$CD$113,2,FALSE))","v":""},{"$f":"IF(B789=\"\",\"\",VLOOKUP(B789,CAD_AREA!$CB$13:$CD$113,3,FALSE))","v":""},null,{"$f":"IF(E789=\"\",\"\",VLOOKUP(E789,PCMSO!$B$13:$E$614,4,FALSE))","v":""},null,null,null,"","",{"$f":"IF(G789=\"\",\"\",VLOOKUP(MONTH(G789),'C-A'!$J$13:$K$24,2,FALSE))","v":""},null,null,null,null,null,7.7700000000001238E-4,""]
["",null,{"$f":"IF(B790=\"\",\"\",VLOOKUP(B790,CAD_AREA!$CB$13:$CD$113,2,FALSE))","v":""},{"$f":"IF(B790=\"\",\"\",VLOOKUP(B790,CAD_AREA!$CB$13:$CD$113,3,FALSE))","v":""},null,{"$f":"IF(E790=\"\",\"\",VLOOKUP(E790,PCMSO!$B$13:$E$614,4,FALSE))","v":""},null,null,null,"","",{"$f":"IF(G790=\"\",\"\",VLOOKUP(MONTH(G790),'C-A'!$J$13:$K$24,2,FALSE))","v":""},null,null,null,null,null,7.7800000000001241E-4,""]
["",null,{"$f":"IF(B791=\"\",\"\",VLOOKUP(B791,CAD_AREA!$CB$13:$CD$113,2,FALSE))","v":""},{"$f":"IF(B791=\"\",\"\",VLOOKUP(B791,CAD_AREA!$CB$13:$CD$113,3,FALSE))","v":""},null,{"$f":"IF(E791=\"\",\"\",VLOOKUP(E791,PCMSO!$B$13:$E$614,4,FALSE))","v":""},null,null,null,"","",{"$f":"IF(G791=\"\",\"\",VLOOKUP(MONTH(G791),'C-A'!$J$13:$K$24,2,FALSE))","v":""},null,null,null,null,null,7.7900000000001243E-4,""]
["",null,{"$f":"IF(B792=\"\",\"\",VLOOKUP(B792,CAD_AREA!$CB$13:$CD$113,2,FALSE))","v":""},{"$f":"IF(B792=\"\",\"\",VLOOKUP(B792,CAD_AREA!$CB$13:$CD$113,3,FALSE))","v":""},null,{"$f":"IF(E792=\"\",\"\",VLOOKUP(E792,PCMSO!$B$13:$E$614,4,FALSE))","v":""},null,null,null,"","",{"$f":"IF(G792=\"\",\"\",VLOOKUP(MONTH(G792),'C-A'!$J$13:$K$24,2,FALSE))","v":""},null,null,null,null,null,7.8000000000001245E-4,""]
["",null,{"$f":"IF(B793=\"\",\"\",VLOOKUP(B793,CAD_AREA!$CB$13:$CD$113,2,FALSE))","v":""},{"$f":"IF(B793=\"\",\"\",VLOOKUP(B793,CAD_AREA!$CB$13:$CD$113,3,FALSE))","v":""},null,{"$f":"IF(E793=\"\",\"\",VLOOKUP(E793,PCMSO!$B$13:$E$614,4,FALSE))","v":""},null,null,null,"","",{"$f":"IF(G793=\"\",\"\",VLOOKUP(MONTH(G793),'C-A'!$J$13:$K$24,2,FALSE))","v":""},null,null,null,null,null,7.8100000000001248E-4,""]
["",null,{"$f":"IF(B794=\"\",\"\",VLOOKUP(B794,CAD_AREA!$CB$13:$CD$113,2,FALSE))","v":""},{"$f":"IF(B794=\"\",\"\",VLOOKUP(B794,CAD_AREA!$CB$13:$CD$113,3,FALSE))","v":""},null,{"$f":"IF(E794=\"\",\"\",VLOOKUP(E794,PCMSO!$B$13:$E$614,4,FALSE))","v":""},null,null,null,"","",{"$f":"IF(G794=\"\",\"\",VLOOKUP(MONTH(G794),'C-A'!$J$13:$K$24,2,FALSE))","v":""},null,null,null,null,null,7.820000000000125E-4,""]
["",null,{"$f":"IF(B795=\"\",\"\",VLOOKUP(B795,CAD_AREA!$CB$13:$CD$113,2,FALSE))","v":""},{"$f":"IF(B795=\"\",\"\",VLOOKUP(B795,CAD_AREA!$CB$13:$CD$113,3,FALSE))","v":""},null,{"$f":"IF(E795=\"\",\"\",VLOOKUP(E795,PCMSO!$B$13:$E$614,4,FALSE))","v":""},null,null,null,"","",{"$f":"IF(G795=\"\",\"\",VLOOKUP(MONTH(G795),'C-A'!$J$13:$K$24,2,FALSE))","v":""},null,null,null,null,null,7.8300000000001253E-4,""]
["",null,{"$f":"IF(B796=\"\",\"\",VLOOKUP(B796,CAD_AREA!$CB$13:$CD$113,2,FALSE))","v":""},{"$f":"IF(B796=\"\",\"\",VLOOKUP(B796,CAD_AREA!$CB$13:$CD$113,3,FALSE))","v":""},null,{"$f":"IF(E796=\"\",\"\",VLOOKUP(E796,PCMSO!$B$13:$E$614,4,FALSE))","v":""},null,null,null,"","",{"$f":"IF(G796=\"\",\"\",VLOOKUP(MONTH(G796),'C-A'!$J$13:$K$24,2,FALSE))","v":""},null,null,null,null,null,7.8400000000001255E-4,""]
["",null,{"$f":"IF(B797=\"\",\"\",VLOOKUP(B797,CAD_AREA!$CB$13:$CD$113,2,FALSE))","v":""},{"$f":"IF(B797=\"\",\"\",VLOOKUP(B797,CAD_AREA!$CB$13:$CD$113,3,FALSE))","v":""},null,{"$f":"IF(E797=\"\",\"\",VLOOKUP(E797,PCMSO!$B$13:$E$614,4,FALSE))","v":""},null,null,null,"","",{"$f":"IF(G797=\"\",\"\",VLOOKUP(MONTH(G797),'C-A'!$J$13:$K$24,2,FALSE))","v":""},null,null,null,null,null,7.8500000000001258E-4,""]
["",null,{"$f":"IF(B798=\"\",\"\",VLOOKUP(B798,CAD_AREA!$CB$13:$CD$113,2,FALSE))","v":""},{"$f":"IF(B798=\"\",\"\",VLOOKUP(B798,CAD_AREA!$CB$13:$CD$113,3,FALSE))","v":""},null,{"$f":"IF(E798=\"\",\"\",VLOOKUP(E798,PCMSO!$B$13:$E$614,4,FALSE))","v":""},null,null,null,"","",{"$f":"IF(G798=\"\",\"\",VLOOKUP(MONTH(G798),'C-A'!$J$13:$K$24,2,FALSE))","v":""},null,null,null,null,null,7.860000000000126E-4,""]
["",null,{"$f":"IF(B799=\"\",\"\",VLOOKUP(B799,CAD_AREA!$CB$13:$CD$113,2,FALSE))","v":""},{"$f":"IF(B799=\"\",\"\",VLOOKUP(B799,CAD_AREA!$CB$13:$CD$113,3,FALSE))","v":""},null,{"$f":"IF(E799=\"\",\"\",VLOOKUP(E799,PCMSO!$B$13:$E$614,4,FALSE))","v":""},null,null,null,"","",{"$f":"IF(G799=\"\",\"\",VLOOKUP(MONTH(G799),'C-A'!$J$13:$K$24,2,FALSE))","v":""},null,null,null,null,null,7.8700000000001262E-4,""]
["",null,{"$f":"IF(B800=\"\",\"\",VLOOKUP(B800,CAD_AREA!$CB$13:$CD$113,2,FALSE))","v":""},{"$f":"IF(B800=\"\",\"\",VLOOKUP(B800,CAD_AREA!$CB$13:$CD$113,3,FALSE))","v":""},null,{"$f":"IF(E800=\"\",\"\",VLOOKUP(E800,PCMSO!$B$13:$E$614,4,FALSE))","v":""},null,null,null,"","",{"$f":"IF(G800=\"\",\"\",VLOOKUP(MONTH(G800),'C-A'!$J$13:$K$24,2,FALSE))","v":""},null,null,null,null,null,7.8800000000001265E-4,""]
["",null,{"$f":"IF(B801=\"\",\"\",VLOOKUP(B801,CAD_AREA!$CB$13:$CD$113,2,FALSE))","v":""},{"$f":"IF(B801=\"\",\"\",VLOOKUP(B801,CAD_AREA!$CB$13:$CD$113,3,FALSE))","v":""},null,{"$f":"IF(E801=\"\",\"\",VLOOKUP(E801,PCMSO!$B$13:$E$614,4,FALSE))","v":""},null,null,null,"","",{"$f":"IF(G801=\"\",\"\",VLOOKUP(MONTH(G801),'C-A'!$J$13:$K$24,2,FALSE))","v":""},null,null,null,null,null,7.8900000000001267E-4,""]
["",null,{"$f":"IF(B802=\"\",\"\",VLOOKUP(B802,CAD_AREA!$CB$13:$CD$113,2,FALSE))","v":""},{"$f":"IF(B802=\"\",\"\",VLOOKUP(B802,CAD_AREA!$CB$13:$CD$113,3,FALSE))","v":""},null,{"$f":"IF(E802=\"\",\"\",VLOOKUP(E802,PCMSO!$B$13:$E$614,4,FALSE))","v":""},null,null,null,"","",{"$f":"IF(G802=\"\",\"\",VLOOKUP(MONTH(G802),'C-A'!$J$13:$K$24,2,FALSE))","v":""},null,null,null,null,null,7.900000000000127E-4,""]
["",null,{"$f":"IF(B803=\"\",\"\",VLOOKUP(B803,CAD_AREA!$CB$13:$CD$113,2,FALSE))","v":""},{"$f":"IF(B803=\"\",\"\",VLOOKUP(B803,CAD_AREA!$CB$13:$CD$113,3,FALSE))","v":""},null,{"$f":"IF(E803=\"\",\"\",VLOOKUP(E803,PCMSO!$B$13:$E$614,4,FALSE))","v":""},null,null,null,"","",{"$f":"IF(G803=\"\",\"\",VLOOKUP(MONTH(G803),'C-A'!$J$13:$K$24,2,FALSE))","v":""},null,null,null,null,null,7.9100000000001272E-4,""]
["",null,{"$f":"IF(B804=\"\",\"\",VLOOKUP(B804,CAD_AREA!$CB$13:$CD$113,2,FALSE))","v":""},{"$f":"IF(B804=\"\",\"\",VLOOKUP(B804,CAD_AREA!$CB$13:$CD$113,3,FALSE))","v":""},null,{"$f":"IF(E804=\"\",\"\",VLOOKUP(E804,PCMSO!$B$13:$E$614,4,FALSE))","v":""},null,null,null,"","",{"$f":"IF(G804=\"\",\"\",VLOOKUP(MONTH(G804),'C-A'!$J$13:$K$24,2,FALSE))","v":""},null,null,null,null,null,7.9200000000001275E-4,""]
["",null,{"$f":"IF(B805=\"\",\"\",VLOOKUP(B805,CAD_AREA!$CB$13:$CD$113,2,FALSE))","v":""},{"$f":"IF(B805=\"\",\"\",VLOOKUP(B805,CAD_AREA!$CB$13:$CD$113,3,FALSE))","v":""},null,{"$f":"IF(E805=\"\",\"\",VLOOKUP(E805,PCMSO!$B$13:$E$614,4,FALSE))","v":""},null,null,null,"","",{"$f":"IF(G805=\"\",\"\",VLOOKUP(MONTH(G805),'C-A'!$J$13:$K$24,2,FALSE))","v":""},null,null,null,null,null,7.9300000000001277E-4,""]
["",null,{"$f":"IF(B806=\"\",\"\",VLOOKUP(B806,CAD_AREA!$CB$13:$CD$113,2,FALSE))","v":""},{"$f":"IF(B806=\"\",\"\",VLOOKUP(B806,CAD_AREA!$CB$13:$CD$113,3,FALSE))","v":""},null,{"$f":"IF(E806=\"\",\"\",VLOOKUP(E806,PCMSO!$B$13:$E$614,4,FALSE))","v":""},null,null,null,"","",{"$f":"IF(G806=\"\",\"\",VLOOKUP(MONTH(G806),'C-A'!$J$13:$K$24,2,FALSE))","v":""},null,null,null,null,null,7.9400000000001279E-4,""]
["",null,{"$f":"IF(B807=\"\",\"\",VLOOKUP(B807,CAD_AREA!$CB$13:$CD$113,2,FALSE))","v":""},{"$f":"IF(B807=\"\",\"\",VLOOKUP(B807,CAD_AREA!$CB$13:$CD$113,3,FALSE))","v":""},null,{"$f":"IF(E807=\"\",\"\",VLOOKUP(E807,PCMSO!$B$13:$E$614,4,FALSE))","v":""},null,null,null,"","",{"$f":"IF(G807=\"\",\"\",VLOOKUP(MONTH(G807),'C-A'!$J$13:$K$24,2,FALSE))","v":""},null,null,null,null,null,7.9500000000001282E-4,""]
["",null,{"$f":"IF(B808=\"\",\"\",VLOOKUP(B808,CAD_AREA!$CB$13:$CD$113,2,FALSE))","v":""},{"$f":"IF(B808=\"\",\"\",VLOOKUP(B808,CAD_AREA!$CB$13:$CD$113,3,FALSE))","v":""},null,{"$f":"IF(E808=\"\",\"\",VLOOKUP(E808,PCMSO!$B$13:$E$614,4,FALSE))","v":""},null,null,null,"","",{"$f":"IF(G808=\"\",\"\",VLOOKUP(MONTH(G808),'C-A'!$J$13:$K$24,2,FALSE))","v":""},null,null,null,null,null,7.9600000000001284E-4,""]
["",null,{"$f":"IF(B809=\"\",\"\",VLOOKUP(B809,CAD_AREA!$CB$13:$CD$113,2,FALSE))","v":""},{"$f":"IF(B809=\"\",\"\",VLOOKUP(B809,CAD_AREA!$CB$13:$CD$113,3,FALSE))","v":""},null,{"$f":"IF(E809=\"\",\"\",VLOOKUP(E809,PCMSO!$B$13:$E$614,4,FALSE))","v":""},null,null,null,"","",{"$f":"IF(G809=\"\",\"\",VLOOKUP(MONTH(G809),'C-A'!$J$13:$K$24,2,FALSE))","v":""},null,null,null,null,null,7.9700000000001287E-4,""]
["",null,{"$f":"IF(B810=\"\",\"\",VLOOKUP(B810,CAD_AREA!$CB$13:$CD$113,2,FALSE))","v":""},{"$f":"IF(B810=\"\",\"\",VLOOKUP(B810,CAD_AREA!$CB$13:$CD$113,3,FALSE))","v":""},null,{"$f":"IF(E810=\"\",\"\",VLOOKUP(E810,PCMSO!$B$13:$E$614,4,FALSE))","v":""},null,null,null,"","",{"$f":"IF(G810=\"\",\"\",VLOOKUP(MONTH(G810),'C-A'!$J$13:$K$24,2,FALSE))","v":""},null,null,null,null,null,7.9800000000001289E-4,""]
["",null,{"$f":"IF(B811=\"\",\"\",VLOOKUP(B811,CAD_AREA!$CB$13:$CD$113,2,FALSE))","v":""},{"$f":"IF(B811=\"\",\"\",VLOOKUP(B811,CAD_AREA!$CB$13:$CD$113,3,FALSE))","v":""},null,{"$f":"IF(E811=\"\",\"\",VLOOKUP(E811,PCMSO!$B$13:$E$614,4,FALSE))","v":""},null,null,null,"","",{"$f":"IF(G811=\"\",\"\",VLOOKUP(MONTH(G811),'C-A'!$J$13:$K$24,2,FALSE))","v":""},null,null,null,null,null,7.9900000000001292E-4,""]
["",null,{"$f":"IF(B812=\"\",\"\",VLOOKUP(B812,CAD_AREA!$CB$13:$CD$113,2,FALSE))","v":""},{"$f":"IF(B812=\"\",\"\",VLOOKUP(B812,CAD_AREA!$CB$13:$CD$113,3,FALSE))","v":""},null,{"$f":"IF(E812=\"\",\"\",VLOOKUP(E812,PCMSO!$B$13:$E$614,4,FALSE))","v":""},null,null,null,"","",{"$f":"IF(G812=\"\",\"\",VLOOKUP(MONTH(G812),'C-A'!$J$13:$K$24,2,FALSE))","v":""},null,null,null,null,null,8.0000000000001294E-4,""]
["",null,{"$f":"IF(B813=\"\",\"\",VLOOKUP(B813,CAD_AREA!$CB$13:$CD$113,2,FALSE))","v":""},{"$f":"IF(B813=\"\",\"\",VLOOKUP(B813,CAD_AREA!$CB$13:$CD$113,3,FALSE))","v":""},null,{"$f":"IF(E813=\"\",\"\",VLOOKUP(E813,PCMSO!$B$13:$E$614,4,FALSE))","v":""},null,null,null,"","",{"$f":"IF(G813=\"\",\"\",VLOOKUP(MONTH(G813),'C-A'!$J$13:$K$24,2,FALSE))","v":""},null,null,null,null,null,8.0100000000001296E-4,""]
["",null,{"$f":"IF(B814=\"\",\"\",VLOOKUP(B814,CAD_AREA!$CB$13:$CD$113,2,FALSE))","v":""},{"$f":"IF(B814=\"\",\"\",VLOOKUP(B814,CAD_AREA!$CB$13:$CD$113,3,FALSE))","v":""},null,{"$f":"IF(E814=\"\",\"\",VLOOKUP(E814,PCMSO!$B$13:$E$614,4,FALSE))","v":""},null,null,null,"","",{"$f":"IF(G814=\"\",\"\",VLOOKUP(MONTH(G814),'C-A'!$J$13:$K$24,2,FALSE))","v":""},null,null,null,null,null,8.0200000000001299E-4,""]
["",null,{"$f":"IF(B815=\"\",\"\",VLOOKUP(B815,CAD_AREA!$CB$13:$CD$113,2,FALSE))","v":""},{"$f":"IF(B815=\"\",\"\",VLOOKUP(B815,CAD_AREA!$CB$13:$CD$113,3,FALSE))","v":""},null,{"$f":"IF(E815=\"\",\"\",VLOOKUP(E815,PCMSO!$B$13:$E$614,4,FALSE))","v":""},null,null,null,"","",{"$f":"IF(G815=\"\",\"\",VLOOKUP(MONTH(G815),'C-A'!$J$13:$K$24,2,FALSE))","v":""},null,null,null,null,null,8.0300000000001301E-4,""]
["",null,{"$f":"IF(B816=\"\",\"\",VLOOKUP(B816,CAD_AREA!$CB$13:$CD$113,2,FALSE))","v":""},{"$f":"IF(B816=\"\",\"\",VLOOKUP(B816,CAD_AREA!$CB$13:$CD$113,3,FALSE))","v":""},null,{"$f":"IF(E816=\"\",\"\",VLOOKUP(E816,PCMSO!$B$13:$E$614,4,FALSE))","v":""},null,null,null,"","",{"$f":"IF(G816=\"\",\"\",VLOOKUP(MONTH(G816),'C-A'!$J$13:$K$24,2,FALSE))","v":""},null,null,null,null,null,8.0400000000001304E-4,""]
["",null,{"$f":"IF(B817=\"\",\"\",VLOOKUP(B817,CAD_AREA!$CB$13:$CD$113,2,FALSE))","v":""},{"$f":"IF(B817=\"\",\"\",VLOOKUP(B817,CAD_AREA!$CB$13:$CD$113,3,FALSE))","v":""},null,{"$f":"IF(E817=\"\",\"\",VLOOKUP(E817,PCMSO!$B$13:$E$614,4,FALSE))","v":""},null,null,null,"","",{"$f":"IF(G817=\"\",\"\",VLOOKUP(MONTH(G817),'C-A'!$J$13:$K$24,2,FALSE))","v":""},null,null,null,null,null,8.0500000000001306E-4,""]
["",null,{"$f":"IF(B818=\"\",\"\",VLOOKUP(B818,CAD_AREA!$CB$13:$CD$113,2,FALSE))","v":""},{"$f":"IF(B818=\"\",\"\",VLOOKUP(B818,CAD_AREA!$CB$13:$CD$113,3,FALSE))","v":""},null,{"$f":"IF(E818=\"\",\"\",VLOOKUP(E818,PCMSO!$B$13:$E$614,4,FALSE))","v":""},null,null,null,"","",{"$f":"IF(G818=\"\",\"\",VLOOKUP(MONTH(G818),'C-A'!$J$13:$K$24,2,FALSE))","v":""},null,null,null,null,null,8.0600000000001309E-4,""]
["",null,{"$f":"IF(B819=\"\",\"\",VLOOKUP(B819,CAD_AREA!$CB$13:$CD$113,2,FALSE))","v":""},{"$f":"IF(B819=\"\",\"\",VLOOKUP(B819,CAD_AREA!$CB$13:$CD$113,3,FALSE))","v":""},null,{"$f":"IF(E819=\"\",\"\",VLOOKUP(E819,PCMSO!$B$13:$E$614,4,FALSE))","v":""},null,null,null,"","",{"$f":"IF(G819=\"\",\"\",VLOOKUP(MONTH(G819),'C-A'!$J$13:$K$24,2,FALSE))","v":""},null,null,null,null,null,8.0700000000001311E-4,""]
["",null,{"$f":"IF(B820=\"\",\"\",VLOOKUP(B820,CAD_AREA!$CB$13:$CD$113,2,FALSE))","v":""},{"$f":"IF(B820=\"\",\"\",VLOOKUP(B820,CAD_AREA!$CB$13:$CD$113,3,FALSE))","v":""},null,{"$f":"IF(E820=\"\",\"\",VLOOKUP(E820,PCMSO!$B$13:$E$614,4,FALSE))","v":""},null,null,null,"","",{"$f":"IF(G820=\"\",\"\",VLOOKUP(MONTH(G820),'C-A'!$J$13:$K$24,2,FALSE))","v":""},null,null,null,null,null,8.0800000000001313E-4,""]
["",null,{"$f":"IF(B821=\"\",\"\",VLOOKUP(B821,CAD_AREA!$CB$13:$CD$113,2,FALSE))","v":""},{"$f":"IF(B821=\"\",\"\",VLOOKUP(B821,CAD_AREA!$CB$13:$CD$113,3,FALSE))","v":""},null,{"$f":"IF(E821=\"\",\"\",VLOOKUP(E821,PCMSO!$B$13:$E$614,4,FALSE))","v":""},null,null,null,"","",{"$f":"IF(G821=\"\",\"\",VLOOKUP(MONTH(G821),'C-A'!$J$13:$K$24,2,FALSE))","v":""},null,null,null,null,null,8.0900000000001316E-4,""]
[{"$f":"IF(S822=\"\",\"\",SUM(R822:S822))","v":""},null,{"$f":"IF(B822=\"\",\"\",VLOOKUP(B822,CAD_AREA!$CB$13:$CD$113,2,FALSE))","v":""},{"$f":"IF(B822=\"\",\"\",VLOOKUP(B822,CAD_AREA!$CB$13:$CD$113,3,FALSE))","v":""},null,{"$f":"IF(E822=\"\",\"\",VLOOKUP(E822,PCMSO!$B$13:$E$614,4,FALSE))","v":""},null,null,null,"","",{"$f":"IF(G822=\"\",\"\",VLOOKUP(MONTH(G822),'C-A'!$J$13:$K$24,2,FALSE))","v":""},null,null,null,null,null,8.1000000000001318E-4,""]
["",null,{"$f":"IF(B823=\"\",\"\",VLOOKUP(B823,CAD_AREA!$CB$13:$CD$113,2,FALSE))","v":""},{"$f":"IF(B823=\"\",\"\",VLOOKUP(B823,CAD_AREA!$CB$13:$CD$113,3,FALSE))","v":""},null,{"$f":"IF(E823=\"\",\"\",VLOOKUP(E823,PCMSO!$B$13:$E$614,4,FALSE))","v":""},null,null,null,"","",{"$f":"IF(G823=\"\",\"\",VLOOKUP(MONTH(G823),'C-A'!$J$13:$K$24,2,FALSE))","v":""},null,null,null,null,null,8.1100000000001321E-4,""]
["",null,{"$f":"IF(B824=\"\",\"\",VLOOKUP(B824,CAD_AREA!$CB$13:$CD$113,2,FALSE))","v":""},{"$f":"IF(B824=\"\",\"\",VLOOKUP(B824,CAD_AREA!$CB$13:$CD$113,3,FALSE))","v":""},null,{"$f":"IF(E824=\"\",\"\",VLOOKUP(E824,PCMSO!$B$13:$E$614,4,FALSE))","v":""},null,null,null,"","",{"$f":"IF(G824=\"\",\"\",VLOOKUP(MONTH(G824),'C-A'!$J$13:$K$24,2,FALSE))","v":""},null,null,null,null,null,8.1200000000001323E-4,""]
["",null,{"$f":"IF(B825=\"\",\"\",VLOOKUP(B825,CAD_AREA!$CB$13:$CD$113,2,FALSE))","v":""},{"$f":"IF(B825=\"\",\"\",VLOOKUP(B825,CAD_AREA!$CB$13:$CD$113,3,FALSE))","v":""},null,{"$f":"IF(E825=\"\",\"\",VLOOKUP(E825,PCMSO!$B$13:$E$614,4,FALSE))","v":""},null,null,null,"","",{"$f":"IF(G825=\"\",\"\",VLOOKUP(MONTH(G825),'C-A'!$J$13:$K$24,2,FALSE))","v":""},null,null,null,null,null,8.1300000000001326E-4,""]
["",null,{"$f":"IF(B826=\"\",\"\",VLOOKUP(B826,CAD_AREA!$CB$13:$CD$113,2,FALSE))","v":""},{"$f":"IF(B826=\"\",\"\",VLOOKUP(B826,CAD_AREA!$CB$13:$CD$113,3,FALSE))","v":""},null,{"$f":"IF(E826=\"\",\"\",VLOOKUP(E826,PCMSO!$B$13:$E$614,4,FALSE))","v":""},null,null,null,"","",{"$f":"IF(G826=\"\",\"\",VLOOKUP(MONTH(G826),'C-A'!$J$13:$K$24,2,FALSE))","v":""},null,null,null,null,null,8.1400000000001328E-4,""]
["",null,{"$f":"IF(B827=\"\",\"\",VLOOKUP(B827,CAD_AREA!$CB$13:$CD$113,2,FALSE))","v":""},{"$f":"IF(B827=\"\",\"\",VLOOKUP(B827,CAD_AREA!$CB$13:$CD$113,3,FALSE))","v":""},null,{"$f":"IF(E827=\"\",\"\",VLOOKUP(E827,PCMSO!$B$13:$E$614,4,FALSE))","v":""},null,null,null,"","",{"$f":"IF(G827=\"\",\"\",VLOOKUP(MONTH(G827),'C-A'!$J$13:$K$24,2,FALSE))","v":""},null,null,null,null,null,8.150000000000133E-4,""]
["",null,{"$f":"IF(B828=\"\",\"\",VLOOKUP(B828,CAD_AREA!$CB$13:$CD$113,2,FALSE))","v":""},{"$f":"IF(B828=\"\",\"\",VLOOKUP(B828,CAD_AREA!$CB$13:$CD$113,3,FALSE))","v":""},null,{"$f":"IF(E828=\"\",\"\",VLOOKUP(E828,PCMSO!$B$13:$E$614,4,FALSE))","v":""},null,null,null,"","",{"$f":"IF(G828=\"\",\"\",VLOOKUP(MONTH(G828),'C-A'!$J$13:$K$24,2,FALSE))","v":""},null,null,null,null,null,8.1600000000001333E-4,""]
["",null,{"$f":"IF(B829=\"\",\"\",VLOOKUP(B829,CAD_AREA!$CB$13:$CD$113,2,FALSE))","v":""},{"$f":"IF(B829=\"\",\"\",VLOOKUP(B829,CAD_AREA!$CB$13:$CD$113,3,FALSE))","v":""},null,{"$f":"IF(E829=\"\",\"\",VLOOKUP(E829,PCMSO!$B$13:$E$614,4,FALSE))","v":""},null,null,null,"","",{"$f":"IF(G829=\"\",\"\",VLOOKUP(MONTH(G829),'C-A'!$J$13:$K$24,2,FALSE))","v":""},null,null,null,null,null,8.1700000000001335E-4,""]
["",null,{"$f":"IF(B830=\"\",\"\",VLOOKUP(B830,CAD_AREA!$CB$13:$CD$113,2,FALSE))","v":""},{"$f":"IF(B830=\"\",\"\",VLOOKUP(B830,CAD_AREA!$CB$13:$CD$113,3,FALSE))","v":""},null,{"$f":"IF(E830=\"\",\"\",VLOOKUP(E830,PCMSO!$B$13:$E$614,4,FALSE))","v":""},null,null,null,"","",{"$f":"IF(G830=\"\",\"\",VLOOKUP(MONTH(G830),'C-A'!$J$13:$K$24,2,FALSE))","v":""},null,null,null,null,null,8.1800000000001338E-4,""]
["",null,{"$f":"IF(B831=\"\",\"\",VLOOKUP(B831,CAD_AREA!$CB$13:$CD$113,2,FALSE))","v":""},{"$f":"IF(B831=\"\",\"\",VLOOKUP(B831,CAD_AREA!$CB$13:$CD$113,3,FALSE))","v":""},null,{"$f":"IF(E831=\"\",\"\",VLOOKUP(E831,PCMSO!$B$13:$E$614,4,FALSE))","v":""},null,null,null,"","",{"$f":"IF(G831=\"\",\"\",VLOOKUP(MONTH(G831),'C-A'!$J$13:$K$24,2,FALSE))","v":""},null,null,null,null,null,8.190000000000134E-4,""]
["",null,{"$f":"IF(B832=\"\",\"\",VLOOKUP(B832,CAD_AREA!$CB$13:$CD$113,2,FALSE))","v":""},{"$f":"IF(B832=\"\",\"\",VLOOKUP(B832,CAD_AREA!$CB$13:$CD$113,3,FALSE))","v":""},null,{"$f":"IF(E832=\"\",\"\",VLOOKUP(E832,PCMSO!$B$13:$E$614,4,FALSE))","v":""},null,null,null,"","",{"$f":"IF(G832=\"\",\"\",VLOOKUP(MONTH(G832),'C-A'!$J$13:$K$24,2,FALSE))","v":""},null,null,null,null,null,8.2000000000001343E-4,""]
["",null,{"$f":"IF(B833=\"\",\"\",VLOOKUP(B833,CAD_AREA!$CB$13:$CD$113,2,FALSE))","v":""},{"$f":"IF(B833=\"\",\"\",VLOOKUP(B833,CAD_AREA!$CB$13:$CD$113,3,FALSE))","v":""},null,{"$f":"IF(E833=\"\",\"\",VLOOKUP(E833,PCMSO!$B$13:$E$614,4,FALSE))","v":""},null,null,null,"","",{"$f":"IF(G833=\"\",\"\",VLOOKUP(MONTH(G833),'C-A'!$J$13:$K$24,2,FALSE))","v":""},null,null,null,null,null,8.2100000000001345E-4,""]
["",null,{"$f":"IF(B834=\"\",\"\",VLOOKUP(B834,CAD_AREA!$CB$13:$CD$113,2,FALSE))","v":""},{"$f":"IF(B834=\"\",\"\",VLOOKUP(B834,CAD_AREA!$CB$13:$CD$113,3,FALSE))","v":""},null,{"$f":"IF(E834=\"\",\"\",VLOOKUP(E834,PCMSO!$B$13:$E$614,4,FALSE))","v":""},null,null,null,"","",{"$f":"IF(G834=\"\",\"\",VLOOKUP(MONTH(G834),'C-A'!$J$13:$K$24,2,FALSE))","v":""},null,null,null,null,null,8.2200000000001348E-4,""]
["",null,{"$f":"IF(B835=\"\",\"\",VLOOKUP(B835,CAD_AREA!$CB$13:$CD$113,2,FALSE))","v":""},{"$f":"IF(B835=\"\",\"\",VLOOKUP(B835,CAD_AREA!$CB$13:$CD$113,3,FALSE))","v":""},null,{"$f":"IF(E835=\"\",\"\",VLOOKUP(E835,PCMSO!$B$13:$E$614,4,FALSE))","v":""},null,null,null,"","",{"$f":"IF(G835=\"\",\"\",VLOOKUP(MONTH(G835),'C-A'!$J$13:$K$24,2,FALSE))","v":""},null,null,null,null,null,8.230000000000135E-4,""]
["",null,{"$f":"IF(B836=\"\",\"\",VLOOKUP(B836,CAD_AREA!$CB$13:$CD$113,2,FALSE))","v":""},{"$f":"IF(B836=\"\",\"\",VLOOKUP(B836,CAD_AREA!$CB$13:$CD$113,3,FALSE))","v":""},null,{"$f":"IF(E836=\"\",\"\",VLOOKUP(E836,PCMSO!$B$13:$E$614,4,FALSE))","v":""},null,null,null,"","",{"$f":"IF(G836=\"\",\"\",VLOOKUP(MONTH(G836),'C-A'!$J$13:$K$24,2,FALSE))","v":""},null,null,null,null,null,8.2400000000001352E-4,""]
["",null,{"$f":"IF(B837=\"\",\"\",VLOOKUP(B837,CAD_AREA!$CB$13:$CD$113,2,FALSE))","v":""},{"$f":"IF(B837=\"\",\"\",VLOOKUP(B837,CAD_AREA!$CB$13:$CD$113,3,FALSE))","v":""},null,{"$f":"IF(E837=\"\",\"\",VLOOKUP(E837,PCMSO!$B$13:$E$614,4,FALSE))","v":""},null,null,null,"","",{"$f":"IF(G837=\"\",\"\",VLOOKUP(MONTH(G837),'C-A'!$J$13:$K$24,2,FALSE))","v":""},null,null,null,null,null,8.2500000000001355E-4,""]
["",null,{"$f":"IF(B838=\"\",\"\",VLOOKUP(B838,CAD_AREA!$CB$13:$CD$113,2,FALSE))","v":""},{"$f":"IF(B838=\"\",\"\",VLOOKUP(B838,CAD_AREA!$CB$13:$CD$113,3,FALSE))","v":""},null,{"$f":"IF(E838=\"\",\"\",VLOOKUP(E838,PCMSO!$B$13:$E$614,4,FALSE))","v":""},null,null,null,"","",{"$f":"IF(G838=\"\",\"\",VLOOKUP(MONTH(G838),'C-A'!$J$13:$K$24,2,FALSE))","v":""},null,null,null,null,null,8.2600000000001357E-4,""]
["",null,{"$f":"IF(B839=\"\",\"\",VLOOKUP(B839,CAD_AREA!$CB$13:$CD$113,2,FALSE))","v":""},{"$f":"IF(B839=\"\",\"\",VLOOKUP(B839,CAD_AREA!$CB$13:$CD$113,3,FALSE))","v":""},null,{"$f":"IF(E839=\"\",\"\",VLOOKUP(E839,PCMSO!$B$13:$E$614,4,FALSE))","v":""},null,null,null,"","",{"$f":"IF(G839=\"\",\"\",VLOOKUP(MONTH(G839),'C-A'!$J$13:$K$24,2,FALSE))","v":""},null,null,null,null,null,8.270000000000136E-4,""]
["",null,{"$f":"IF(B840=\"\",\"\",VLOOKUP(B840,CAD_AREA!$CB$13:$CD$113,2,FALSE))","v":""},{"$f":"IF(B840=\"\",\"\",VLOOKUP(B840,CAD_AREA!$CB$13:$CD$113,3,FALSE))","v":""},null,{"$f":"IF(E840=\"\",\"\",VLOOKUP(E840,PCMSO!$B$13:$E$614,4,FALSE))","v":""},null,null,null,"","",{"$f":"IF(G840=\"\",\"\",VLOOKUP(MONTH(G840),'C-A'!$J$13:$K$24,2,FALSE))","v":""},null,null,null,null,null,8.2800000000001362E-4,""]
["",null,{"$f":"IF(B841=\"\",\"\",VLOOKUP(B841,CAD_AREA!$CB$13:$CD$113,2,FALSE))","v":""},{"$f":"IF(B841=\"\",\"\",VLOOKUP(B841,CAD_AREA!$CB$13:$CD$113,3,FALSE))","v":""},null,{"$f":"IF(E841=\"\",\"\",VLOOKUP(E841,PCMSO!$B$13:$E$614,4,FALSE))","v":""},null,null,null,"","",{"$f":"IF(G841=\"\",\"\",VLOOKUP(MONTH(G841),'C-A'!$J$13:$K$24,2,FALSE))","v":""},null,null,null,null,null,8.2900000000001365E-4,""]
["",null,{"$f":"IF(B842=\"\",\"\",VLOOKUP(B842,CAD_AREA!$CB$13:$CD$113,2,FALSE))","v":""},{"$f":"IF(B842=\"\",\"\",VLOOKUP(B842,CAD_AREA!$CB$13:$CD$113,3,FALSE))","v":""},null,{"$f":"IF(E842=\"\",\"\",VLOOKUP(E842,PCMSO!$B$13:$E$614,4,FALSE))","v":""},null,null,null,"","",{"$f":"IF(G842=\"\",\"\",VLOOKUP(MONTH(G842),'C-A'!$J$13:$K$24,2,FALSE))","v":""},null,null,null,null,null,8.3000000000001367E-4,""]
["",null,{"$f":"IF(B843=\"\",\"\",VLOOKUP(B843,CAD_AREA!$CB$13:$CD$113,2,FALSE))","v":""},{"$f":"IF(B843=\"\",\"\",VLOOKUP(B843,CAD_AREA!$CB$13:$CD$113,3,FALSE))","v":""},null,{"$f":"IF(E843=\"\",\"\",VLOOKUP(E843,PCMSO!$B$13:$E$614,4,FALSE))","v":""},null,null,null,"","",{"$f":"IF(G843=\"\",\"\",VLOOKUP(MONTH(G843),'C-A'!$J$13:$K$24,2,FALSE))","v":""},null,null,null,null,null,8.3100000000001369E-4,""]
["",null,{"$f":"IF(B844=\"\",\"\",VLOOKUP(B844,CAD_AREA!$CB$13:$CD$113,2,FALSE))","v":""},{"$f":"IF(B844=\"\",\"\",VLOOKUP(B844,CAD_AREA!$CB$13:$CD$113,3,FALSE))","v":""},null,{"$f":"IF(E844=\"\",\"\",VLOOKUP(E844,PCMSO!$B$13:$E$614,4,FALSE))","v":""},null,null,null,"","",{"$f":"IF(G844=\"\",\"\",VLOOKUP(MONTH(G844),'C-A'!$J$13:$K$24,2,FALSE))","v":""},null,null,null,null,null,8.3200000000001372E-4,""]
["",null,{"$f":"IF(B845=\"\",\"\",VLOOKUP(B845,CAD_AREA!$CB$13:$CD$113,2,FALSE))","v":""},{"$f":"IF(B845=\"\",\"\",VLOOKUP(B845,CAD_AREA!$CB$13:$CD$113,3,FALSE))","v":""},null,{"$f":"IF(E845=\"\",\"\",VLOOKUP(E845,PCMSO!$B$13:$E$614,4,FALSE))","v":""},null,null,null,{"$f":"IF(F845=\"\",\"\",VLOOKUP(F845,$N$13:$O$19,2,FALSE)+G845)","v":""},"",{"$f":"IF(G845=\"\",\"\",VLOOKUP(MONTH(G845),'C-A'!$J$13:$K$24,2,FALSE))","v":""},null,null,null,null,null,8.3300000000001374E-4,{"$f":"IF(K845=\"Vencido\",\"\",J845)","v":""}]
["",null,{"$f":"IF(B846=\"\",\"\",VLOOKUP(B846,CAD_AREA!$CB$13:$CD$113,2,FALSE))","v":""},{"$f":"IF(B846=\"\",\"\",VLOOKUP(B846,CAD_AREA!$CB$13:$CD$113,3,FALSE))","v":""},null,{"$f":"IF(E846=\"\",\"\",VLOOKUP(E846,PCMSO!$B$13:$E$614,4,FALSE))","v":""},null,null,null,"",{"$f":"IF(J846=\"\",\"\",IF(J846-TODAY()<0,\"Vencido\",IF(J846-TODAY()=0,\"Realizar hoje\",\"Realizar em \"&J846-TODAY()&\" dias\")))","v":""},{"$f":"IF(G846=\"\",\"\",VLOOKUP(MONTH(G846),'C-A'!$J$13:$K$24,2,FALSE))","v":""},null,null,null,null,null,8.3400000000001377E-4,""]
["",null,{"$f":"IF(B847=\"\",\"\",VLOOKUP(B847,CAD_AREA!$CB$13:$CD$113,2,FALSE))","v":""},{"$f":"IF(B847=\"\",\"\",VLOOKUP(B847,CAD_AREA!$CB$13:$CD$113,3,FALSE))","v":""},null,{"$f":"IF(E847=\"\",\"\",VLOOKUP(E847,PCMSO!$B$13:$E$614,4,FALSE))","v":""},null,null,null,"","",{"$f":"IF(G847=\"\",\"\",VLOOKUP(MONTH(G847),'C-A'!$J$13:$K$24,2,FALSE))","v":""},null,null,null,null,null,{"$f":"R846+$R$13","v":8.3500000000001379E-4},""]
["",null,{"$f":"IF(B848=\"\",\"\",VLOOKUP(B848,CAD_AREA!$CB$13:$CD$113,2,FALSE))","v":""},{"$f":"IF(B848=\"\",\"\",VLOOKUP(B848,CAD_AREA!$CB$13:$CD$113,3,FALSE))","v":""},null,{"$f":"IF(E848=\"\",\"\",VLOOKUP(E848,PCMSO!$B$13:$E$614,4,FALSE))","v":""},null,null,null,"","",{"$f":"IF(G848=\"\",\"\",VLOOKUP(MONTH(G848),'C-A'!$J$13:$K$24,2,FALSE))","v":""},null,null,null,null,null,8.3600000000001382E-4,""]
["",null,{"$f":"IF(B849=\"\",\"\",VLOOKUP(B849,CAD_AREA!$CB$13:$CD$113,2,FALSE))","v":""},{"$f":"IF(B849=\"\",\"\",VLOOKUP(B849,CAD_AREA!$CB$13:$CD$113,3,FALSE))","v":""},null,{"$f":"IF(E849=\"\",\"\",VLOOKUP(E849,PCMSO!$B$13:$E$614,4,FALSE))","v":""},null,null,null,"","",{"$f":"IF(G849=\"\",\"\",VLOOKUP(MONTH(G849),'C-A'!$J$13:$K$24,2,FALSE))","v":""},null,null,null,null,null,8.3700000000001384E-4,""]
["",null,{"$f":"IF(B850=\"\",\"\",VLOOKUP(B850,CAD_AREA!$CB$13:$CD$113,2,FALSE))","v":""},{"$f":"IF(B850=\"\",\"\",VLOOKUP(B850,CAD_AREA!$CB$13:$CD$113,3,FALSE))","v":""},null,{"$f":"IF(E850=\"\",\"\",VLOOKUP(E850,PCMSO!$B$13:$E$614,4,FALSE))","v":""},null,null,null,"","",{"$f":"IF(G850=\"\",\"\",VLOOKUP(MONTH(G850),'C-A'!$J$13:$K$24,2,FALSE))","v":""},null,null,null,null,null,8.3800000000001386E-4,""]
["",null,{"$f":"IF(B851=\"\",\"\",VLOOKUP(B851,CAD_AREA!$CB$13:$CD$113,2,FALSE))","v":""},{"$f":"IF(B851=\"\",\"\",VLOOKUP(B851,CAD_AREA!$CB$13:$CD$113,3,FALSE))","v":""},null,{"$f":"IF(E851=\"\",\"\",VLOOKUP(E851,PCMSO!$B$13:$E$614,4,FALSE))","v":""},null,null,null,"","",{"$f":"IF(G851=\"\",\"\",VLOOKUP(MONTH(G851),'C-A'!$J$13:$K$24,2,FALSE))","v":""},null,null,null,null,null,8.3900000000001389E-4,""]
["",null,{"$f":"IF(B852=\"\",\"\",VLOOKUP(B852,CAD_AREA!$CB$13:$CD$113,2,FALSE))","v":""},{"$f":"IF(B852=\"\",\"\",VLOOKUP(B852,CAD_AREA!$CB$13:$CD$113,3,FALSE))","v":""},null,{"$f":"IF(E852=\"\",\"\",VLOOKUP(E852,PCMSO!$B$13:$E$614,4,FALSE))","v":""},null,null,null,"","",{"$f":"IF(G852=\"\",\"\",VLOOKUP(MONTH(G852),'C-A'!$J$13:$K$24,2,FALSE))","v":""},null,null,null,null,null,8.4000000000001391E-4,""]
["",null,{"$f":"IF(B853=\"\",\"\",VLOOKUP(B853,CAD_AREA!$CB$13:$CD$113,2,FALSE))","v":""},{"$f":"IF(B853=\"\",\"\",VLOOKUP(B853,CAD_AREA!$CB$13:$CD$113,3,FALSE))","v":""},null,{"$f":"IF(E853=\"\",\"\",VLOOKUP(E853,PCMSO!$B$13:$E$614,4,FALSE))","v":""},null,null,null,"","",{"$f":"IF(G853=\"\",\"\",VLOOKUP(MONTH(G853),'C-A'!$J$13:$K$24,2,FALSE))","v":""},null,null,null,null,null,8.4100000000001394E-4,""]
["",null,{"$f":"IF(B854=\"\",\"\",VLOOKUP(B854,CAD_AREA!$CB$13:$CD$113,2,FALSE))","v":""},{"$f":"IF(B854=\"\",\"\",VLOOKUP(B854,CAD_AREA!$CB$13:$CD$113,3,FALSE))","v":""},null,{"$f":"IF(E854=\"\",\"\",VLOOKUP(E854,PCMSO!$B$13:$E$614,4,FALSE))","v":""},null,null,null,"","",{"$f":"IF(G854=\"\",\"\",VLOOKUP(MONTH(G854),'C-A'!$J$13:$K$24,2,FALSE))","v":""},null,null,null,null,null,8.4200000000001396E-4,""]
["",null,{"$f":"IF(B855=\"\",\"\",VLOOKUP(B855,CAD_AREA!$CB$13:$CD$113,2,FALSE))","v":""},{"$f":"IF(B855=\"\",\"\",VLOOKUP(B855,CAD_AREA!$CB$13:$CD$113,3,FALSE))","v":""},null,{"$f":"IF(E855=\"\",\"\",VLOOKUP(E855,PCMSO!$B$13:$E$614,4,FALSE))","v":""},null,null,null,"","",{"$f":"IF(G855=\"\",\"\",VLOOKUP(MONTH(G855),'C-A'!$J$13:$K$24,2,FALSE))","v":""},null,null,null,null,null,8.4300000000001399E-4,""]
["",null,{"$f":"IF(B856=\"\",\"\",VLOOKUP(B856,CAD_AREA!$CB$13:$CD$113,2,FALSE))","v":""},{"$f":"IF(B856=\"\",\"\",VLOOKUP(B856,CAD_AREA!$CB$13:$CD$113,3,FALSE))","v":""},null,{"$f":"IF(E856=\"\",\"\",VLOOKUP(E856,PCMSO!$B$13:$E$614,4,FALSE))","v":""},null,null,null,"","",{"$f":"IF(G856=\"\",\"\",VLOOKUP(MONTH(G856),'C-A'!$J$13:$K$24,2,FALSE))","v":""},null,null,null,null,null,8.4400000000001401E-4,""]
["",null,{"$f":"IF(B857=\"\",\"\",VLOOKUP(B857,CAD_AREA!$CB$13:$CD$113,2,FALSE))","v":""},{"$f":"IF(B857=\"\",\"\",VLOOKUP(B857,CAD_AREA!$CB$13:$CD$113,3,FALSE))","v":""},null,{"$f":"IF(E857=\"\",\"\",VLOOKUP(E857,PCMSO!$B$13:$E$614,4,FALSE))","v":""},null,null,null,"","",{"$f":"IF(G857=\"\",\"\",VLOOKUP(MONTH(G857),'C-A'!$J$13:$K$24,2,FALSE))","v":""},null,null,null,null,null,8.4500000000001403E-4,""]
["",null,{"$f":"IF(B858=\"\",\"\",VLOOKUP(B858,CAD_AREA!$CB$13:$CD$113,2,FALSE))","v":""},{"$f":"IF(B858=\"\",\"\",VLOOKUP(B858,CAD_AREA!$CB$13:$CD$113,3,FALSE))","v":""},null,{"$f":"IF(E858=\"\",\"\",VLOOKUP(E858,PCMSO!$B$13:$E$614,4,FALSE))","v":""},null,null,null,"","",{"$f":"IF(G858=\"\",\"\",VLOOKUP(MONTH(G858),'C-A'!$J$13:$K$24,2,FALSE))","v":""},null,null,null,null,null,8.4600000000001406E-4,""]
["",null,{"$f":"IF(B859=\"\",\"\",VLOOKUP(B859,CAD_AREA!$CB$13:$CD$113,2,FALSE))","v":""},{"$f":"IF(B859=\"\",\"\",VLOOKUP(B859,CAD_AREA!$CB$13:$CD$113,3,FALSE))","v":""},null,{"$f":"IF(E859=\"\",\"\",VLOOKUP(E859,PCMSO!$B$13:$E$614,4,FALSE))","v":""},null,null,null,"","",{"$f":"IF(G859=\"\",\"\",VLOOKUP(MONTH(G859),'C-A'!$J$13:$K$24,2,FALSE))","v":""},null,null,null,null,null,8.4700000000001408E-4,""]
["",null,{"$f":"IF(B860=\"\",\"\",VLOOKUP(B860,CAD_AREA!$CB$13:$CD$113,2,FALSE))","v":""},{"$f":"IF(B860=\"\",\"\",VLOOKUP(B860,CAD_AREA!$CB$13:$CD$113,3,FALSE))","v":""},null,{"$f":"IF(E860=\"\",\"\",VLOOKUP(E860,PCMSO!$B$13:$E$614,4,FALSE))","v":""},null,null,null,"","",{"$f":"IF(G860=\"\",\"\",VLOOKUP(MONTH(G860),'C-A'!$J$13:$K$24,2,FALSE))","v":""},null,null,null,null,null,8.4800000000001411E-4,""]
["",null,{"$f":"IF(B861=\"\",\"\",VLOOKUP(B861,CAD_AREA!$CB$13:$CD$113,2,FALSE))","v":""},{"$f":"IF(B861=\"\",\"\",VLOOKUP(B861,CAD_AREA!$CB$13:$CD$113,3,FALSE))","v":""},null,{"$f":"IF(E861=\"\",\"\",VLOOKUP(E861,PCMSO!$B$13:$E$614,4,FALSE))","v":""},null,null,null,"","",{"$f":"IF(G861=\"\",\"\",VLOOKUP(MONTH(G861),'C-A'!$J$13:$K$24,2,FALSE))","v":""},null,null,null,null,null,8.4900000000001413E-4,""]
["",null,{"$f":"IF(B862=\"\",\"\",VLOOKUP(B862,CAD_AREA!$CB$13:$CD$113,2,FALSE))","v":""},{"$f":"IF(B862=\"\",\"\",VLOOKUP(B862,CAD_AREA!$CB$13:$CD$113,3,FALSE))","v":""},null,{"$f":"IF(E862=\"\",\"\",VLOOKUP(E862,PCMSO!$B$13:$E$614,4,FALSE))","v":""},null,null,null,"","",{"$f":"IF(G862=\"\",\"\",VLOOKUP(MONTH(G862),'C-A'!$J$13:$K$24,2,FALSE))","v":""},null,null,null,null,null,8.5000000000001416E-4,""]
["",null,{"$f":"IF(B863=\"\",\"\",VLOOKUP(B863,CAD_AREA!$CB$13:$CD$113,2,FALSE))","v":""},{"$f":"IF(B863=\"\",\"\",VLOOKUP(B863,CAD_AREA!$CB$13:$CD$113,3,FALSE))","v":""},null,{"$f":"IF(E863=\"\",\"\",VLOOKUP(E863,PCMSO!$B$13:$E$614,4,FALSE))","v":""},null,null,null,"","",{"$f":"IF(G863=\"\",\"\",VLOOKUP(MONTH(G863),'C-A'!$J$13:$K$24,2,FALSE))","v":""},null,null,null,null,null,8.5100000000001418E-4,""]
["",null,{"$f":"IF(B864=\"\",\"\",VLOOKUP(B864,CAD_AREA!$CB$13:$CD$113,2,FALSE))","v":""},{"$f":"IF(B864=\"\",\"\",VLOOKUP(B864,CAD_AREA!$CB$13:$CD$113,3,FALSE))","v":""},null,{"$f":"IF(E864=\"\",\"\",VLOOKUP(E864,PCMSO!$B$13:$E$614,4,FALSE))","v":""},null,null,null,"","",{"$f":"IF(G864=\"\",\"\",VLOOKUP(MONTH(G864),'C-A'!$J$13:$K$24,2,FALSE))","v":""},null,null,null,null,null,8.520000000000142E-4,""]
["",null,{"$f":"IF(B865=\"\",\"\",VLOOKUP(B865,CAD_AREA!$CB$13:$CD$113,2,FALSE))","v":""},{"$f":"IF(B865=\"\",\"\",VLOOKUP(B865,CAD_AREA!$CB$13:$CD$113,3,FALSE))","v":""},null,{"$f":"IF(E865=\"\",\"\",VLOOKUP(E865,PCMSO!$B$13:$E$614,4,FALSE))","v":""},null,null,null,"","",{"$f":"IF(G865=\"\",\"\",VLOOKUP(MONTH(G865),'C-A'!$J$13:$K$24,2,FALSE))","v":""},null,null,null,null,null,8.5300000000001423E-4,""]
["",null,{"$f":"IF(B866=\"\",\"\",VLOOKUP(B866,CAD_AREA!$CB$13:$CD$113,2,FALSE))","v":""},{"$f":"IF(B866=\"\",\"\",VLOOKUP(B866,CAD_AREA!$CB$13:$CD$113,3,FALSE))","v":""},null,{"$f":"IF(E866=\"\",\"\",VLOOKUP(E866,PCMSO!$B$13:$E$614,4,FALSE))","v":""},null,null,null,"","",{"$f":"IF(G866=\"\",\"\",VLOOKUP(MONTH(G866),'C-A'!$J$13:$K$24,2,FALSE))","v":""},null,null,null,null,null,8.5400000000001425E-4,""]
["",null,{"$f":"IF(B867=\"\",\"\",VLOOKUP(B867,CAD_AREA!$CB$13:$CD$113,2,FALSE))","v":""},{"$f":"IF(B867=\"\",\"\",VLOOKUP(B867,CAD_AREA!$CB$13:$CD$113,3,FALSE))","v":""},null,{"$f":"IF(E867=\"\",\"\",VLOOKUP(E867,PCMSO!$B$13:$E$614,4,FALSE))","v":""},null,null,null,"","",{"$f":"IF(G867=\"\",\"\",VLOOKUP(MONTH(G867),'C-A'!$J$13:$K$24,2,FALSE))","v":""},null,null,null,null,null,8.5500000000001428E-4,""]
["",null,{"$f":"IF(B868=\"\",\"\",VLOOKUP(B868,CAD_AREA!$CB$13:$CD$113,2,FALSE))","v":""},{"$f":"IF(B868=\"\",\"\",VLOOKUP(B868,CAD_AREA!$CB$13:$CD$113,3,FALSE))","v":""},null,{"$f":"IF(E868=\"\",\"\",VLOOKUP(E868,PCMSO!$B$13:$E$614,4,FALSE))","v":""},null,null,null,"","",{"$f":"IF(G868=\"\",\"\",VLOOKUP(MONTH(G868),'C-A'!$J$13:$K$24,2,FALSE))","v":""},null,null,null,null,null,8.560000000000143E-4,""]
["",null,{"$f":"IF(B869=\"\",\"\",VLOOKUP(B869,CAD_AREA!$CB$13:$CD$113,2,FALSE))","v":""},{"$f":"IF(B869=\"\",\"\",VLOOKUP(B869,CAD_AREA!$CB$13:$CD$113,3,FALSE))","v":""},null,{"$f":"IF(E869=\"\",\"\",VLOOKUP(E869,PCMSO!$B$13:$E$614,4,FALSE))","v":""},null,null,null,"","",{"$f":"IF(G869=\"\",\"\",VLOOKUP(MONTH(G869),'C-A'!$J$13:$K$24,2,FALSE))","v":""},null,null,null,null,null,8.5700000000001433E-4,""]
["",null,{"$f":"IF(B870=\"\",\"\",VLOOKUP(B870,CAD_AREA!$CB$13:$CD$113,2,FALSE))","v":""},{"$f":"IF(B870=\"\",\"\",VLOOKUP(B870,CAD_AREA!$CB$13:$CD$113,3,FALSE))","v":""},null,{"$f":"IF(E870=\"\",\"\",VLOOKUP(E870,PCMSO!$B$13:$E$614,4,FALSE))","v":""},null,null,null,"","",{"$f":"IF(G870=\"\",\"\",VLOOKUP(MONTH(G870),'C-A'!$J$13:$K$24,2,FALSE))","v":""},null,null,null,null,null,8.5800000000001435E-4,""]
["",null,{"$f":"IF(B871=\"\",\"\",VLOOKUP(B871,CAD_AREA!$CB$13:$CD$113,2,FALSE))","v":""},{"$f":"IF(B871=\"\",\"\",VLOOKUP(B871,CAD_AREA!$CB$13:$CD$113,3,FALSE))","v":""},null,{"$f":"IF(E871=\"\",\"\",VLOOKUP(E871,PCMSO!$B$13:$E$614,4,FALSE))","v":""},null,null,null,"","",{"$f":"IF(G871=\"\",\"\",VLOOKUP(MONTH(G871),'C-A'!$J$13:$K$24,2,FALSE))","v":""},null,null,null,null,null,8.5900000000001437E-4,""]
["",null,{"$f":"IF(B872=\"\",\"\",VLOOKUP(B872,CAD_AREA!$CB$13:$CD$113,2,FALSE))","v":""},{"$f":"IF(B872=\"\",\"\",VLOOKUP(B872,CAD_AREA!$CB$13:$CD$113,3,FALSE))","v":""},null,{"$f":"IF(E872=\"\",\"\",VLOOKUP(E872,PCMSO!$B$13:$E$614,4,FALSE))","v":""},null,null,null,"","",{"$f":"IF(G872=\"\",\"\",VLOOKUP(MONTH(G872),'C-A'!$J$13:$K$24,2,FALSE))","v":""},null,null,null,null,null,8.600000000000144E-4,""]
["",null,{"$f":"IF(B873=\"\",\"\",VLOOKUP(B873,CAD_AREA!$CB$13:$CD$113,2,FALSE))","v":""},{"$f":"IF(B873=\"\",\"\",VLOOKUP(B873,CAD_AREA!$CB$13:$CD$113,3,FALSE))","v":""},null,{"$f":"IF(E873=\"\",\"\",VLOOKUP(E873,PCMSO!$B$13:$E$614,4,FALSE))","v":""},null,null,null,"","",{"$f":"IF(G873=\"\",\"\",VLOOKUP(MONTH(G873),'C-A'!$J$13:$K$24,2,FALSE))","v":""},null,null,null,null,null,8.6100000000001442E-4,""]
["",null,{"$f":"IF(B874=\"\",\"\",VLOOKUP(B874,CAD_AREA!$CB$13:$CD$113,2,FALSE))","v":""},{"$f":"IF(B874=\"\",\"\",VLOOKUP(B874,CAD_AREA!$CB$13:$CD$113,3,FALSE))","v":""},null,{"$f":"IF(E874=\"\",\"\",VLOOKUP(E874,PCMSO!$B$13:$E$614,4,FALSE))","v":""},null,null,null,"","",{"$f":"IF(G874=\"\",\"\",VLOOKUP(MONTH(G874),'C-A'!$J$13:$K$24,2,FALSE))","v":""},null,null,null,null,null,8.6200000000001445E-4,""]
["",null,{"$f":"IF(B875=\"\",\"\",VLOOKUP(B875,CAD_AREA!$CB$13:$CD$113,2,FALSE))","v":""},{"$f":"IF(B875=\"\",\"\",VLOOKUP(B875,CAD_AREA!$CB$13:$CD$113,3,FALSE))","v":""},null,{"$f":"IF(E875=\"\",\"\",VLOOKUP(E875,PCMSO!$B$13:$E$614,4,FALSE))","v":""},null,null,null,"","",{"$f":"IF(G875=\"\",\"\",VLOOKUP(MONTH(G875),'C-A'!$J$13:$K$24,2,FALSE))","v":""},null,null,null,null,null,8.6300000000001447E-4,""]
["",null,{"$f":"IF(B876=\"\",\"\",VLOOKUP(B876,CAD_AREA!$CB$13:$CD$113,2,FALSE))","v":""},{"$f":"IF(B876=\"\",\"\",VLOOKUP(B876,CAD_AREA!$CB$13:$CD$113,3,FALSE))","v":""},null,{"$f":"IF(E876=\"\",\"\",VLOOKUP(E876,PCMSO!$B$13:$E$614,4,FALSE))","v":""},null,null,null,"","",{"$f":"IF(G876=\"\",\"\",VLOOKUP(MONTH(G876),'C-A'!$J$13:$K$24,2,FALSE))","v":""},null,null,null,null,null,8.640000000000145E-4,""]
["",null,{"$f":"IF(B877=\"\",\"\",VLOOKUP(B877,CAD_AREA!$CB$13:$CD$113,2,FALSE))","v":""},{"$f":"IF(B877=\"\",\"\",VLOOKUP(B877,CAD_AREA!$CB$13:$CD$113,3,FALSE))","v":""},null,{"$f":"IF(E877=\"\",\"\",VLOOKUP(E877,PCMSO!$B$13:$E$614,4,FALSE))","v":""},null,null,null,"","",{"$f":"IF(G877=\"\",\"\",VLOOKUP(MONTH(G877),'C-A'!$J$13:$K$24,2,FALSE))","v":""},null,null,null,null,null,8.6500000000001452E-4,""]
["",null,{"$f":"IF(B878=\"\",\"\",VLOOKUP(B878,CAD_AREA!$CB$13:$CD$113,2,FALSE))","v":""},{"$f":"IF(B878=\"\",\"\",VLOOKUP(B878,CAD_AREA!$CB$13:$CD$113,3,FALSE))","v":""},null,{"$f":"IF(E878=\"\",\"\",VLOOKUP(E878,PCMSO!$B$13:$E$614,4,FALSE))","v":""},null,null,null,"","",{"$f":"IF(G878=\"\",\"\",VLOOKUP(MONTH(G878),'C-A'!$J$13:$K$24,2,FALSE))","v":""},null,null,null,null,null,8.6600000000001454E-4,""]
["",null,{"$f":"IF(B879=\"\",\"\",VLOOKUP(B879,CAD_AREA!$CB$13:$CD$113,2,FALSE))","v":""},{"$f":"IF(B879=\"\",\"\",VLOOKUP(B879,CAD_AREA!$CB$13:$CD$113,3,FALSE))","v":""},null,{"$f":"IF(E879=\"\",\"\",VLOOKUP(E879,PCMSO!$B$13:$E$614,4,FALSE))","v":""},null,null,null,"","",{"$f":"IF(G879=\"\",\"\",VLOOKUP(MONTH(G879),'C-A'!$J$13:$K$24,2,FALSE))","v":""},null,null,null,null,null,8.6700000000001457E-4,""]
["",null,{"$f":"IF(B880=\"\",\"\",VLOOKUP(B880,CAD_AREA!$CB$13:$CD$113,2,FALSE))","v":""},{"$f":"IF(B880=\"\",\"\",VLOOKUP(B880,CAD_AREA!$CB$13:$CD$113,3,FALSE))","v":""},null,{"$f":"IF(E880=\"\",\"\",VLOOKUP(E880,PCMSO!$B$13:$E$614,4,FALSE))","v":""},null,null,null,"","",{"$f":"IF(G880=\"\",\"\",VLOOKUP(MONTH(G880),'C-A'!$J$13:$K$24,2,FALSE))","v":""},null,null,null,null,null,8.6800000000001459E-4,""]
["",null,{"$f":"IF(B881=\"\",\"\",VLOOKUP(B881,CAD_AREA!$CB$13:$CD$113,2,FALSE))","v":""},{"$f":"IF(B881=\"\",\"\",VLOOKUP(B881,CAD_AREA!$CB$13:$CD$113,3,FALSE))","v":""},null,{"$f":"IF(E881=\"\",\"\",VLOOKUP(E881,PCMSO!$B$13:$E$614,4,FALSE))","v":""},null,null,null,"","",{"$f":"IF(G881=\"\",\"\",VLOOKUP(MONTH(G881),'C-A'!$J$13:$K$24,2,FALSE))","v":""},null,null,null,null,null,8.6900000000001462E-4,""]
["",null,{"$f":"IF(B882=\"\",\"\",VLOOKUP(B882,CAD_AREA!$CB$13:$CD$113,2,FALSE))","v":""},{"$f":"IF(B882=\"\",\"\",VLOOKUP(B882,CAD_AREA!$CB$13:$CD$113,3,FALSE))","v":""},null,{"$f":"IF(E882=\"\",\"\",VLOOKUP(E882,PCMSO!$B$13:$E$614,4,FALSE))","v":""},null,null,null,"","",{"$f":"IF(G882=\"\",\"\",VLOOKUP(MONTH(G882),'C-A'!$J$13:$K$24,2,FALSE))","v":""},null,null,null,null,null,8.7000000000001464E-4,""]
["",null,{"$f":"IF(B883=\"\",\"\",VLOOKUP(B883,CAD_AREA!$CB$13:$CD$113,2,FALSE))","v":""},{"$f":"IF(B883=\"\",\"\",VLOOKUP(B883,CAD_AREA!$CB$13:$CD$113,3,FALSE))","v":""},null,{"$f":"IF(E883=\"\",\"\",VLOOKUP(E883,PCMSO!$B$13:$E$614,4,FALSE))","v":""},null,null,null,"","",{"$f":"IF(G883=\"\",\"\",VLOOKUP(MONTH(G883),'C-A'!$J$13:$K$24,2,FALSE))","v":""},null,null,null,null,null,8.7100000000001467E-4,""]
["",null,{"$f":"IF(B884=\"\",\"\",VLOOKUP(B884,CAD_AREA!$CB$13:$CD$113,2,FALSE))","v":""},{"$f":"IF(B884=\"\",\"\",VLOOKUP(B884,CAD_AREA!$CB$13:$CD$113,3,FALSE))","v":""},null,{"$f":"IF(E884=\"\",\"\",VLOOKUP(E884,PCMSO!$B$13:$E$614,4,FALSE))","v":""},null,null,null,"","",{"$f":"IF(G884=\"\",\"\",VLOOKUP(MONTH(G884),'C-A'!$J$13:$K$24,2,FALSE))","v":""},null,null,null,null,null,8.7200000000001469E-4,""]
["",null,{"$f":"IF(B885=\"\",\"\",VLOOKUP(B885,CAD_AREA!$CB$13:$CD$113,2,FALSE))","v":""},{"$f":"IF(B885=\"\",\"\",VLOOKUP(B885,CAD_AREA!$CB$13:$CD$113,3,FALSE))","v":""},null,{"$f":"IF(E885=\"\",\"\",VLOOKUP(E885,PCMSO!$B$13:$E$614,4,FALSE))","v":""},null,null,null,"","",{"$f":"IF(G885=\"\",\"\",VLOOKUP(MONTH(G885),'C-A'!$J$13:$K$24,2,FALSE))","v":""},null,null,null,null,null,8.7300000000001471E-4,""]
[{"$f":"IF(S886=\"\",\"\",SUM(R886:S886))","v":""},null,{"$f":"IF(B886=\"\",\"\",VLOOKUP(B886,CAD_AREA!$CB$13:$CD$113,2,FALSE))","v":""},{"$f":"IF(B886=\"\",\"\",VLOOKUP(B886,CAD_AREA!$CB$13:$CD$113,3,FALSE))","v":""},null,{"$f":"IF(E886=\"\",\"\",VLOOKUP(E886,PCMSO!$B$13:$E$614,4,FALSE))","v":""},null,null,null,"","",{"$f":"IF(G886=\"\",\"\",VLOOKUP(MONTH(G886),'C-A'!$J$13:$K$24,2,FALSE))","v":""},null,null,null,null,null,8.7400000000001474E-4,""]
["",null,{"$f":"IF(B887=\"\",\"\",VLOOKUP(B887,CAD_AREA!$CB$13:$CD$113,2,FALSE))","v":""},{"$f":"IF(B887=\"\",\"\",VLOOKUP(B887,CAD_AREA!$CB$13:$CD$113,3,FALSE))","v":""},null,{"$f":"IF(E887=\"\",\"\",VLOOKUP(E887,PCMSO!$B$13:$E$614,4,FALSE))","v":""},null,null,null,"","",{"$f":"IF(G887=\"\",\"\",VLOOKUP(MONTH(G887),'C-A'!$J$13:$K$24,2,FALSE))","v":""},null,null,null,null,null,8.7500000000001476E-4,""]
["",null,{"$f":"IF(B888=\"\",\"\",VLOOKUP(B888,CAD_AREA!$CB$13:$CD$113,2,FALSE))","v":""},{"$f":"IF(B888=\"\",\"\",VLOOKUP(B888,CAD_AREA!$CB$13:$CD$113,3,FALSE))","v":""},null,{"$f":"IF(E888=\"\",\"\",VLOOKUP(E888,PCMSO!$B$13:$E$614,4,FALSE))","v":""},null,null,null,"","",{"$f":"IF(G888=\"\",\"\",VLOOKUP(MONTH(G888),'C-A'!$J$13:$K$24,2,FALSE))","v":""},null,null,null,null,null,8.7600000000001479E-4,""]
["",null,{"$f":"IF(B889=\"\",\"\",VLOOKUP(B889,CAD_AREA!$CB$13:$CD$113,2,FALSE))","v":""},{"$f":"IF(B889=\"\",\"\",VLOOKUP(B889,CAD_AREA!$CB$13:$CD$113,3,FALSE))","v":""},null,{"$f":"IF(E889=\"\",\"\",VLOOKUP(E889,PCMSO!$B$13:$E$614,4,FALSE))","v":""},null,null,null,"","",{"$f":"IF(G889=\"\",\"\",VLOOKUP(MONTH(G889),'C-A'!$J$13:$K$24,2,FALSE))","v":""},null,null,null,null,null,8.7700000000001481E-4,""]
["",null,{"$f":"IF(B890=\"\",\"\",VLOOKUP(B890,CAD_AREA!$CB$13:$CD$113,2,FALSE))","v":""},{"$f":"IF(B890=\"\",\"\",VLOOKUP(B890,CAD_AREA!$CB$13:$CD$113,3,FALSE))","v":""},null,{"$f":"IF(E890=\"\",\"\",VLOOKUP(E890,PCMSO!$B$13:$E$614,4,FALSE))","v":""},null,null,null,"","",{"$f":"IF(G890=\"\",\"\",VLOOKUP(MONTH(G890),'C-A'!$J$13:$K$24,2,FALSE))","v":""},null,null,null,null,null,8.7800000000001484E-4,""]
["",null,{"$f":"IF(B891=\"\",\"\",VLOOKUP(B891,CAD_AREA!$CB$13:$CD$113,2,FALSE))","v":""},{"$f":"IF(B891=\"\",\"\",VLOOKUP(B891,CAD_AREA!$CB$13:$CD$113,3,FALSE))","v":""},null,{"$f":"IF(E891=\"\",\"\",VLOOKUP(E891,PCMSO!$B$13:$E$614,4,FALSE))","v":""},null,null,null,"","",{"$f":"IF(G891=\"\",\"\",VLOOKUP(MONTH(G891),'C-A'!$J$13:$K$24,2,FALSE))","v":""},null,null,null,null,null,8.7900000000001486E-4,""]
["",null,{"$f":"IF(B892=\"\",\"\",VLOOKUP(B892,CAD_AREA!$CB$13:$CD$113,2,FALSE))","v":""},{"$f":"IF(B892=\"\",\"\",VLOOKUP(B892,CAD_AREA!$CB$13:$CD$113,3,FALSE))","v":""},null,{"$f":"IF(E892=\"\",\"\",VLOOKUP(E892,PCMSO!$B$13:$E$614,4,FALSE))","v":""},null,null,null,"","",{"$f":"IF(G892=\"\",\"\",VLOOKUP(MONTH(G892),'C-A'!$J$13:$K$24,2,FALSE))","v":""},null,null,null,null,null,8.8000000000001488E-4,""]
["",null,{"$f":"IF(B893=\"\",\"\",VLOOKUP(B893,CAD_AREA!$CB$13:$CD$113,2,FALSE))","v":""},{"$f":"IF(B893=\"\",\"\",VLOOKUP(B893,CAD_AREA!$CB$13:$CD$113,3,FALSE))","v":""},null,{"$f":"IF(E893=\"\",\"\",VLOOKUP(E893,PCMSO!$B$13:$E$614,4,FALSE))","v":""},null,null,null,"","",{"$f":"IF(G893=\"\",\"\",VLOOKUP(MONTH(G893),'C-A'!$J$13:$K$24,2,FALSE))","v":""},null,null,null,null,null,8.8100000000001491E-4,""]
["",null,{"$f":"IF(B894=\"\",\"\",VLOOKUP(B894,CAD_AREA!$CB$13:$CD$113,2,FALSE))","v":""},{"$f":"IF(B894=\"\",\"\",VLOOKUP(B894,CAD_AREA!$CB$13:$CD$113,3,FALSE))","v":""},null,{"$f":"IF(E894=\"\",\"\",VLOOKUP(E894,PCMSO!$B$13:$E$614,4,FALSE))","v":""},null,null,null,"","",{"$f":"IF(G894=\"\",\"\",VLOOKUP(MONTH(G894),'C-A'!$J$13:$K$24,2,FALSE))","v":""},null,null,null,null,null,8.8200000000001493E-4,""]
["",null,{"$f":"IF(B895=\"\",\"\",VLOOKUP(B895,CAD_AREA!$CB$13:$CD$113,2,FALSE))","v":""},{"$f":"IF(B895=\"\",\"\",VLOOKUP(B895,CAD_AREA!$CB$13:$CD$113,3,FALSE))","v":""},null,{"$f":"IF(E895=\"\",\"\",VLOOKUP(E895,PCMSO!$B$13:$E$614,4,FALSE))","v":""},null,null,null,"","",{"$f":"IF(G895=\"\",\"\",VLOOKUP(MONTH(G895),'C-A'!$J$13:$K$24,2,FALSE))","v":""},null,null,null,null,null,8.8300000000001496E-4,""]
["",null,{"$f":"IF(B896=\"\",\"\",VLOOKUP(B896,CAD_AREA!$CB$13:$CD$113,2,FALSE))","v":""},{"$f":"IF(B896=\"\",\"\",VLOOKUP(B896,CAD_AREA!$CB$13:$CD$113,3,FALSE))","v":""},null,{"$f":"IF(E896=\"\",\"\",VLOOKUP(E896,PCMSO!$B$13:$E$614,4,FALSE))","v":""},null,null,null,"","",{"$f":"IF(G896=\"\",\"\",VLOOKUP(MONTH(G896),'C-A'!$J$13:$K$24,2,FALSE))","v":""},null,null,null,null,null,8.8400000000001498E-4,""]
["",null,{"$f":"IF(B897=\"\",\"\",VLOOKUP(B897,CAD_AREA!$CB$13:$CD$113,2,FALSE))","v":""},{"$f":"IF(B897=\"\",\"\",VLOOKUP(B897,CAD_AREA!$CB$13:$CD$113,3,FALSE))","v":""},null,{"$f":"IF(E897=\"\",\"\",VLOOKUP(E897,PCMSO!$B$13:$E$614,4,FALSE))","v":""},null,null,null,"","",{"$f":"IF(G897=\"\",\"\",VLOOKUP(MONTH(G897),'C-A'!$J$13:$K$24,2,FALSE))","v":""},null,null,null,null,null,8.8500000000001501E-4,""]
["",null,{"$f":"IF(B898=\"\",\"\",VLOOKUP(B898,CAD_AREA!$CB$13:$CD$113,2,FALSE))","v":""},{"$f":"IF(B898=\"\",\"\",VLOOKUP(B898,CAD_AREA!$CB$13:$CD$113,3,FALSE))","v":""},null,{"$f":"IF(E898=\"\",\"\",VLOOKUP(E898,PCMSO!$B$13:$E$614,4,FALSE))","v":""},null,null,null,"","",{"$f":"IF(G898=\"\",\"\",VLOOKUP(MONTH(G898),'C-A'!$J$13:$K$24,2,FALSE))","v":""},null,null,null,null,null,8.8600000000001503E-4,""]
["",null,{"$f":"IF(B899=\"\",\"\",VLOOKUP(B899,CAD_AREA!$CB$13:$CD$113,2,FALSE))","v":""},{"$f":"IF(B899=\"\",\"\",VLOOKUP(B899,CAD_AREA!$CB$13:$CD$113,3,FALSE))","v":""},null,{"$f":"IF(E899=\"\",\"\",VLOOKUP(E899,PCMSO!$B$13:$E$614,4,FALSE))","v":""},null,null,null,"","",{"$f":"IF(G899=\"\",\"\",VLOOKUP(MONTH(G899),'C-A'!$J$13:$K$24,2,FALSE))","v":""},null,null,null,null,null,8.8700000000001506E-4,""]
["",null,{"$f":"IF(B900=\"\",\"\",VLOOKUP(B900,CAD_AREA!$CB$13:$CD$113,2,FALSE))","v":""},{"$f":"IF(B900=\"\",\"\",VLOOKUP(B900,CAD_AREA!$CB$13:$CD$113,3,FALSE))","v":""},null,{"$f":"IF(E900=\"\",\"\",VLOOKUP(E900,PCMSO!$B$13:$E$614,4,FALSE))","v":""},null,null,null,"","",{"$f":"IF(G900=\"\",\"\",VLOOKUP(MONTH(G900),'C-A'!$J$13:$K$24,2,FALSE))","v":""},null,null,null,null,null,8.8800000000001508E-4,""]
["",null,{"$f":"IF(B901=\"\",\"\",VLOOKUP(B901,CAD_AREA!$CB$13:$CD$113,2,FALSE))","v":""},{"$f":"IF(B901=\"\",\"\",VLOOKUP(B901,CAD_AREA!$CB$13:$CD$113,3,FALSE))","v":""},null,{"$f":"IF(E901=\"\",\"\",VLOOKUP(E901,PCMSO!$B$13:$E$614,4,FALSE))","v":""},null,null,null,"","",{"$f":"IF(G901=\"\",\"\",VLOOKUP(MONTH(G901),'C-A'!$J$13:$K$24,2,FALSE))","v":""},null,null,null,null,null,8.890000000000151E-4,""]
["",null,{"$f":"IF(B902=\"\",\"\",VLOOKUP(B902,CAD_AREA!$CB$13:$CD$113,2,FALSE))","v":""},{"$f":"IF(B902=\"\",\"\",VLOOKUP(B902,CAD_AREA!$CB$13:$CD$113,3,FALSE))","v":""},null,{"$f":"IF(E902=\"\",\"\",VLOOKUP(E902,PCMSO!$B$13:$E$614,4,FALSE))","v":""},null,null,null,"","",{"$f":"IF(G902=\"\",\"\",VLOOKUP(MONTH(G902),'C-A'!$J$13:$K$24,2,FALSE))","v":""},null,null,null,null,null,8.9000000000001513E-4,""]
["",null,{"$f":"IF(B903=\"\",\"\",VLOOKUP(B903,CAD_AREA!$CB$13:$CD$113,2,FALSE))","v":""},{"$f":"IF(B903=\"\",\"\",VLOOKUP(B903,CAD_AREA!$CB$13:$CD$113,3,FALSE))","v":""},null,{"$f":"IF(E903=\"\",\"\",VLOOKUP(E903,PCMSO!$B$13:$E$614,4,FALSE))","v":""},null,null,null,"","",{"$f":"IF(G903=\"\",\"\",VLOOKUP(MONTH(G903),'C-A'!$J$13:$K$24,2,FALSE))","v":""},null,null,null,null,null,8.9100000000001515E-4,""]
["",null,{"$f":"IF(B904=\"\",\"\",VLOOKUP(B904,CAD_AREA!$CB$13:$CD$113,2,FALSE))","v":""},{"$f":"IF(B904=\"\",\"\",VLOOKUP(B904,CAD_AREA!$CB$13:$CD$113,3,FALSE))","v":""},null,{"$f":"IF(E904=\"\",\"\",VLOOKUP(E904,PCMSO!$B$13:$E$614,4,FALSE))","v":""},null,null,null,"","",{"$f":"IF(G904=\"\",\"\",VLOOKUP(MONTH(G904),'C-A'!$J$13:$K$24,2,FALSE))","v":""},null,null,null,null,null,8.9200000000001518E-4,""]
["",null,{"$f":"IF(B905=\"\",\"\",VLOOKUP(B905,CAD_AREA!$CB$13:$CD$113,2,FALSE))","v":""},{"$f":"IF(B905=\"\",\"\",VLOOKUP(B905,CAD_AREA!$CB$13:$CD$113,3,FALSE))","v":""},null,{"$f":"IF(E905=\"\",\"\",VLOOKUP(E905,PCMSO!$B$13:$E$614,4,FALSE))","v":""},null,null,null,"","",{"$f":"IF(G905=\"\",\"\",VLOOKUP(MONTH(G905),'C-A'!$J$13:$K$24,2,FALSE))","v":""},null,null,null,null,null,8.930000000000152E-4,""]
["",null,{"$f":"IF(B906=\"\",\"\",VLOOKUP(B906,CAD_AREA!$CB$13:$CD$113,2,FALSE))","v":""},{"$f":"IF(B906=\"\",\"\",VLOOKUP(B906,CAD_AREA!$CB$13:$CD$113,3,FALSE))","v":""},null,{"$f":"IF(E906=\"\",\"\",VLOOKUP(E906,PCMSO!$B$13:$E$614,4,FALSE))","v":""},null,null,null,"","",{"$f":"IF(G906=\"\",\"\",VLOOKUP(MONTH(G906),'C-A'!$J$13:$K$24,2,FALSE))","v":""},null,null,null,null,null,8.9400000000001523E-4,""]
["",null,{"$f":"IF(B907=\"\",\"\",VLOOKUP(B907,CAD_AREA!$CB$13:$CD$113,2,FALSE))","v":""},{"$f":"IF(B907=\"\",\"\",VLOOKUP(B907,CAD_AREA!$CB$13:$CD$113,3,FALSE))","v":""},null,{"$f":"IF(E907=\"\",\"\",VLOOKUP(E907,PCMSO!$B$13:$E$614,4,FALSE))","v":""},null,null,null,"","",{"$f":"IF(G907=\"\",\"\",VLOOKUP(MONTH(G907),'C-A'!$J$13:$K$24,2,FALSE))","v":""},null,null,null,null,null,8.9500000000001525E-4,""]
["",null,{"$f":"IF(B908=\"\",\"\",VLOOKUP(B908,CAD_AREA!$CB$13:$CD$113,2,FALSE))","v":""},{"$f":"IF(B908=\"\",\"\",VLOOKUP(B908,CAD_AREA!$CB$13:$CD$113,3,FALSE))","v":""},null,{"$f":"IF(E908=\"\",\"\",VLOOKUP(E908,PCMSO!$B$13:$E$614,4,FALSE))","v":""},null,null,null,"","",{"$f":"IF(G908=\"\",\"\",VLOOKUP(MONTH(G908),'C-A'!$J$13:$K$24,2,FALSE))","v":""},null,null,null,null,null,8.9600000000001527E-4,""]
["",null,{"$f":"IF(B909=\"\",\"\",VLOOKUP(B909,CAD_AREA!$CB$13:$CD$113,2,FALSE))","v":""},{"$f":"IF(B909=\"\",\"\",VLOOKUP(B909,CAD_AREA!$CB$13:$CD$113,3,FALSE))","v":""},null,{"$f":"IF(E909=\"\",\"\",VLOOKUP(E909,PCMSO!$B$13:$E$614,4,FALSE))","v":""},null,null,null,{"$f":"IF(F909=\"\",\"\",VLOOKUP(F909,$N$13:$O$19,2,FALSE)+G909)","v":""},"",{"$f":"IF(G909=\"\",\"\",VLOOKUP(MONTH(G909),'C-A'!$J$13:$K$24,2,FALSE))","v":""},null,null,null,null,null,8.970000000000153E-4,{"$f":"IF(K909=\"Vencido\",\"\",J909)","v":""}]
["",null,{"$f":"IF(B910=\"\",\"\",VLOOKUP(B910,CAD_AREA!$CB$13:$CD$113,2,FALSE))","v":""},{"$f":"IF(B910=\"\",\"\",VLOOKUP(B910,CAD_AREA!$CB$13:$CD$113,3,FALSE))","v":""},null,{"$f":"IF(E910=\"\",\"\",VLOOKUP(E910,PCMSO!$B$13:$E$614,4,FALSE))","v":""},null,null,null,"",{"$f":"IF(J910=\"\",\"\",IF(J910-TODAY()<0,\"Vencido\",IF(J910-TODAY()=0,\"Realizar hoje\",\"Realizar em \"&J910-TODAY()&\" dias\")))","v":""},{"$f":"IF(G910=\"\",\"\",VLOOKUP(MONTH(G910),'C-A'!$J$13:$K$24,2,FALSE))","v":""},null,null,null,null,null,8.9800000000001532E-4,""]
["",null,{"$f":"IF(B911=\"\",\"\",VLOOKUP(B911,CAD_AREA!$CB$13:$CD$113,2,FALSE))","v":""},{"$f":"IF(B911=\"\",\"\",VLOOKUP(B911,CAD_AREA!$CB$13:$CD$113,3,FALSE))","v":""},null,{"$f":"IF(E911=\"\",\"\",VLOOKUP(E911,PCMSO!$B$13:$E$614,4,FALSE))","v":""},null,null,null,"","",{"$f":"IF(G911=\"\",\"\",VLOOKUP(MONTH(G911),'C-A'!$J$13:$K$24,2,FALSE))","v":""},null,null,null,null,null,{"$f":"R910+$R$13","v":8.9900000000001535E-4},""]
["",null,{"$f":"IF(B912=\"\",\"\",VLOOKUP(B912,CAD_AREA!$CB$13:$CD$113,2,FALSE))","v":""},{"$f":"IF(B912=\"\",\"\",VLOOKUP(B912,CAD_AREA!$CB$13:$CD$113,3,FALSE))","v":""},null,{"$f":"IF(E912=\"\",\"\",VLOOKUP(E912,PCMSO!$B$13:$E$614,4,FALSE))","v":""},null,null,null,"","",{"$f":"IF(G912=\"\",\"\",VLOOKUP(MONTH(G912),'C-A'!$J$13:$K$24,2,FALSE))","v":""},null,null,null,null,null,9.0000000000001537E-4,""]
["",null,{"$f":"IF(B913=\"\",\"\",VLOOKUP(B913,CAD_AREA!$CB$13:$CD$113,2,FALSE))","v":""},{"$f":"IF(B913=\"\",\"\",VLOOKUP(B913,CAD_AREA!$CB$13:$CD$113,3,FALSE))","v":""},null,{"$f":"IF(E913=\"\",\"\",VLOOKUP(E913,PCMSO!$B$13:$E$614,4,FALSE))","v":""},null,null,null,"","",{"$f":"IF(G913=\"\",\"\",VLOOKUP(MONTH(G913),'C-A'!$J$13:$K$24,2,FALSE))","v":""},null,null,null,null,null,9.010000000000154E-4,""]
["",null,{"$f":"IF(B914=\"\",\"\",VLOOKUP(B914,CAD_AREA!$CB$13:$CD$113,2,FALSE))","v":""},{"$f":"IF(B914=\"\",\"\",VLOOKUP(B914,CAD_AREA!$CB$13:$CD$113,3,FALSE))","v":""},null,{"$f":"IF(E914=\"\",\"\",VLOOKUP(E914,PCMSO!$B$13:$E$614,4,FALSE))","v":""},null,null,null,"","",{"$f":"IF(G914=\"\",\"\",VLOOKUP(MONTH(G914),'C-A'!$J$13:$K$24,2,FALSE))","v":""},null,null,null,null,null,9.0200000000001542E-4,""]
["",null,{"$f":"IF(B915=\"\",\"\",VLOOKUP(B915,CAD_AREA!$CB$13:$CD$113,2,FALSE))","v":""},{"$f":"IF(B915=\"\",\"\",VLOOKUP(B915,CAD_AREA!$CB$13:$CD$113,3,FALSE))","v":""},null,{"$f":"IF(E915=\"\",\"\",VLOOKUP(E915,PCMSO!$B$13:$E$614,4,FALSE))","v":""},null,null,null,"","",{"$f":"IF(G915=\"\",\"\",VLOOKUP(MONTH(G915),'C-A'!$J$13:$K$24,2,FALSE))","v":""},null,null,null,null,null,9.0300000000001544E-4,""]
["",null,{"$f":"IF(B916=\"\",\"\",VLOOKUP(B916,CAD_AREA!$CB$13:$CD$113,2,FALSE))","v":""},{"$f":"IF(B916=\"\",\"\",VLOOKUP(B916,CAD_AREA!$CB$13:$CD$113,3,FALSE))","v":""},null,{"$f":"IF(E916=\"\",\"\",VLOOKUP(E916,PCMSO!$B$13:$E$614,4,FALSE))","v":""},null,null,null,"","",{"$f":"IF(G916=\"\",\"\",VLOOKUP(MONTH(G916),'C-A'!$J$13:$K$24,2,FALSE))","v":""},null,null,null,null,null,9.0400000000001547E-4,""]
["",null,{"$f":"IF(B917=\"\",\"\",VLOOKUP(B917,CAD_AREA!$CB$13:$CD$113,2,FALSE))","v":""},{"$f":"IF(B917=\"\",\"\",VLOOKUP(B917,CAD_AREA!$CB$13:$CD$113,3,FALSE))","v":""},null,{"$f":"IF(E917=\"\",\"\",VLOOKUP(E917,PCMSO!$B$13:$E$614,4,FALSE))","v":""},null,null,null,"","",{"$f":"IF(G917=\"\",\"\",VLOOKUP(MONTH(G917),'C-A'!$J$13:$K$24,2,FALSE))","v":""},null,null,null,null,null,9.0500000000001549E-4,""]
["",null,{"$f":"IF(B918=\"\",\"\",VLOOKUP(B918,CAD_AREA!$CB$13:$CD$113,2,FALSE))","v":""},{"$f":"IF(B918=\"\",\"\",VLOOKUP(B918,CAD_AREA!$CB$13:$CD$113,3,FALSE))","v":""},null,{"$f":"IF(E918=\"\",\"\",VLOOKUP(E918,PCMSO!$B$13:$E$614,4,FALSE))","v":""},null,null,null,"","",{"$f":"IF(G918=\"\",\"\",VLOOKUP(MONTH(G918),'C-A'!$J$13:$K$24,2,FALSE))","v":""},null,null,null,null,null,9.0600000000001552E-4,""]
["",null,{"$f":"IF(B919=\"\",\"\",VLOOKUP(B919,CAD_AREA!$CB$13:$CD$113,2,FALSE))","v":""},{"$f":"IF(B919=\"\",\"\",VLOOKUP(B919,CAD_AREA!$CB$13:$CD$113,3,FALSE))","v":""},null,{"$f":"IF(E919=\"\",\"\",VLOOKUP(E919,PCMSO!$B$13:$E$614,4,FALSE))","v":""},null,null,null,"","",{"$f":"IF(G919=\"\",\"\",VLOOKUP(MONTH(G919),'C-A'!$J$13:$K$24,2,FALSE))","v":""},null,null,null,null,null,9.0700000000001554E-4,""]
["",null,{"$f":"IF(B920=\"\",\"\",VLOOKUP(B920,CAD_AREA!$CB$13:$CD$113,2,FALSE))","v":""},{"$f":"IF(B920=\"\",\"\",VLOOKUP(B920,CAD_AREA!$CB$13:$CD$113,3,FALSE))","v":""},null,{"$f":"IF(E920=\"\",\"\",VLOOKUP(E920,PCMSO!$B$13:$E$614,4,FALSE))","v":""},null,null,null,"","",{"$f":"IF(G920=\"\",\"\",VLOOKUP(MONTH(G920),'C-A'!$J$13:$K$24,2,FALSE))","v":""},null,null,null,null,null,9.0800000000001557E-4,""]
["",null,{"$f":"IF(B921=\"\",\"\",VLOOKUP(B921,CAD_AREA!$CB$13:$CD$113,2,FALSE))","v":""},{"$f":"IF(B921=\"\",\"\",VLOOKUP(B921,CAD_AREA!$CB$13:$CD$113,3,FALSE))","v":""},null,{"$f":"IF(E921=\"\",\"\",VLOOKUP(E921,PCMSO!$B$13:$E$614,4,FALSE))","v":""},null,null,null,"","",{"$f":"IF(G921=\"\",\"\",VLOOKUP(MONTH(G921),'C-A'!$J$13:$K$24,2,FALSE))","v":""},null,null,null,null,null,9.0900000000001559E-4,""]
["",null,{"$f":"IF(B922=\"\",\"\",VLOOKUP(B922,CAD_AREA!$CB$13:$CD$113,2,FALSE))","v":""},{"$f":"IF(B922=\"\",\"\",VLOOKUP(B922,CAD_AREA!$CB$13:$CD$113,3,FALSE))","v":""},null,{"$f":"IF(E922=\"\",\"\",VLOOKUP(E922,PCMSO!$B$13:$E$614,4,FALSE))","v":""},null,null,null,"","",{"$f":"IF(G922=\"\",\"\",VLOOKUP(MONTH(G922),'C-A'!$J$13:$K$24,2,FALSE))","v":""},null,null,null,null,null,9.1000000000001561E-4,""]
["",null,{"$f":"IF(B923=\"\",\"\",VLOOKUP(B923,CAD_AREA!$CB$13:$CD$113,2,FALSE))","v":""},{"$f":"IF(B923=\"\",\"\",VLOOKUP(B923,CAD_AREA!$CB$13:$CD$113,3,FALSE))","v":""},null,{"$f":"IF(E923=\"\",\"\",VLOOKUP(E923,PCMSO!$B$13:$E$614,4,FALSE))","v":""},null,null,null,"","",{"$f":"IF(G923=\"\",\"\",VLOOKUP(MONTH(G923),'C-A'!$J$13:$K$24,2,FALSE))","v":""},null,null,null,null,null,9.1100000000001564E-4,""]
["",null,{"$f":"IF(B924=\"\",\"\",VLOOKUP(B924,CAD_AREA!$CB$13:$CD$113,2,FALSE))","v":""},{"$f":"IF(B924=\"\",\"\",VLOOKUP(B924,CAD_AREA!$CB$13:$CD$113,3,FALSE))","v":""},null,{"$f":"IF(E924=\"\",\"\",VLOOKUP(E924,PCMSO!$B$13:$E$614,4,FALSE))","v":""},null,null,null,"","",{"$f":"IF(G924=\"\",\"\",VLOOKUP(MONTH(G924),'C-A'!$J$13:$K$24,2,FALSE))","v":""},null,null,null,null,null,9.1200000000001566E-4,""]
["",null,{"$f":"IF(B925=\"\",\"\",VLOOKUP(B925,CAD_AREA!$CB$13:$CD$113,2,FALSE))","v":""},{"$f":"IF(B925=\"\",\"\",VLOOKUP(B925,CAD_AREA!$CB$13:$CD$113,3,FALSE))","v":""},null,{"$f":"IF(E925=\"\",\"\",VLOOKUP(E925,PCMSO!$B$13:$E$614,4,FALSE))","v":""},null,null,null,"","",{"$f":"IF(G925=\"\",\"\",VLOOKUP(MONTH(G925),'C-A'!$J$13:$K$24,2,FALSE))","v":""},null,null,null,null,null,9.1300000000001569E-4,""]
["",null,{"$f":"IF(B926=\"\",\"\",VLOOKUP(B926,CAD_AREA!$CB$13:$CD$113,2,FALSE))","v":""},{"$f":"IF(B926=\"\",\"\",VLOOKUP(B926,CAD_AREA!$CB$13:$CD$113,3,FALSE))","v":""},null,{"$f":"IF(E926=\"\",\"\",VLOOKUP(E926,PCMSO!$B$13:$E$614,4,FALSE))","v":""},null,null,null,"","",{"$f":"IF(G926=\"\",\"\",VLOOKUP(MONTH(G926),'C-A'!$J$13:$K$24,2,FALSE))","v":""},null,null,null,null,null,9.1400000000001571E-4,""]
["",null,{"$f":"IF(B927=\"\",\"\",VLOOKUP(B927,CAD_AREA!$CB$13:$CD$113,2,FALSE))","v":""},{"$f":"IF(B927=\"\",\"\",VLOOKUP(B927,CAD_AREA!$CB$13:$CD$113,3,FALSE))","v":""},null,{"$f":"IF(E927=\"\",\"\",VLOOKUP(E927,PCMSO!$B$13:$E$614,4,FALSE))","v":""},null,null,null,"","",{"$f":"IF(G927=\"\",\"\",VLOOKUP(MONTH(G927),'C-A'!$J$13:$K$24,2,FALSE))","v":""},null,null,null,null,null,9.1500000000001574E-4,""]
["",null,{"$f":"IF(B928=\"\",\"\",VLOOKUP(B928,CAD_AREA!$CB$13:$CD$113,2,FALSE))","v":""},{"$f":"IF(B928=\"\",\"\",VLOOKUP(B928,CAD_AREA!$CB$13:$CD$113,3,FALSE))","v":""},null,{"$f":"IF(E928=\"\",\"\",VLOOKUP(E928,PCMSO!$B$13:$E$614,4,FALSE))","v":""},null,null,null,"","",{"$f":"IF(G928=\"\",\"\",VLOOKUP(MONTH(G928),'C-A'!$J$13:$K$24,2,FALSE))","v":""},null,null,null,null,null,9.1600000000001576E-4,""]
["",null,{"$f":"IF(B929=\"\",\"\",VLOOKUP(B929,CAD_AREA!$CB$13:$CD$113,2,FALSE))","v":""},{"$f":"IF(B929=\"\",\"\",VLOOKUP(B929,CAD_AREA!$CB$13:$CD$113,3,FALSE))","v":""},null,{"$f":"IF(E929=\"\",\"\",VLOOKUP(E929,PCMSO!$B$13:$E$614,4,FALSE))","v":""},null,null,null,"","",{"$f":"IF(G929=\"\",\"\",VLOOKUP(MONTH(G929),'C-A'!$J$13:$K$24,2,FALSE))","v":""},null,null,null,null,null,9.1700000000001578E-4,""]
["",null,{"$f":"IF(B930=\"\",\"\",VLOOKUP(B930,CAD_AREA!$CB$13:$CD$113,2,FALSE))","v":""},{"$f":"IF(B930=\"\",\"\",VLOOKUP(B930,CAD_AREA!$CB$13:$CD$113,3,FALSE))","v":""},null,{"$f":"IF(E930=\"\",\"\",VLOOKUP(E930,PCMSO!$B$13:$E$614,4,FALSE))","v":""},null,null,null,"","",{"$f":"IF(G930=\"\",\"\",VLOOKUP(MONTH(G930),'C-A'!$J$13:$K$24,2,FALSE))","v":""},null,null,null,null,null,9.1800000000001581E-4,""]
["",null,{"$f":"IF(B931=\"\",\"\",VLOOKUP(B931,CAD_AREA!$CB$13:$CD$113,2,FALSE))","v":""},{"$f":"IF(B931=\"\",\"\",VLOOKUP(B931,CAD_AREA!$CB$13:$CD$113,3,FALSE))","v":""},null,{"$f":"IF(E931=\"\",\"\",VLOOKUP(E931,PCMSO!$B$13:$E$614,4,FALSE))","v":""},null,null,null,"","",{"$f":"IF(G931=\"\",\"\",VLOOKUP(MONTH(G931),'C-A'!$J$13:$K$24,2,FALSE))","v":""},null,null,null,null,null,9.1900000000001583E-4,""]
["",null,{"$f":"IF(B932=\"\",\"\",VLOOKUP(B932,CAD_AREA!$CB$13:$CD$113,2,FALSE))","v":""},{"$f":"IF(B932=\"\",\"\",VLOOKUP(B932,CAD_AREA!$CB$13:$CD$113,3,FALSE))","v":""},null,{"$f":"IF(E932=\"\",\"\",VLOOKUP(E932,PCMSO!$B$13:$E$614,4,FALSE))","v":""},null,null,null,"","",{"$f":"IF(G932=\"\",\"\",VLOOKUP(MONTH(G932),'C-A'!$J$13:$K$24,2,FALSE))","v":""},null,null,null,null,null,9.2000000000001586E-4,""]
["",null,{"$f":"IF(B933=\"\",\"\",VLOOKUP(B933,CAD_AREA!$CB$13:$CD$113,2,FALSE))","v":""},{"$f":"IF(B933=\"\",\"\",VLOOKUP(B933,CAD_AREA!$CB$13:$CD$113,3,FALSE))","v":""},null,{"$f":"IF(E933=\"\",\"\",VLOOKUP(E933,PCMSO!$B$13:$E$614,4,FALSE))","v":""},null,null,null,"","",{"$f":"IF(G933=\"\",\"\",VLOOKUP(MONTH(G933),'C-A'!$J$13:$K$24,2,FALSE))","v":""},null,null,null,null,null,9.2100000000001588E-4,""]
["",null,{"$f":"IF(B934=\"\",\"\",VLOOKUP(B934,CAD_AREA!$CB$13:$CD$113,2,FALSE))","v":""},{"$f":"IF(B934=\"\",\"\",VLOOKUP(B934,CAD_AREA!$CB$13:$CD$113,3,FALSE))","v":""},null,{"$f":"IF(E934=\"\",\"\",VLOOKUP(E934,PCMSO!$B$13:$E$614,4,FALSE))","v":""},null,null,null,"","",{"$f":"IF(G934=\"\",\"\",VLOOKUP(MONTH(G934),'C-A'!$J$13:$K$24,2,FALSE))","v":""},null,null,null,null,null,9.2200000000001591E-4,""]
["",null,{"$f":"IF(B935=\"\",\"\",VLOOKUP(B935,CAD_AREA!$CB$13:$CD$113,2,FALSE))","v":""},{"$f":"IF(B935=\"\",\"\",VLOOKUP(B935,CAD_AREA!$CB$13:$CD$113,3,FALSE))","v":""},null,{"$f":"IF(E935=\"\",\"\",VLOOKUP(E935,PCMSO!$B$13:$E$614,4,FALSE))","v":""},null,null,null,"","",{"$f":"IF(G935=\"\",\"\",VLOOKUP(MONTH(G935),'C-A'!$J$13:$K$24,2,FALSE))","v":""},null,null,null,null,null,9.2300000000001593E-4,""]
["",null,{"$f":"IF(B936=\"\",\"\",VLOOKUP(B936,CAD_AREA!$CB$13:$CD$113,2,FALSE))","v":""},{"$f":"IF(B936=\"\",\"\",VLOOKUP(B936,CAD_AREA!$CB$13:$CD$113,3,FALSE))","v":""},null,{"$f":"IF(E936=\"\",\"\",VLOOKUP(E936,PCMSO!$B$13:$E$614,4,FALSE))","v":""},null,null,null,"","",{"$f":"IF(G936=\"\",\"\",VLOOKUP(MONTH(G936),'C-A'!$J$13:$K$24,2,FALSE))","v":""},null,null,null,null,null,9.2400000000001595E-4,""]
["",null,{"$f":"IF(B937=\"\",\"\",VLOOKUP(B937,CAD_AREA!$CB$13:$CD$113,2,FALSE))","v":""},{"$f":"IF(B937=\"\",\"\",VLOOKUP(B937,CAD_AREA!$CB$13:$CD$113,3,FALSE))","v":""},null,{"$f":"IF(E937=\"\",\"\",VLOOKUP(E937,PCMSO!$B$13:$E$614,4,FALSE))","v":""},null,null,null,"","",{"$f":"IF(G937=\"\",\"\",VLOOKUP(MONTH(G937),'C-A'!$J$13:$K$24,2,FALSE))","v":""},null,null,null,null,null,9.2500000000001598E-4,""]
["",null,{"$f":"IF(B938=\"\",\"\",VLOOKUP(B938,CAD_AREA!$CB$13:$CD$113,2,FALSE))","v":""},{"$f":"IF(B938=\"\",\"\",VLOOKUP(B938,CAD_AREA!$CB$13:$CD$113,3,FALSE))","v":""},null,{"$f":"IF(E938=\"\",\"\",VLOOKUP(E938,PCMSO!$B$13:$E$614,4,FALSE))","v":""},null,null,null,"","",{"$f":"IF(G938=\"\",\"\",VLOOKUP(MONTH(G938),'C-A'!$J$13:$K$24,2,FALSE))","v":""},null,null,null,null,null,9.26000000000016E-4,""]
["",null,{"$f":"IF(B939=\"\",\"\",VLOOKUP(B939,CAD_AREA!$CB$13:$CD$113,2,FALSE))","v":""},{"$f":"IF(B939=\"\",\"\",VLOOKUP(B939,CAD_AREA!$CB$13:$CD$113,3,FALSE))","v":""},null,{"$f":"IF(E939=\"\",\"\",VLOOKUP(E939,PCMSO!$B$13:$E$614,4,FALSE))","v":""},null,null,null,"","",{"$f":"IF(G939=\"\",\"\",VLOOKUP(MONTH(G939),'C-A'!$J$13:$K$24,2,FALSE))","v":""},null,null,null,null,null,9.2700000000001603E-4,""]
["",null,{"$f":"IF(B940=\"\",\"\",VLOOKUP(B940,CAD_AREA!$CB$13:$CD$113,2,FALSE))","v":""},{"$f":"IF(B940=\"\",\"\",VLOOKUP(B940,CAD_AREA!$CB$13:$CD$113,3,FALSE))","v":""},null,{"$f":"IF(E940=\"\",\"\",VLOOKUP(E940,PCMSO!$B$13:$E$614,4,FALSE))","v":""},null,null,null,"","",{"$f":"IF(G940=\"\",\"\",VLOOKUP(MONTH(G940),'C-A'!$J$13:$K$24,2,FALSE))","v":""},null,null,null,null,null,9.2800000000001605E-4,""]
["",null,{"$f":"IF(B941=\"\",\"\",VLOOKUP(B941,CAD_AREA!$CB$13:$CD$113,2,FALSE))","v":""},{"$f":"IF(B941=\"\",\"\",VLOOKUP(B941,CAD_AREA!$CB$13:$CD$113,3,FALSE))","v":""},null,{"$f":"IF(E941=\"\",\"\",VLOOKUP(E941,PCMSO!$B$13:$E$614,4,FALSE))","v":""},null,null,null,"","",{"$f":"IF(G941=\"\",\"\",VLOOKUP(MONTH(G941),'C-A'!$J$13:$K$24,2,FALSE))","v":""},null,null,null,null,null,9.2900000000001608E-4,""]
["",null,{"$f":"IF(B942=\"\",\"\",VLOOKUP(B942,CAD_AREA!$CB$13:$CD$113,2,FALSE))","v":""},{"$f":"IF(B942=\"\",\"\",VLOOKUP(B942,CAD_AREA!$CB$13:$CD$113,3,FALSE))","v":""},null,{"$f":"IF(E942=\"\",\"\",VLOOKUP(E942,PCMSO!$B$13:$E$614,4,FALSE))","v":""},null,null,null,"","",{"$f":"IF(G942=\"\",\"\",VLOOKUP(MONTH(G942),'C-A'!$J$13:$K$24,2,FALSE))","v":""},null,null,null,null,null,9.300000000000161E-4,""]
["",null,{"$f":"IF(B943=\"\",\"\",VLOOKUP(B943,CAD_AREA!$CB$13:$CD$113,2,FALSE))","v":""},{"$f":"IF(B943=\"\",\"\",VLOOKUP(B943,CAD_AREA!$CB$13:$CD$113,3,FALSE))","v":""},null,{"$f":"IF(E943=\"\",\"\",VLOOKUP(E943,PCMSO!$B$13:$E$614,4,FALSE))","v":""},null,null,null,"","",{"$f":"IF(G943=\"\",\"\",VLOOKUP(MONTH(G943),'C-A'!$J$13:$K$24,2,FALSE))","v":""},null,null,null,null,null,9.3100000000001612E-4,""]
["",null,{"$f":"IF(B944=\"\",\"\",VLOOKUP(B944,CAD_AREA!$CB$13:$CD$113,2,FALSE))","v":""},{"$f":"IF(B944=\"\",\"\",VLOOKUP(B944,CAD_AREA!$CB$13:$CD$113,3,FALSE))","v":""},null,{"$f":"IF(E944=\"\",\"\",VLOOKUP(E944,PCMSO!$B$13:$E$614,4,FALSE))","v":""},null,null,null,"","",{"$f":"IF(G944=\"\",\"\",VLOOKUP(MONTH(G944),'C-A'!$J$13:$K$24,2,FALSE))","v":""},null,null,null,null,null,9.3200000000001615E-4,""]
["",null,{"$f":"IF(B945=\"\",\"\",VLOOKUP(B945,CAD_AREA!$CB$13:$CD$113,2,FALSE))","v":""},{"$f":"IF(B945=\"\",\"\",VLOOKUP(B945,CAD_AREA!$CB$13:$CD$113,3,FALSE))","v":""},null,{"$f":"IF(E945=\"\",\"\",VLOOKUP(E945,PCMSO!$B$13:$E$614,4,FALSE))","v":""},null,null,null,"","",{"$f":"IF(G945=\"\",\"\",VLOOKUP(MONTH(G945),'C-A'!$J$13:$K$24,2,FALSE))","v":""},null,null,null,null,null,9.3300000000001617E-4,""]
["",null,{"$f":"IF(B946=\"\",\"\",VLOOKUP(B946,CAD_AREA!$CB$13:$CD$113,2,FALSE))","v":""},{"$f":"IF(B946=\"\",\"\",VLOOKUP(B946,CAD_AREA!$CB$13:$CD$113,3,FALSE))","v":""},null,{"$f":"IF(E946=\"\",\"\",VLOOKUP(E946,PCMSO!$B$13:$E$614,4,FALSE))","v":""},null,null,null,"","",{"$f":"IF(G946=\"\",\"\",VLOOKUP(MONTH(G946),'C-A'!$J$13:$K$24,2,FALSE))","v":""},null,null,null,null,null,9.340000000000162E-4,""]
["",null,{"$f":"IF(B947=\"\",\"\",VLOOKUP(B947,CAD_AREA!$CB$13:$CD$113,2,FALSE))","v":""},{"$f":"IF(B947=\"\",\"\",VLOOKUP(B947,CAD_AREA!$CB$13:$CD$113,3,FALSE))","v":""},null,{"$f":"IF(E947=\"\",\"\",VLOOKUP(E947,PCMSO!$B$13:$E$614,4,FALSE))","v":""},null,null,null,"","",{"$f":"IF(G947=\"\",\"\",VLOOKUP(MONTH(G947),'C-A'!$J$13:$K$24,2,FALSE))","v":""},null,null,null,null,null,9.3500000000001622E-4,""]
["",null,{"$f":"IF(B948=\"\",\"\",VLOOKUP(B948,CAD_AREA!$CB$13:$CD$113,2,FALSE))","v":""},{"$f":"IF(B948=\"\",\"\",VLOOKUP(B948,CAD_AREA!$CB$13:$CD$113,3,FALSE))","v":""},null,{"$f":"IF(E948=\"\",\"\",VLOOKUP(E948,PCMSO!$B$13:$E$614,4,FALSE))","v":""},null,null,null,"","",{"$f":"IF(G948=\"\",\"\",VLOOKUP(MONTH(G948),'C-A'!$J$13:$K$24,2,FALSE))","v":""},null,null,null,null,null,9.3600000000001625E-4,""]
["",null,{"$f":"IF(B949=\"\",\"\",VLOOKUP(B949,CAD_AREA!$CB$13:$CD$113,2,FALSE))","v":""},{"$f":"IF(B949=\"\",\"\",VLOOKUP(B949,CAD_AREA!$CB$13:$CD$113,3,FALSE))","v":""},null,{"$f":"IF(E949=\"\",\"\",VLOOKUP(E949,PCMSO!$B$13:$E$614,4,FALSE))","v":""},null,null,null,"","",{"$f":"IF(G949=\"\",\"\",VLOOKUP(MONTH(G949),'C-A'!$J$13:$K$24,2,FALSE))","v":""},null,null,null,null,null,9.3700000000001627E-4,""]
[{"$f":"IF(S950=\"\",\"\",SUM(R950:S950))","v":""},null,{"$f":"IF(B950=\"\",\"\",VLOOKUP(B950,CAD_AREA!$CB$13:$CD$113,2,FALSE))","v":""},{"$f":"IF(B950=\"\",\"\",VLOOKUP(B950,CAD_AREA!$CB$13:$CD$113,3,FALSE))","v":""},null,{"$f":"IF(E950=\"\",\"\",VLOOKUP(E950,PCMSO!$B$13:$E$614,4,FALSE))","v":""},null,null,null,"","",{"$f":"IF(G950=\"\",\"\",VLOOKUP(MONTH(G950),'C-A'!$J$13:$K$24,2,FALSE))","v":""},null,null,null,null,null,9.3800000000001629E-4,""]
["",null,{"$f":"IF(B951=\"\",\"\",VLOOKUP(B951,CAD_AREA!$CB$13:$CD$113,2,FALSE))","v":""},{"$f":"IF(B951=\"\",\"\",VLOOKUP(B951,CAD_AREA!$CB$13:$CD$113,3,FALSE))","v":""},null,{"$f":"IF(E951=\"\",\"\",VLOOKUP(E951,PCMSO!$B$13:$E$614,4,FALSE))","v":""},null,null,null,"","",{"$f":"IF(G951=\"\",\"\",VLOOKUP(MONTH(G951),'C-A'!$J$13:$K$24,2,FALSE))","v":""},null,null,null,null,null,9.3900000000001632E-4,""]
["",null,{"$f":"IF(B952=\"\",\"\",VLOOKUP(B952,CAD_AREA!$CB$13:$CD$113,2,FALSE))","v":""},{"$f":"IF(B952=\"\",\"\",VLOOKUP(B952,CAD_AREA!$CB$13:$CD$113,3,FALSE))","v":""},null,{"$f":"IF(E952=\"\",\"\",VLOOKUP(E952,PCMSO!$B$13:$E$614,4,FALSE))","v":""},null,null,null,"","",{"$f":"IF(G952=\"\",\"\",VLOOKUP(MONTH(G952),'C-A'!$J$13:$K$24,2,FALSE))","v":""},null,null,null,null,null,9.4000000000001634E-4,""]
["",null,{"$f":"IF(B953=\"\",\"\",VLOOKUP(B953,CAD_AREA!$CB$13:$CD$113,2,FALSE))","v":""},{"$f":"IF(B953=\"\",\"\",VLOOKUP(B953,CAD_AREA!$CB$13:$CD$113,3,FALSE))","v":""},null,{"$f":"IF(E953=\"\",\"\",VLOOKUP(E953,PCMSO!$B$13:$E$614,4,FALSE))","v":""},null,null,null,"","",{"$f":"IF(G953=\"\",\"\",VLOOKUP(MONTH(G953),'C-A'!$J$13:$K$24,2,FALSE))","v":""},null,null,null,null,null,9.4100000000001637E-4,""]
["",null,{"$f":"IF(B954=\"\",\"\",VLOOKUP(B954,CAD_AREA!$CB$13:$CD$113,2,FALSE))","v":""},{"$f":"IF(B954=\"\",\"\",VLOOKUP(B954,CAD_AREA!$CB$13:$CD$113,3,FALSE))","v":""},null,{"$f":"IF(E954=\"\",\"\",VLOOKUP(E954,PCMSO!$B$13:$E$614,4,FALSE))","v":""},null,null,null,"","",{"$f":"IF(G954=\"\",\"\",VLOOKUP(MONTH(G954),'C-A'!$J$13:$K$24,2,FALSE))","v":""},null,null,null,null,null,9.4200000000001639E-4,""]
["",null,{"$f":"IF(B955=\"\",\"\",VLOOKUP(B955,CAD_AREA!$CB$13:$CD$113,2,FALSE))","v":""},{"$f":"IF(B955=\"\",\"\",VLOOKUP(B955,CAD_AREA!$CB$13:$CD$113,3,FALSE))","v":""},null,{"$f":"IF(E955=\"\",\"\",VLOOKUP(E955,PCMSO!$B$13:$E$614,4,FALSE))","v":""},null,null,null,"","",{"$f":"IF(G955=\"\",\"\",VLOOKUP(MONTH(G955),'C-A'!$J$13:$K$24,2,FALSE))","v":""},null,null,null,null,null,9.4300000000001642E-4,""]
["",null,{"$f":"IF(B956=\"\",\"\",VLOOKUP(B956,CAD_AREA!$CB$13:$CD$113,2,FALSE))","v":""},{"$f":"IF(B956=\"\",\"\",VLOOKUP(B956,CAD_AREA!$CB$13:$CD$113,3,FALSE))","v":""},null,{"$f":"IF(E956=\"\",\"\",VLOOKUP(E956,PCMSO!$B$13:$E$614,4,FALSE))","v":""},null,null,null,"","",{"$f":"IF(G956=\"\",\"\",VLOOKUP(MONTH(G956),'C-A'!$J$13:$K$24,2,FALSE))","v":""},null,null,null,null,null,9.4400000000001644E-4,""]
["",null,{"$f":"IF(B957=\"\",\"\",VLOOKUP(B957,CAD_AREA!$CB$13:$CD$113,2,FALSE))","v":""},{"$f":"IF(B957=\"\",\"\",VLOOKUP(B957,CAD_AREA!$CB$13:$CD$113,3,FALSE))","v":""},null,{"$f":"IF(E957=\"\",\"\",VLOOKUP(E957,PCMSO!$B$13:$E$614,4,FALSE))","v":""},null,null,null,"","",{"$f":"IF(G957=\"\",\"\",VLOOKUP(MONTH(G957),'C-A'!$J$13:$K$24,2,FALSE))","v":""},null,null,null,null,null,9.4500000000001646E-4,""]
["",null,{"$f":"IF(B958=\"\",\"\",VLOOKUP(B958,CAD_AREA!$CB$13:$CD$113,2,FALSE))","v":""},{"$f":"IF(B958=\"\",\"\",VLOOKUP(B958,CAD_AREA!$CB$13:$CD$113,3,FALSE))","v":""},null,{"$f":"IF(E958=\"\",\"\",VLOOKUP(E958,PCMSO!$B$13:$E$614,4,FALSE))","v":""},null,null,null,"","",{"$f":"IF(G958=\"\",\"\",VLOOKUP(MONTH(G958),'C-A'!$J$13:$K$24,2,FALSE))","v":""},null,null,null,null,null,9.4600000000001649E-4,""]
["",null,{"$f":"IF(B959=\"\",\"\",VLOOKUP(B959,CAD_AREA!$CB$13:$CD$113,2,FALSE))","v":""},{"$f":"IF(B959=\"\",\"\",VLOOKUP(B959,CAD_AREA!$CB$13:$CD$113,3,FALSE))","v":""},null,{"$f":"IF(E959=\"\",\"\",VLOOKUP(E959,PCMSO!$B$13:$E$614,4,FALSE))","v":""},null,null,null,"","",{"$f":"IF(G959=\"\",\"\",VLOOKUP(MONTH(G959),'C-A'!$J$13:$K$24,2,FALSE))","v":""},null,null,null,null,null,9.4700000000001651E-4,""]
["",null,{"$f":"IF(B960=\"\",\"\",VLOOKUP(B960,CAD_AREA!$CB$13:$CD$113,2,FALSE))","v":""},{"$f":"IF(B960=\"\",\"\",VLOOKUP(B960,CAD_AREA!$CB$13:$CD$113,3,FALSE))","v":""},null,{"$f":"IF(E960=\"\",\"\",VLOOKUP(E960,PCMSO!$B$13:$E$614,4,FALSE))","v":""},null,null,null,"","",{"$f":"IF(G960=\"\",\"\",VLOOKUP(MONTH(G960),'C-A'!$J$13:$K$24,2,FALSE))","v":""},null,null,null,null,null,9.4800000000001654E-4,""]
["",null,{"$f":"IF(B961=\"\",\"\",VLOOKUP(B961,CAD_AREA!$CB$13:$CD$113,2,FALSE))","v":""},{"$f":"IF(B961=\"\",\"\",VLOOKUP(B961,CAD_AREA!$CB$13:$CD$113,3,FALSE))","v":""},null,{"$f":"IF(E961=\"\",\"\",VLOOKUP(E961,PCMSO!$B$13:$E$614,4,FALSE))","v":""},null,null,null,"","",{"$f":"IF(G961=\"\",\"\",VLOOKUP(MONTH(G961),'C-A'!$J$13:$K$24,2,FALSE))","v":""},null,null,null,null,null,9.4900000000001656E-4,""]
["",null,{"$f":"IF(B962=\"\",\"\",VLOOKUP(B962,CAD_AREA!$CB$13:$CD$113,2,FALSE))","v":""},{"$f":"IF(B962=\"\",\"\",VLOOKUP(B962,CAD_AREA!$CB$13:$CD$113,3,FALSE))","v":""},null,{"$f":"IF(E962=\"\",\"\",VLOOKUP(E962,PCMSO!$B$13:$E$614,4,FALSE))","v":""},null,null,null,"","",{"$f":"IF(G962=\"\",\"\",VLOOKUP(MONTH(G962),'C-A'!$J$13:$K$24,2,FALSE))","v":""},null,null,null,null,null,9.5000000000001659E-4,""]
["",null,{"$f":"IF(B963=\"\",\"\",VLOOKUP(B963,CAD_AREA!$CB$13:$CD$113,2,FALSE))","v":""},{"$f":"IF(B963=\"\",\"\",VLOOKUP(B963,CAD_AREA!$CB$13:$CD$113,3,FALSE))","v":""},null,{"$f":"IF(E963=\"\",\"\",VLOOKUP(E963,PCMSO!$B$13:$E$614,4,FALSE))","v":""},null,null,null,"","",{"$f":"IF(G963=\"\",\"\",VLOOKUP(MONTH(G963),'C-A'!$J$13:$K$24,2,FALSE))","v":""},null,null,null,null,null,9.5100000000001661E-4,""]
["",null,{"$f":"IF(B964=\"\",\"\",VLOOKUP(B964,CAD_AREA!$CB$13:$CD$113,2,FALSE))","v":""},{"$f":"IF(B964=\"\",\"\",VLOOKUP(B964,CAD_AREA!$CB$13:$CD$113,3,FALSE))","v":""},null,{"$f":"IF(E964=\"\",\"\",VLOOKUP(E964,PCMSO!$B$13:$E$614,4,FALSE))","v":""},null,null,null,"","",{"$f":"IF(G964=\"\",\"\",VLOOKUP(MONTH(G964),'C-A'!$J$13:$K$24,2,FALSE))","v":""},null,null,null,null,null,9.5200000000001663E-4,""]
["",null,{"$f":"IF(B965=\"\",\"\",VLOOKUP(B965,CAD_AREA!$CB$13:$CD$113,2,FALSE))","v":""},{"$f":"IF(B965=\"\",\"\",VLOOKUP(B965,CAD_AREA!$CB$13:$CD$113,3,FALSE))","v":""},null,{"$f":"IF(E965=\"\",\"\",VLOOKUP(E965,PCMSO!$B$13:$E$614,4,FALSE))","v":""},null,null,null,"","",{"$f":"IF(G965=\"\",\"\",VLOOKUP(MONTH(G965),'C-A'!$J$13:$K$24,2,FALSE))","v":""},null,null,null,null,null,9.5300000000001666E-4,""]
["",null,{"$f":"IF(B966=\"\",\"\",VLOOKUP(B966,CAD_AREA!$CB$13:$CD$113,2,FALSE))","v":""},{"$f":"IF(B966=\"\",\"\",VLOOKUP(B966,CAD_AREA!$CB$13:$CD$113,3,FALSE))","v":""},null,{"$f":"IF(E966=\"\",\"\",VLOOKUP(E966,PCMSO!$B$13:$E$614,4,FALSE))","v":""},null,null,null,"","",{"$f":"IF(G966=\"\",\"\",VLOOKUP(MONTH(G966),'C-A'!$J$13:$K$24,2,FALSE))","v":""},null,null,null,null,null,9.5400000000001668E-4,""]
["",null,{"$f":"IF(B967=\"\",\"\",VLOOKUP(B967,CAD_AREA!$CB$13:$CD$113,2,FALSE))","v":""},{"$f":"IF(B967=\"\",\"\",VLOOKUP(B967,CAD_AREA!$CB$13:$CD$113,3,FALSE))","v":""},null,{"$f":"IF(E967=\"\",\"\",VLOOKUP(E967,PCMSO!$B$13:$E$614,4,FALSE))","v":""},null,null,null,"","",{"$f":"IF(G967=\"\",\"\",VLOOKUP(MONTH(G967),'C-A'!$J$13:$K$24,2,FALSE))","v":""},null,null,null,null,null,9.5500000000001671E-4,""]
["",null,{"$f":"IF(B968=\"\",\"\",VLOOKUP(B968,CAD_AREA!$CB$13:$CD$113,2,FALSE))","v":""},{"$f":"IF(B968=\"\",\"\",VLOOKUP(B968,CAD_AREA!$CB$13:$CD$113,3,FALSE))","v":""},null,{"$f":"IF(E968=\"\",\"\",VLOOKUP(E968,PCMSO!$B$13:$E$614,4,FALSE))","v":""},null,null,null,"","",{"$f":"IF(G968=\"\",\"\",VLOOKUP(MONTH(G968),'C-A'!$J$13:$K$24,2,FALSE))","v":""},null,null,null,null,null,9.5600000000001673E-4,""]
["",null,{"$f":"IF(B969=\"\",\"\",VLOOKUP(B969,CAD_AREA!$CB$13:$CD$113,2,FALSE))","v":""},{"$f":"IF(B969=\"\",\"\",VLOOKUP(B969,CAD_AREA!$CB$13:$CD$113,3,FALSE))","v":""},null,{"$f":"IF(E969=\"\",\"\",VLOOKUP(E969,PCMSO!$B$13:$E$614,4,FALSE))","v":""},null,null,null,"","",{"$f":"IF(G969=\"\",\"\",VLOOKUP(MONTH(G969),'C-A'!$J$13:$K$24,2,FALSE))","v":""},null,null,null,null,null,9.5700000000001676E-4,""]
["",null,{"$f":"IF(B970=\"\",\"\",VLOOKUP(B970,CAD_AREA!$CB$13:$CD$113,2,FALSE))","v":""},{"$f":"IF(B970=\"\",\"\",VLOOKUP(B970,CAD_AREA!$CB$13:$CD$113,3,FALSE))","v":""},null,{"$f":"IF(E970=\"\",\"\",VLOOKUP(E970,PCMSO!$B$13:$E$614,4,FALSE))","v":""},null,null,null,"","",{"$f":"IF(G970=\"\",\"\",VLOOKUP(MONTH(G970),'C-A'!$J$13:$K$24,2,FALSE))","v":""},null,null,null,null,null,9.5800000000001678E-4,""]
["",null,{"$f":"IF(B971=\"\",\"\",VLOOKUP(B971,CAD_AREA!$CB$13:$CD$113,2,FALSE))","v":""},{"$f":"IF(B971=\"\",\"\",VLOOKUP(B971,CAD_AREA!$CB$13:$CD$113,3,FALSE))","v":""},null,{"$f":"IF(E971=\"\",\"\",VLOOKUP(E971,PCMSO!$B$13:$E$614,4,FALSE))","v":""},null,null,null,"","",{"$f":"IF(G971=\"\",\"\",VLOOKUP(MONTH(G971),'C-A'!$J$13:$K$24,2,FALSE))","v":""},null,null,null,null,null,9.5900000000001681E-4,""]
["",null,{"$f":"IF(B972=\"\",\"\",VLOOKUP(B972,CAD_AREA!$CB$13:$CD$113,2,FALSE))","v":""},{"$f":"IF(B972=\"\",\"\",VLOOKUP(B972,CAD_AREA!$CB$13:$CD$113,3,FALSE))","v":""},null,{"$f":"IF(E972=\"\",\"\",VLOOKUP(E972,PCMSO!$B$13:$E$614,4,FALSE))","v":""},null,null,null,"","",{"$f":"IF(G972=\"\",\"\",VLOOKUP(MONTH(G972),'C-A'!$J$13:$K$24,2,FALSE))","v":""},null,null,null,null,null,9.6000000000001683E-4,""]
["",null,{"$f":"IF(B973=\"\",\"\",VLOOKUP(B973,CAD_AREA!$CB$13:$CD$113,2,FALSE))","v":""},{"$f":"IF(B973=\"\",\"\",VLOOKUP(B973,CAD_AREA!$CB$13:$CD$113,3,FALSE))","v":""},null,{"$f":"IF(E973=\"\",\"\",VLOOKUP(E973,PCMSO!$B$13:$E$614,4,FALSE))","v":""},null,null,null,{"$f":"IF(F973=\"\",\"\",VLOOKUP(F973,$N$13:$O$19,2,FALSE)+G973)","v":""},"",{"$f":"IF(G973=\"\",\"\",VLOOKUP(MONTH(G973),'C-A'!$J$13:$K$24,2,FALSE))","v":""},null,null,null,null,null,9.6100000000001685E-4,{"$f":"IF(K973=\"Vencido\",\"\",J973)","v":""}]
["",null,{"$f":"IF(B974=\"\",\"\",VLOOKUP(B974,CAD_AREA!$CB$13:$CD$113,2,FALSE))","v":""},{"$f":"IF(B974=\"\",\"\",VLOOKUP(B974,CAD_AREA!$CB$13:$CD$113,3,FALSE))","v":""},null,{"$f":"IF(E974=\"\",\"\",VLOOKUP(E974,PCMSO!$B$13:$E$614,4,FALSE))","v":""},null,null,null,"",{"$f":"IF(J974=\"\",\"\",IF(J974-TODAY()<0,\"Vencido\",IF(J974-TODAY()=0,\"Realizar hoje\",\"Realizar em \"&J974-TODAY()&\" dias\")))","v":""},{"$f":"IF(G974=\"\",\"\",VLOOKUP(MONTH(G974),'C-A'!$J$13:$K$24,2,FALSE))","v":""},null,null,null,null,null,9.6200000000001688E-4,""]
["",null,{"$f":"IF(B975=\"\",\"\",VLOOKUP(B975,CAD_AREA!$CB$13:$CD$113,2,FALSE))","v":""},{"$f":"IF(B975=\"\",\"\",VLOOKUP(B975,CAD_AREA!$CB$13:$CD$113,3,FALSE))","v":""},null,{"$f":"IF(E975=\"\",\"\",VLOOKUP(E975,PCMSO!$B$13:$E$614,4,FALSE))","v":""},null,null,null,"","",{"$f":"IF(G975=\"\",\"\",VLOOKUP(MONTH(G975),'C-A'!$J$13:$K$24,2,FALSE))","v":""},null,null,null,null,null,{"$f":"R974+$R$13","v":9.630000000000169E-4},""]
["",null,{"$f":"IF(B976=\"\",\"\",VLOOKUP(B976,CAD_AREA!$CB$13:$CD$113,2,FALSE))","v":""},{"$f":"IF(B976=\"\",\"\",VLOOKUP(B976,CAD_AREA!$CB$13:$CD$113,3,FALSE))","v":""},null,{"$f":"IF(E976=\"\",\"\",VLOOKUP(E976,PCMSO!$B$13:$E$614,4,FALSE))","v":""},null,null,null,"","",{"$f":"IF(G976=\"\",\"\",VLOOKUP(MONTH(G976),'C-A'!$J$13:$K$24,2,FALSE))","v":""},null,null,null,null,null,9.6400000000001693E-4,""]
["",null,{"$f":"IF(B977=\"\",\"\",VLOOKUP(B977,CAD_AREA!$CB$13:$CD$113,2,FALSE))","v":""},{"$f":"IF(B977=\"\",\"\",VLOOKUP(B977,CAD_AREA!$CB$13:$CD$113,3,FALSE))","v":""},null,{"$f":"IF(E977=\"\",\"\",VLOOKUP(E977,PCMSO!$B$13:$E$614,4,FALSE))","v":""},null,null,null,"","",{"$f":"IF(G977=\"\",\"\",VLOOKUP(MONTH(G977),'C-A'!$J$13:$K$24,2,FALSE))","v":""},null,null,null,null,null,9.6500000000001695E-4,""]
["",null,{"$f":"IF(B978=\"\",\"\",VLOOKUP(B978,CAD_AREA!$CB$13:$CD$113,2,FALSE))","v":""},{"$f":"IF(B978=\"\",\"\",VLOOKUP(B978,CAD_AREA!$CB$13:$CD$113,3,FALSE))","v":""},null,{"$f":"IF(E978=\"\",\"\",VLOOKUP(E978,PCMSO!$B$13:$E$614,4,FALSE))","v":""},null,null,null,"","",{"$f":"IF(G978=\"\",\"\",VLOOKUP(MONTH(G978),'C-A'!$J$13:$K$24,2,FALSE))","v":""},null,null,null,null,null,9.6600000000001698E-4,""]
["",null,{"$f":"IF(B979=\"\",\"\",VLOOKUP(B979,CAD_AREA!$CB$13:$CD$113,2,FALSE))","v":""},{"$f":"IF(B979=\"\",\"\",VLOOKUP(B979,CAD_AREA!$CB$13:$CD$113,3,FALSE))","v":""},null,{"$f":"IF(E979=\"\",\"\",VLOOKUP(E979,PCMSO!$B$13:$E$614,4,FALSE))","v":""},null,null,null,"","",{"$f":"IF(G979=\"\",\"\",VLOOKUP(MONTH(G979),'C-A'!$J$13:$K$24,2,FALSE))","v":""},null,null,null,null,null,9.67000000000017E-4,""]
["",null,{"$f":"IF(B980=\"\",\"\",VLOOKUP(B980,CAD_AREA!$CB$13:$CD$113,2,FALSE))","v":""},{"$f":"IF(B980=\"\",\"\",VLOOKUP(B980,CAD_AREA!$CB$13:$CD$113,3,FALSE))","v":""},null,{"$f":"IF(E980=\"\",\"\",VLOOKUP(E980,PCMSO!$B$13:$E$614,4,FALSE))","v":""},null,null,null,"","",{"$f":"IF(G980=\"\",\"\",VLOOKUP(MONTH(G980),'C-A'!$J$13:$K$24,2,FALSE))","v":""},null,null,null,null,null,9.6800000000001702E-4,""]
["",null,{"$f":"IF(B981=\"\",\"\",VLOOKUP(B981,CAD_AREA!$CB$13:$CD$113,2,FALSE))","v":""},{"$f":"IF(B981=\"\",\"\",VLOOKUP(B981,CAD_AREA!$CB$13:$CD$113,3,FALSE))","v":""},null,{"$f":"IF(E981=\"\",\"\",VLOOKUP(E981,PCMSO!$B$13:$E$614,4,FALSE))","v":""},null,null,null,"","",{"$f":"IF(G981=\"\",\"\",VLOOKUP(MONTH(G981),'C-A'!$J$13:$K$24,2,FALSE))","v":""},null,null,null,null,null,9.6900000000001705E-4,""]
["",null,{"$f":"IF(B982=\"\",\"\",VLOOKUP(B982,CAD_AREA!$CB$13:$CD$113,2,FALSE))","v":""},{"$f":"IF(B982=\"\",\"\",VLOOKUP(B982,CAD_AREA!$CB$13:$CD$113,3,FALSE))","v":""},null,{"$f":"IF(E982=\"\",\"\",VLOOKUP(E982,PCMSO!$B$13:$E$614,4,FALSE))","v":""},null,null,null,"","",{"$f":"IF(G982=\"\",\"\",VLOOKUP(MONTH(G982),'C-A'!$J$13:$K$24,2,FALSE))","v":""},null,null,null,null,null,9.7000000000001707E-4,""]
["",null,{"$f":"IF(B983=\"\",\"\",VLOOKUP(B983,CAD_AREA!$CB$13:$CD$113,2,FALSE))","v":""},{"$f":"IF(B983=\"\",\"\",VLOOKUP(B983,CAD_AREA!$CB$13:$CD$113,3,FALSE))","v":""},null,{"$f":"IF(E983=\"\",\"\",VLOOKUP(E983,PCMSO!$B$13:$E$614,4,FALSE))","v":""},null,null,null,"","",{"$f":"IF(G983=\"\",\"\",VLOOKUP(MONTH(G983),'C-A'!$J$13:$K$24,2,FALSE))","v":""},null,null,null,null,null,9.710000000000171E-4,""]
["",null,{"$f":"IF(B984=\"\",\"\",VLOOKUP(B984,CAD_AREA!$CB$13:$CD$113,2,FALSE))","v":""},{"$f":"IF(B984=\"\",\"\",VLOOKUP(B984,CAD_AREA!$CB$13:$CD$113,3,FALSE))","v":""},null,{"$f":"IF(E984=\"\",\"\",VLOOKUP(E984,PCMSO!$B$13:$E$614,4,FALSE))","v":""},null,null,null,"","",{"$f":"IF(G984=\"\",\"\",VLOOKUP(MONTH(G984),'C-A'!$J$13:$K$24,2,FALSE))","v":""},null,null,null,null,null,9.7200000000001712E-4,""]
["",null,{"$f":"IF(B985=\"\",\"\",VLOOKUP(B985,CAD_AREA!$CB$13:$CD$113,2,FALSE))","v":""},{"$f":"IF(B985=\"\",\"\",VLOOKUP(B985,CAD_AREA!$CB$13:$CD$113,3,FALSE))","v":""},null,{"$f":"IF(E985=\"\",\"\",VLOOKUP(E985,PCMSO!$B$13:$E$614,4,FALSE))","v":""},null,null,null,"","",{"$f":"IF(G985=\"\",\"\",VLOOKUP(MONTH(G985),'C-A'!$J$13:$K$24,2,FALSE))","v":""},null,null,null,null,null,9.7300000000001715E-4,""]
["",null,{"$f":"IF(B986=\"\",\"\",VLOOKUP(B986,CAD_AREA!$CB$13:$CD$113,2,FALSE))","v":""},{"$f":"IF(B986=\"\",\"\",VLOOKUP(B986,CAD_AREA!$CB$13:$CD$113,3,FALSE))","v":""},null,{"$f":"IF(E986=\"\",\"\",VLOOKUP(E986,PCMSO!$B$13:$E$614,4,FALSE))","v":""},null,null,null,"","",{"$f":"IF(G986=\"\",\"\",VLOOKUP(MONTH(G986),'C-A'!$J$13:$K$24,2,FALSE))","v":""},null,null,null,null,null,9.7400000000001717E-4,""]
["",null,{"$f":"IF(B987=\"\",\"\",VLOOKUP(B987,CAD_AREA!$CB$13:$CD$113,2,FALSE))","v":""},{"$f":"IF(B987=\"\",\"\",VLOOKUP(B987,CAD_AREA!$CB$13:$CD$113,3,FALSE))","v":""},null,{"$f":"IF(E987=\"\",\"\",VLOOKUP(E987,PCMSO!$B$13:$E$614,4,FALSE))","v":""},null,null,null,"","",{"$f":"IF(G987=\"\",\"\",VLOOKUP(MONTH(G987),'C-A'!$J$13:$K$24,2,FALSE))","v":""},null,null,null,null,null,9.7500000000001719E-4,""]
["",null,{"$f":"IF(B988=\"\",\"\",VLOOKUP(B988,CAD_AREA!$CB$13:$CD$113,2,FALSE))","v":""},{"$f":"IF(B988=\"\",\"\",VLOOKUP(B988,CAD_AREA!$CB$13:$CD$113,3,FALSE))","v":""},null,{"$f":"IF(E988=\"\",\"\",VLOOKUP(E988,PCMSO!$B$13:$E$614,4,FALSE))","v":""},null,null,null,"","",{"$f":"IF(G988=\"\",\"\",VLOOKUP(MONTH(G988),'C-A'!$J$13:$K$24,2,FALSE))","v":""},null,null,null,null,null,9.7600000000001722E-4,""]
["",null,{"$f":"IF(B989=\"\",\"\",VLOOKUP(B989,CAD_AREA!$CB$13:$CD$113,2,FALSE))","v":""},{"$f":"IF(B989=\"\",\"\",VLOOKUP(B989,CAD_AREA!$CB$13:$CD$113,3,FALSE))","v":""},null,{"$f":"IF(E989=\"\",\"\",VLOOKUP(E989,PCMSO!$B$13:$E$614,4,FALSE))","v":""},null,null,null,"","",{"$f":"IF(G989=\"\",\"\",VLOOKUP(MONTH(G989),'C-A'!$J$13:$K$24,2,FALSE))","v":""},null,null,null,null,null,9.7700000000001713E-4,""]
["",null,{"$f":"IF(B990=\"\",\"\",VLOOKUP(B990,CAD_AREA!$CB$13:$CD$113,2,FALSE))","v":""},{"$f":"IF(B990=\"\",\"\",VLOOKUP(B990,CAD_AREA!$CB$13:$CD$113,3,FALSE))","v":""},null,{"$f":"IF(E990=\"\",\"\",VLOOKUP(E990,PCMSO!$B$13:$E$614,4,FALSE))","v":""},null,null,null,"","",{"$f":"IF(G990=\"\",\"\",VLOOKUP(MONTH(G990),'C-A'!$J$13:$K$24,2,FALSE))","v":""},null,null,null,null,null,9.7800000000001705E-4,""]
["",null,{"$f":"IF(B991=\"\",\"\",VLOOKUP(B991,CAD_AREA!$CB$13:$CD$113,2,FALSE))","v":""},{"$f":"IF(B991=\"\",\"\",VLOOKUP(B991,CAD_AREA!$CB$13:$CD$113,3,FALSE))","v":""},null,{"$f":"IF(E991=\"\",\"\",VLOOKUP(E991,PCMSO!$B$13:$E$614,4,FALSE))","v":""},null,null,null,"","",{"$f":"IF(G991=\"\",\"\",VLOOKUP(MONTH(G991),'C-A'!$J$13:$K$24,2,FALSE))","v":""},null,null,null,null,null,9.7900000000001697E-4,""]
["",null,{"$f":"IF(B992=\"\",\"\",VLOOKUP(B992,CAD_AREA!$CB$13:$CD$113,2,FALSE))","v":""},{"$f":"IF(B992=\"\",\"\",VLOOKUP(B992,CAD_AREA!$CB$13:$CD$113,3,FALSE))","v":""},null,{"$f":"IF(E992=\"\",\"\",VLOOKUP(E992,PCMSO!$B$13:$E$614,4,FALSE))","v":""},null,null,null,"","",{"$f":"IF(G992=\"\",\"\",VLOOKUP(MONTH(G992),'C-A'!$J$13:$K$24,2,FALSE))","v":""},null,null,null,null,null,9.8000000000001688E-4,""]
["",null,{"$f":"IF(B993=\"\",\"\",VLOOKUP(B993,CAD_AREA!$CB$13:$CD$113,2,FALSE))","v":""},{"$f":"IF(B993=\"\",\"\",VLOOKUP(B993,CAD_AREA!$CB$13:$CD$113,3,FALSE))","v":""},null,{"$f":"IF(E993=\"\",\"\",VLOOKUP(E993,PCMSO!$B$13:$E$614,4,FALSE))","v":""},null,null,null,"","",{"$f":"IF(G993=\"\",\"\",VLOOKUP(MONTH(G993),'C-A'!$J$13:$K$24,2,FALSE))","v":""},null,null,null,null,null,9.810000000000168E-4,""]
["",null,{"$f":"IF(B994=\"\",\"\",VLOOKUP(B994,CAD_AREA!$CB$13:$CD$113,2,FALSE))","v":""},{"$f":"IF(B994=\"\",\"\",VLOOKUP(B994,CAD_AREA!$CB$13:$CD$113,3,FALSE))","v":""},null,{"$f":"IF(E994=\"\",\"\",VLOOKUP(E994,PCMSO!$B$13:$E$614,4,FALSE))","v":""},null,null,null,"","",{"$f":"IF(G994=\"\",\"\",VLOOKUP(MONTH(G994),'C-A'!$J$13:$K$24,2,FALSE))","v":""},null,null,null,null,null,9.8200000000001671E-4,""]
["",null,{"$f":"IF(B995=\"\",\"\",VLOOKUP(B995,CAD_AREA!$CB$13:$CD$113,2,FALSE))","v":""},{"$f":"IF(B995=\"\",\"\",VLOOKUP(B995,CAD_AREA!$CB$13:$CD$113,3,FALSE))","v":""},null,{"$f":"IF(E995=\"\",\"\",VLOOKUP(E995,PCMSO!$B$13:$E$614,4,FALSE))","v":""},null,null,null,"","",{"$f":"IF(G995=\"\",\"\",VLOOKUP(MONTH(G995),'C-A'!$J$13:$K$24,2,FALSE))","v":""},null,null,null,null,null,9.8300000000001663E-4,""]
["",null,{"$f":"IF(B996=\"\",\"\",VLOOKUP(B996,CAD_AREA!$CB$13:$CD$113,2,FALSE))","v":""},{"$f":"IF(B996=\"\",\"\",VLOOKUP(B996,CAD_AREA!$CB$13:$CD$113,3,FALSE))","v":""},null,{"$f":"IF(E996=\"\",\"\",VLOOKUP(E996,PCMSO!$B$13:$E$614,4,FALSE))","v":""},null,null,null,"","",{"$f":"IF(G996=\"\",\"\",VLOOKUP(MONTH(G996),'C-A'!$J$13:$K$24,2,FALSE))","v":""},null,null,null,null,null,9.8400000000001655E-4,""]
["",null,{"$f":"IF(B997=\"\",\"\",VLOOKUP(B997,CAD_AREA!$CB$13:$CD$113,2,FALSE))","v":""},{"$f":"IF(B997=\"\",\"\",VLOOKUP(B997,CAD_AREA!$CB$13:$CD$113,3,FALSE))","v":""},null,{"$f":"IF(E997=\"\",\"\",VLOOKUP(E997,PCMSO!$B$13:$E$614,4,FALSE))","v":""},null,null,null,"","",{"$f":"IF(G997=\"\",\"\",VLOOKUP(MONTH(G997),'C-A'!$J$13:$K$24,2,FALSE))","v":""},null,null,null,null,null,9.8500000000001646E-4,""]
["",null,{"$f":"IF(B998=\"\",\"\",VLOOKUP(B998,CAD_AREA!$CB$13:$CD$113,2,FALSE))","v":""},{"$f":"IF(B998=\"\",\"\",VLOOKUP(B998,CAD_AREA!$CB$13:$CD$113,3,FALSE))","v":""},null,{"$f":"IF(E998=\"\",\"\",VLOOKUP(E998,PCMSO!$B$13:$E$614,4,FALSE))","v":""},null,null,null,"","",{"$f":"IF(G998=\"\",\"\",VLOOKUP(MONTH(G998),'C-A'!$J$13:$K$24,2,FALSE))","v":""},null,null,null,null,null,9.8600000000001638E-4,""]
["",null,{"$f":"IF(B999=\"\",\"\",VLOOKUP(B999,CAD_AREA!$CB$13:$CD$113,2,FALSE))","v":""},{"$f":"IF(B999=\"\",\"\",VLOOKUP(B999,CAD_AREA!$CB$13:$CD$113,3,FALSE))","v":""},null,{"$f":"IF(E999=\"\",\"\",VLOOKUP(E999,PCMSO!$B$13:$E$614,4,FALSE))","v":""},null,null,null,"","",{"$f":"IF(G999=\"\",\"\",VLOOKUP(MONTH(G999),'C-A'!$J$13:$K$24,2,FALSE))","v":""},null,null,null,null,null,9.8700000000001629E-4,""]
["",null,{"$f":"IF(B1000=\"\",\"\",VLOOKUP(B1000,CAD_AREA!$CB$13:$CD$113,2,FALSE))","v":""},{"$f":"IF(B1000=\"\",\"\",VLOOKUP(B1000,CAD_AREA!$CB$13:$CD$113,3,FALSE))","v":""},null,{"$f":"IF(E1000=\"\",\"\",VLOOKUP(E1000,PCMSO!$B$13:$E$614,4,FALSE))","v":""},null,null,null,"","",{"$f":"IF(G1000=\"\",\"\",VLOOKUP(MONTH(G1000),'C-A'!$J$13:$K$24,2,FALSE))","v":""},null,null,null,null,null,9.8800000000001621E-4,""]
["",null,{"$f":"IF(B1001=\"\",\"\",VLOOKUP(B1001,CAD_AREA!$CB$13:$CD$113,2,FALSE))","v":""},{"$f":"IF(B1001=\"\",\"\",VLOOKUP(B1001,CAD_AREA!$CB$13:$CD$113,3,FALSE))","v":""},null,{"$f":"IF(E1001=\"\",\"\",VLOOKUP(E1001,PCMSO!$B$13:$E$614,4,FALSE))","v":""},null,null,null,"","",{"$f":"IF(G1001=\"\",\"\",VLOOKUP(MONTH(G1001),'C-A'!$J$13:$K$24,2,FALSE))","v":""},null,null,null,null,null,9.8900000000001612E-4,""]
[null,"a",null,"a","a","a","a","a","a","a","a","a",null,"a","a","a","a",9.9000000000001604E-4,"a","a","a","a","a","a"]

{"sheet":"RC_ACID","index":7,"n_rows":51,"n_cols":17,"rows_kept":51,"cut":false,"hidden":false,"merged":[[11,1,11,6],[11,9,11,12],[37,1,37,6],[37,9,37,16]]}
[]
[]
[]
[]
[]
[]
[]
[]
[]
[]
[null,null,4,5,6,7,8,null,null,null,4,5,6]
[null,"Áreas mais perigosas",null,null,null,null,null,null,null,"Análise dos Riscos"]
[null,"TOP 5 áreas mais perigosas","Total de Riscos","Biológicos","Físicos","Químicos","Outro",null,null,"TOP 5 Riscos mais graves",{"$f":"PPRA!E12","v":"Frequência de Exposição"},{"$f":"PPRA!F12","v":"Possíveis danos à saúde"},{"$f":"PPRA!G12","v":"Graduação do Risco"}]
[1,{"$f":"IF(VLOOKUP(LARGE(CAD_AREA!$J$13:$J$63,RC_ACID!A14),CAD_AREA!$J$13:$K$63,2,FALSE)=0,\"\",VLOOKUP(LARGE(CAD_AREA!$J$13:$J$63,RC_ACID!A14),CAD_AREA!$J$13:$K$63,2,FALSE))","v":"ADM"},{"$f":"IF($B14=\"\",\"\",VLOOKUP($B14,CAD_AREA!$B$13:$I$63,RC_ACID!C$11,FALSE))","v":1},{"$f":"IF($B14=\"\",\"\",VLOOKUP($B14,CAD_AREA!$B$13:$I$63,RC_ACID!D$11,FALSE))","v":0},{"$f":"IF($B14=\"\",\"\",VLOOKUP($B14,CAD_AREA!$B$13:$I$63,RC_ACID!E$11,FALSE))","v":1},{"$f":"IF($B14=\"\",\"\",VLOOKUP($B14,CAD_AREA!$B$13:$I$63,RC_ACID!F$11,FALSE))","v":0},{"$f":"IF($B14=\"\",\"\",VLOOKUP($B14,CAD_AREA!$B$13:$I$63,RC_ACID!G$11,FALSE))","v":0},null,1,{"$f":"IF(VLOOKUP(LARGE(PPRA!$A$13:$A$614,RC_ACID!I14),PPRA!$A$13:$B$614,2,FALSE)=0,\"\",VLOOKUP(LARGE(PPRA!$A$13:$A$614,RC_ACID!I14),PPRA!$A$13:$B$614,2,FALSE))","v":"r 1"},{"$f":"IF($J14=\"\",\"\",VLOOKUP($J14,PPRA!$B$13:$G$614,K$11,FALSE))","v":"Intermitente"},{"$f":"IF($J14=\"\",\"\",VLOOKUP($J14,PPRA!$B$13:$G$614,L$11,FALSE))","v":"Médio"},{"$f":"IF($J14=\"\",\"\",VLOOKUP($J14,PPRA!$B$13:$G$614,M$11,FALSE))","v":"Alto"}]
[2,{"$f":"IF(VLOOKUP(LARGE(CAD_AREA!$J$13:$J$63,RC_ACID!A15),CAD_AREA!$J$13:$K$63,2,FALSE)=0,\"\",VLOOKUP(LARGE(CAD_AREA!$J$13:$J$63,RC_ACID!A15),CAD_AREA!$J$13:$K$63,2,FALSE))","v":"PROD"},{"$f":"IF($B15=\"\",\"\",VLOOKUP($B15,CAD_AREA!$B$13:$I$63,RC_ACID!C$11,FALSE))","v":0},{"$f":"IF($B15=\"\",\"\",VLOOKUP($B15,CAD_AREA!$B$13:$I$63,RC_ACID!D$11,FALSE))","v":0},{"$f":"IF($B15=\"\",\"\",VLOOKUP($B15,CAD_AREA!$B$13:$I$63,RC_ACID!E$11,FALSE))","v":0},{"$f":"IF($B15=\"\",\"\",VLOOKUP($B15,CAD_AREA!$B$13:$I$63,RC_ACID!F$11,FALSE))","v":0},{"$f":"IF($B15=\"\",\"\",VLOOKUP($B15,CAD_AREA!$B$13:$I$63,RC_ACID!G$11,FALSE))","v":0},null,2,{"$f":"IF(VLOOKUP(LARGE(PPRA!$A$13:$A$614,RC_ACID!I15),PPRA!$A$13:$B$614,2,FALSE)=0,\"\",VLOOKUP(LARGE(PPRA!$A$13:$A$614,RC_ACID!I15),PPRA!$A$13:$B$614,2,FALSE))","v":""},{"$f":"IF($J15=\"\",\"\",VLOOKUP($J15,PPRA!$B$13:$G$614,K$11,FALSE))","v":""},{"$f":"IF($J15=\"\",\"\",VLOOKUP($J15,PPRA!$B$13:$G$614,L$11,FALSE))","v":""},{"$f":"IF($J15=\"\",\"\",VLOOKUP($J15,PPRA!$B$13:$G$614,M$11,FALSE))","v":""}]
[3,{"$f":"IF(VLOOKUP(LARGE(CAD_AREA!$J$13:$J$63,RC_ACID!A16),CAD_AREA!$J$13:$K$63,2,FALSE)=0,\"\",VLOOKUP(LARGE(CAD_AREA!$J$13:$J$63,RC_ACID!A16),CAD_AREA!$J$13:$K$63,2,FALSE))","v":"PROD"},{"$f":"IF($B16=\"\",\"\",VLOOKUP($B16,CAD_AREA!$B$13:$I$63,RC_ACID!C$11,FALSE))","v":0},{"$f":"IF($B16=\"\",\"\",VLOOKUP($B16,CAD_AREA!$B$13:$I$63,RC_ACID!D$11,FALSE))","v":0},{"$f":"IF($B16=\"\",\"\",VLOOKUP($B16,CAD_AREA!$B$13:$I$63,RC_ACID!E$11,FALSE))","v":0},{"$f":"IF($B16=\"\",\"\",VLOOKUP($B16,CAD_AREA!$B$13:$I$63,RC_ACID!F$11,FALSE))","v":0},{"$f":"IF($B16=\"\",\"\",VLOOKUP($B16,CAD_AREA!$B$13:$I$63,RC_ACID!G$11,FALSE))","v":0},null,3,{"$f":"IF(VLOOKUP(LARGE(PPRA!$A$13:$A$614,RC_ACID!I16),PPRA!$A$13:$B$614,2,FALSE)=0,\"\",VLOOKUP(LARGE(PPRA!$A$13:$A$614,RC_ACID!I16),PPRA!$A$13:$B$614,2,FALSE))","v":""},{"$f":"IF($J16=\"\",\"\",VLOOKUP($J16,PPRA!$B$13:$G$614,K$11,FALSE))","v":""},{"$f":"IF($J16=\"\",\"\",VLOOKUP($J16,PPRA!$B$13:$G$614,L$11,FALSE))","v":""},{"$f":"IF($J16=\"\",\"\",VLOOKUP($J16,PPRA!$B$13:$G$614,M$11,FALSE))","v":""}]
[4,{"$f":"IF(VLOOKUP(LARGE(CAD_AREA!$J$13:$J$63,RC_ACID!A17),CAD_AREA!$J$13:$K$63,2,FALSE)=0,\"\",VLOOKUP(LARGE(CAD_AREA!$J$13:$J$63,RC_ACID!A17),CAD_AREA!$J$13:$K$63,2,FALSE))","v":"PROD"},{"$f":"IF($B17=\"\",\"\",VLOOKUP($B17,CAD_AREA!$B$13:$I$63,RC_ACID!C$11,FALSE))","v":0},{"$f":"IF($B17=\"\",\"\",VLOOKUP($B17,CAD_AREA!$B$13:$I$63,RC_ACID!D$11,FALSE))","v":0},{"$f":"IF($B17=\"\",\"\",VLOOKUP($B17,CAD_AREA!$B$13:$I$63,RC_ACID!E$11,FALSE))","v":0},{"$f":"IF($B17=\"\",\"\",VLOOKUP($B17,CAD_AREA!$B$13:$I$63,RC_ACID!F$11,FALSE))","v":0},{"$f":"IF($B17=\"\",\"\",VLOOKUP($B17,CAD_AREA!$B$13:$I$63,RC_ACID!G$11,FALSE))","v":0},null,4,{"$f":"IF(VLOOKUP(LARGE(PPRA!$A$13:$A$614,RC_ACID!I17),PPRA!$A$13:$B$614,2,FALSE)=0,\"\",VLOOKUP(LARGE(PPRA!$A$13:$A$614,RC_ACID!I17),PPRA!$A$13:$B$614,2,FALSE))","v":""},{"$f":"IF($J17=\"\",\"\",VLOOKUP($J17,PPRA!$B$13:$G$614,K$11,FALSE))","v":""},{"$f":"IF($J17=\"\",\"\",VLOOKUP($J17,PPRA!$B$13:$G$614,L$11,FALSE))","v":""},{"$f":"IF($J17=\"\",\"\",VLOOKUP($J17,PPRA!$B$13:$G$614,M$11,FALSE))","v":""}]
[5,{"$f":"IF(VLOOKUP(LARGE(CAD_AREA!$J$13:$J$63,RC_ACID!A18),CAD_AREA!$J$13:$K$63,2,FALSE)=0,\"\",VLOOKUP(LARGE(CAD_AREA!$J$13:$J$63,RC_ACID!A18),CAD_AREA!$J$13:$K$63,2,FALSE))","v":"PROD"},{"$f":"IF($B18=\"\",\"\",VLOOKUP($B18,CAD_AREA!$B$13:$I$63,RC_ACID!C$11,FALSE))","v":0},{"$f":"IF($B18=\"\",\"\",VLOOKUP($B18,CAD_AREA!$B$13:$I$63,RC_ACID!D$11,FALSE))","v":0},{"$f":"IF($B18=\"\",\"\",VLOOKUP($B18,CAD_AREA!$B$13:$I$63,RC_ACID!E$11,FALSE))","v":0},{"$f":"IF($B18=\"\",\"\",VLOOKUP($B18,CAD_AREA!$B$13:$I$63,RC_ACID!F$11,FALSE))","v":0},{"$f":"IF($B18=\"\",\"\",VLOOKUP($B18,CAD_AREA!$B$13:$I$63,RC_ACID!G$11,FALSE))","v":0},null,5,{"$f":"IF(VLOOKUP(LARGE(PPRA!$A$13:$A$614,RC_ACID!I18),PPRA!$A$13:$B$614,2,FALSE)=0,\"\",VLOOKUP(LARGE(PPRA!$A$13:$A$614,RC_ACID!I18),PPRA!$A$13:$B$614,2,FALSE))","v":""},{"$f":"IF($J18=\"\",\"\",VLOOKUP($J18,PPRA!$B$13:$G$614,K$11,FALSE))","v":""},{"$f":"IF($J18=\"\",\"\",VLOOKUP($J18,PPRA!$B$13:$G$614,L$11,FALSE))","v":""},{"$f":"IF($J18=\"\",\"\",VLOOKUP($J18,PPRA!$B$13:$G$614,M$11,FALSE))","v":""}]
[6,{"$f":"IF(VLOOKUP(LARGE(CAD_AREA!$J$13:$J$63,RC_ACID!A19),CAD_AREA!$J$13:$K$63,2,FALSE)=0,\"\",VLOOKUP(LARGE(CAD_AREA!$J$13:$J$63,RC_ACID!A19),CAD_AREA!$J$13:$K$63,2,FALSE))","v":"PROD"},{"$f":"IF($B19=\"\",\"\",VLOOKUP($B19,CAD_AREA!$B$13:$I$63,RC_ACID!C$11,FALSE))","v":0},{"$f":"IF($B19=\"\",\"\",VLOOKUP($B19,CAD_AREA!$B$13:$I$63,RC_ACID!D$11,FALSE))","v":0},{"$f":"IF($B19=\"\",\"\",VLOOKUP($B19,CAD_AREA!$B$13:$I$63,RC_ACID!E$11,FALSE))","v":0},{"$f":"IF($B19=\"\",\"\",VLOOKUP($B19,CAD_AREA!$B$13:$I$63,RC_ACID!F$11,FALSE))","v":0},{"$f":"IF($B19=\"\",\"\",VLOOKUP($B19,CAD_AREA!$B$13:$I$63,RC_ACID!G$11,FALSE))","v":0},null,6,{"$f":"IF(VLOOKUP(LARGE(PPRA!$A$13:$A$614,RC_ACID!I19),PPRA!$A$13:$B$614,2,FALSE)=0,\"\",VLOOKUP(LARGE(PPRA!$A$13:$A$614,RC_ACID!I19),PPRA!$A$13:$B$614,2,FALSE))","v":""},{"$f":"IF($J19=\"\",\"\",VLOOKUP($J19,PPRA!$B$13:$G$614,K$11,FALSE))","v":""},{"$f":"IF($J19=\"\",\"\",VLOOKUP($J19,PPRA!$B$13:$G$614,L$11,FALSE))","v":""},{"$f":"IF($J19=\"\",\"\",VLOOKUP($J19,PPRA!$B$13:$G$614,M$11,FALSE))","v":""}]
[7,{"$f":"IF(VLOOKUP(LARGE(CAD_AREA!$J$13:$J$63,RC_ACID!A20),CAD_AREA!$J$13:$K$63,2,FALSE)=0,\"\",VLOOKUP(LARGE(CAD_AREA!$J$13:$J$63,RC_ACID!A20),CAD_AREA!$J$13:$K$63,2,FALSE))","v":"PROD"},{"$f":"IF($B20=\"\",\"\",VLOOKUP($B20,CAD_AREA!$B$13:$I$63,RC_ACID!C$11,FALSE))","v":0},{"$f":"IF($B20=\"\",\"\",VLOOKUP($B20,CAD_AREA!$B$13:$I$63,RC_ACID!D$11,FALSE))","v":0},{"$f":"IF($B20=\"\",\"\",VLOOKUP($B20,CAD_AREA!$B$13:$I$63,RC_ACID!E$11,FALSE))","v":0},{"$f":"IF($B20=\"\",\"\",VLOOKUP($B20,CAD_AREA!$B$13:$I$63,RC_ACID!F$11,FALSE))","v":0},{"$f":"IF($B20=\"\",\"\",VLOOKUP($B20,CAD_AREA!$B$13:$I$63,RC_ACID!G$11,FALSE))","v":0},null,7,{"$f":"IF(VLOOKUP(LARGE(PPRA!$A$13:$A$614,RC_ACID!I20),PPRA!$A$13:$B$614,2,FALSE)=0,\"\",VLOOKUP(LARGE(PPRA!$A$13:$A$614,RC_ACID!I20),PPRA!$A$13:$B$614,2,FALSE))","v":""},{"$f":"IF($J20=\"\",\"\",VLOOKUP($J20,PPRA!$B$13:$G$614,K$11,FALSE))","v":""},{"$f":"IF($J20=\"\",\"\",VLOOKUP($J20,PPRA!$B$13:$G$614,L$11,FALSE))","v":""},{"$f":"IF($J20=\"\",\"\",VLOOKUP($J20,PPRA!$B$13:$G$614,M$11,FALSE))","v":""}]
[8,{"$f":"IF(VLOOKUP(LARGE(CAD_AREA!$J$13:$J$63,RC_ACID!A21),CAD_AREA!$J$13:$K$63,2,FALSE)=0,\"\",VLOOKUP(LARGE(CAD_AREA!$J$13:$J$63,RC_ACID!A21),CAD_AREA!$J$13:$K$63,2,FALSE))","v":"PROD"},{"$f":"IF($B21=\"\",\"\",VLOOKUP($B21,CAD_AREA!$B$13:$I$63,RC_ACID!C$11,FALSE))","v":0},{"$f":"IF($B21=\"\",\"\",VLOOKUP($B21,CAD_AREA!$B$13:$I$63,RC_ACID!D$11,FALSE))","v":0},{"$f":"IF($B21=\"\",\"\",VLOOKUP($B21,CAD_AREA!$B$13:$I$63,RC_ACID!E$11,FALSE))","v":0},{"$f":"IF($B21=\"\",\"\",VLOOKUP($B21,CAD_AREA!$B$13:$I$63,RC_ACID!F$11,FALSE))","v":0},{"$f":"IF($B21=\"\",\"\",VLOOKUP($B21,CAD_AREA!$B$13:$I$63,RC_ACID!G$11,FALSE))","v":0},null,8,{"$f":"IF(VLOOKUP(LARGE(PPRA!$A$13:$A$614,RC_ACID!I21),PPRA!$A$13:$B$614,2,FALSE)=0,\"\",VLOOKUP(LARGE(PPRA!$A$13:$A$614,RC_ACID!I21),PPRA!$A$13:$B$614,2,FALSE))","v":""},{"$f":"IF($J21=\"\",\"\",VLOOKUP($J21,PPRA!$B$13:$G$614,K$11,FALSE))","v":""},{"$f":"IF($J21=\"\",\"\",VLOOKUP($J21,PPRA!$B$13:$G$614,L$11,FALSE))","v":""},{"$f":"IF($J21=\"\",\"\",VLOOKUP($J21,PPRA!$B$13:$G$614,M$11,FALSE))","v":""}]
[9,{"$f":"IF(VLOOKUP(LARGE(CAD_AREA!$J$13:$J$63,RC_ACID!A22),CAD_AREA!$J$13:$K$63,2,FALSE)=0,\"\",VLOOKUP(LARGE(CAD_AREA!$J$13:$J$63,RC_ACID!A22),CAD_AREA!$J$13:$K$63,2,FALSE))","v":"PROD"},{"$f":"IF($B22=\"\",\"\",VLOOKUP($B22,CAD_AREA!$B$13:$I$63,RC_ACID!C$11,FALSE))","v":0},{"$f":"IF($B22=\"\",\"\",VLOOKUP($B22,CAD_AREA!$B$13:$I$63,RC_ACID!D$11,FALSE))","v":0},{"$f":"IF($B22=\"\",\"\",VLOOKUP($B22,CAD_AREA!$B$13:$I$63,RC_ACID!E$11,FALSE))","v":0},{"$f":"IF($B22=\"\",\"\",VLOOKUP($B22,CAD_AREA!$B$13:$I$63,RC_ACID!F$11,FALSE))","v":0},{"$f":"IF($B22=\"\",\"\",VLOOKUP($B22,CAD_AREA!$B$13:$I$63,RC_ACID!G$11,FALSE))","v":0},null,9,{"$f":"IF(VLOOKUP(LARGE(PPRA!$A$13:$A$614,RC_ACID!I22),PPRA!$A$13:$B$614,2,FALSE)=0,\"\",VLOOKUP(LARGE(PPRA!$A$13:$A$614,RC_ACID!I22),PPRA!$A$13:$B$614,2,FALSE))","v":""},{"$f":"IF($J22=\"\",\"\",VLOOKUP($J22,PPRA!$B$13:$G$614,K$11,FALSE))","v":""},{"$f":"IF($J22=\"\",\"\",VLOOKUP($J22,PPRA!$B$13:$G$614,L$11,FALSE))","v":""},{"$f":"IF($J22=\"\",\"\",VLOOKUP($J22,PPRA!$B$13:$G$614,M$11,FALSE))","v":""}]
[10,{"$f":"IF(VLOOKUP(LARGE(CAD_AREA!$J$13:$J$63,RC_ACID!A23),CAD_AREA!$J$13:$K$63,2,FALSE)=0,\"\",VLOOKUP(LARGE(CAD_AREA!$J$13:$J$63,RC_ACID!A23),CAD_AREA!$J$13:$K$63,2,FALSE))","v":"PROD"},{"$f":"IF($B23=\"\",\"\",VLOOKUP($B23,CAD_AREA!$B$13:$I$63,RC_ACID!C$11,FALSE))","v":0},{"$f":"IF($B23=\"\",\"\",VLOOKUP($B23,CAD_AREA!$B$13:$I$63,RC_ACID!D$11,FALSE))","v":0},{"$f":"IF($B23=\"\",\"\",VLOOKUP($B23,CAD_AREA!$B$13:$I$63,RC_ACID!E$11,FALSE))","v":0},{"$f":"IF($B23=\"\",\"\",VLOOKUP($B23,CAD_AREA!$B$13:$I$63,RC_ACID!F$11,FALSE))","v":0},{"$f":"IF($B23=\"\",\"\",VLOOKUP($B23,CAD_AREA!$B$13:$I$63,RC_ACID!G$11,FALSE))","v":0},null,10,{"$f":"IF(VLOOKUP(LARGE(PPRA!$A$13:$A$614,RC_ACID!I23),PPRA!$A$13:$B$614,2,FALSE)=0,\"\",VLOOKUP(LARGE(PPRA!$A$13:$A$614,RC_ACID!I23),PPRA!$A$13:$B$614,2,FALSE))","v":""},{"$f":"IF($J23=\"\",\"\",VLOOKUP($J23,PPRA!$B$13:$G$614,K$11,FALSE))","v":""},{"$f":"IF($J23=\"\",\"\",VLOOKUP($J23,PPRA!$B$13:$G$614,L$11,FALSE))","v":""},{"$f":"IF($J23=\"\",\"\",VLOOKUP($J23,PPRA!$B$13:$G$614,M$11,FALSE))","v":""}]
[]
[]
[]
[]
[]
[]
[]
[]
[]
[]
[]
[]
[]
[null,null,null,"Ferida levemente","Ferida","Ferida gravemente","Óbito",null,null,null,null,2,3,4,5]
[null,"Análise de Acidentes",null,null,null,null,null,null,null,"Análise de Acidentes por Área"]
[null,"Item","Acidentes que ocorreram","Feridos levemente","Feridos","Feridos gravemente","Óbito",null,null,"TOP 5 áreas com mais acidentes","Acidentes que ocorreram","Feridos levemente","Feridos","Feridos gravemente","Óbito","Meta de acidente","Quantidade de acidentes"]
[null,"Janeiro",{"$f":"COUNTIFS('C-A'!$M$13:$M$1013,RC_ACID!B40)","v":0},{"$f":"COUNTIFS('C-A'!$G$13:$G$1013,RC_ACID!D$37,'C-A'!$M$13:$M$1013,RC_ACID!$B40)","v":0},{"$f":"COUNTIFS('C-A'!$G$13:$G$1013,RC_ACID!E$37,'C-A'!$M$13:$M$1013,RC_ACID!$B40)","v":0},{"$f":"COUNTIFS('C-A'!$G$13:$G$1013,RC_ACID!F$37,'C-A'!$M$13:$M$1013,RC_ACID!$B40)","v":0},{"$f":"COUNTIFS('C-A'!$G$13:$G$1013,RC_ACID!G$37,'C-A'!$M$13:$M$1013,RC_ACID!$B40)","v":0},null,1,{"$f":"IF(VLOOKUP(LARGE(CAD_AREA!$N$13:$N$63,RC_ACID!$I40),CAD_AREA!$N$13:$P$63,3,FALSE)=0,\"\",VLOOKUP(LARGE(CAD_AREA!$N$13:$N$63,RC_ACID!$I40),CAD_AREA!$N$13:$P$63,3,FALSE))","v":"PROD"},{"$f":"IF(J40=\"\",\"\",SUM(L40:O40))","v":1},{"$f":"IF($J40=\"\",\"\",VLOOKUP(RC_ACID!$J40,CAD_AREA!$P$13:$T$63,RC_ACID!L$37,FALSE))","v":0},{"$f":"IF($J40=\"\",\"\",VLOOKUP(RC_ACID!$J40,CAD_AREA!$P$13:$T$63,RC_ACID!M$37,FALSE))","v":1},{"$f":"IF($J40=\"\",\"\",VLOOKUP(RC_ACID!$J40,CAD_AREA!$P$13:$T$63,RC_ACID!N$37,FALSE))","v":0},{"$f":"IF($J40=\"\",\"\",VLOOKUP(RC_ACID!$J40,CAD_AREA!$P$13:$T$63,RC_ACID!O$37,FALSE))","v":0},{"$f":"IF($J40=\"\",\"\",VLOOKUP($J40,CAD_AREA!$B$13:$C$63,2,FALSE))","v":1},{"$f":"IF(J40=\"\",\"\",VLOOKUP(J40,CAD_AREA!$P$13:$V$63,6,FALSE))","v":1}]
[null,"Fevereiro",{"$f":"COUNTIFS('C-A'!$M$13:$M$1013,RC_ACID!B41)","v":0},{"$f":"COUNTIFS('C-A'!$G$13:$G$1013,RC_ACID!D$37,'C-A'!$M$13:$M$1013,RC_ACID!$B41)","v":0},{"$f":"COUNTIFS('C-A'!$G$13:$G$1013,RC_ACID!E$37,'C-A'!$M$13:$M$1013,RC_ACID!$B41)","v":0},{"$f":"COUNTIFS('C-A'!$G$13:$G$1013,RC_ACID!F$37,'C-A'!$M$13:$M$1013,RC_ACID!$B41)","v":0},{"$f":"COUNTIFS('C-A'!$G$13:$G$1013,RC_ACID!G$37,'C-A'!$M$13:$M$1013,RC_ACID!$B41)","v":0},null,2,{"$f":"IF(VLOOKUP(LARGE(CAD_AREA!$N$13:$N$63,RC_ACID!$I41),CAD_AREA!$N$13:$P$63,3,FALSE)=0,\"\",VLOOKUP(LARGE(CAD_AREA!$N$13:$N$63,RC_ACID!$I41),CAD_AREA!$N$13:$P$63,3,FALSE))","v":""},{"$f":"IF(J41=\"\",\"\",SUM(L41:O41))","v":""},{"$f":"IF($J41=\"\",\"\",VLOOKUP(RC_ACID!$J41,CAD_AREA!$P$13:$T$63,RC_ACID!L$37,FALSE))","v":""},{"$f":"IF($J41=\"\",\"\",VLOOKUP(RC_ACID!$J41,CAD_AREA!$P$13:$T$63,RC_ACID!M$37,FALSE))","v":""},{"$f":"IF($J41=\"\",\"\",VLOOKUP(RC_ACID!$J41,CAD_AREA!$P$13:$T$63,RC_ACID!N$37,FALSE))","v":""},{"$f":"IF($J41=\"\",\"\",VLOOKUP(RC_ACID!$J41,CAD_AREA!$P$13:$T$63,RC_ACID!O$37,FALSE))","v":""},{"$f":"IF($J41=\"\",\"\",VLOOKUP($J41,CAD_AREA!$B$13:$C$63,2,FALSE))","v":""},{"$f":"IF(J41=\"\",\"\",VLOOKUP(J41,CAD_AREA!$P$13:$V$63,6,FALSE))","v":""}]
[null,"Março",{"$f":"COUNTIFS('C-A'!$M$13:$M$1013,RC_ACID!B42)","v":0},{"$f":"COUNTIFS('C-A'!$G$13:$G$1013,RC_ACID!D$37,'C-A'!$M$13:$M$1013,RC_ACID!$B42)","v":0},{"$f":"COUNTIFS('C-A'!$G$13:$G$1013,RC_ACID!E$37,'C-A'!$M$13:$M$1013,RC_ACID!$B42)","v":0},{"$f":"COUNTIFS('C-A'!$G$13:$G$1013,RC_ACID!F$37,'C-A'!$M$13:$M$1013,RC_ACID!$B42)","v":0},{"$f":"COUNTIFS('C-A'!$G$13:$G$1013,RC_ACID!G$37,'C-A'!$M$13:$M$1013,RC_ACID!$B42)","v":0},null,3,{"$f":"IF(VLOOKUP(LARGE(CAD_AREA!$N$13:$N$63,RC_ACID!$I42),CAD_AREA!$N$13:$P$63,3,FALSE)=0,\"\",VLOOKUP(LARGE(CAD_AREA!$N$13:$N$63,RC_ACID!$I42),CAD_AREA!$N$13:$P$63,3,FALSE))","v":""},"",{"$f":"IF($J42=\"\",\"\",VLOOKUP(RC_ACID!$J42,CAD_AREA!$P$13:$T$63,RC_ACID!L$37,FALSE))","v":""},{"$f":"IF($J42=\"\",\"\",VLOOKUP(RC_ACID!$J42,CAD_AREA!$P$13:$T$63,RC_ACID!M$37,FALSE))","v":""},{"$f":"IF($J42=\"\",\"\",VLOOKUP(RC_ACID!$J42,CAD_AREA!$P$13:$T$63,RC_ACID!N$37,FALSE))","v":""},{"$f":"IF($J42=\"\",\"\",VLOOKUP(RC_ACID!$J42,CAD_AREA!$P$13:$T$63,RC_ACID!O$37,FALSE))","v":""},{"$f":"IF($J42=\"\",\"\",VLOOKUP($J42,CAD_AREA!$B$13:$C$63,2,FALSE))","v":""},{"$f":"IF(J42=\"\",\"\",VLOOKUP(J42,CAD_AREA!$P$13:$V$63,6,FALSE))","v":""}]
[null,"Abril",{"$f":"COUNTIFS('C-A'!$M$13:$M$1013,RC_ACID!B43)","v":0},{"$f":"COUNTIFS('C-A'!$G$13:$G$1013,RC_ACID!D$37,'C-A'!$M$13:$M$1013,RC_ACID!$B43)","v":0},{"$f":"COUNTIFS('C-A'!$G$13:$G$1013,RC_ACID!E$37,'C-A'!$M$13:$M$1013,RC_ACID!$B43)","v":0},{"$f":"COUNTIFS('C-A'!$G$13:$G$1013,RC_ACID!F$37,'C-A'!$M$13:$M$1013,RC_ACID!$B43)","v":0},{"$f":"COUNTIFS('C-A'!$G$13:$G$1013,RC_ACID!G$37,'C-A'!$M$13:$M$1013,RC_ACID!$B43)","v":0},null,4,{"$f":"IF(VLOOKUP(LARGE(CAD_AREA!$N$13:$N$63,RC_ACID!$I43),CAD_AREA!$N$13:$P$63,3,FALSE)=0,\"\",VLOOKUP(LARGE(CAD_AREA!$N$13:$N$63,RC_ACID!$I43),CAD_AREA!$N$13:$P$63,3,FALSE))","v":""},"",{"$f":"IF($J43=\"\",\"\",VLOOKUP(RC_ACID!$J43,CAD_AREA!$P$13:$T$63,RC_ACID!L$37,FALSE))","v":""},{"$f":"IF($J43=\"\",\"\",VLOOKUP(RC_ACID!$J43,CAD_AREA!$P$13:$T$63,RC_ACID!M$37,FALSE))","v":""},{"$f":"IF($J43=\"\",\"\",VLOOKUP(RC_ACID!$J43,CAD_AREA!$P$13:$T$63,RC_ACID!N$37,FALSE))","v":""},{"$f":"IF($J43=\"\",\"\",VLOOKUP(RC_ACID!$J43,CAD_AREA!$P$13:$T$63,RC_ACID!O$37,FALSE))","v":""},{"$f":"IF($J43=\"\",\"\",VLOOKUP($J43,CAD_AREA!$B$13:$C$63,2,FALSE))","v":""},{"$f":"IF(J43=\"\",\"\",VLOOKUP(J43,CAD_AREA!$P$13:$V$63,6,FALSE))","v":""}]
[null,"Maio",{"$f":"COUNTIFS('C-A'!$M$13:$M$1013,RC_ACID!B44)","v":0},{"$f":"COUNTIFS('C-A'!$G$13:$G$1013,RC_ACID!D$37,'C-A'!$M$13:$M$1013,RC_ACID!$B44)","v":0},{"$f":"COUNTIFS('C-A'!$G$13:$G$1013,RC_ACID!E$37,'C-A'!$M$13:$M$1013,RC_ACID!$B44)","v":0},{"$f":"COUNTIFS('C-A'!$G$13:$G$1013,RC_ACID!F$37,'C-A'!$M$13:$M$1013,RC_ACID!$B44)","v":0},{"$f":"COUNTIFS('C-A'!$G$13:$G$1013,RC_ACID!G$37,'C-A'!$M$13:$M$1013,RC_ACID!$B44)","v":0},null,5,{"$f":"IF(VLOOKUP(LARGE(CAD_AREA!$N$13:$N$63,RC_ACID!$I44),CAD_AREA!$N$13:$P$63,3,FALSE)=0,\"\",VLOOKUP(LARGE(CAD_AREA!$N$13:$N$63,RC_ACID!$I44),CAD_AREA!$N$13:$P$63,3,FALSE))","v":""},"",{"$f":"IF($J44=\"\",\"\",VLOOKUP(RC_ACID!$J44,CAD_AREA!$P$13:$T$63,RC_ACID!L$37,FALSE))","v":""},{"$f":"IF($J44=\"\",\"\",VLOOKUP(RC_ACID!$J44,CAD_AREA!$P$13:$T$63,RC_ACID!M$37,FALSE))","v":""},{"$f":"IF($J44=\"\",\"\",VLOOKUP(RC_ACID!$J44,CAD_AREA!$P$13:$T$63,RC_ACID!N$37,FALSE))","v":""},{"$f":"IF($J44=\"\",\"\",VLOOKUP(RC_ACID!$J44,CAD_AREA!$P$13:$T$63,RC_ACID!O$37,FALSE))","v":""},{"$f":"IF($J44=\"\",\"\",VLOOKUP($J44,CAD_AREA!$B$13:$C$63,2,FALSE))","v":""},{"$f":"IF(J44=\"\",\"\",VLOOKUP(J44,CAD_AREA!$P$13:$V$63,6,FALSE))","v":""}]
[null,"Junho",{"$f":"COUNTIFS('C-A'!$M$13:$M$1013,RC_ACID!B45)","v":0},{"$f":"COUNTIFS('C-A'!$G$13:$G$1013,RC_ACID!D$37,'C-A'!$M$13:$M$1013,RC_ACID!$B45)","v":0},{"$f":"COUNTIFS('C-A'!$G$13:$G$1013,RC_ACID!E$37,'C-A'!$M$13:$M$1013,RC_ACID!$B45)","v":0},{"$f":"COUNTIFS('C-A'!$G$13:$G$1013,RC_ACID!F$37,'C-A'!$M$13:$M$1013,RC_ACID!$B45)","v":0},{"$f":"COUNTIFS('C-A'!$G$13:$G$1013,RC_ACID!G$37,'C-A'!$M$13:$M$1013,RC_ACID!$B45)","v":0}]
[null,"Julho",{"$f":"COUNTIFS('C-A'!$M$13:$M$1013,RC_ACID!B46)","v":0},{"$f":"COUNTIFS('C-A'!$G$13:$G$1013,RC_ACID!D$37,'C-A'!$M$13:$M$1013,RC_ACID!$B46)","v":0},{"$f":"COUNTIFS('C-A'!$G$13:$G$1013,RC_ACID!E$37,'C-A'!$M$13:$M$1013,RC_ACID!$B46)","v":0},{"$f":"COUNTIFS('C-A'!$G$13:$G$1013,RC_ACID!F$37,'C-A'!$M$13:$M$1013,RC_ACID!$B46)","v":0},{"$f":"COUNTIFS('C-A'!$G$13:$G$1013,RC_ACID!G$37,'C-A'!$M$13:$M$1013,RC_ACID!$B46)","v":0}]
[null,"Agosto",{"$f":"COUNTIFS('C-A'!$M$13:$M$1013,RC_ACID!B47)","v":0},{"$f":"COUNTIFS('C-A'!$G$13:$G$1013,RC_ACID!D$37,'C-A'!$M$13:$M$1013,RC_ACID!$B47)","v":0},{"$f":"COUNTIFS('C-A'!$G$13:$G$1013,RC_ACID!E$37,'C-A'!$M$13:$M$1013,RC_ACID!$B47)","v":0},{"$f":"COUNTIFS('C-A'!$G$13:$G$1013,RC_ACID!F$37,'C-A'!$M$13:$M$1013,RC_ACID!$B47)","v":0},{"$f":"COUNTIFS('C-A'!$G$13:$G$1013,RC_ACID!G$37,'C-A'!$M$13:$M$1013,RC_ACID!$B47)","v":0}]
[null,"Setembro",{"$f":"COUNTIFS('C-A'!$M$13:$M$1013,RC_ACID!B48)","v":1},{"$f":"COUNTIFS('C-A'!$G$13:$G$1013,RC_ACID!D$37,'C-A'!$M$13:$M$1013,RC_ACID!$B48)","v":0},{"$f":"COUNTIFS('C-A'!$G$13:$G$1013,RC_ACID!E$37,'C-A'!$M$13:$M$1013,RC_ACID!$B48)","v":1},{"$f":"COUNTIFS('C-A'!$G$13:$G$1013,RC_ACID!F$37,'C-A'!$M$13:$M$1013,RC_ACID!$B48)","v":0},{"$f":"COUNTIFS('C-A'!$G$13:$G$1013,RC_ACID!G$37,'C-A'!$M$13:$M$1013,RC_ACID!$B48)","v":0}]
[null,"Outubro",{"$f":"COUNTIFS('C-A'!$M$13:$M$1013,RC_ACID!B49)","v":0},{"$f":"COUNTIFS('C-A'!$G$13:$G$1013,RC_ACID!D$37,'C-A'!$M$13:$M$1013,RC_ACID!$B49)","v":0},{"$f":"COUNTIFS('C-A'!$G$13:$G$1013,RC_ACID!E$37,'C-A'!$M$13:$M$1013,RC_ACID!$B49)","v":0},{"$f":"COUNTIFS('C-A'!$G$13:$G$1013,RC_ACID!F$37,'C-A'!$M$13:$M$1013,RC_ACID!$B49)","v":0},{"$f":"COUNTIFS('C-A'!$G$13:$G$1013,RC_ACID!G$37,'C-A'!$M$13:$M$1013,RC_ACID!$B49)","v":0}]
[null,"Novembro",{"$f":"COUNTIFS('C-A'!$M$13:$M$1013,RC_ACID!B50)","v":0},{"$f":"COUNTIFS('C-A'!$G$13:$G$1013,RC_ACID!D$37,'C-A'!$M$13:$M$1013,RC_ACID!$B50)","v":0},{"$f":"COUNTIFS('C-A'!$G$13:$G$1013,RC_ACID!E$37,'C-A'!$M$13:$M$1013,RC_ACID!$B50)","v":0},{"$f":"COUNTIFS('C-A'!$G$13:$G$1013,RC_ACID!F$37,'C-A'!$M$13:$M$1013,RC_ACID!$B50)","v":0},{"$f":"COUNTIFS('C-A'!$G$13:$G$1013,RC_ACID!G$37,'C-A'!$M$13:$M$1013,RC_ACID!$B50)","v":0}]
[null,"Dezembro",{"$f":"COUNTIFS('C-A'!$M$13:$M$1013,RC_ACID!B51)","v":0},{"$f":"COUNTIFS('C-A'!$G$13:$G$1013,RC_ACID!D$37,'C-A'!$M$13:$M$1013,RC_ACID!$B51)","v":0},{"$f":"COUNTIFS('C-A'!$G$13:$G$1013,RC_ACID!E$37,'C-A'!$M$13:$M$1013,RC_ACID!$B51)","v":0},{"$f":"COUNTIFS('C-A'!$G$13:$G$1013,RC_ACID!F$37,'C-A'!$M$13:$M$1013,RC_ACID!$B51)","v":0},{"$f":"COUNTIFS('C-A'!$G$13:$G$1013,RC_ACID!G$37,'C-A'!$M$13:$M$1013,RC_ACID!$B51)","v":0}]

{"sheet":"RC_EXAM","index":8,"n_rows":542,"n_cols":10,"rows_kept":542,"cut":false,"hidden":false,"merged":[[539,4,539,5],[540,4,540,5],[533,4,533,5],[534,4,534,5],[535,4,535,5],[536,4,536,5],[537,4,537,5],[538,4,538,5],[527,4,527,5],[528,4,528,5],[529,4,529,5],[530,4,530,5],[531,4,531,5],[532,4,532,5],[521,4,521,5],[522,4,522,5],[523,4,523,5],[524,4,524,5],[525,4,525,5],[526,4,526,5],[515,4,515,5],[516,4,516,5],[517,4,517,5],[518,4,518,5],[519,4,519,5],[520,4,520,5],[509,4,509,5],[510,4,510,5],[511,4,511,5],[512,4,512,5],[513,4,513,5],[514,4,514,5],[503,4,503,5],[504,4,504,5],[505,4,505,5],[506,4,506,5],[507,4,507,5],[508,4,508,5],[497,4,497,5],[498,4,498,5],[499,4,499,5],[500,4,500,5],[501,4,501,5],[502,4,502,5],[491,4,491,5],[492,4,492,5],[493,4,493,5],[494,4,494,5],[495,4,495,5],[496,4,496,5],[485,4,485,5],[486,4,486,5],[487,4,487,5],[488,4,488,5],[489,4,489,5],[490,4,490,5],[479,4,479,5],[480,4,480,5],[481,4,481,5],[482,4,482,5],[483,4,483,5],[484,4,484,5],[473,4,473,5],[474,4,474,5],[475,4,475,5],[476,4,476,5],[477,4,477,5],[478,4,478,5],[467,4,467,5],[468,4,468,5],[469,4,469,5],[470,4,470,5],[471,4,471,5],[472,4,472,5],[461,4,461,5],[462,4,462,5],[463,4,463,5],[464,4,464,5],[465,4,465,5],[466,4,466,5],[455,4,455,5],[456,4,456,5],[457,4,457,5],[458,4,458,5],[459,4,459,5],[460,4,460,5],[449,4,449,5],[450,4,450,5],[451,4,451,5],[452,4,452,5],[453,4,453,5],[454,4,454,5],[443,4,443,5],[444,4,444,5],[445,4,445,5],[446,4,446,5],[447,4,447,5],[448,4,448,5],[437,4,437,5],[438,4,438,5],[439,4,439,5],[440,4,440,5],[441,4,441,5],[442,4,442,5],[431,4,431,5],[432,4,432,5],[433,4,433,5],[434,4,434,5],[435,4,435,5],[436,4,436,5],[425,4,425,5],[426,4,426,5],[427,4,427,5],[428,4,428,5],[429,4,429,5],[430,4,430,5],[419,4,419,5],[420,4,420,5],[421,4,421,5],[422,4,422,5],[423,4,423,5],[424,4,424,5],[413,4,413,5],[414,4,414,5],[415,4,415,5],[416,4,416,5],[417,4,417,5],[418,4,418,5],[407,4,407,5],[408,4,408,5],[409,4,409,5],[410,4,410,5],[411,4,411,5],[412,4,412,5],[401,4,401,5],[402,4,402,5],[403,4,403,5],[404,4,404,5],[405,4,405,5],[406,4,406,5],[395,4,395,5],[396,4,396,5],[397,4,397,5],[398,4,398,5],[399,4,399,5],[400,4,400,5],[389,4,389,5],[390,4,390,5],[391,4,391,5],[392,4,392,5],[393,4,393,5],[394,4,394,5],[383,4,383,5],[384,4,384,5],[385,4,385,5],[386,4,386,5],[387,4,387,5],[388,4,388,5],[377,4,377,5],[378,4,378,5],[379,4,379,5],[380,4,380,5],[381,4,381,5],[382,4,382,5],[371,4,371,5],[372,4,372,5],[373,4,373,5],[374,4,374,5],[375,4,375,5],[376,4,376,5],[365,4,365,5],[366,4,366,5],[367,4,367,5],[368,4,368,5],[369,4,369,5],[370,4,370,5],[359,4,359,5],[360,4,360,5],[361,4,361,5],[362,4,362,5],[363,4,363,5],[364,4,364,5],[353,4,353,5],[354,4,354,5],[355,4,355,5],[356,4,356,5],[357,4,357,5],[358,4,358,5],[347,4,347,5],[348,4,348,5],[349,4,349,5],[350,4,350,5],[351,4,351,5],[352,4,352,5],[341,4,341,5],[342,4,342,5],[343,4,343,5],[344,4,344,5],[345,4,345,5],[346,4,346,5],[335,4,335,5],[336,4,336,5],[337,4,337,5],[338,4,338,5],[339,4,339,5],[340,4,340,5],[329,4,329,5],[330,4,330,5],[331,4,331,5],[332,4,332,5],[333,4,333,5],[334,4,334,5],[323,4,323,5],[324,4,324,5],[325,4,325,5],[326,4,326,5],[327,4,327,5],[328,4,328,5],[317,4,317,5],[318,4,318,5],[319,4,319,5],[320,4,320,5],[321,4,321,5],[322,4,322,5],[311,4,311,5],[312,4,312,5],[313,4,313,5],[314,4,314,5],[315,4,315,5],[316,4,316,5],[305,4,305,5],[306,4,306,5],[307,4,307,5],[308,4,308,5],[309,4,309,5],[310,4,310,5],[299,4,299,5],[300,4,300,5],[301,4,301,5],[302,4,302,5],[303,4,303,5],[304,4,304,5],[293,4,293,5],[294,4,294,5],[295,4,295,5],[296,4,296,5],[297,4,297,5],[298,4,298,5],[287,4,287,5],[288,4,288,5],[289,4,289,5],[290,4,290,5],[291,4,291,5],[292,4,292,5],[281,4,281,5],[282,4,282,5],[283,4,283,5],[284,4,284,5],[285,4,285,5],[286,4,286,5],[275,4,275,5],[276,4,276,5],[277,4,277,5],[278,4,278,5],[279,4,279,5],[280,4,280,5],[269,4,269,5],[270,4,270,5],[271,4,271,5],[272,4,272,5],[273,4,273,5],[274,4,274,5],[263,4,263,5],[264,4,264,5],[265,4,265,5],[266,4,266,5],[267,4,267,5],[268,4,268,5],[257,4,257,5],[258,4,258,5],[259,4,259,5],[260,4,260,5],[261,4,261,5],[262,4,262,5],[251,4,251,5],[252,4,252,5],[253,4,253,5],[254,4,254,5],[255,4,255,5],[256,4,256,5],[245,4,245,5],[246,4,246,5],[247,4,247,5],[248,4,248,5],[249,4,249,5],[250,4,250,5],[239,4,239,5],[240,4,240,5],[241,4,241,5],[242,4,242,5],[243,4,243,5],[244,4,244,5],[233,4,233,5],[234,4,234,5],[235,4,235,5],[236,4,236,5],[237,4,237,5],[238,4,238,5],[227,4,227,5],[228,4,228,5],[229,4,229,5],[230,4,230,5],[231,4,231,5],[232,4,232,5],[221,4,221,5],[222,4,222,5],[223,4,223,5],[224,4,224,5],[225,4,225,5],[226,4,226,5],[215,4,215,5],[216,4,216,5],[217,4,217,5],[218,4,218,5],[219,4,219,5],[220,4,220,5],[209,4,209,5],[210,4,210,5],[211,4,211,5],[212,4,212,5],[213,4,213,5],[214,4,214,5],[203,4,203,5],[204,4,204,5],[205,4,205,5],[206,4,206,5],[207,4,207,5],[208,4,208,5],[197,4,197,5],[198,4,198,5],[199,4,199,5],[200,4,200,5],[201,4,201,5],[202,4,202,5],[191,4,191,5],[192,4,192,5],[193,4,193,5],[194,4,194,5],[195,4,195,5],[196,4,196,5],[185,4,185,5],[186,4,186,5],[187,4,187,5],[188,4,188,5],[189,4,189,5],[190,4,190,5],[179,4,179,5],[180,4,180,5],[181,4,181,5],[182,4,182,5],[183,4,183,5],[184,4,184,5],[173,4,173,5],[174,4,174,5],[175,4,175,5],[176,4,176,5],[177,4,177,5],[178,4,178,5],[167,4,167,5],[168,4,168,5],[169,4,169,5],[170,4,170,5],[171,4,171,5],[172,4,172,5],[161,4,161,5],[162,4,162,5],[163,4,163,5],[164,4,164,5],[165,4,165,5],[166,4,166,5],[155,4,155,5],[156,4,156,5],[157,4,157,5],[158,4,158,5],[159,4,159,5],[160,4,160,5],[149,4,149,5],[150,4,150,5],[151,4,151,5],[152,4,152,5],[153,4,153,5],[154,4,154,5],[143,4,143,5],[144,4,144,5],[145,4,145,5],[146,4,146,5],[147,4,147,5],[148,4,148,5],[137,4,137,5],[138,4,138,5],[139,4,139,5],[140,4,140,5],[141,4,141,5],[142,4,142,5],[131,4,131,5],[132,4,132,5],[133,4,133,5],[134,4,134,5],[135,4,135,5],[136,4,136,5],[125,4,125,5],[126,4,126,5],[127,4,127,5],[128,4,128,5],[129,4,129,5],[130,4,130,5],[119,4,119,5],[120,4,120,5],[121,4,121,5],[122,4,122,5],[123,4,123,5],[124,4,124,5],[113,4,113,5],[114,4,114,5],[115,4,115,5],[116,4,116,5],[117,4,117,5],[118,4,118,5],[107,4,107,5],[108,4,108,5],[109,4,109,5],[110,4,110,5],[111,4,111,5],[112,4,112,5],[101,4,101,5],[102,4,102,5],[103,4,103,5],[104,4,104,5],[105,4,105,5],[106,4,106,5],[95,4,95,5],[96,4,96,5],[97,4,97,5],[98,4,98,5],[99,4,99,5],[100,4,100,5],[89,4,89,5],[90,4,90,5],[91,4,91,5],[92,4,92,5],[93,4,93,5],[94,4,94,5],[83,4,83,5],[84,4,84,5],[85,4,85,5],[86,4,86,5],[87,4,87,5],[88,4,88,5],[77,4,77,5],[78,4,78,5],[79,4,79,5],[80,4,80,5],[81,4,81,5],[82,4,82,5],[71,4,71,5],[72,4,72,5],[73,4,73,5],[74,4,74,5],[75,4,75,5],[76,4,76,5],[65,4,65,5],[66,4,66,5],[67,4,67,5],[68,4,68,5],[69,4,69,5],[70,4,70,5],[59,4,59,5],[60,4,60,5],[61,4,61,5],[62,4,62,5],[63,4,63,5],[64,4,64,5],[53,4,53,5],[54,4,54,5],[55,4,55,5],[56,4,56,5],[57,4,57,5],[58,4,58,5],[47,4,47,5],[48,4,48,5],[49,4,49,5],[50,4,50,5],[51,4,51,5],[52,4,52,5],[41,4,41,5],[42,4,42,5],[43,4,43,5],[44,4,44,5],[45,4,45,5],[46,4,46,5],[11,1,11,4],[11,6,11,9],[24,1,24,4],[24,6,24,9],[39,1,39,6],[40,4,40,5]]}
[]
[]
[]
[]
[]
[]
[]
[]
[]
[]
[null,null,3,4,5,null,null,null,3,4]
[null,"Quantidade de Exames Realizados",null,null,null,null,"Funcionários com mais complicações"]
[null,"TOP 5 Exames","Exames realizados","O exame não apontou complicações","O exame apontou complicações",null,"TOP 5 Funcionários","Exames realizados","O exame não apontou complicações","O exame apontou complicações"]
[1,{"$f":"IF(VLOOKUP(LARGE(PCMSO!$A$13:$A$614,RC_EXAM!A14),PCMSO!$A$13:$B$614,2,FALSE)=0,\"\",VLOOKUP(LARGE(PCMSO!$A$13:$A$614,RC_EXAM!A14),PCMSO!$A$13:$B$614,2,FALSE))","v":"Audiometria"},{"$f":"IF(B14=\"\",\"\",VLOOKUP($B14,PCMSO!$G$13:$K$614,C$11,FALSE))","v":1},{"$f":"IF(C14=\"\",\"\",VLOOKUP($B14,PCMSO!$G$13:$K$614,D$11,FALSE))","v":1},{"$f":"IF(D14=\"\",\"\",VLOOKUP($B14,PCMSO!$G$13:$K$614,E$11,FALSE))","v":0},1,{"$f":"IF(VLOOKUP(LARGE(CAD_AREA!$CA$13:$CA$113,RC_EXAM!$F14),CAD_AREA!$CA$13:$CB$113,2,FALSE)=0,\"\",VLOOKUP(LARGE(CAD_AREA!$CA$13:$CA$113,RC_EXAM!$F14),CAD_AREA!$CA$13:$CB$113,2,FALSE))","v":""},{"$f":"IF(G14=\"\",\"\",SUM(I14:J14))","v":""},{"$f":"IF($G14=\"\",\"\",VLOOKUP($G14,CAD_AREA!$CE$13:$CH$113,RC_EXAM!I$11,FALSE))","v":""},{"$f":"IF($G14=\"\",\"\",VLOOKUP($G14,CAD_AREA!$CE$13:$CH$113,RC_EXAM!J$11,FALSE))","v":""}]
[2,{"$f":"IF(VLOOKUP(LARGE(PCMSO!$A$13:$A$614,RC_EXAM!A15),PCMSO!$A$13:$B$614,2,FALSE)=0,\"\",VLOOKUP(LARGE(PCMSO!$A$13:$A$614,RC_EXAM!A15),PCMSO!$A$13:$B$614,2,FALSE))","v":""},{"$f":"IF(B15=\"\",\"\",VLOOKUP($B15,PCMSO!$G$13:$K$614,C$11,FALSE))","v":""},{"$f":"IF(C15=\"\",\"\",VLOOKUP($B15,PCMSO!$G$13:$K$614,D$11,FALSE))","v":""},{"$f":"IF(D15=\"\",\"\",VLOOKUP($B15,PCMSO!$G$13:$K$614,E$11,FALSE))","v":""},2,{"$f":"IF(VLOOKUP(LARGE(CAD_AREA!$CA$13:$CA$113,RC_EXAM!$F15),CAD_AREA!$CA$13:$CB$113,2,FALSE)=0,\"\",VLOOKUP(LARGE(CAD_AREA!$CA$13:$CA$113,RC_EXAM!$F15),CAD_AREA!$CA$13:$CB$113,2,FALSE))","v":""},{"$f":"IF(G15=\"\",\"\",SUM(I15:J15))","v":""},{"$f":"IF($G15=\"\",\"\",VLOOKUP($G15,CAD_AREA!$CE$13:$CH$113,RC_EXAM!I$11,FALSE))","v":""},{"$f":"IF($G15=\"\",\"\",VLOOKUP($G15,CAD_AREA!$CE$13:$CH$113,RC_EXAM!J$11,FALSE))","v":""}]
[3,{"$f":"IF(VLOOKUP(LARGE(PCMSO!$A$13:$A$614,RC_EXAM!A16),PCMSO!$A$13:$B$614,2,FALSE)=0,\"\",VLOOKUP(LARGE(PCMSO!$A$13:$A$614,RC_EXAM!A16),PCMSO!$A$13:$B$614,2,FALSE))","v":""},{"$f":"IF(B16=\"\",\"\",VLOOKUP($B16,PCMSO!$G$13:$K$614,C$11,FALSE))","v":""},{"$f":"IF(C16=\"\",\"\",VLOOKUP($B16,PCMSO!$G$13:$K$614,D$11,FALSE))","v":""},{"$f":"IF(D16=\"\",\"\",VLOOKUP($B16,PCMSO!$G$13:$K$614,E$11,FALSE))","v":""},3,{"$f":"IF(VLOOKUP(LARGE(CAD_AREA!$CA$13:$CA$113,RC_EXAM!$F16),CAD_AREA!$CA$13:$CB$113,2,FALSE)=0,\"\",VLOOKUP(LARGE(CAD_AREA!$CA$13:$CA$113,RC_EXAM!$F16),CAD_AREA!$CA$13:$CB$113,2,FALSE))","v":""},"",{"$f":"IF($G16=\"\",\"\",VLOOKUP($G16,CAD_AREA!$CE$13:$CH$113,RC_EXAM!I$11,FALSE))","v":""},{"$f":"IF($G16=\"\",\"\",VLOOKUP($G16,CAD_AREA!$CE$13:$CH$113,RC_EXAM!J$11,FALSE))","v":""}]
[4,{"$f":"IF(VLOOKUP(LARGE(PCMSO!$A$13:$A$614,RC_EXAM!A17),PCMSO!$A$13:$B$614,2,FALSE)=0,\"\",VLOOKUP(LARGE(PCMSO!$A$13:$A$614,RC_EXAM!A17),PCMSO!$A$13:$B$614,2,FALSE))","v":""},{"$f":"IF(B17=\"\",\"\",VLOOKUP($B17,PCMSO!$G$13:$K$614,C$11,FALSE))","v":""},{"$f":"IF(C17=\"\",\"\",VLOOKUP($B17,PCMSO!$G$13:$K$614,D$11,FALSE))","v":""},{"$f":"IF(D17=\"\",\"\",VLOOKUP($B17,PCMSO!$G$13:$K$614,E$11,FALSE))","v":""},4,{"$f":"IF(VLOOKUP(LARGE(CAD_AREA!$CA$13:$CA$113,RC_EXAM!$F17),CAD_AREA!$CA$13:$CB$113,2,FALSE)=0,\"\",VLOOKUP(LARGE(CAD_AREA!$CA$13:$CA$113,RC_EXAM!$F17),CAD_AREA!$CA$13:$CB$113,2,FALSE))","v":""},"",{"$f":"IF($G17=\"\",\"\",VLOOKUP($G17,CAD_AREA!$CE$13:$CH$113,RC_EXAM!I$11,FALSE))","v":""},{"$f":"IF($G17=\"\",\"\",VLOOKUP($G17,CAD_AREA!$CE$13:$CH$113,RC_EXAM!J$11,FALSE))","v":""}]
[5,{"$f":"IF(VLOOKUP(LARGE(PCMSO!$A$13:$A$614,RC_EXAM!A18),PCMSO!$A$13:$B$614,2,FALSE)=0,\"\",VLOOKUP(LARGE(PCMSO!$A$13:$A$614,RC_EXAM!A18),PCMSO!$A$13:$B$614,2,FALSE))","v":""},{"$f":"IF(B18=\"\",\"\",VLOOKUP($B18,PCMSO!$G$13:$K$614,C$11,FALSE))","v":""},{"$f":"IF(C18=\"\",\"\",VLOOKUP($B18,PCMSO!$G$13:$K$614,D$11,FALSE))","v":""},{"$f":"IF(D18=\"\",\"\",VLOOKUP($B18,PCMSO!$G$13:$K$614,E$11,FALSE))","v":""},5,{"$f":"IF(VLOOKUP(LARGE(CAD_AREA!$CA$13:$CA$113,RC_EXAM!$F18),CAD_AREA!$CA$13:$CB$113,2,FALSE)=0,\"\",VLOOKUP(LARGE(CAD_AREA!$CA$13:$CA$113,RC_EXAM!$F18),CAD_AREA!$CA$13:$CB$113,2,FALSE))","v":""},"",{"$f":"IF($G18=\"\",\"\",VLOOKUP($G18,CAD_AREA!$CE$13:$CH$113,RC_EXAM!I$11,FALSE))","v":""},{"$f":"IF($G18=\"\",\"\",VLOOKUP($G18,CAD_AREA!$CE$13:$CH$113,RC_EXAM!J$11,FALSE))","v":""}]
[6,{"$f":"IF(VLOOKUP(LARGE(PCMSO!$A$13:$A$614,RC_EXAM!A19),PCMSO!$A$13:$B$614,2,FALSE)=0,\"\",VLOOKUP(LARGE(PCMSO!$A$13:$A$614,RC_EXAM!A19),PCMSO!$A$13:$B$614,2,FALSE))","v":""},{"$f":"IF(B19=\"\",\"\",VLOOKUP($B19,PCMSO!$G$13:$K$614,C$11,FALSE))","v":""},{"$f":"IF(C19=\"\",\"\",VLOOKUP($B19,PCMSO!$G$13:$K$614,D$11,FALSE))","v":""},{"$f":"IF(D19=\"\",\"\",VLOOKUP($B19,PCMSO!$G$13:$K$614,E$11,FALSE))","v":""},6,{"$f":"IF(VLOOKUP(LARGE(CAD_AREA!$CA$13:$CA$113,RC_EXAM!$F19),CAD_AREA!$CA$13:$CB$113,2,FALSE)=0,\"\",VLOOKUP(LARGE(CAD_AREA!$CA$13:$CA$113,RC_EXAM!$F19),CAD_AREA!$CA$13:$CB$113,2,FALSE))","v":""},"",{"$f":"IF($G19=\"\",\"\",VLOOKUP($G19,CAD_AREA!$CE$13:$CH$113,RC_EXAM!I$11,FALSE))","v":""},{"$f":"IF($G19=\"\",\"\",VLOOKUP($G19,CAD_AREA!$CE$13:$CH$113,RC_EXAM!J$11,FALSE))","v":""}]
[7,{"$f":"IF(VLOOKUP(LARGE(PCMSO!$A$13:$A$614,RC_EXAM!A20),PCMSO!$A$13:$B$614,2,FALSE)=0,\"\",VLOOKUP(LARGE(PCMSO!$A$13:$A$614,RC_EXAM!A20),PCMSO!$A$13:$B$614,2,FALSE))","v":""},{"$f":"IF(B20=\"\",\"\",VLOOKUP($B20,PCMSO!$G$13:$K$614,C$11,FALSE))","v":""},{"$f":"IF(C20=\"\",\"\",VLOOKUP($B20,PCMSO!$G$13:$K$614,D$11,FALSE))","v":""},{"$f":"IF(D20=\"\",\"\",VLOOKUP($B20,PCMSO!$G$13:$K$614,E$11,FALSE))","v":""},7,{"$f":"IF(VLOOKUP(LARGE(CAD_AREA!$CA$13:$CA$113,RC_EXAM!$F20),CAD_AREA!$CA$13:$CB$113,2,FALSE)=0,\"\",VLOOKUP(LARGE(CAD_AREA!$CA$13:$CA$113,RC_EXAM!$F20),CAD_AREA!$CA$13:$CB$113,2,FALSE))","v":""},"",{"$f":"IF($G20=\"\",\"\",VLOOKUP($G20,CAD_AREA!$CE$13:$CH$113,RC_EXAM!I$11,FALSE))","v":""},{"$f":"IF($G20=\"\",\"\",VLOOKUP($G20,CAD_AREA!$CE$13:$CH$113,RC_EXAM!J$11,FALSE))","v":""}]
[8,{"$f":"IF(VLOOKUP(LARGE(PCMSO!$A$13:$A$614,RC_EXAM!A21),PCMSO!$A$13:$B$614,2,FALSE)=0,\"\",VLOOKUP(LARGE(PCMSO!$A$13:$A$614,RC_EXAM!A21),PCMSO!$A$13:$B$614,2,FALSE))","v":""},{"$f":"IF(B21=\"\",\"\",VLOOKUP($B21,PCMSO!$G$13:$K$614,C$11,FALSE))","v":""},{"$f":"IF(C21=\"\",\"\",VLOOKUP($B21,PCMSO!$G$13:$K$614,D$11,FALSE))","v":""},{"$f":"IF(D21=\"\",\"\",VLOOKUP($B21,PCMSO!$G$13:$K$614,E$11,FALSE))","v":""},8,{"$f":"IF(VLOOKUP(LARGE(CAD_AREA!$CA$13:$CA$113,RC_EXAM!$F21),CAD_AREA!$CA$13:$CB$113,2,FALSE)=0,\"\",VLOOKUP(LARGE(CAD_AREA!$CA$13:$CA$113,RC_EXAM!$F21),CAD_AREA!$CA$13:$CB$113,2,FALSE))","v":""},"",{"$f":"IF($G21=\"\",\"\",VLOOKUP($G21,CAD_AREA!$CE$13:$CH$113,RC_EXAM!I$11,FALSE))","v":""},{"$f":"IF($G21=\"\",\"\",VLOOKUP($G21,CAD_AREA!$CE$13:$CH$113,RC_EXAM!J$11,FALSE))","v":""}]
[9,{"$f":"IF(VLOOKUP(LARGE(PCMSO!$A$13:$A$614,RC_EXAM!A22),PCMSO!$A$13:$B$614,2,FALSE)=0,\"\",VLOOKUP(LARGE(PCMSO!$A$13:$A$614,RC_EXAM!A22),PCMSO!$A$13:$B$614,2,FALSE))","v":""},{"$f":"IF(B22=\"\",\"\",VLOOKUP($B22,PCMSO!$G$13:$K$614,C$11,FALSE))","v":""},{"$f":"IF(C22=\"\",\"\",VLOOKUP($B22,PCMSO!$G$13:$K$614,D$11,FALSE))","v":""},{"$f":"IF(D22=\"\",\"\",VLOOKUP($B22,PCMSO!$G$13:$K$614,E$11,FALSE))","v":""},9,{"$f":"IF(VLOOKUP(LARGE(CAD_AREA!$CA$13:$CA$113,RC_EXAM!$F22),CAD_AREA!$CA$13:$CB$113,2,FALSE)=0,\"\",VLOOKUP(LARGE(CAD_AREA!$CA$13:$CA$113,RC_EXAM!$F22),CAD_AREA!$CA$13:$CB$113,2,FALSE))","v":""},"",{"$f":"IF($G22=\"\",\"\",VLOOKUP($G22,CAD_AREA!$CE$13:$CH$113,RC_EXAM!I$11,FALSE))","v":""},{"$f":"IF($G22=\"\",\"\",VLOOKUP($G22,CAD_AREA!$CE$13:$CH$113,RC_EXAM!J$11,FALSE))","v":""}]
[10,{"$f":"IF(VLOOKUP(LARGE(PCMSO!$A$13:$A$614,RC_EXAM!A23),PCMSO!$A$13:$B$614,2,FALSE)=0,\"\",VLOOKUP(LARGE(PCMSO!$A$13:$A$614,RC_EXAM!A23),PCMSO!$A$13:$B$614,2,FALSE))","v":""},{"$f":"IF(B23=\"\",\"\",VLOOKUP($B23,PCMSO!$G$13:$K$614,C$11,FALSE))","v":""},{"$f":"IF(C23=\"\",\"\",VLOOKUP($B23,PCMSO!$G$13:$K$614,D$11,FALSE))","v":""},{"$f":"IF(D23=\"\",\"\",VLOOKUP($B23,PCMSO!$G$13:$K$614,E$11,FALSE))","v":""},10,{"$f":"IF(VLOOKUP(LARGE(CAD_AREA!$CA$13:$CA$113,RC_EXAM!$F23),CAD_AREA!$CA$13:$CB$113,2,FALSE)=0,\"\",VLOOKUP(LARGE(CAD_AREA!$CA$13:$CA$113,RC_EXAM!$F23),CAD_AREA!$CA$13:$CB$113,2,FALSE))","v":""},"",{"$f":"IF($G23=\"\",\"\",VLOOKUP($G23,CAD_AREA!$CE$13:$CH$113,RC_EXAM!I$11,FALSE))","v":""},{"$f":"IF($G23=\"\",\"\",VLOOKUP($G23,CAD_AREA!$CE$13:$CH$113,RC_EXAM!J$11,FALSE))","v":""}]
[null,null,3,4,5]
[null,"Quantidade de exames realizados por mês",null,null,null,null,"Área com mais exames realizados"]
[null,"Item","Exames realizados","O exame não apontou complicações","O exame apontou complicações",null,"TOP 5 Exames","Exames realizados","O exame não apontou complicações","O exame apontou complicações"]
[1,"Janeiro",{"$f":"COUNTIFS('C-E'!$L$13:$L$1001,RC_EXAM!B27)","v":1},{"$f":"COUNTIFS('C-E'!$L$13:$L$1001,RC_EXAM!$B27,'C-E'!$H$13:$H$1001,RC_EXAM!D$26)","v":1},{"$f":"COUNTIFS('C-E'!$L$13:$L$1001,RC_EXAM!$B27,'C-E'!$H$13:$H$1001,RC_EXAM!E$26)","v":0},null,{"$f":"IF(VLOOKUP(LARGE(CAD_AREA!$X$13:$X$63,RC_EXAM!$A27),CAD_AREA!$X$13:$Y$63,2,FALSE)=0,\"\",VLOOKUP(LARGE(CAD_AREA!$X$13:$X$63,RC_EXAM!$A27),CAD_AREA!$X$13:$Y$63,2,FALSE))","v":"PROD"},{"$f":"IF($G27=\"\",\"\",VLOOKUP($G27,CAD_AREA!$Y$13:$AC$63,RC_EXAM!C$24,FALSE))","v":1},{"$f":"IF($G27=\"\",\"\",VLOOKUP($G27,CAD_AREA!$Y$13:$AC$63,RC_EXAM!D$24,FALSE))","v":1},{"$f":"IF($G27=\"\",\"\",VLOOKUP($G27,CAD_AREA!$Y$13:$AC$63,RC_EXAM!E$24,FALSE))","v":0}]
[2,"Fevereiro",{"$f":"COUNTIFS('C-E'!$L$13:$L$1001,RC_EXAM!B28)","v":0},{"$f":"COUNTIFS('C-E'!$L$13:$L$1001,RC_EXAM!$B28,'C-E'!$H$13:$H$1001,RC_EXAM!D$26)","v":0},{"$f":"COUNTIFS('C-E'!$L$13:$L$1001,RC_EXAM!$B28,'C-E'!$H$13:$H$1001,RC_EXAM!E$26)","v":0},null,{"$f":"IF(VLOOKUP(LARGE(CAD_AREA!$X$13:$X$63,RC_EXAM!$A28),CAD_AREA!$X$13:$Y$63,2,FALSE)=0,\"\",VLOOKUP(LARGE(CAD_AREA!$X$13:$X$63,RC_EXAM!$A28),CAD_AREA!$X$13:$Y$63,2,FALSE))","v":""},{"$f":"IF($G28=\"\",\"\",VLOOKUP($G28,CAD_AREA!$Y$13:$AC$63,RC_EXAM!C$24,FALSE))","v":""},{"$f":"IF($G28=\"\",\"\",VLOOKUP($G28,CAD_AREA!$Y$13:$AC$63,RC_EXAM!D$24,FALSE))","v":""},{"$f":"IF($G28=\"\",\"\",VLOOKUP($G28,CAD_AREA!$Y$13:$AC$63,RC_EXAM!E$24,FALSE))","v":""}]
[34,"Março",{"$f":"COUNTIFS('C-E'!$L$13:$L$1001,RC_EXAM!B29)","v":0},{"$f":"COUNTIFS('C-E'!$L$13:$L$1001,RC_EXAM!$B29,'C-E'!$H$13:$H$1001,RC_EXAM!D$26)","v":0},{"$f":"COUNTIFS('C-E'!$L$13:$L$1001,RC_EXAM!$B29,'C-E'!$H$13:$H$1001,RC_EXAM!E$26)","v":0},null,{"$f":"IF(VLOOKUP(LARGE(CAD_AREA!$X$13:$X$63,RC_EXAM!$A29),CAD_AREA!$X$13:$Y$63,2,FALSE)=0,\"\",VLOOKUP(LARGE(CAD_AREA!$X$13:$X$63,RC_EXAM!$A29),CAD_AREA!$X$13:$Y$63,2,FALSE))","v":""},{"$f":"IF($G29=\"\",\"\",VLOOKUP($G29,CAD_AREA!$Y$13:$AC$63,RC_EXAM!C$24,FALSE))","v":""},{"$f":"IF($G29=\"\",\"\",VLOOKUP($G29,CAD_AREA!$Y$13:$AC$63,RC_EXAM!D$24,FALSE))","v":""},{"$f":"IF($G29=\"\",\"\",VLOOKUP($G29,CAD_AREA!$Y$13:$AC$63,RC_EXAM!E$24,FALSE))","v":""}]
[5,"Abril",{"$f":"COUNTIFS('C-E'!$L$13:$L$1001,RC_EXAM!B30)","v":0},{"$f":"COUNTIFS('C-E'!$L$13:$L$1001,RC_EXAM!$B30,'C-E'!$H$13:$H$1001,RC_EXAM!D$26)","v":0},{"$f":"COUNTIFS('C-E'!$L$13:$L$1001,RC_EXAM!$B30,'C-E'!$H$13:$H$1001,RC_EXAM!E$26)","v":0},null,{"$f":"IF(VLOOKUP(LARGE(CAD_AREA!$X$13:$X$63,RC_EXAM!$A30),CAD_AREA!$X$13:$Y$63,2,FALSE)=0,\"\",VLOOKUP(LARGE(CAD_AREA!$X$13:$X$63,RC_EXAM!$A30),CAD_AREA!$X$13:$Y$63,2,FALSE))","v":""},{"$f":"IF($G30=\"\",\"\",VLOOKUP($G30,CAD_AREA!$Y$13:$AC$63,RC_EXAM!C$24,FALSE))","v":""},{"$f":"IF($G30=\"\",\"\",VLOOKUP($G30,CAD_AREA!$Y$13:$AC$63,RC_EXAM!D$24,FALSE))","v":""},{"$f":"IF($G30=\"\",\"\",VLOOKUP($G30,CAD_AREA!$Y$13:$AC$63,RC_EXAM!E$24,FALSE))","v":""}]
[6,"Maio",{"$f":"COUNTIFS('C-E'!$L$13:$L$1001,RC_EXAM!B31)","v":0},{"$f":"COUNTIFS('C-E'!$L$13:$L$1001,RC_EXAM!$B31,'C-E'!$H$13:$H$1001,RC_EXAM!D$26)","v":0},{"$f":"COUNTIFS('C-E'!$L$13:$L$1001,RC_EXAM!$B31,'C-E'!$H$13:$H$1001,RC_EXAM!E$26)","v":0},null,{"$f":"IF(VLOOKUP(LARGE(CAD_AREA!$X$13:$X$63,RC_EXAM!$A31),CAD_AREA!$X$13:$Y$63,2,FALSE)=0,\"\",VLOOKUP(LARGE(CAD_AREA!$X$13:$X$63,RC_EXAM!$A31),CAD_AREA!$X$13:$Y$63,2,FALSE))","v":""},{"$f":"IF($G31=\"\",\"\",VLOOKUP($G31,CAD_AREA!$Y$13:$AC$63,RC_EXAM!C$24,FALSE))","v":""},{"$f":"IF($G31=\"\",\"\",VLOOKUP($G31,CAD_AREA!$Y$13:$AC$63,RC_EXAM!D$24,FALSE))","v":""},{"$f":"IF($G31=\"\",\"\",VLOOKUP($G31,CAD_AREA!$Y$13:$AC$63,RC_EXAM!E$24,FALSE))","v":""}]
[7,"Junho",{"$f":"COUNTIFS('C-E'!$L$13:$L$1001,RC_EXAM!B32)","v":0},{"$f":"COUNTIFS('C-E'!$L$13:$L$1001,RC_EXAM!$B32,'C-E'!$H$13:$H$1001,RC_EXAM!D$26)","v":0},{"$f":"COUNTIFS('C-E'!$L$13:$L$1001,RC_EXAM!$B32,'C-E'!$H$13:$H$1001,RC_EXAM!E$26)","v":0}]
[8,"Julho",{"$f":"COUNTIFS('C-E'!$L$13:$L$1001,RC_EXAM!B33)","v":0},{"$f":"COUNTIFS('C-E'!$L$13:$L$1001,RC_EXAM!$B33,'C-E'!$H$13:$H$1001,RC_EXAM!D$26)","v":0},{"$f":"COUNTIFS('C-E'!$L$13:$L$1001,RC_EXAM!$B33,'C-E'!$H$13:$H$1001,RC_EXAM!E$26)","v":0}]
[9,"Agosto",{"$f":"COUNTIFS('C-E'!$L$13:$L$1001,RC_EXAM!B34)","v":0},{"$f":"COUNTIFS('C-E'!$L$13:$L$1001,RC_EXAM!$B34,'C-E'!$H$13:$H$1001,RC_EXAM!D$26)","v":0},{"$f":"COUNTIFS('C-E'!$L$13:$L$1001,RC_EXAM!$B34,'C-E'!$H$13:$H$1001,RC_EXAM!E$26)","v":0}]
[9,"Setembro",{"$f":"COUNTIFS('C-E'!$L$13:$L$1001,RC_EXAM!B35)","v":0},{"$f":"COUNTIFS('C-E'!$L$13:$L$1001,RC_EXAM!$B35,'C-E'!$H$13:$H$1001,RC_EXAM!D$26)","v":0},{"$f":"COUNTIFS('C-E'!$L$13:$L$1001,RC_EXAM!$B35,'C-E'!$H$13:$H$1001,RC_EXAM!E$26)","v":0}]
[10,"Outubro",{"$f":"COUNTIFS('C-E'!$L$13:$L$1001,RC_EXAM!B36)","v":0},{"$f":"COUNTIFS('C-E'!$L$13:$L$1001,RC_EXAM!$B36,'C-E'!$H$13:$H$1001,RC_EXAM!D$26)","v":0},{"$f":"COUNTIFS('C-E'!$L$13:$L$1001,RC_EXAM!$B36,'C-E'!$H$13:$H$1001,RC_EXAM!E$26)","v":0}]
[11,"Novembro",{"$f":"COUNTIFS('C-E'!$L$13:$L$1001,RC_EXAM!B37)","v":0},{"$f":"COUNTIFS('C-E'!$L$13:$L$1001,RC_EXAM!$B37,'C-E'!$H$13:$H$1001,RC_EXAM!D$26)","v":0},{"$f":"COUNTIFS('C-E'!$L$13:$L$1001,RC_EXAM!$B37,'C-E'!$H$13:$H$1001,RC_EXAM!E$26)","v":0}]
[12,"Dezembro",{"$f":"COUNTIFS('C-E'!$L$13:$L$1001,RC_EXAM!B38)","v":0},{"$f":"COUNTIFS('C-E'!$L$13:$L$1001,RC_EXAM!$B38,'C-E'!$H$13:$H$1001,RC_EXAM!D$26)","v":0},{"$f":"COUNTIFS('C-E'!$L$13:$L$1001,RC_EXAM!$B38,'C-E'!$H$13:$H$1001,RC_EXAM!E$26)","v":0}]
[null,10,5,2,3,null,4]
[null,"Próximos exames a serem realizados"]
[null,"Data","Exame","Funcionário",{"$f":"'C-E'!C12","v":"Cargo"},null,{"$f":"'C-E'!D12","v":"Área"}]
[1,{"$f":"IFERROR(VLOOKUP(SMALL('C-E'!$A$13:$A$1001,RC_EXAM!$A42),'C-E'!$A$13:$J$1001,B$39,FALSE),\"\")","v":""},{"$f":"IFERROR(VLOOKUP(SMALL('C-E'!$A$13:$A$1001,RC_EXAM!$A42),'C-E'!$A$13:$J$1001,C$39,FALSE),\"\")","v":""},{"$f":"IFERROR(VLOOKUP(SMALL('C-E'!$A$13:$A$1001,RC_EXAM!$A42),'C-E'!$A$13:$J$1001,D$39,FALSE),\"\")","v":""},{"$f":"IFERROR(VLOOKUP(SMALL('C-E'!$A$13:$A$1001,RC_EXAM!$A42),'C-E'!$A$13:$J$1001,E$39,FALSE),\"\")","v":""},null,{"$f":"IFERROR(VLOOKUP(SMALL('C-E'!$A$13:$A$1001,RC_EXAM!$A42),'C-E'!$A$13:$J$1001,G$39,FALSE),\"\")","v":""}]
[2,{"$f":"IFERROR(VLOOKUP(SMALL('C-E'!$A$13:$A$1001,RC_EXAM!$A43),'C-E'!$A$13:$J$1001,B$39,FALSE),\"\")","v":""},{"$f":"IFERROR(VLOOKUP(SMALL('C-E'!$A$13:$A$1001,RC_EXAM!$A43),'C-E'!$A$13:$J$1001,C$39,FALSE),\"\")","v":""},{"$f":"IFERROR(VLOOKUP(SMALL('C-E'!$A$13:$A$1001,RC_EXAM!$A43),'C-E'!$A$13:$J$1001,D$39,FALSE),\"\")","v":""},{"$f":"IFERROR(VLOOKUP(SMALL('C-E'!$A$13:$A$1001,RC_EXAM!$A43),'C-E'!$A$13:$J$1001,E$39,FALSE),\"\")","v":""},null,{"$f":"IFERROR(VLOOKUP(SMALL('C-E'!$A$13:$A$1001,RC_EXAM!$A43),'C-E'!$A$13:$J$1001,G$39,FALSE),\"\")","v":""}]
[3,{"$f":"IFERROR(VLOOKUP(SMALL('C-E'!$A$13:$A$1001,RC_EXAM!$A44),'C-E'!$A$13:$J$1001,B$39,FALSE),\"\")","v":""},{"$f":"IFERROR(VLOOKUP(SMALL('C-E'!$A$13:$A$1001,RC_EXAM!$A44),'C-E'!$A$13:$J$1001,C$39,FALSE),\"\")","v":""},{"$f":"IFERROR(VLOOKUP(SMALL('C-E'!$A$13:$A$1001,RC_EXAM!$A44),'C-E'!$A$13:$J$1001,D$39,FALSE),\"\")","v":""},{"$f":"IFERROR(VLOOKUP(SMALL('C-E'!$A$13:$A$1001,RC_EXAM!$A44),'C-E'!$A$13:$J$1001,E$39,FALSE),\"\")","v":""},null,{"$f":"IFERROR(VLOOKUP(SMALL('C-E'!$A$13:$A$1001,RC_EXAM!$A44),'C-E'!$A$13:$J$1001,G$39,FALSE),\"\")","v":""}]
[4,{"$f":"IFERROR(VLOOKUP(SMALL('C-E'!$A$13:$A$1001,RC_EXAM!$A45),'C-E'!$A$13:$J$1001,B$39,FALSE),\"\")","v":""},{"$f":"IFERROR(VLOOKUP(SMALL('C-E'!$A$13:$A$1001,RC_EXAM!$A45),'C-E'!$A$13:$J$1001,C$39,FALSE),\"\")","v":""},{"$f":"IFERROR(VLOOKUP(SMALL('C-E'!$A$13:$A$1001,RC_EXAM!$A45),'C-E'!$A$13:$J$1001,D$39,FALSE),\"\")","v":""},{"$f":"IFERROR(VLOOKUP(SMALL('C-E'!$A$13:$A$1001,RC_EXAM!$A45),'C-E'!$A$13:$J$1001,E$39,FALSE),\"\")","v":""},null,{"$f":"IFERROR(VLOOKUP(SMALL('C-E'!$A$13:$A$1001,RC_EXAM!$A45),'C-E'!$A$13:$J$1001,G$39,FALSE),\"\")","v":""}]
[5,{"$f":"IFERROR(VLOOKUP(SMALL('C-E'!$A$13:$A$1001,RC_EXAM!$A46),'C-E'!$A$13:$J$1001,B$39,FALSE),\"\")","v":""},{"$f":"IFERROR(VLOOKUP(SMALL('C-E'!$A$13:$A$1001,RC_EXAM!$A46),'C-E'!$A$13:$J$1001,C$39,FALSE),\"\")","v":""},{"$f":"IFERROR(VLOOKUP(SMALL('C-E'!$A$13:$A$1001,RC_EXAM!$A46),'C-E'!$A$13:$J$1001,D$39,FALSE),\"\")","v":""},{"$f":"IFERROR(VLOOKUP(SMALL('C-E'!$A$13:$A$1001,RC_EXAM!$A46),'C-E'!$A$13:$J$1001,E$39,FALSE),\"\")","v":""},null,{"$f":"IFERROR(VLOOKUP(SMALL('C-E'!$A$13:$A$1001,RC_EXAM!$A46),'C-E'!$A$13:$J$1001,G$39,FALSE),\"\")","v":""}]
[6,{"$f":"IFERROR(VLOOKUP(SMALL('C-E'!$A$13:$A$1001,RC_EXAM!$A47),'C-E'!$A$13:$J$1001,B$39,FALSE),\"\")","v":""},{"$f":"IFERROR(VLOOKUP(SMALL('C-E'!$A$13:$A$1001,RC_EXAM!$A47),'C-E'!$A$13:$J$1001,C$39,FALSE),\"\")","v":""},{"$f":"IFERROR(VLOOKUP(SMALL('C-E'!$A$13:$A$1001,RC_EXAM!$A47),'C-E'!$A$13:$J$1001,D$39,FALSE),\"\")","v":""},{"$f":"IFERROR(VLOOKUP(SMALL('C-E'!$A$13:$A$1001,RC_EXAM!$A47),'C-E'!$A$13:$J$1001,E$39,FALSE),\"\")","v":""},null,{"$f":"IFERROR(VLOOKUP(SMALL('C-E'!$A$13:$A$1001,RC_EXAM!$A47),'C-E'!$A$13:$J$1001,G$39,FALSE),\"\")","v":""}]
[7,{"$f":"IFERROR(VLOOKUP(SMALL('C-E'!$A$13:$A$1001,RC_EXAM!$A48),'C-E'!$A$13:$J$1001,B$39,FALSE),\"\")","v":""},{"$f":"IFERROR(VLOOKUP(SMALL('C-E'!$A$13:$A$1001,RC_EXAM!$A48),'C-E'!$A$13:$J$1001,C$39,FALSE),\"\")","v":""},{"$f":"IFERROR(VLOOKUP(SMALL('C-E'!$A$13:$A$1001,RC_EXAM!$A48),'C-E'!$A$13:$J$1001,D$39,FALSE),\"\")","v":""},{"$f":"IFERROR(VLOOKUP(SMALL('C-E'!$A$13:$A$1001,RC_EXAM!$A48),'C-E'!$A$13:$J$1001,E$39,FALSE),\"\")","v":""},null,{"$f":"IFERROR(VLOOKUP(SMALL('C-E'!$A$13:$A$1001,RC_EXAM!$A48),'C-E'!$A$13:$J$1001,G$39,FALSE),\"\")","v":""}]
[8,{"$f":"IFERROR(VLOOKUP(SMALL('C-E'!$A$13:$A$1001,RC_EXAM!$A49),'C-E'!$A$13:$J$1001,B$39,FALSE),\"\")","v":""},{"$f":"IFERROR(VLOOKUP(SMALL('C-E'!$A$13:$A$1001,RC_EXAM!$A49),'C-E'!$A$13:$J$1001,C$39,FALSE),\"\")","v":""},{"$f":"IFERROR(VLOOKUP(SMALL('C-E'!$A$13:$A$1001,RC_EXAM!$A49),'C-E'!$A$13:$J$1001,D$39,FALSE),\"\")","v":""},{"$f":"IFERROR(VLOOKUP(SMALL('C-E'!$A$13:$A$1001,RC_EXAM!$A49),'C-E'!$A$13:$J$1001,E$39,FALSE),\"\")","v":""},null,{"$f":"IFERROR(VLOOKUP(SMALL('C-E'!$A$13:$A$1001,RC_EXAM!$A49),'C-E'!$A$13:$J$1001,G$39,FALSE),\"\")","v":""}]
[9,{"$f":"IFERROR(VLOOKUP(SMALL('C-E'!$A$13:$A$1001,RC_EXAM!$A50),'C-E'!$A$13:$J$1001,B$39,FALSE),\"\")","v":""},{"$f":"IFERROR(VLOOKUP(SMALL('C-E'!$A$13:$A$1001,RC_EXAM!$A50),'C-E'!$A$13:$J$1001,C$39,FALSE),\"\")","v":""},{"$f":"IFERROR(VLOOKUP(SMALL('C-E'!$A$13:$A$1001,RC_EXAM!$A50),'C-E'!$A$13:$J$1001,D$39,FALSE),\"\")","v":""},{"$f":"IFERROR(VLOOKUP(SMALL('C-E'!$A$13:$A$1001,RC_EXAM!$A50),'C-E'!$A$13:$J$1001,E$39,FALSE),\"\")","v":""},null,{"$f":"IFERROR(VLOOKUP(SMALL('C-E'!$A$13:$A$1001,RC_EXAM!$A50),'C-E'!$A$13:$J$1001,G$39,FALSE),\"\")","v":""}]
[10,{"$f":"IFERROR(VLOOKUP(SMALL('C-E'!$A$13:$A$1001,RC_EXAM!$A51),'C-E'!$A$13:$J$1001,B$39,FALSE),\"\")","v":""},{"$f":"IFERROR(VLOOKUP(SMALL('C-E'!$A$13:$A$1001,RC_EXAM!$A51),'C-E'!$A$13:$J$1001,C$39,FALSE),\"\")","v":""},{"$f":"IFERROR(VLOOKUP(SMALL('C-E'!$A$13:$A$1001,RC_EXAM!$A51),'C-E'!$A$13:$J$1001,D$39,FALSE),\"\")","v":""},{"$f":"IFERROR(VLOOKUP(SMALL('C-E'!$A$13:$A$1001,RC_EXAM!$A51),'C-E'!$A$13:$J$1001,E$39,FALSE),\"\")","v":""},null,{"$f":"IFERROR(VLOOKUP(SMALL('C-E'!$A$13:$A$1001,RC_EXAM!$A51),'C-E'!$A$13:$J$1001,G$39,FALSE),\"\")","v":""}]
[11,{"$f":"IFERROR(VLOOKUP(SMALL('C-E'!$A$13:$A$1001,RC_EXAM!$A52),'C-E'!$A$13:$J$1001,B$39,FALSE),\"\")","v":""},{"$f":"IFERROR(VLOOKUP(SMALL('C-E'!$A$13:$A$1001,RC_EXAM!$A52),'C-E'!$A$13:$J$1001,C$39,FALSE),\"\")","v":""},{"$f":"IFERROR(VLOOKUP(SMALL('C-E'!$A$13:$A$1001,RC_EXAM!$A52),'C-E'!$A$13:$J$1001,D$39,FALSE),\"\")","v":""},{"$f":"IFERROR(VLOOKUP(SMALL('C-E'!$A$13:$A$1001,RC_EXAM!$A52),'C-E'!$A$13:$J$1001,E$39,FALSE),\"\")","v":""},null,{"$f":"IFERROR(VLOOKUP(SMALL('C-E'!$A$13:$A$1001,RC_EXAM!$A52),'C-E'!$A$13:$J$1001,G$39,FALSE),\"\")","v":""}]
[12,{"$f":"IFERROR(VLOOKUP(SMALL('C-E'!$A$13:$A$1001,RC_EXAM!$A53),'C-E'!$A$13:$J$1001,B$39,FALSE),\"\")","v":""},{"$f":"IFERROR(VLOOKUP(SMALL('C-E'!$A$13:$A$1001,RC_EXAM!$A53),'C-E'!$A$13:$J$1001,C$39,FALSE),\"\")","v":""},{"$f":"IFERROR(VLOOKUP(SMALL('C-E'!$A$13:$A$1001,RC_EXAM!$A53),'C-E'!$A$13:$J$1001,D$39,FALSE),\"\")","v":""},{"$f":"IFERROR(VLOOKUP(SMALL('C-E'!$A$13:$A$1001,RC_EXAM!$A53),'C-E'!$A$13:$J$1001,E$39,FALSE),\"\")","v":""},null,{"$f":"IFERROR(VLOOKUP(SMALL('C-E'!$A$13:$A$1001,RC_EXAM!$A53),'C-E'!$A$13:$J$1001,G$39,FALSE),\"\")","v":""}]
[13,{"$f":"IFERROR(VLOOKUP(SMALL('C-E'!$A$13:$A$1001,RC_EXAM!$A54),'C-E'!$A$13:$J$1001,B$39,FALSE),\"\")","v":""},{"$f":"IFERROR(VLOOKUP(SMALL('C-E'!$A$13:$A$1001,RC_EXAM!$A54),'C-E'!$A$13:$J$1001,C$39,FALSE),\"\")","v":""},{"$f":"IFERROR(VLOOKUP(SMALL('C-E'!$A$13:$A$1001,RC_EXAM!$A54),'C-E'!$A$13:$J$1001,D$39,FALSE),\"\")","v":""},{"$f":"IFERROR(VLOOKUP(SMALL('C-E'!$A$13:$A$1001,RC_EXAM!$A54),'C-E'!$A$13:$J$1001,E$39,FALSE),\"\")","v":""},null,{"$f":"IFERROR(VLOOKUP(SMALL('C-E'!$A$13:$A$1001,RC_EXAM!$A54),'C-E'!$A$13:$J$1001,G$39,FALSE),\"\")","v":""}]
[14,{"$f":"IFERROR(VLOOKUP(SMALL('C-E'!$A$13:$A$1001,RC_EXAM!$A55),'C-E'!$A$13:$J$1001,B$39,FALSE),\"\")","v":""},{"$f":"IFERROR(VLOOKUP(SMALL('C-E'!$A$13:$A$1001,RC_EXAM!$A55),'C-E'!$A$13:$J$1001,C$39,FALSE),\"\")","v":""},{"$f":"IFERROR(VLOOKUP(SMALL('C-E'!$A$13:$A$1001,RC_EXAM!$A55),'C-E'!$A$13:$J$1001,D$39,FALSE),\"\")","v":""},{"$f":"IFERROR(VLOOKUP(SMALL('C-E'!$A$13:$A$1001,RC_EXAM!$A55),'C-E'!$A$13:$J$1001,E$39,FALSE),\"\")","v":""},null,{"$f":"IFERROR(VLOOKUP(SMALL('C-E'!$A$13:$A$1001,RC_EXAM!$A55),'C-E'!$A$13:$J$1001,G$39,FALSE),\"\")","v":""}]
[15,{"$f":"IFERROR(VLOOKUP(SMALL('C-E'!$A$13:$A$1001,RC_EXAM!$A56),'C-E'!$A$13:$J$1001,B$39,FALSE),\"\")","v":""},{"$f":"IFERROR(VLOOKUP(SMALL('C-E'!$A$13:$A$1001,RC_EXAM!$A56),'C-E'!$A$13:$J$1001,C$39,FALSE),\"\")","v":""},{"$f":"IFERROR(VLOOKUP(SMALL('C-E'!$A$13:$A$1001,RC_EXAM!$A56),'C-E'!$A$13:$J$1001,D$39,FALSE),\"\")","v":""},{"$f":"IFERROR(VLOOKUP(SMALL('C-E'!$A$13:$A$1001,RC_EXAM!$A56),'C-E'!$A$13:$J$1001,E$39,FALSE),\"\")","v":""},null,{"$f":"IFERROR(VLOOKUP(SMALL('C-E'!$A$13:$A$1001,RC_EXAM!$A56),'C-E'!$A$13:$J$1001,G$39,FALSE),\"\")","v":""}]
[16,{"$f":"IFERROR(VLOOKUP(SMALL('C-E'!$A$13:$A$1001,RC_EXAM!$A57),'C-E'!$A$13:$J$1001,B$39,FALSE),\"\")","v":""},{"$f":"IFERROR(VLOOKUP(SMALL('C-E'!$A$13:$A$1001,RC_EXAM!$A57),'C-E'!$A$13:$J$1001,C$39,FALSE),\"\")","v":""},{"$f":"IFERROR(VLOOKUP(SMALL('C-E'!$A$13:$A$1001,RC_EXAM!$A57),'C-E'!$A$13:$J$1001,D$39,FALSE),\"\")","v":""},{"$f":"IFERROR(VLOOKUP(SMALL('C-E'!$A$13:$A$1001,RC_EXAM!$A57),'C-E'!$A$13:$J$1001,E$39,FALSE),\"\")","v":""},null,{"$f":"IFERROR(VLOOKUP(SMALL('C-E'!$A$13:$A$1001,RC_EXAM!$A57),'C-E'!$A$13:$J$1001,G$39,FALSE),\"\")","v":""}]
[17,{"$f":"IFERROR(VLOOKUP(SMALL('C-E'!$A$13:$A$1001,RC_EXAM!$A58),'C-E'!$A$13:$J$1001,B$39,FALSE),\"\")","v":""},{"$f":"IFERROR(VLOOKUP(SMALL('C-E'!$A$13:$A$1001,RC_EXAM!$A58),'C-E'!$A$13:$J$1001,C$39,FALSE),\"\")","v":""},{"$f":"IFERROR(VLOOKUP(SMALL('C-E'!$A$13:$A$1001,RC_EXAM!$A58),'C-E'!$A$13:$J$1001,D$39,FALSE),\"\")","v":""},{"$f":"IFERROR(VLOOKUP(SMALL('C-E'!$A$13:$A$1001,RC_EXAM!$A58),'C-E'!$A$13:$J$1001,E$39,FALSE),\"\")","v":""},null,{"$f":"IFERROR(VLOOKUP(SMALL('C-E'!$A$13:$A$1001,RC_EXAM!$A58),'C-E'!$A$13:$J$1001,G$39,FALSE),\"\")","v":""}]
[18,{"$f":"IFERROR(VLOOKUP(SMALL('C-E'!$A$13:$A$1001,RC_EXAM!$A59),'C-E'!$A$13:$J$1001,B$39,FALSE),\"\")","v":""},{"$f":"IFERROR(VLOOKUP(SMALL('C-E'!$A$13:$A$1001,RC_EXAM!$A59),'C-E'!$A$13:$J$1001,C$39,FALSE),\"\")","v":""},{"$f":"IFERROR(VLOOKUP(SMALL('C-E'!$A$13:$A$1001,RC_EXAM!$A59),'C-E'!$A$13:$J$1001,D$39,FALSE),\"\")","v":""},{"$f":"IFERROR(VLOOKUP(SMALL('C-E'!$A$13:$A$1001,RC_EXAM!$A59),'C-E'!$A$13:$J$1001,E$39,FALSE),\"\")","v":""},null,{"$f":"IFERROR(VLOOKUP(SMALL('C-E'!$A$13:$A$1001,RC_EXAM!$A59),'C-E'!$A$13:$J$1001,G$39,FALSE),\"\")","v":""}]
[19,{"$f":"IFERROR(VLOOKUP(SMALL('C-E'!$A$13:$A$1001,RC_EXAM!$A60),'C-E'!$A$13:$J$1001,B$39,FALSE),\"\")","v":""},{"$f":"IFERROR(VLOOKUP(SMALL('C-E'!$A$13:$A$1001,RC_EXAM!$A60),'C-E'!$A$13:$J$1001,C$39,FALSE),\"\")","v":""},{"$f":"IFERROR(VLOOKUP(SMALL('C-E'!$A$13:$A$1001,RC_EXAM!$A60),'C-E'!$A$13:$J$1001,D$39,FALSE),\"\")","v":""},{"$f":"IFERROR(VLOOKUP(SMALL('C-E'!$A$13:$A$1001,RC_EXAM!$A60),'C-E'!$A$13:$J$1001,E$39,FALSE),\"\")","v":""},null,{"$f":"IFERROR(VLOOKUP(SMALL('C-E'!$A$13:$A$1001,RC_EXAM!$A60),'C-E'!$A$13:$J$1001,G$39,FALSE),\"\")","v":""}]
[20,{"$f":"IFERROR(VLOOKUP(SMALL('C-E'!$A$13:$A$1001,RC_EXAM!$A61),'C-E'!$A$13:$J$1001,B$39,FALSE),\"\")","v":""},{"$f":"IFERROR(VLOOKUP(SMALL('C-E'!$A$13:$A$1001,RC_EXAM!$A61),'C-E'!$A$13:$J$1001,C$39,FALSE),\"\")","v":""},{"$f":"IFERROR(VLOOKUP(SMALL('C-E'!$A$13:$A$1001,RC_EXAM!$A61),'C-E'!$A$13:$J$1001,D$39,FALSE),\"\")","v":""},{"$f":"IFERROR(VLOOKUP(SMALL('C-E'!$A$13:$A$1001,RC_EXAM!$A61),'C-E'!$A$13:$J$1001,E$39,FALSE),\"\")","v":""},null,{"$f":"IFERROR(VLOOKUP(SMALL('C-E'!$A$13:$A$1001,RC_EXAM!$A61),'C-E'!$A$13:$J$1001,G$39,FALSE),\"\")","v":""}]
[21,{"$f":"IFERROR(VLOOKUP(SMALL('C-E'!$A$13:$A$1001,RC_EXAM!$A62),'C-E'!$A$13:$J$1001,B$39,FALSE),\"\")","v":""},{"$f":"IFERROR(VLOOKUP(SMALL('C-E'!$A$13:$A$1001,RC_EXAM!$A62),'C-E'!$A$13:$J$1001,C$39,FALSE),\"\")","v":""},{"$f":"IFERROR(VLOOKUP(SMALL('C-E'!$A$13:$A$1001,RC_EXAM!$A62),'C-E'!$A$13:$J$1001,D$39,FALSE),\"\")","v":""},{"$f":"IFERROR(VLOOKUP(SMALL('C-E'!$A$13:$A$1001,RC_EXAM!$A62),'C-E'!$A$13:$J$1001,E$39,FALSE),\"\")","v":""},null,{"$f":"IFERROR(VLOOKUP(SMALL('C-E'!$A$13:$A$1001,RC_EXAM!$A62),'C-E'!$A$13:$J$1001,G$39,FALSE),\"\")","v":""}]
[22,{"$f":"IFERROR(VLOOKUP(SMALL('C-E'!$A$13:$A$1001,RC_EXAM!$A63),'C-E'!$A$13:$J$1001,B$39,FALSE),\"\")","v":""},{"$f":"IFERROR(VLOOKUP(SMALL('C-E'!$A$13:$A$1001,RC_EXAM!$A63),'C-E'!$A$13:$J$1001,C$39,FALSE),\"\")","v":""},{"$f":"IFERROR(VLOOKUP(SMALL('C-E'!$A$13:$A$1001,RC_EXAM!$A63),'C-E'!$A$13:$J$1001,D$39,FALSE),\"\")","v":""},{"$f":"IFERROR(VLOOKUP(SMALL('C-E'!$A$13:$A$1001,RC_EXAM!$A63),'C-E'!$A$13:$J$1001,E$39,FALSE),\"\")","v":""},null,{"$f":"IFERROR(VLOOKUP(SMALL('C-E'!$A$13:$A$1001,RC_EXAM!$A63),'C-E'!$A$13:$J$1001,G$39,FALSE),\"\")","v":""}]
[23,{"$f":"IFERROR(VLOOKUP(SMALL('C-E'!$A$13:$A$1001,RC_EXAM!$A64),'C-E'!$A$13:$J$1001,B$39,FALSE),\"\")","v":""},{"$f":"IFERROR(VLOOKUP(SMALL('C-E'!$A$13:$A$1001,RC_EXAM!$A64),'C-E'!$A$13:$J$1001,C$39,FALSE),\"\")","v":""},{"$f":"IFERROR(VLOOKUP(SMALL('C-E'!$A$13:$A$1001,RC_EXAM!$A64),'C-E'!$A$13:$J$1001,D$39,FALSE),\"\")","v":""},{"$f":"IFERROR(VLOOKUP(SMALL('C-E'!$A$13:$A$1001,RC_EXAM!$A64),'C-E'!$A$13:$J$1001,E$39,FALSE),\"\")","v":""},null,{"$f":"IFERROR(VLOOKUP(SMALL('C-E'!$A$13:$A$1001,RC_EXAM!$A64),'C-E'!$A$13:$J$1001,G$39,FALSE),\"\")","v":""}]
[24,{"$f":"IFERROR(VLOOKUP(SMALL('C-E'!$A$13:$A$1001,RC_EXAM!$A65),'C-E'!$A$13:$J$1001,B$39,FALSE),\"\")","v":""},{"$f":"IFERROR(VLOOKUP(SMALL('C-E'!$A$13:$A$1001,RC_EXAM!$A65),'C-E'!$A$13:$J$1001,C$39,FALSE),\"\")","v":""},{"$f":"IFERROR(VLOOKUP(SMALL('C-E'!$A$13:$A$1001,RC_EXAM!$A65),'C-E'!$A$13:$J$1001,D$39,FALSE),\"\")","v":""},{"$f":"IFERROR(VLOOKUP(SMALL('C-E'!$A$13:$A$1001,RC_EXAM!$A65),'C-E'!$A$13:$J$1001,E$39,FALSE),\"\")","v":""},null,{"$f":"IFERROR(VLOOKUP(SMALL('C-E'!$A$13:$A$1001,RC_EXAM!$A65),'C-E'!$A$13:$J$1001,G$39,FALSE),\"\")","v":""}]
[25,{"$f":"IFERROR(VLOOKUP(SMALL('C-E'!$A$13:$A$1001,RC_EXAM!$A66),'C-E'!$A$13:$J$1001,B$39,FALSE),\"\")","v":""},{"$f":"IFERROR(VLOOKUP(SMALL('C-E'!$A$13:$A$1001,RC_EXAM!$A66),'C-E'!$A$13:$J$1001,C$39,FALSE),\"\")","v":""},{"$f":"IFERROR(VLOOKUP(SMALL('C-E'!$A$13:$A$1001,RC_EXAM!$A66),'C-E'!$A$13:$J$1001,D$39,FALSE),\"\")","v":""},{"$f":"IFERROR(VLOOKUP(SMALL('C-E'!$A$13:$A$1001,RC_EXAM!$A66),'C-E'!$A$13:$J$1001,E$39,FALSE),\"\")","v":""},null,{"$f":"IFERROR(VLOOKUP(SMALL('C-E'!$A$13:$A$1001,RC_EXAM!$A66),'C-E'!$A$13:$J$1001,G$39,FALSE),\"\")","v":""}]
[26,{"$f":"IFERROR(VLOOKUP(SMALL('C-E'!$A$13:$A$1001,RC_EXAM!$A67),'C-E'!$A$13:$J$1001,B$39,FALSE),\"\")","v":""},{"$f":"IFERROR(VLOOKUP(SMALL('C-E'!$A$13:$A$1001,RC_EXAM!$A67),'C-E'!$A$13:$J$1001,C$39,FALSE),\"\")","v":""},{"$f":"IFERROR(VLOOKUP(SMALL('C-E'!$A$13:$A$1001,RC_EXAM!$A67),'C-E'!$A$13:$J$1001,D$39,FALSE),\"\")","v":""},{"$f":"IFERROR(VLOOKUP(SMALL('C-E'!$A$13:$A$1001,RC_EXAM!$A67),'C-E'!$A$13:$J$1001,E$39,FALSE),\"\")","v":""},null,{"$f":"IFERROR(VLOOKUP(SMALL('C-E'!$A$13:$A$1001,RC_EXAM!$A67),'C-E'!$A$13:$J$1001,G$39,FALSE),\"\")","v":""}]
[27,{"$f":"IFERROR(VLOOKUP(SMALL('C-E'!$A$13:$A$1001,RC_EXAM!$A68),'C-E'!$A$13:$J$1001,B$39,FALSE),\"\")","v":""},{"$f":"IFERROR(VLOOKUP(SMALL('C-E'!$A$13:$A$1001,RC_EXAM!$A68),'C-E'!$A$13:$J$1001,C$39,FALSE),\"\")","v":""},{"$f":"IFERROR(VLOOKUP(SMALL('C-E'!$A$13:$A$1001,RC_EXAM!$A68),'C-E'!$A$13:$J$1001,D$39,FALSE),\"\")","v":""},{"$f":"IFERROR(VLOOKUP(SMALL('C-E'!$A$13:$A$1001,RC_EXAM!$A68),'C-E'!$A$13:$J$1001,E$39,FALSE),\"\")","v":""},null,{"$f":"IFERROR(VLOOKUP(SMALL('C-E'!$A$13:$A$1001,RC_EXAM!$A68),'C-E'!$A$13:$J$1001,G$39,FALSE),\"\")","v":""}]
[28,{"$f":"IFERROR(VLOOKUP(SMALL('C-E'!$A$13:$A$1001,RC_EXAM!$A69),'C-E'!$A$13:$J$1001,B$39,FALSE),\"\")","v":""},{"$f":"IFERROR(VLOOKUP(SMALL('C-E'!$A$13:$A$1001,RC_EXAM!$A69),'C-E'!$A$13:$J$1001,C$39,FALSE),\"\")","v":""},{"$f":"IFERROR(VLOOKUP(SMALL('C-E'!$A$13:$A$1001,RC_EXAM!$A69),'C-E'!$A$13:$J$1001,D$39,FALSE),\"\")","v":""},{"$f":"IFERROR(VLOOKUP(SMALL('C-E'!$A$13:$A$1001,RC_EXAM!$A69),'C-E'!$A$13:$J$1001,E$39,FALSE),\"\")","v":""},null,{"$f":"IFERROR(VLOOKUP(SMALL('C-E'!$A$13:$A$1001,RC_EXAM!$A69),'C-E'!$A$13:$J$1001,G$39,FALSE),\"\")","v":""}]
[29,{"$f":"IFERROR(VLOOKUP(SMALL('C-E'!$A$13:$A$1001,RC_EXAM!$A70),'C-E'!$A$13:$J$1001,B$39,FALSE),\"\")","v":""},{"$f":"IFERROR(VLOOKUP(SMALL('C-E'!$A$13:$A$1001,RC_EXAM!$A70),'C-E'!$A$13:$J$1001,C$39,FALSE),\"\")","v":""},{"$f":"IFERROR(VLOOKUP(SMALL('C-E'!$A$13:$A$1001,RC_EXAM!$A70),'C-E'!$A$13:$J$1001,D$39,FALSE),\"\")","v":""},{"$f":"IFERROR(VLOOKUP(SMALL('C-E'!$A$13:$A$1001,RC_EXAM!$A70),'C-E'!$A$13:$J$1001,E$39,FALSE),\"\")","v":""},null,{"$f":"IFERROR(VLOOKUP(SMALL('C-E'!$A$13:$A$1001,RC_EXAM!$A70),'C-E'!$A$13:$J$1001,G$39,FALSE),\"\")","v":""}]
[30,{"$f":"IFERROR(VLOOKUP(SMALL('C-E'!$A$13:$A$1001,RC_EXAM!$A71),'C-E'!$A$13:$J$1001,B$39,FALSE),\"\")","v":""},{"$f":"IFERROR(VLOOKUP(SMALL('C-E'!$A$13:$A$1001,RC_EXAM!$A71),'C-E'!$A$13:$J$1001,C$39,FALSE),\"\")","v":""},{"$f":"IFERROR(VLOOKUP(SMALL('C-E'!$A$13:$A$1001,RC_EXAM!$A71),'C-E'!$A$13:$J$1001,D$39,FALSE),\"\")","v":""},{"$f":"IFERROR(VLOOKUP(SMALL('C-E'!$A$13:$A$1001,RC_EXAM!$A71),'C-E'!$A$13:$J$1001,E$39,FALSE),\"\")","v":""},null,{"$f":"IFERROR(VLOOKUP(SMALL('C-E'!$A$13:$A$1001,RC_EXAM!$A71),'C-E'!$A$13:$J$1001,G$39,FALSE),\"\")","v":""}]
[31,{"$f":"IFERROR(VLOOKUP(SMALL('C-E'!$A$13:$A$1001,RC_EXAM!$A72),'C-E'!$A$13:$J$1001,B$39,FALSE),\"\")","v":""},{"$f":"IFERROR(VLOOKUP(SMALL('C-E'!$A$13:$A$1001,RC_EXAM!$A72),'C-E'!$A$13:$J$1001,C$39,FALSE),\"\")","v":""},{"$f":"IFERROR(VLOOKUP(SMALL('C-E'!$A$13:$A$1001,RC_EXAM!$A72),'C-E'!$A$13:$J$1001,D$39,FALSE),\"\")","v":""},{"$f":"IFERROR(VLOOKUP(SMALL('C-E'!$A$13:$A$1001,RC_EXAM!$A72),'C-E'!$A$13:$J$1001,E$39,FALSE),\"\")","v":""},null,{"$f":"IFERROR(VLOOKUP(SMALL('C-E'!$A$13:$A$1001,RC_EXAM!$A72),'C-E'!$A$13:$J$1001,G$39,FALSE),\"\")","v":""}]
[32,{"$f":"IFERROR(VLOOKUP(SMALL('C-E'!$A$13:$A$1001,RC_EXAM!$A73),'C-E'!$A$13:$J$1001,B$39,FALSE),\"\")","v":""},{"$f":"IFERROR(VLOOKUP(SMALL('C-E'!$A$13:$A$1001,RC_EXAM!$A73),'C-E'!$A$13:$J$1001,C$39,FALSE),\"\")","v":""},{"$f":"IFERROR(VLOOKUP(SMALL('C-E'!$A$13:$A$1001,RC_EXAM!$A73),'C-E'!$A$13:$J$1001,D$39,FALSE),\"\")","v":""},{"$f":"IFERROR(VLOOKUP(SMALL('C-E'!$A$13:$A$1001,RC_EXAM!$A73),'C-E'!$A$13:$J$1001,E$39,FALSE),\"\")","v":""},null,{"$f":"IFERROR(VLOOKUP(SMALL('C-E'!$A$13:$A$1001,RC_EXAM!$A73),'C-E'!$A$13:$J$1001,G$39,FALSE),\"\")","v":""}]
[33,{"$f":"IFERROR(VLOOKUP(SMALL('C-E'!$A$13:$A$1001,RC_EXAM!$A74),'C-E'!$A$13:$J$1001,B$39,FALSE),\"\")","v":""},{"$f":"IFERROR(VLOOKUP(SMALL('C-E'!$A$13:$A$1001,RC_EXAM!$A74),'C-E'!$A$13:$J$1001,C$39,FALSE),\"\")","v":""},{"$f":"IFERROR(VLOOKUP(SMALL('C-E'!$A$13:$A$1001,RC_EXAM!$A74),'C-E'!$A$13:$J$1001,D$39,FALSE),\"\")","v":""},{"$f":"IFERROR(VLOOKUP(SMALL('C-E'!$A$13:$A$1001,RC_EXAM!$A74),'C-E'!$A$13:$J$1001,E$39,FALSE),\"\")","v":""},null,{"$f":"IFERROR(VLOOKUP(SMALL('C-E'!$A$13:$A$1001,RC_EXAM!$A74),'C-E'!$A$13:$J$1001,G$39,FALSE),\"\")","v":""}]
[34,{"$f":"IFERROR(VLOOKUP(SMALL('C-E'!$A$13:$A$1001,RC_EXAM!$A75),'C-E'!$A$13:$J$1001,B$39,FALSE),\"\")","v":""},{"$f":"IFERROR(VLOOKUP(SMALL('C-E'!$A$13:$A$1001,RC_EXAM!$A75),'C-E'!$A$13:$J$1001,C$39,FALSE),\"\")","v":""},{"$f":"IFERROR(VLOOKUP(SMALL('C-E'!$A$13:$A$1001,RC_EXAM!$A75),'C-E'!$A$13:$J$1001,D$39,FALSE),\"\")","v":""},{"$f":"IFERROR(VLOOKUP(SMALL('C-E'!$A$13:$A$1001,RC_EXAM!$A75),'C-E'!$A$13:$J$1001,E$39,FALSE),\"\")","v":""},null,{"$f":"IFERROR(VLOOKUP(SMALL('C-E'!$A$13:$A$1001,RC_EXAM!$A75),'C-E'!$A$13:$J$1001,G$39,FALSE),\"\")","v":""}]
[35,{"$f":"IFERROR(VLOOKUP(SMALL('C-E'!$A$13:$A$1001,RC_EXAM!$A76),'C-E'!$A$13:$J$1001,B$39,FALSE),\"\")","v":""},{"$f":"IFERROR(VLOOKUP(SMALL('C-E'!$A$13:$A$1001,RC_EXAM!$A76),'C-E'!$A$13:$J$1001,C$39,FALSE),\"\")","v":""},{"$f":"IFERROR(VLOOKUP(SMALL('C-E'!$A$13:$A$1001,RC_EXAM!$A76),'C-E'!$A$13:$J$1001,D$39,FALSE),\"\")","v":""},{"$f":"IFERROR(VLOOKUP(SMALL('C-E'!$A$13:$A$1001,RC_EXAM!$A76),'C-E'!$A$13:$J$1001,E$39,FALSE),\"\")","v":""},null,{"$f":"IFERROR(VLOOKUP(SMALL('C-E'!$A$13:$A$1001,RC_EXAM!$A76),'C-E'!$A$13:$J$1001,G$39,FALSE),\"\")","v":""}]
[36,{"$f":"IFERROR(VLOOKUP(SMALL('C-E'!$A$13:$A$1001,RC_EXAM!$A77),'C-E'!$A$13:$J$1001,B$39,FALSE),\"\")","v":""},{"$f":"IFERROR(VLOOKUP(SMALL('C-E'!$A$13:$A$1001,RC_EXAM!$A77),'C-E'!$A$13:$J$1001,C$39,FALSE),\"\")","v":""},{"$f":"IFERROR(VLOOKUP(SMALL('C-E'!$A$13:$A$1001,RC_EXAM!$A77),'C-E'!$A$13:$J$1001,D$39,FALSE),\"\")","v":""},{"$f":"IFERROR(VLOOKUP(SMALL('C-E'!$A$13:$A$1001,RC_EXAM!$A77),'C-E'!$A$13:$J$1001,E$39,FALSE),\"\")","v":""},null,{"$f":"IFERROR(VLOOKUP(SMALL('C-E'!$A$13:$A$1001,RC_EXAM!$A77),'C-E'!$A$13:$J$1001,G$39,FALSE),\"\")","v":""}]
[37,{"$f":"IFERROR(VLOOKUP(SMALL('C-E'!$A$13:$A$1001,RC_EXAM!$A78),'C-E'!$A$13:$J$1001,B$39,FALSE),\"\")","v":""},{"$f":"IFERROR(VLOOKUP(SMALL('C-E'!$A$13:$A$1001,RC_EXAM!$A78),'C-E'!$A$13:$J$1001,C$39,FALSE),\"\")","v":""},{"$f":"IFERROR(VLOOKUP(SMALL('C-E'!$A$13:$A$1001,RC_EXAM!$A78),'C-E'!$A$13:$J$1001,D$39,FALSE),\"\")","v":""},{"$f":"IFERROR(VLOOKUP(SMALL('C-E'!$A$13:$A$1001,RC_EXAM!$A78),'C-E'!$A$13:$J$1001,E$39,FALSE),\"\")","v":""},null,{"$f":"IFERROR(VLOOKUP(SMALL('C-E'!$A$13:$A$1001,RC_EXAM!$A78),'C-E'!$A$13:$J$1001,G$39,FALSE),\"\")","v":""}]
[38,{"$f":"IFERROR(VLOOKUP(SMALL('C-E'!$A$13:$A$1001,RC_EXAM!$A79),'C-E'!$A$13:$J$1001,B$39,FALSE),\"\")","v":""},{"$f":"IFERROR(VLOOKUP(SMALL('C-E'!$A$13:$A$1001,RC_EXAM!$A79),'C-E'!$A$13:$J$1001,C$39,FALSE),\"\")","v":""},{"$f":"IFERROR(VLOOKUP(SMALL('C-E'!$A$13:$A$1001,RC_EXAM!$A79),'C-E'!$A$13:$J$1001,D$39,FALSE),\"\")","v":""},{"$f":"IFERROR(VLOOKUP(SMALL('C-E'!$A$13:$A$1001,RC_EXAM!$A79),'C-E'!$A$13:$J$1001,E$39,FALSE),\"\")","v":""},null,{"$f":"IFERROR(VLOOKUP(SMALL('C-E'!$A$13:$A$1001,RC_EXAM!$A79),'C-E'!$A$13:$J$1001,G$39,FALSE),\"\")","v":""}]
[39,{"$f":"IFERROR(VLOOKUP(SMALL('C-E'!$A$13:$A$1001,RC_EXAM!$A80),'C-E'!$A$13:$J$1001,B$39,FALSE),\"\")","v":""},{"$f":"IFERROR(VLOOKUP(SMALL('C-E'!$A$13:$A$1001,RC_EXAM!$A80),'C-E'!$A$13:$J$1001,C$39,FALSE),\"\")","v":""},{"$f":"IFERROR(VLOOKUP(SMALL('C-E'!$A$13:$A$1001,RC_EXAM!$A80),'C-E'!$A$13:$J$1001,D$39,FALSE),\"\")","v":""},{"$f":"IFERROR(VLOOKUP(SMALL('C-E'!$A$13:$A$1001,RC_EXAM!$A80),'C-E'!$A$13:$J$1001,E$39,FALSE),\"\")","v":""},null,{"$f":"IFERROR(VLOOKUP(SMALL('C-E'!$A$13:$A$1001,RC_EXAM!$A80),'C-E'!$A$13:$J$1001,G$39,FALSE),\"\")","v":""}]
[40,{"$f":"IFERROR(VLOOKUP(SMALL('C-E'!$A$13:$A$1001,RC_EXAM!$A81),'C-E'!$A$13:$J$1001,B$39,FALSE),\"\")","v":""},{"$f":"IFERROR(VLOOKUP(SMALL('C-E'!$A$13:$A$1001,RC_EXAM!$A81),'C-E'!$A$13:$J$1001,C$39,FALSE),\"\")","v":""},{"$f":"IFERROR(VLOOKUP(SMALL('C-E'!$A$13:$A$1001,RC_EXAM!$A81),'C-E'!$A$13:$J$1001,D$39,FALSE),\"\")","v":""},{"$f":"IFERROR(VLOOKUP(SMALL('C-E'!$A$13:$A$1001,RC_EXAM!$A81),'C-E'!$A$13:$J$1001,E$39,FALSE),\"\")","v":""},null,{"$f":"IFERROR(VLOOKUP(SMALL('C-E'!$A$13:$A$1001,RC_EXAM!$A81),'C-E'!$A$13:$J$1001,G$39,FALSE),\"\")","v":""}]
[41,{"$f":"IFERROR(VLOOKUP(SMALL('C-E'!$A$13:$A$1001,RC_EXAM!$A82),'C-E'!$A$13:$J$1001,B$39,FALSE),\"\")","v":""},{"$f":"IFERROR(VLOOKUP(SMALL('C-E'!$A$13:$A$1001,RC_EXAM!$A82),'C-E'!$A$13:$J$1001,C$39,FALSE),\"\")","v":""},{"$f":"IFERROR(VLOOKUP(SMALL('C-E'!$A$13:$A$1001,RC_EXAM!$A82),'C-E'!$A$13:$J$1001,D$39,FALSE),\"\")","v":""},{"$f":"IFERROR(VLOOKUP(SMALL('C-E'!$A$13:$A$1001,RC_EXAM!$A82),'C-E'!$A$13:$J$1001,E$39,FALSE),\"\")","v":""},null,{"$f":"IFERROR(VLOOKUP(SMALL('C-E'!$A$13:$A$1001,RC_EXAM!$A82),'C-E'!$A$13:$J$1001,G$39,FALSE),\"\")","v":""}]
[42,{"$f":"IFERROR(VLOOKUP(SMALL('C-E'!$A$13:$A$1001,RC_EXAM!$A83),'C-E'!$A$13:$J$1001,B$39,FALSE),\"\")","v":""},{"$f":"IFERROR(VLOOKUP(SMALL('C-E'!$A$13:$A$1001,RC_EXAM!$A83),'C-E'!$A$13:$J$1001,C$39,FALSE),\"\")","v":""},{"$f":"IFERROR(VLOOKUP(SMALL('C-E'!$A$13:$A$1001,RC_EXAM!$A83),'C-E'!$A$13:$J$1001,D$39,FALSE),\"\")","v":""},{"$f":"IFERROR(VLOOKUP(SMALL('C-E'!$A$13:$A$1001,RC_EXAM!$A83),'C-E'!$A$13:$J$1001,E$39,FALSE),\"\")","v":""},null,{"$f":"IFERROR(VLOOKUP(SMALL('C-E'!$A$13:$A$1001,RC_EXAM!$A83),'C-E'!$A$13:$J$1001,G$39,FALSE),\"\")","v":""}]
[43,{"$f":"IFERROR(VLOOKUP(SMALL('C-E'!$A$13:$A$1001,RC_EXAM!$A84),'C-E'!$A$13:$J$1001,B$39,FALSE),\"\")","v":""},{"$f":"IFERROR(VLOOKUP(SMALL('C-E'!$A$13:$A$1001,RC_EXAM!$A84),'C-E'!$A$13:$J$1001,C$39,FALSE),\"\")","v":""},{"$f":"IFERROR(VLOOKUP(SMALL('C-E'!$A$13:$A$1001,RC_EXAM!$A84),'C-E'!$A$13:$J$1001,D$39,FALSE),\"\")","v":""},{"$f":"IFERROR(VLOOKUP(SMALL('C-E'!$A$13:$A$1001,RC_EXAM!$A84),'C-E'!$A$13:$J$1001,E$39,FALSE),\"\")","v":""},null,{"$f":"IFERROR(VLOOKUP(SMALL('C-E'!$A$13:$A$1001,RC_EXAM!$A84),'C-E'!$A$13:$J$1001,G$39,FALSE),\"\")","v":""}]
[44,{"$f":"IFERROR(VLOOKUP(SMALL('C-E'!$A$13:$A$1001,RC_EXAM!$A85),'C-E'!$A$13:$J$1001,B$39,FALSE),\"\")","v":""},{"$f":"IFERROR(VLOOKUP(SMALL('C-E'!$A$13:$A$1001,RC_EXAM!$A85),'C-E'!$A$13:$J$1001,C$39,FALSE),\"\")","v":""},{"$f":"IFERROR(VLOOKUP(SMALL('C-E'!$A$13:$A$1001,RC_EXAM!$A85),'C-E'!$A$13:$J$1001,D$39,FALSE),\"\")","v":""},{"$f":"IFERROR(VLOOKUP(SMALL('C-E'!$A$13:$A$1001,RC_EXAM!$A85),'C-E'!$A$13:$J$1001,E$39,FALSE),\"\")","v":""},null,{"$f":"IFERROR(VLOOKUP(SMALL('C-E'!$A$13:$A$1001,RC_EXAM!$A85),'C-E'!$A$13:$J$1001,G$39,FALSE),\"\")","v":""}]
[45,{"$f":"IFERROR(VLOOKUP(SMALL('C-E'!$A$13:$A$1001,RC_EXAM!$A86),'C-E'!$A$13:$J$1001,B$39,FALSE),\"\")","v":""},{"$f":"IFERROR(VLOOKUP(SMALL('C-E'!$A$13:$A$1001,RC_EXAM!$A86),'C-E'!$A$13:$J$1001,C$39,FALSE),\"\")","v":""},{"$f":"IFERROR(VLOOKUP(SMALL('C-E'!$A$13:$A$1001,RC_EXAM!$A86),'C-E'!$A$13:$J$1001,D$39,FALSE),\"\")","v":""},{"$f":"IFERROR(VLOOKUP(SMALL('C-E'!$A$13:$A$1001,RC_EXAM!$A86),'C-E'!$A$13:$J$1001,E$39,FALSE),\"\")","v":""},null,{"$f":"IFERROR(VLOOKUP(SMALL('C-E'!$A$13:$A$1001,RC_EXAM!$A86),'C-E'!$A$13:$J$1001,G$39,FALSE),\"\")","v":""}]
[46,{"$f":"IFERROR(VLOOKUP(SMALL('C-E'!$A$13:$A$1001,RC_EXAM!$A87),'C-E'!$A$13:$J$1001,B$39,FALSE),\"\")","v":""},{"$f":"IFERROR(VLOOKUP(SMALL('C-E'!$A$13:$A$1001,RC_EXAM!$A87),'C-E'!$A$13:$J$1001,C$39,FALSE),\"\")","v":""},{"$f":"IFERROR(VLOOKUP(SMALL('C-E'!$A$13:$A$1001,RC_EXAM!$A87),'C-E'!$A$13:$J$1001,D$39,FALSE),\"\")","v":""},{"$f":"IFERROR(VLOOKUP(SMALL('C-E'!$A$13:$A$1001,RC_EXAM!$A87),'C-E'!$A$13:$J$1001,E$39,FALSE),\"\")","v":""},null,{"$f":"IFERROR(VLOOKUP(SMALL('C-E'!$A$13:$A$1001,RC_EXAM!$A87),'C-E'!$A$13:$J$1001,G$39,FALSE),\"\")","v":""}]
[47,{"$f":"IFERROR(VLOOKUP(SMALL('C-E'!$A$13:$A$1001,RC_EXAM!$A88),'C-E'!$A$13:$J$1001,B$39,FALSE),\"\")","v":""},{"$f":"IFERROR(VLOOKUP(SMALL('C-E'!$A$13:$A$1001,RC_EXAM!$A88),'C-E'!$A$13:$J$1001,C$39,FALSE),\"\")","v":""},{"$f":"IFERROR(VLOOKUP(SMALL('C-E'!$A$13:$A$1001,RC_EXAM!$A88),'C-E'!$A$13:$J$1001,D$39,FALSE),\"\")","v":""},{"$f":"IFERROR(VLOOKUP(SMALL('C-E'!$A$13:$A$1001,RC_EXAM!$A88),'C-E'!$A$13:$J$1001,E$39,FALSE),\"\")","v":""},null,{"$f":"IFERROR(VLOOKUP(SMALL('C-E'!$A$13:$A$1001,RC_EXAM!$A88),'C-E'!$A$13:$J$1001,G$39,FALSE),\"\")","v":""}]
[48,{"$f":"IFERROR(VLOOKUP(SMALL('C-E'!$A$13:$A$1001,RC_EXAM!$A89),'C-E'!$A$13:$J$1001,B$39,FALSE),\"\")","v":""},{"$f":"IFERROR(VLOOKUP(SMALL('C-E'!$A$13:$A$1001,RC_EXAM!$A89),'C-E'!$A$13:$J$1001,C$39,FALSE),\"\")","v":""},{"$f":"IFERROR(VLOOKUP(SMALL('C-E'!$A$13:$A$1001,RC_EXAM!$A89),'C-E'!$A$13:$J$1001,D$39,FALSE),\"\")","v":""},{"$f":"IFERROR(VLOOKUP(SMALL('C-E'!$A$13:$A$1001,RC_EXAM!$A89),'C-E'!$A$13:$J$1001,E$39,FALSE),\"\")","v":""},null,{"$f":"IFERROR(VLOOKUP(SMALL('C-E'!$A$13:$A$1001,RC_EXAM!$A89),'C-E'!$A$13:$J$1001,G$39,FALSE),\"\")","v":""}]
[49,{"$f":"IFERROR(VLOOKUP(SMALL('C-E'!$A$13:$A$1001,RC_EXAM!$A90),'C-E'!$A$13:$J$1001,B$39,FALSE),\"\")","v":""},{"$f":"IFERROR(VLOOKUP(SMALL('C-E'!$A$13:$A$1001,RC_EXAM!$A90),'C-E'!$A$13:$J$1001,C$39,FALSE),\"\")","v":""},{"$f":"IFERROR(VLOOKUP(SMALL('C-E'!$A$13:$A$1001,RC_EXAM!$A90),'C-E'!$A$13:$J$1001,D$39,FALSE),\"\")","v":""},{"$f":"IFERROR(VLOOKUP(SMALL('C-E'!$A$13:$A$1001,RC_EXAM!$A90),'C-E'!$A$13:$J$1001,E$39,FALSE),\"\")","v":""},null,{"$f":"IFERROR(VLOOKUP(SMALL('C-E'!$A$13:$A$1001,RC_EXAM!$A90),'C-E'!$A$13:$J$1001,G$39,FALSE),\"\")","v":""}]
[50,{"$f":"IFERROR(VLOOKUP(SMALL('C-E'!$A$13:$A$1001,RC_EXAM!$A91),'C-E'!$A$13:$J$1001,B$39,FALSE),\"\")","v":""},{"$f":"IFERROR(VLOOKUP(SMALL('C-E'!$A$13:$A$1001,RC_EXAM!$A91),'C-E'!$A$13:$J$1001,C$39,FALSE),\"\")","v":""},{"$f":"IFERROR(VLOOKUP(SMALL('C-E'!$A$13:$A$1001,RC_EXAM!$A91),'C-E'!$A$13:$J$1001,D$39,FALSE),\"\")","v":""},{"$f":"IFERROR(VLOOKUP(SMALL('C-E'!$A$13:$A$1001,RC_EXAM!$A91),'C-E'!$A$13:$J$1001,E$39,FALSE),\"\")","v":""},null,{"$f":"IFERROR(VLOOKUP(SMALL('C-E'!$A$13:$A$1001,RC_EXAM!$A91),'C-E'!$A$13:$J$1001,G$39,FALSE),\"\")","v":""}]
[51,{"$f":"IFERROR(VLOOKUP(SMALL('C-E'!$A$13:$A$1001,RC_EXAM!$A92),'C-E'!$A$13:$J$1001,B$39,FALSE),\"\")","v":""},{"$f":"IFERROR(VLOOKUP(SMALL('C-E'!$A$13:$A$1001,RC_EXAM!$A92),'C-E'!$A$13:$J$1001,C$39,FALSE),\"\")","v":""},{"$f":"IFERROR(VLOOKUP(SMALL('C-E'!$A$13:$A$1001,RC_EXAM!$A92),'C-E'!$A$13:$J$1001,D$39,FALSE),\"\")","v":""},{"$f":"IFERROR(VLOOKUP(SMALL('C-E'!$A$13:$A$1001,RC_EXAM!$A92),'C-E'!$A$13:$J$1001,E$39,FALSE),\"\")","v":""},null,{"$f":"IFERROR(VLOOKUP(SMALL('C-E'!$A$13:$A$1001,RC_EXAM!$A92),'C-E'!$A$13:$J$1001,G$39,FALSE),\"\")","v":""}]
[52,{"$f":"IFERROR(VLOOKUP(SMALL('C-E'!$A$13:$A$1001,RC_EXAM!$A93),'C-E'!$A$13:$J$1001,B$39,FALSE),\"\")","v":""},{"$f":"IFERROR(VLOOKUP(SMALL('C-E'!$A$13:$A$1001,RC_EXAM!$A93),'C-E'!$A$13:$J$1001,C$39,FALSE),\"\")","v":""},{"$f":"IFERROR(VLOOKUP(SMALL('C-E'!$A$13:$A$1001,RC_EXAM!$A93),'C-E'!$A$13:$J$1001,D$39,FALSE),\"\")","v":""},{"$f":"IFERROR(VLOOKUP(SMALL('C-E'!$A$13:$A$1001,RC_EXAM!$A93),'C-E'!$A$13:$J$1001,E$39,FALSE),\"\")","v":""},null,{"$f":"IFERROR(VLOOKUP(SMALL('C-E'!$A$13:$A$1001,RC_EXAM!$A93),'C-E'!$A$13:$J$1001,G$39,FALSE),\"\")","v":""}]
[53,{"$f":"IFERROR(VLOOKUP(SMALL('C-E'!$A$13:$A$1001,RC_EXAM!$A94),'C-E'!$A$13:$J$1001,B$39,FALSE),\"\")","v":""},{"$f":"IFERROR(VLOOKUP(SMALL('C-E'!$A$13:$A$1001,RC_EXAM!$A94),'C-E'!$A$13:$J$1001,C$39,FALSE),\"\")","v":""},{"$f":"IFERROR(VLOOKUP(SMALL('C-E'!$A$13:$A$1001,RC_EXAM!$A94),'C-E'!$A$13:$J$1001,D$39,FALSE),\"\")","v":""},{"$f":"IFERROR(VLOOKUP(SMALL('C-E'!$A$13:$A$1001,RC_EXAM!$A94),'C-E'!$A$13:$J$1001,E$39,FALSE),\"\")","v":""},null,{"$f":"IFERROR(VLOOKUP(SMALL('C-E'!$A$13:$A$1001,RC_EXAM!$A94),'C-E'!$A$13:$J$1001,G$39,FALSE),\"\")","v":""}]
[54,{"$f":"IFERROR(VLOOKUP(SMALL('C-E'!$A$13:$A$1001,RC_EXAM!$A95),'C-E'!$A$13:$J$1001,B$39,FALSE),\"\")","v":""},{"$f":"IFERROR(VLOOKUP(SMALL('C-E'!$A$13:$A$1001,RC_EXAM!$A95),'C-E'!$A$13:$J$1001,C$39,FALSE),\"\")","v":""},{"$f":"IFERROR(VLOOKUP(SMALL('C-E'!$A$13:$A$1001,RC_EXAM!$A95),'C-E'!$A$13:$J$1001,D$39,FALSE),\"\")","v":""},{"$f":"IFERROR(VLOOKUP(SMALL('C-E'!$A$13:$A$1001,RC_EXAM!$A95),'C-E'!$A$13:$J$1001,E$39,FALSE),\"\")","v":""},null,{"$f":"IFERROR(VLOOKUP(SMALL('C-E'!$A$13:$A$1001,RC_EXAM!$A95),'C-E'!$A$13:$J$1001,G$39,FALSE),\"\")","v":""}]
[55,{"$f":"IFERROR(VLOOKUP(SMALL('C-E'!$A$13:$A$1001,RC_EXAM!$A96),'C-E'!$A$13:$J$1001,B$39,FALSE),\"\")","v":""},{"$f":"IFERROR(VLOOKUP(SMALL('C-E'!$A$13:$A$1001,RC_EXAM!$A96),'C-E'!$A$13:$J$1001,C$39,FALSE),\"\")","v":""},{"$f":"IFERROR(VLOOKUP(SMALL('C-E'!$A$13:$A$1001,RC_EXAM!$A96),'C-E'!$A$13:$J$1001,D$39,FALSE),\"\")","v":""},{"$f":"IFERROR(VLOOKUP(SMALL('C-E'!$A$13:$A$1001,RC_EXAM!$A96),'C-E'!$A$13:$J$1001,E$39,FALSE),\"\")","v":""},null,{"$f":"IFERROR(VLOOKUP(SMALL('C-E'!$A$13:$A$1001,RC_EXAM!$A96),'C-E'!$A$13:$J$1001,G$39,FALSE),\"\")","v":""}]
[56,{"$f":"IFERROR(VLOOKUP(SMALL('C-E'!$A$13:$A$1001,RC_EXAM!$A97),'C-E'!$A$13:$J$1001,B$39,FALSE),\"\")","v":""},{"$f":"IFERROR(VLOOKUP(SMALL('C-E'!$A$13:$A$1001,RC_EXAM!$A97),'C-E'!$A$13:$J$1001,C$39,FALSE),\"\")","v":""},{"$f":"IFERROR(VLOOKUP(SMALL('C-E'!$A$13:$A$1001,RC_EXAM!$A97),'C-E'!$A$13:$J$1001,D$39,FALSE),\"\")","v":""},{"$f":"IFERROR(VLOOKUP(SMALL('C-E'!$A$13:$A$1001,RC_EXAM!$A97),'C-E'!$A$13:$J$1001,E$39,FALSE),\"\")","v":""},null,{"$f":"IFERROR(VLOOKUP(SMALL('C-E'!$A$13:$A$1001,RC_EXAM!$A97),'C-E'!$A$13:$J$1001,G$39,FALSE),\"\")","v":""}]
[57,{"$f":"IFERROR(VLOOKUP(SMALL('C-E'!$A$13:$A$1001,RC_EXAM!$A98),'C-E'!$A$13:$J$1001,B$39,FALSE),\"\")","v":""},{"$f":"IFERROR(VLOOKUP(SMALL('C-E'!$A$13:$A$1001,RC_EXAM!$A98),'C-E'!$A$13:$J$1001,C$39,FALSE),\"\")","v":""},{"$f":"IFERROR(VLOOKUP(SMALL('C-E'!$A$13:$A$1001,RC_EXAM!$A98),'C-E'!$A$13:$J$1001,D$39,FALSE),\"\")","v":""},{"$f":"IFERROR(VLOOKUP(SMALL('C-E'!$A$13:$A$1001,RC_EXAM!$A98),'C-E'!$A$13:$J$1001,E$39,FALSE),\"\")","v":""},null,{"$f":"IFERROR(VLOOKUP(SMALL('C-E'!$A$13:$A$1001,RC_EXAM!$A98),'C-E'!$A$13:$J$1001,G$39,FALSE),\"\")","v":""}]
[58,{"$f":"IFERROR(VLOOKUP(SMALL('C-E'!$A$13:$A$1001,RC_EXAM!$A99),'C-E'!$A$13:$J$1001,B$39,FALSE),\"\")","v":""},{"$f":"IFERROR(VLOOKUP(SMALL('C-E'!$A$13:$A$1001,RC_EXAM!$A99),'C-E'!$A$13:$J$1001,C$39,FALSE),\"\")","v":""},{"$f":"IFERROR(VLOOKUP(SMALL('C-E'!$A$13:$A$1001,RC_EXAM!$A99),'C-E'!$A$13:$J$1001,D$39,FALSE),\"\")","v":""},{"$f":"IFERROR(VLOOKUP(SMALL('C-E'!$A$13:$A$1001,RC_EXAM!$A99),'C-E'!$A$13:$J$1001,E$39,FALSE),\"\")","v":""},null,{"$f":"IFERROR(VLOOKUP(SMALL('C-E'!$A$13:$A$1001,RC_EXAM!$A99),'C-E'!$A$13:$J$1001,G$39,FALSE),\"\")","v":""}]
[59,{"$f":"IFERROR(VLOOKUP(SMALL('C-E'!$A$13:$A$1001,RC_EXAM!$A100),'C-E'!$A$13:$J$1001,B$39,FALSE),\"\")","v":""},{"$f":"IFERROR(VLOOKUP(SMALL('C-E'!$A$13:$A$1001,RC_EXAM!$A100),'C-E'!$A$13:$J$1001,C$39,FALSE),\"\")","v":""},{"$f":"IFERROR(VLOOKUP(SMALL('C-E'!$A$13:$A$1001,RC_EXAM!$A100),'C-E'!$A$13:$J$1001,D$39,FALSE),\"\")","v":""},{"$f":"IFERROR(VLOOKUP(SMALL('C-E'!$A$13:$A$1001,RC_EXAM!$A100),'C-E'!$A$13:$J$1001,E$39,FALSE),\"\")","v":""},null,{"$f":"IFERROR(VLOOKUP(SMALL('C-E'!$A$13:$A$1001,RC_EXAM!$A100),'C-E'!$A$13:$J$1001,G$39,FALSE),\"\")","v":""}]
[60,{"$f":"IFERROR(VLOOKUP(SMALL('C-E'!$A$13:$A$1001,RC_EXAM!$A101),'C-E'!$A$13:$J$1001,B$39,FALSE),\"\")","v":""},{"$f":"IFERROR(VLOOKUP(SMALL('C-E'!$A$13:$A$1001,RC_EXAM!$A101),'C-E'!$A$13:$J$1001,C$39,FALSE),\"\")","v":""},{"$f":"IFERROR(VLOOKUP(SMALL('C-E'!$A$13:$A$1001,RC_EXAM!$A101),'C-E'!$A$13:$J$1001,D$39,FALSE),\"\")","v":""},{"$f":"IFERROR(VLOOKUP(SMALL('C-E'!$A$13:$A$1001,RC_EXAM!$A101),'C-E'!$A$13:$J$1001,E$39,FALSE),\"\")","v":""},null,{"$f":"IFERROR(VLOOKUP(SMALL('C-E'!$A$13:$A$1001,RC_EXAM!$A101),'C-E'!$A$13:$J$1001,G$39,FALSE),\"\")","v":""}]
[61,{"$f":"IFERROR(VLOOKUP(SMALL('C-E'!$A$13:$A$1001,RC_EXAM!$A102),'C-E'!$A$13:$J$1001,B$39,FALSE),\"\")","v":""},{"$f":"IFERROR(VLOOKUP(SMALL('C-E'!$A$13:$A$1001,RC_EXAM!$A102),'C-E'!$A$13:$J$1001,C$39,FALSE),\"\")","v":""},{"$f":"IFERROR(VLOOKUP(SMALL('C-E'!$A$13:$A$1001,RC_EXAM!$A102),'C-E'!$A$13:$J$1001,D$39,FALSE),\"\")","v":""},{"$f":"IFERROR(VLOOKUP(SMALL('C-E'!$A$13:$A$1001,RC_EXAM!$A102),'C-E'!$A$13:$J$1001,E$39,FALSE),\"\")","v":""},null,{"$f":"IFERROR(VLOOKUP(SMALL('C-E'!$A$13:$A$1001,RC_EXAM!$A102),'C-E'!$A$13:$J$1001,G$39,FALSE),\"\")","v":""}]
[62,{"$f":"IFERROR(VLOOKUP(SMALL('C-E'!$A$13:$A$1001,RC_EXAM!$A103),'C-E'!$A$13:$J$1001,B$39,FALSE),\"\")","v":""},{"$f":"IFERROR(VLOOKUP(SMALL('C-E'!$A$13:$A$1001,RC_EXAM!$A103),'C-E'!$A$13:$J$1001,C$39,FALSE),\"\")","v":""},{"$f":"IFERROR(VLOOKUP(SMALL('C-E'!$A$13:$A$1001,RC_EXAM!$A103),'C-E'!$A$13:$J$1001,D$39,FALSE),\"\")","v":""},{"$f":"IFERROR(VLOOKUP(SMALL('C-E'!$A$13:$A$1001,RC_EXAM!$A103),'C-E'!$A$13:$J$1001,E$39,FALSE),\"\")","v":""},null,{"$f":"IFERROR(VLOOKUP(SMALL('C-E'!$A$13:$A$1001,RC_EXAM!$A103),'C-E'!$A$13:$J$1001,G$39,FALSE),\"\")","v":""}]
[63,{"$f":"IFERROR(VLOOKUP(SMALL('C-E'!$A$13:$A$1001,RC_EXAM!$A104),'C-E'!$A$13:$J$1001,B$39,FALSE),\"\")","v":""},{"$f":"IFERROR(VLOOKUP(SMALL('C-E'!$A$13:$A$1001,RC_EXAM!$A104),'C-E'!$A$13:$J$1001,C$39,FALSE),\"\")","v":""},{"$f":"IFERROR(VLOOKUP(SMALL('C-E'!$A$13:$A$1001,RC_EXAM!$A104),'C-E'!$A$13:$J$1001,D$39,FALSE),\"\")","v":""},{"$f":"IFERROR(VLOOKUP(SMALL('C-E'!$A$13:$A$1001,RC_EXAM!$A104),'C-E'!$A$13:$J$1001,E$39,FALSE),\"\")","v":""},null,{"$f":"IFERROR(VLOOKUP(SMALL('C-E'!$A$13:$A$1001,RC_EXAM!$A104),'C-E'!$A$13:$J$1001,G$39,FALSE),\"\")","v":""}]
[64,{"$f":"IFERROR(VLOOKUP(SMALL('C-E'!$A$13:$A$1001,RC_EXAM!$A105),'C-E'!$A$13:$J$1001,B$39,FALSE),\"\")","v":""},{"$f":"IFERROR(VLOOKUP(SMALL('C-E'!$A$13:$A$1001,RC_EXAM!$A105),'C-E'!$A$13:$J$1001,C$39,FALSE),\"\")","v":""},{"$f":"IFERROR(VLOOKUP(SMALL('C-E'!$A$13:$A$1001,RC_EXAM!$A105),'C-E'!$A$13:$J$1001,D$39,FALSE),\"\")","v":""},{"$f":"IFERROR(VLOOKUP(SMALL('C-E'!$A$13:$A$1001,RC_EXAM!$A105),'C-E'!$A$13:$J$1001,E$39,FALSE),\"\")","v":""},null,{"$f":"IFERROR(VLOOKUP(SMALL('C-E'!$A$13:$A$1001,RC_EXAM!$A105),'C-E'!$A$13:$J$1001,G$39,FALSE),\"\")","v":""}]
[65,{"$f":"IFERROR(VLOOKUP(SMALL('C-E'!$A$13:$A$1001,RC_EXAM!$A106),'C-E'!$A$13:$J$1001,B$39,FALSE),\"\")","v":""},{"$f":"IFERROR(VLOOKUP(SMALL('C-E'!$A$13:$A$1001,RC_EXAM!$A106),'C-E'!$A$13:$J$1001,C$39,FALSE),\"\")","v":""},{"$f":"IFERROR(VLOOKUP(SMALL('C-E'!$A$13:$A$1001,RC_EXAM!$A106),'C-E'!$A$13:$J$1001,D$39,FALSE),\"\")","v":""},{"$f":"IFERROR(VLOOKUP(SMALL('C-E'!$A$13:$A$1001,RC_EXAM!$A106),'C-E'!$A$13:$J$1001,E$39,FALSE),\"\")","v":""},null,{"$f":"IFERROR(VLOOKUP(SMALL('C-E'!$A$13:$A$1001,RC_EXAM!$A106),'C-E'!$A$13:$J$1001,G$39,FALSE),\"\")","v":""}]
[66,{"$f":"IFERROR(VLOOKUP(SMALL('C-E'!$A$13:$A$1001,RC_EXAM!$A107),'C-E'!$A$13:$J$1001,B$39,FALSE),\"\")","v":""},{"$f":"IFERROR(VLOOKUP(SMALL('C-E'!$A$13:$A$1001,RC_EXAM!$A107),'C-E'!$A$13:$J$1001,C$39,FALSE),\"\")","v":""},{"$f":"IFERROR(VLOOKUP(SMALL('C-E'!$A$13:$A$1001,RC_EXAM!$A107),'C-E'!$A$13:$J$1001,D$39,FALSE),\"\")","v":""},{"$f":"IFERROR(VLOOKUP(SMALL('C-E'!$A$13:$A$1001,RC_EXAM!$A107),'C-E'!$A$13:$J$1001,E$39,FALSE),\"\")","v":""},null,{"$f":"IFERROR(VLOOKUP(SMALL('C-E'!$A$13:$A$1001,RC_EXAM!$A107),'C-E'!$A$13:$J$1001,G$39,FALSE),\"\")","v":""}]
[67,{"$f":"IFERROR(VLOOKUP(SMALL('C-E'!$A$13:$A$1001,RC_EXAM!$A108),'C-E'!$A$13:$J$1001,B$39,FALSE),\"\")","v":""},{"$f":"IFERROR(VLOOKUP(SMALL('C-E'!$A$13:$A$1001,RC_EXAM!$A108),'C-E'!$A$13:$J$1001,C$39,FALSE),\"\")","v":""},{"$f":"IFERROR(VLOOKUP(SMALL('C-E'!$A$13:$A$1001,RC_EXAM!$A108),'C-E'!$A$13:$J$1001,D$39,FALSE),\"\")","v":""},{"$f":"IFERROR(VLOOKUP(SMALL('C-E'!$A$13:$A$1001,RC_EXAM!$A108),'C-E'!$A$13:$J$1001,E$39,FALSE),\"\")","v":""},null,{"$f":"IFERROR(VLOOKUP(SMALL('C-E'!$A$13:$A$1001,RC_EXAM!$A108),'C-E'!$A$13:$J$1001,G$39,FALSE),\"\")","v":""}]
[68,{"$f":"IFERROR(VLOOKUP(SMALL('C-E'!$A$13:$A$1001,RC_EXAM!$A109),'C-E'!$A$13:$J$1001,B$39,FALSE),\"\")","v":""},{"$f":"IFERROR(VLOOKUP(SMALL('C-E'!$A$13:$A$1001,RC_EXAM!$A109),'C-E'!$A$13:$J$1001,C$39,FALSE),\"\")","v":""},{"$f":"IFERROR(VLOOKUP(SMALL('C-E'!$A$13:$A$1001,RC_EXAM!$A109),'C-E'!$A$13:$J$1001,D$39,FALSE),\"\")","v":""},{"$f":"IFERROR(VLOOKUP(SMALL('C-E'!$A$13:$A$1001,RC_EXAM!$A109),'C-E'!$A$13:$J$1001,E$39,FALSE),\"\")","v":""},null,{"$f":"IFERROR(VLOOKUP(SMALL('C-E'!$A$13:$A$1001,RC_EXAM!$A109),'C-E'!$A$13:$J$1001,G$39,FALSE),\"\")","v":""}]
[69,{"$f":"IFERROR(VLOOKUP(SMALL('C-E'!$A$13:$A$1001,RC_EXAM!$A110),'C-E'!$A$13:$J$1001,B$39,FALSE),\"\")","v":""},{"$f":"IFERROR(VLOOKUP(SMALL('C-E'!$A$13:$A$1001,RC_EXAM!$A110),'C-E'!$A$13:$J$1001,C$39,FALSE),\"\")","v":""},{"$f":"IFERROR(VLOOKUP(SMALL('C-E'!$A$13:$A$1001,RC_EXAM!$A110),'C-E'!$A$13:$J$1001,D$39,FALSE),\"\")","v":""},{"$f":"IFERROR(VLOOKUP(SMALL('C-E'!$A$13:$A$1001,RC_EXAM!$A110),'C-E'!$A$13:$J$1001,E$39,FALSE),\"\")","v":""},null,{"$f":"IFERROR(VLOOKUP(SMALL('C-E'!$A$13:$A$1001,RC_EXAM!$A110),'C-E'!$A$13:$J$1001,G$39,FALSE),\"\")","v":""}]
[70,{"$f":"IFERROR(VLOOKUP(SMALL('C-E'!$A$13:$A$1001,RC_EXAM!$A111),'C-E'!$A$13:$J$1001,B$39,FALSE),\"\")","v":""},{"$f":"IFERROR(VLOOKUP(SMALL('C-E'!$A$13:$A$1001,RC_EXAM!$A111),'C-E'!$A$13:$J$1001,C$39,FALSE),\"\")","v":""},{"$f":"IFERROR(VLOOKUP(SMALL('C-E'!$A$13:$A$1001,RC_EXAM!$A111),'C-E'!$A$13:$J$1001,D$39,FALSE),\"\")","v":""},{"$f":"IFERROR(VLOOKUP(SMALL('C-E'!$A$13:$A$1001,RC_EXAM!$A111),'C-E'!$A$13:$J$1001,E$39,FALSE),\"\")","v":""},null,{"$f":"IFERROR(VLOOKUP(SMALL('C-E'!$A$13:$A$1001,RC_EXAM!$A111),'C-E'!$A$13:$J$1001,G$39,FALSE),\"\")","v":""}]
[71,{"$f":"IFERROR(VLOOKUP(SMALL('C-E'!$A$13:$A$1001,RC_EXAM!$A112),'C-E'!$A$13:$J$1001,B$39,FALSE),\"\")","v":""},{"$f":"IFERROR(VLOOKUP(SMALL('C-E'!$A$13:$A$1001,RC_EXAM!$A112),'C-E'!$A$13:$J$1001,C$39,FALSE),\"\")","v":""},{"$f":"IFERROR(VLOOKUP(SMALL('C-E'!$A$13:$A$1001,RC_EXAM!$A112),'C-E'!$A$13:$J$1001,D$39,FALSE),\"\")","v":""},{"$f":"IFERROR(VLOOKUP(SMALL('C-E'!$A$13:$A$1001,RC_EXAM!$A112),'C-E'!$A$13:$J$1001,E$39,FALSE),\"\")","v":""},null,{"$f":"IFERROR(VLOOKUP(SMALL('C-E'!$A$13:$A$1001,RC_EXAM!$A112),'C-E'!$A$13:$J$1001,G$39,FALSE),\"\")","v":""}]
[72,{"$f":"IFERROR(VLOOKUP(SMALL('C-E'!$A$13:$A$1001,RC_EXAM!$A113),'C-E'!$A$13:$J$1001,B$39,FALSE),\"\")","v":""},{"$f":"IFERROR(VLOOKUP(SMALL('C-E'!$A$13:$A$1001,RC_EXAM!$A113),'C-E'!$A$13:$J$1001,C$39,FALSE),\"\")","v":""},{"$f":"IFERROR(VLOOKUP(SMALL('C-E'!$A$13:$A$1001,RC_EXAM!$A113),'C-E'!$A$13:$J$1001,D$39,FALSE),\"\")","v":""},{"$f":"IFERROR(VLOOKUP(SMALL('C-E'!$A$13:$A$1001,RC_EXAM!$A113),'C-E'!$A$13:$J$1001,E$39,FALSE),\"\")","v":""},null,{"$f":"IFERROR(VLOOKUP(SMALL('C-E'!$A$13:$A$1001,RC_EXAM!$A113),'C-E'!$A$13:$J$1001,G$39,FALSE),\"\")","v":""}]
[73,{"$f":"IFERROR(VLOOKUP(SMALL('C-E'!$A$13:$A$1001,RC_EXAM!$A114),'C-E'!$A$13:$J$1001,B$39,FALSE),\"\")","v":""},{"$f":"IFERROR(VLOOKUP(SMALL('C-E'!$A$13:$A$1001,RC_EXAM!$A114),'C-E'!$A$13:$J$1001,C$39,FALSE),\"\")","v":""},{"$f":"IFERROR(VLOOKUP(SMALL('C-E'!$A$13:$A$1001,RC_EXAM!$A114),'C-E'!$A$13:$J$1001,D$39,FALSE),\"\")","v":""},{"$f":"IFERROR(VLOOKUP(SMALL('C-E'!$A$13:$A$1001,RC_EXAM!$A114),'C-E'!$A$13:$J$1001,E$39,FALSE),\"\")","v":""},null,{"$f":"IFERROR(VLOOKUP(SMALL('C-E'!$A$13:$A$1001,RC_EXAM!$A114),'C-E'!$A$13:$J$1001,G$39,FALSE),\"\")","v":""}]
[74,{"$f":"IFERROR(VLOOKUP(SMALL('C-E'!$A$13:$A$1001,RC_EXAM!$A115),'C-E'!$A$13:$J$1001,B$39,FALSE),\"\")","v":""},{"$f":"IFERROR(VLOOKUP(SMALL('C-E'!$A$13:$A$1001,RC_EXAM!$A115),'C-E'!$A$13:$J$1001,C$39,FALSE),\"\")","v":""},{"$f":"IFERROR(VLOOKUP(SMALL('C-E'!$A$13:$A$1001,RC_EXAM!$A115),'C-E'!$A$13:$J$1001,D$39,FALSE),\"\")","v":""},{"$f":"IFERROR(VLOOKUP(SMALL('C-E'!$A$13:$A$1001,RC_EXAM!$A115),'C-E'!$A$13:$J$1001,E$39,FALSE),\"\")","v":""},null,{"$f":"IFERROR(VLOOKUP(SMALL('C-E'!$A$13:$A$1001,RC_EXAM!$A115),'C-E'!$A$13:$J$1001,G$39,FALSE),\"\")","v":""}]
[75,{"$f":"IFERROR(VLOOKUP(SMALL('C-E'!$A$13:$A$1001,RC_EXAM!$A116),'C-E'!$A$13:$J$1001,B$39,FALSE),\"\")","v":""},{"$f":"IFERROR(VLOOKUP(SMALL('C-E'!$A$13:$A$1001,RC_EXAM!$A116),'C-E'!$A$13:$J$1001,C$39,FALSE),\"\")","v":""},{"$f":"IFERROR(VLOOKUP(SMALL('C-E'!$A$13:$A$1001,RC_EXAM!$A116),'C-E'!$A$13:$J$1001,D$39,FALSE),\"\")","v":""},{"$f":"IFERROR(VLOOKUP(SMALL('C-E'!$A$13:$A$1001,RC_EXAM!$A116),'C-E'!$A$13:$J$1001,E$39,FALSE),\"\")","v":""},null,{"$f":"IFERROR(VLOOKUP(SMALL('C-E'!$A$13:$A$1001,RC_EXAM!$A116),'C-E'!$A$13:$J$1001,G$39,FALSE),\"\")","v":""}]
[76,{"$f":"IFERROR(VLOOKUP(SMALL('C-E'!$A$13:$A$1001,RC_EXAM!$A117),'C-E'!$A$13:$J$1001,B$39,FALSE),\"\")","v":""},{"$f":"IFERROR(VLOOKUP(SMALL('C-E'!$A$13:$A$1001,RC_EXAM!$A117),'C-E'!$A$13:$J$1001,C$39,FALSE),\"\")","v":""},{"$f":"IFERROR(VLOOKUP(SMALL('C-E'!$A$13:$A$1001,RC_EXAM!$A117),'C-E'!$A$13:$J$1001,D$39,FALSE),\"\")","v":""},{"$f":"IFERROR(VLOOKUP(SMALL('C-E'!$A$13:$A$1001,RC_EXAM!$A117),'C-E'!$A$13:$J$1001,E$39,FALSE),\"\")","v":""},null,{"$f":"IFERROR(VLOOKUP(SMALL('C-E'!$A$13:$A$1001,RC_EXAM!$A117),'C-E'!$A$13:$J$1001,G$39,FALSE),\"\")","v":""}]
[77,{"$f":"IFERROR(VLOOKUP(SMALL('C-E'!$A$13:$A$1001,RC_EXAM!$A118),'C-E'!$A$13:$J$1001,B$39,FALSE),\"\")","v":""},{"$f":"IFERROR(VLOOKUP(SMALL('C-E'!$A$13:$A$1001,RC_EXAM!$A118),'C-E'!$A$13:$J$1001,C$39,FALSE),\"\")","v":""},{"$f":"IFERROR(VLOOKUP(SMALL('C-E'!$A$13:$A$1001,RC_EXAM!$A118),'C-E'!$A$13:$J$1001,D$39,FALSE),\"\")","v":""},{"$f":"IFERROR(VLOOKUP(SMALL('C-E'!$A$13:$A$1001,RC_EXAM!$A118),'C-E'!$A$13:$J$1001,E$39,FALSE),\"\")","v":""},null,{"$f":"IFERROR(VLOOKUP(SMALL('C-E'!$A$13:$A$1001,RC_EXAM!$A118),'C-E'!$A$13:$J$1001,G$39,FALSE),\"\")","v":""}]
[78,{"$f":"IFERROR(VLOOKUP(SMALL('C-E'!$A$13:$A$1001,RC_EXAM!$A119),'C-E'!$A$13:$J$1001,B$39,FALSE),\"\")","v":""},{"$f":"IFERROR(VLOOKUP(SMALL('C-E'!$A$13:$A$1001,RC_EXAM!$A119),'C-E'!$A$13:$J$1001,C$39,FALSE),\"\")","v":""},{"$f":"IFERROR(VLOOKUP(SMALL('C-E'!$A$13:$A$1001,RC_EXAM!$A119),'C-E'!$A$13:$J$1001,D$39,FALSE),\"\")","v":""},{"$f":"IFERROR(VLOOKUP(SMALL('C-E'!$A$13:$A$1001,RC_EXAM!$A119),'C-E'!$A$13:$J$1001,E$39,FALSE),\"\")","v":""},null,{"$f":"IFERROR(VLOOKUP(SMALL('C-E'!$A$13:$A$1001,RC_EXAM!$A119),'C-E'!$A$13:$J$1001,G$39,FALSE),\"\")","v":""}]
[79,{"$f":"IFERROR(VLOOKUP(SMALL('C-E'!$A$13:$A$1001,RC_EXAM!$A120),'C-E'!$A$13:$J$1001,B$39,FALSE),\"\")","v":""},{"$f":"IFERROR(VLOOKUP(SMALL('C-E'!$A$13:$A$1001,RC_EXAM!$A120),'C-E'!$A$13:$J$1001,C$39,FALSE),\"\")","v":""},{"$f":"IFERROR(VLOOKUP(SMALL('C-E'!$A$13:$A$1001,RC_EXAM!$A120),'C-E'!$A$13:$J$1001,D$39,FALSE),\"\")","v":""},{"$f":"IFERROR(VLOOKUP(SMALL('C-E'!$A$13:$A$1001,RC_EXAM!$A120),'C-E'!$A$13:$J$1001,E$39,FALSE),\"\")","v":""},null,{"$f":"IFERROR(VLOOKUP(SMALL('C-E'!$A$13:$A$1001,RC_EXAM!$A120),'C-E'!$A$13:$J$1001,G$39,FALSE),\"\")","v":""}]
[80,{"$f":"IFERROR(VLOOKUP(SMALL('C-E'!$A$13:$A$1001,RC_EXAM!$A121),'C-E'!$A$13:$J$1001,B$39,FALSE),\"\")","v":""},{"$f":"IFERROR(VLOOKUP(SMALL('C-E'!$A$13:$A$1001,RC_EXAM!$A121),'C-E'!$A$13:$J$1001,C$39,FALSE),\"\")","v":""},{"$f":"IFERROR(VLOOKUP(SMALL('C-E'!$A$13:$A$1001,RC_EXAM!$A121),'C-E'!$A$13:$J$1001,D$39,FALSE),\"\")","v":""},{"$f":"IFERROR(VLOOKUP(SMALL('C-E'!$A$13:$A$1001,RC_EXAM!$A121),'C-E'!$A$13:$J$1001,E$39,FALSE),\"\")","v":""},null,{"$f":"IFERROR(VLOOKUP(SMALL('C-E'!$A$13:$A$1001,RC_EXAM!$A121),'C-E'!$A$13:$J$1001,G$39,FALSE),\"\")","v":""}]
[81,{"$f":"IFERROR(VLOOKUP(SMALL('C-E'!$A$13:$A$1001,RC_EXAM!$A122),'C-E'!$A$13:$J$1001,B$39,FALSE),\"\")","v":""},{"$f":"IFERROR(VLOOKUP(SMALL('C-E'!$A$13:$A$1001,RC_EXAM!$A122),'C-E'!$A$13:$J$1001,C$39,FALSE),\"\")","v":""},{"$f":"IFERROR(VLOOKUP(SMALL('C-E'!$A$13:$A$1001,RC_EXAM!$A122),'C-E'!$A$13:$J$1001,D$39,FALSE),\"\")","v":""},{"$f":"IFERROR(VLOOKUP(SMALL('C-E'!$A$13:$A$1001,RC_EXAM!$A122),'C-E'!$A$13:$J$1001,E$39,FALSE),\"\")","v":""},null,{"$f":"IFERROR(VLOOKUP(SMALL('C-E'!$A$13:$A$1001,RC_EXAM!$A122),'C-E'!$A$13:$J$1001,G$39,FALSE),\"\")","v":""}]
[82,{"$f":"IFERROR(VLOOKUP(SMALL('C-E'!$A$13:$A$1001,RC_EXAM!$A123),'C-E'!$A$13:$J$1001,B$39,FALSE),\"\")","v":""},{"$f":"IFERROR(VLOOKUP(SMALL('C-E'!$A$13:$A$1001,RC_EXAM!$A123),'C-E'!$A$13:$J$1001,C$39,FALSE),\"\")","v":""},{"$f":"IFERROR(VLOOKUP(SMALL('C-E'!$A$13:$A$1001,RC_EXAM!$A123),'C-E'!$A$13:$J$1001,D$39,FALSE),\"\")","v":""},{"$f":"IFERROR(VLOOKUP(SMALL('C-E'!$A$13:$A$1001,RC_EXAM!$A123),'C-E'!$A$13:$J$1001,E$39,FALSE),\"\")","v":""},null,{"$f":"IFERROR(VLOOKUP(SMALL('C-E'!$A$13:$A$1001,RC_EXAM!$A123),'C-E'!$A$13:$J$1001,G$39,FALSE),\"\")","v":""}]
[83,{"$f":"IFERROR(VLOOKUP(SMALL('C-E'!$A$13:$A$1001,RC_EXAM!$A124),'C-E'!$A$13:$J$1001,B$39,FALSE),\"\")","v":""},{"$f":"IFERROR(VLOOKUP(SMALL('C-E'!$A$13:$A$1001,RC_EXAM!$A124),'C-E'!$A$13:$J$1001,C$39,FALSE),\"\")","v":""},{"$f":"IFERROR(VLOOKUP(SMALL('C-E'!$A$13:$A$1001,RC_EXAM!$A124),'C-E'!$A$13:$J$1001,D$39,FALSE),\"\")","v":""},{"$f":"IFERROR(VLOOKUP(SMALL('C-E'!$A$13:$A$1001,RC_EXAM!$A124),'C-E'!$A$13:$J$1001,E$39,FALSE),\"\")","v":""},null,{"$f":"IFERROR(VLOOKUP(SMALL('C-E'!$A$13:$A$1001,RC_EXAM!$A124),'C-E'!$A$13:$J$1001,G$39,FALSE),\"\")","v":""}]
[84,{"$f":"IFERROR(VLOOKUP(SMALL('C-E'!$A$13:$A$1001,RC_EXAM!$A125),'C-E'!$A$13:$J$1001,B$39,FALSE),\"\")","v":""},{"$f":"IFERROR(VLOOKUP(SMALL('C-E'!$A$13:$A$1001,RC_EXAM!$A125),'C-E'!$A$13:$J$1001,C$39,FALSE),\"\")","v":""},{"$f":"IFERROR(VLOOKUP(SMALL('C-E'!$A$13:$A$1001,RC_EXAM!$A125),'C-E'!$A$13:$J$1001,D$39,FALSE),\"\")","v":""},{"$f":"IFERROR(VLOOKUP(SMALL('C-E'!$A$13:$A$1001,RC_EXAM!$A125),'C-E'!$A$13:$J$1001,E$39,FALSE),\"\")","v":""},null,{"$f":"IFERROR(VLOOKUP(SMALL('C-E'!$A$13:$A$1001,RC_EXAM!$A125),'C-E'!$A$13:$J$1001,G$39,FALSE),\"\")","v":""}]
[85,{"$f":"IFERROR(VLOOKUP(SMALL('C-E'!$A$13:$A$1001,RC_EXAM!$A126),'C-E'!$A$13:$J$1001,B$39,FALSE),\"\")","v":""},{"$f":"IFERROR(VLOOKUP(SMALL('C-E'!$A$13:$A$1001,RC_EXAM!$A126),'C-E'!$A$13:$J$1001,C$39,FALSE),\"\")","v":""},{"$f":"IFERROR(VLOOKUP(SMALL('C-E'!$A$13:$A$1001,RC_EXAM!$A126),'C-E'!$A$13:$J$1001,D$39,FALSE),\"\")","v":""},{"$f":"IFERROR(VLOOKUP(SMALL('C-E'!$A$13:$A$1001,RC_EXAM!$A126),'C-E'!$A$13:$J$1001,E$39,FALSE),\"\")","v":""},null,{"$f":"IFERROR(VLOOKUP(SMALL('C-E'!$A$13:$A$1001,RC_EXAM!$A126),'C-E'!$A$13:$J$1001,G$39,FALSE),\"\")","v":""}]
[86,{"$f":"IFERROR(VLOOKUP(SMALL('C-E'!$A$13:$A$1001,RC_EXAM!$A127),'C-E'!$A$13:$J$1001,B$39,FALSE),\"\")","v":""},{"$f":"IFERROR(VLOOKUP(SMALL('C-E'!$A$13:$A$1001,RC_EXAM!$A127),'C-E'!$A$13:$J$1001,C$39,FALSE),\"\")","v":""},{"$f":"IFERROR(VLOOKUP(SMALL('C-E'!$A$13:$A$1001,RC_EXAM!$A127),'C-E'!$A$13:$J$1001,D$39,FALSE),\"\")","v":""},{"$f":"IFERROR(VLOOKUP(SMALL('C-E'!$A$13:$A$1001,RC_EXAM!$A127),'C-E'!$A$13:$J$1001,E$39,FALSE),\"\")","v":""},null,{"$f":"IFERROR(VLOOKUP(SMALL('C-E'!$A$13:$A$1001,RC_EXAM!$A127),'C-E'!$A$13:$J$1001,G$39,FALSE),\"\")","v":""}]
[87,{"$f":"IFERROR(VLOOKUP(SMALL('C-E'!$A$13:$A$1001,RC_EXAM!$A128),'C-E'!$A$13:$J$1001,B$39,FALSE),\"\")","v":""},{"$f":"IFERROR(VLOOKUP(SMALL('C-E'!$A$13:$A$1001,RC_EXAM!$A128),'C-E'!$A$13:$J$1001,C$39,FALSE),\"\")","v":""},{"$f":"IFERROR(VLOOKUP(SMALL('C-E'!$A$13:$A$1001,RC_EXAM!$A128),'C-E'!$A$13:$J$1001,D$39,FALSE),\"\")","v":""},{"$f":"IFERROR(VLOOKUP(SMALL('C-E'!$A$13:$A$1001,RC_EXAM!$A128),'C-E'!$A$13:$J$1001,E$39,FALSE),\"\")","v":""},null,{"$f":"IFERROR(VLOOKUP(SMALL('C-E'!$A$13:$A$1001,RC_EXAM!$A128),'C-E'!$A$13:$J$1001,G$39,FALSE),\"\")","v":""}]
[88,{"$f":"IFERROR(VLOOKUP(SMALL('C-E'!$A$13:$A$1001,RC_EXAM!$A129),'C-E'!$A$13:$J$1001,B$39,FALSE),\"\")","v":""},{"$f":"IFERROR(VLOOKUP(SMALL('C-E'!$A$13:$A$1001,RC_EXAM!$A129),'C-E'!$A$13:$J$1001,C$39,FALSE),\"\")","v":""},{"$f":"IFERROR(VLOOKUP(SMALL('C-E'!$A$13:$A$1001,RC_EXAM!$A129),'C-E'!$A$13:$J$1001,D$39,FALSE),\"\")","v":""},{"$f":"IFERROR(VLOOKUP(SMALL('C-E'!$A$13:$A$1001,RC_EXAM!$A129),'C-E'!$A$13:$J$1001,E$39,FALSE),\"\")","v":""},null,{"$f":"IFERROR(VLOOKUP(SMALL('C-E'!$A$13:$A$1001,RC_EXAM!$A129),'C-E'!$A$13:$J$1001,G$39,FALSE),\"\")","v":""}]
[89,{"$f":"IFERROR(VLOOKUP(SMALL('C-E'!$A$13:$A$1001,RC_EXAM!$A130),'C-E'!$A$13:$J$1001,B$39,FALSE),\"\")","v":""},{"$f":"IFERROR(VLOOKUP(SMALL('C-E'!$A$13:$A$1001,RC_EXAM!$A130),'C-E'!$A$13:$J$1001,C$39,FALSE),\"\")","v":""},{"$f":"IFERROR(VLOOKUP(SMALL('C-E'!$A$13:$A$1001,RC_EXAM!$A130),'C-E'!$A$13:$J$1001,D$39,FALSE),\"\")","v":""},{"$f":"IFERROR(VLOOKUP(SMALL('C-E'!$A$13:$A$1001,RC_EXAM!$A130),'C-E'!$A$13:$J$1001,E$39,FALSE),\"\")","v":""},null,{"$f":"IFERROR(VLOOKUP(SMALL('C-E'!$A$13:$A$1001,RC_EXAM!$A130),'C-E'!$A$13:$J$1001,G$39,FALSE),\"\")","v":""}]
[90,{"$f":"IFERROR(VLOOKUP(SMALL('C-E'!$A$13:$A$1001,RC_EXAM!$A131),'C-E'!$A$13:$J$1001,B$39,FALSE),\"\")","v":""},{"$f":"IFERROR(VLOOKUP(SMALL('C-E'!$A$13:$A$1001,RC_EXAM!$A131),'C-E'!$A$13:$J$1001,C$39,FALSE),\"\")","v":""},{"$f":"IFERROR(VLOOKUP(SMALL('C-E'!$A$13:$A$1001,RC_EXAM!$A131),'C-E'!$A$13:$J$1001,D$39,FALSE),\"\")","v":""},{"$f":"IFERROR(VLOOKUP(SMALL('C-E'!$A$13:$A$1001,RC_EXAM!$A131),'C-E'!$A$13:$J$1001,E$39,FALSE),\"\")","v":""},null,{"$f":"IFERROR(VLOOKUP(SMALL('C-E'!$A$13:$A$1001,RC_EXAM!$A131),'C-E'!$A$13:$J$1001,G$39,FALSE),\"\")","v":""}]
[91,{"$f":"IFERROR(VLOOKUP(SMALL('C-E'!$A$13:$A$1001,RC_EXAM!$A132),'C-E'!$A$13:$J$1001,B$39,FALSE),\"\")","v":""},{"$f":"IFERROR(VLOOKUP(SMALL('C-E'!$A$13:$A$1001,RC_EXAM!$A132),'C-E'!$A$13:$J$1001,C$39,FALSE),\"\")","v":""},{"$f":"IFERROR(VLOOKUP(SMALL('C-E'!$A$13:$A$1001,RC_EXAM!$A132),'C-E'!$A$13:$J$1001,D$39,FALSE),\"\")","v":""},{"$f":"IFERROR(VLOOKUP(SMALL('C-E'!$A$13:$A$1001,RC_EXAM!$A132),'C-E'!$A$13:$J$1001,E$39,FALSE),\"\")","v":""},null,{"$f":"IFERROR(VLOOKUP(SMALL('C-E'!$A$13:$A$1001,RC_EXAM!$A132),'C-E'!$A$13:$J$1001,G$39,FALSE),\"\")","v":""}]
[92,{"$f":"IFERROR(VLOOKUP(SMALL('C-E'!$A$13:$A$1001,RC_EXAM!$A133),'C-E'!$A$13:$J$1001,B$39,FALSE),\"\")","v":""},{"$f":"IFERROR(VLOOKUP(SMALL('C-E'!$A$13:$A$1001,RC_EXAM!$A133),'C-E'!$A$13:$J$1001,C$39,FALSE),\"\")","v":""},{"$f":"IFERROR(VLOOKUP(SMALL('C-E'!$A$13:$A$1001,RC_EXAM!$A133),'C-E'!$A$13:$J$1001,D$39,FALSE),\"\")","v":""},{"$f":"IFERROR(VLOOKUP(SMALL('C-E'!$A$13:$A$1001,RC_EXAM!$A133),'C-E'!$A$13:$J$1001,E$39,FALSE),\"\")","v":""},null,{"$f":"IFERROR(VLOOKUP(SMALL('C-E'!$A$13:$A$1001,RC_EXAM!$A133),'C-E'!$A$13:$J$1001,G$39,FALSE),\"\")","v":""}]
[93,{"$f":"IFERROR(VLOOKUP(SMALL('C-E'!$A$13:$A$1001,RC_EXAM!$A134),'C-E'!$A$13:$J$1001,B$39,FALSE),\"\")","v":""},{"$f":"IFERROR(VLOOKUP(SMALL('C-E'!$A$13:$A$1001,RC_EXAM!$A134),'C-E'!$A$13:$J$1001,C$39,FALSE),\"\")","v":""},{"$f":"IFERROR(VLOOKUP(SMALL('C-E'!$A$13:$A$1001,RC_EXAM!$A134),'C-E'!$A$13:$J$1001,D$39,FALSE),\"\")","v":""},{"$f":"IFERROR(VLOOKUP(SMALL('C-E'!$A$13:$A$1001,RC_EXAM!$A134),'C-E'!$A$13:$J$1001,E$39,FALSE),\"\")","v":""},null,{"$f":"IFERROR(VLOOKUP(SMALL('C-E'!$A$13:$A$1001,RC_EXAM!$A134),'C-E'!$A$13:$J$1001,G$39,FALSE),\"\")","v":""}]
[94,{"$f":"IFERROR(VLOOKUP(SMALL('C-E'!$A$13:$A$1001,RC_EXAM!$A135),'C-E'!$A$13:$J$1001,B$39,FALSE),\"\")","v":""},{"$f":"IFERROR(VLOOKUP(SMALL('C-E'!$A$13:$A$1001,RC_EXAM!$A135),'C-E'!$A$13:$J$1001,C$39,FALSE),\"\")","v":""},{"$f":"IFERROR(VLOOKUP(SMALL('C-E'!$A$13:$A$1001,RC_EXAM!$A135),'C-E'!$A$13:$J$1001,D$39,FALSE),\"\")","v":""},{"$f":"IFERROR(VLOOKUP(SMALL('C-E'!$A$13:$A$1001,RC_EXAM!$A135),'C-E'!$A$13:$J$1001,E$39,FALSE),\"\")","v":""},null,{"$f":"IFERROR(VLOOKUP(SMALL('C-E'!$A$13:$A$1001,RC_EXAM!$A135),'C-E'!$A$13:$J$1001,G$39,FALSE),\"\")","v":""}]
[95,{"$f":"IFERROR(VLOOKUP(SMALL('C-E'!$A$13:$A$1001,RC_EXAM!$A136),'C-E'!$A$13:$J$1001,B$39,FALSE),\"\")","v":""},{"$f":"IFERROR(VLOOKUP(SMALL('C-E'!$A$13:$A$1001,RC_EXAM!$A136),'C-E'!$A$13:$J$1001,C$39,FALSE),\"\")","v":""},{"$f":"IFERROR(VLOOKUP(SMALL('C-E'!$A$13:$A$1001,RC_EXAM!$A136),'C-E'!$A$13:$J$1001,D$39,FALSE),\"\")","v":""},{"$f":"IFERROR(VLOOKUP(SMALL('C-E'!$A$13:$A$1001,RC_EXAM!$A136),'C-E'!$A$13:$J$1001,E$39,FALSE),\"\")","v":""},null,{"$f":"IFERROR(VLOOKUP(SMALL('C-E'!$A$13:$A$1001,RC_EXAM!$A136),'C-E'!$A$13:$J$1001,G$39,FALSE),\"\")","v":""}]
[96,{"$f":"IFERROR(VLOOKUP(SMALL('C-E'!$A$13:$A$1001,RC_EXAM!$A137),'C-E'!$A$13:$J$1001,B$39,FALSE),\"\")","v":""},{"$f":"IFERROR(VLOOKUP(SMALL('C-E'!$A$13:$A$1001,RC_EXAM!$A137),'C-E'!$A$13:$J$1001,C$39,FALSE),\"\")","v":""},{"$f":"IFERROR(VLOOKUP(SMALL('C-E'!$A$13:$A$1001,RC_EXAM!$A137),'C-E'!$A$13:$J$1001,D$39,FALSE),\"\")","v":""},{"$f":"IFERROR(VLOOKUP(SMALL('C-E'!$A$13:$A$1001,RC_EXAM!$A137),'C-E'!$A$13:$J$1001,E$39,FALSE),\"\")","v":""},null,{"$f":"IFERROR(VLOOKUP(SMALL('C-E'!$A$13:$A$1001,RC_EXAM!$A137),'C-E'!$A$13:$J$1001,G$39,FALSE),\"\")","v":""}]
[97,{"$f":"IFERROR(VLOOKUP(SMALL('C-E'!$A$13:$A$1001,RC_EXAM!$A138),'C-E'!$A$13:$J$1001,B$39,FALSE),\"\")","v":""},{"$f":"IFERROR(VLOOKUP(SMALL('C-E'!$A$13:$A$1001,RC_EXAM!$A138),'C-E'!$A$13:$J$1001,C$39,FALSE),\"\")","v":""},{"$f":"IFERROR(VLOOKUP(SMALL('C-E'!$A$13:$A$1001,RC_EXAM!$A138),'C-E'!$A$13:$J$1001,D$39,FALSE),\"\")","v":""},{"$f":"IFERROR(VLOOKUP(SMALL('C-E'!$A$13:$A$1001,RC_EXAM!$A138),'C-E'!$A$13:$J$1001,E$39,FALSE),\"\")","v":""},null,{"$f":"IFERROR(VLOOKUP(SMALL('C-E'!$A$13:$A$1001,RC_EXAM!$A138),'C-E'!$A$13:$J$1001,G$39,FALSE),\"\")","v":""}]
[98,{"$f":"IFERROR(VLOOKUP(SMALL('C-E'!$A$13:$A$1001,RC_EXAM!$A139),'C-E'!$A$13:$J$1001,B$39,FALSE),\"\")","v":""},{"$f":"IFERROR(VLOOKUP(SMALL('C-E'!$A$13:$A$1001,RC_EXAM!$A139),'C-E'!$A$13:$J$1001,C$39,FALSE),\"\")","v":""},{"$f":"IFERROR(VLOOKUP(SMALL('C-E'!$A$13:$A$1001,RC_EXAM!$A139),'C-E'!$A$13:$J$1001,D$39,FALSE),\"\")","v":""},{"$f":"IFERROR(VLOOKUP(SMALL('C-E'!$A$13:$A$1001,RC_EXAM!$A139),'C-E'!$A$13:$J$1001,E$39,FALSE),\"\")","v":""},null,{"$f":"IFERROR(VLOOKUP(SMALL('C-E'!$A$13:$A$1001,RC_EXAM!$A139),'C-E'!$A$13:$J$1001,G$39,FALSE),\"\")","v":""}]
[99,{"$f":"IFERROR(VLOOKUP(SMALL('C-E'!$A$13:$A$1001,RC_EXAM!$A140),'C-E'!$A$13:$J$1001,B$39,FALSE),\"\")","v":""},{"$f":"IFERROR(VLOOKUP(SMALL('C-E'!$A$13:$A$1001,RC_EXAM!$A140),'C-E'!$A$13:$J$1001,C$39,FALSE),\"\")","v":""},{"$f":"IFERROR(VLOOKUP(SMALL('C-E'!$A$13:$A$1001,RC_EXAM!$A140),'C-E'!$A$13:$J$1001,D$39,FALSE),\"\")","v":""},{"$f":"IFERROR(VLOOKUP(SMALL('C-E'!$A$13:$A$1001,RC_EXAM!$A140),'C-E'!$A$13:$J$1001,E$39,FALSE),\"\")","v":""},null,{"$f":"IFERROR(VLOOKUP(SMALL('C-E'!$A$13:$A$1001,RC_EXAM!$A140),'C-E'!$A$13:$J$1001,G$39,FALSE),\"\")","v":""}]
[100,{"$f":"IFERROR(VLOOKUP(SMALL('C-E'!$A$13:$A$1001,RC_EXAM!$A141),'C-E'!$A$13:$J$1001,B$39,FALSE),\"\")","v":""},{"$f":"IFERROR(VLOOKUP(SMALL('C-E'!$A$13:$A$1001,RC_EXAM!$A141),'C-E'!$A$13:$J$1001,C$39,FALSE),\"\")","v":""},{"$f":"IFERROR(VLOOKUP(SMALL('C-E'!$A$13:$A$1001,RC_EXAM!$A141),'C-E'!$A$13:$J$1001,D$39,FALSE),\"\")","v":""},{"$f":"IFERROR(VLOOKUP(SMALL('C-E'!$A$13:$A$1001,RC_EXAM!$A141),'C-E'!$A$13:$J$1001,E$39,FALSE),\"\")","v":""},null,{"$f":"IFERROR(VLOOKUP(SMALL('C-E'!$A$13:$A$1001,RC_EXAM!$A141),'C-E'!$A$13:$J$1001,G$39,FALSE),\"\")","v":""}]
[101,{"$f":"IFERROR(VLOOKUP(SMALL('C-E'!$A$13:$A$1001,RC_EXAM!$A142),'C-E'!$A$13:$J$1001,B$39,FALSE),\"\")","v":""},{"$f":"IFERROR(VLOOKUP(SMALL('C-E'!$A$13:$A$1001,RC_EXAM!$A142),'C-E'!$A$13:$J$1001,C$39,FALSE),\"\")","v":""},{"$f":"IFERROR(VLOOKUP(SMALL('C-E'!$A$13:$A$1001,RC_EXAM!$A142),'C-E'!$A$13:$J$1001,D$39,FALSE),\"\")","v":""},{"$f":"IFERROR(VLOOKUP(SMALL('C-E'!$A$13:$A$1001,RC_EXAM!$A142),'C-E'!$A$13:$J$1001,E$39,FALSE),\"\")","v":""},null,{"$f":"IFERROR(VLOOKUP(SMALL('C-E'!$A$13:$A$1001,RC_EXAM!$A142),'C-E'!$A$13:$J$1001,G$39,FALSE),\"\")","v":""}]
[102,{"$f":"IFERROR(VLOOKUP(SMALL('C-E'!$A$13:$A$1001,RC_EXAM!$A143),'C-E'!$A$13:$J$1001,B$39,FALSE),\"\")","v":""},{"$f":"IFERROR(VLOOKUP(SMALL('C-E'!$A$13:$A$1001,RC_EXAM!$A143),'C-E'!$A$13:$J$1001,C$39,FALSE),\"\")","v":""},{"$f":"IFERROR(VLOOKUP(SMALL('C-E'!$A$13:$A$1001,RC_EXAM!$A143),'C-E'!$A$13:$J$1001,D$39,FALSE),\"\")","v":""},{"$f":"IFERROR(VLOOKUP(SMALL('C-E'!$A$13:$A$1001,RC_EXAM!$A143),'C-E'!$A$13:$J$1001,E$39,FALSE),\"\")","v":""},null,{"$f":"IFERROR(VLOOKUP(SMALL('C-E'!$A$13:$A$1001,RC_EXAM!$A143),'C-E'!$A$13:$J$1001,G$39,FALSE),\"\")","v":""}]
[103,{"$f":"IFERROR(VLOOKUP(SMALL('C-E'!$A$13:$A$1001,RC_EXAM!$A144),'C-E'!$A$13:$J$1001,B$39,FALSE),\"\")","v":""},{"$f":"IFERROR(VLOOKUP(SMALL('C-E'!$A$13:$A$1001,RC_EXAM!$A144),'C-E'!$A$13:$J$1001,C$39,FALSE),\"\")","v":""},{"$f":"IFERROR(VLOOKUP(SMALL('C-E'!$A$13:$A$1001,RC_EXAM!$A144),'C-E'!$A$13:$J$1001,D$39,FALSE),\"\")","v":""},{"$f":"IFERROR(VLOOKUP(SMALL('C-E'!$A$13:$A$1001,RC_EXAM!$A144),'C-E'!$A$13:$J$1001,E$39,FALSE),\"\")","v":""},null,{"$f":"IFERROR(VLOOKUP(SMALL('C-E'!$A$13:$A$1001,RC_EXAM!$A144),'C-E'!$A$13:$J$1001,G$39,FALSE),\"\")","v":""}]
[104,{"$f":"IFERROR(VLOOKUP(SMALL('C-E'!$A$13:$A$1001,RC_EXAM!$A145),'C-E'!$A$13:$J$1001,B$39,FALSE),\"\")","v":""},{"$f":"IFERROR(VLOOKUP(SMALL('C-E'!$A$13:$A$1001,RC_EXAM!$A145),'C-E'!$A$13:$J$1001,C$39,FALSE),\"\")","v":""},{"$f":"IFERROR(VLOOKUP(SMALL('C-E'!$A$13:$A$1001,RC_EXAM!$A145),'C-E'!$A$13:$J$1001,D$39,FALSE),\"\")","v":""},{"$f":"IFERROR(VLOOKUP(SMALL('C-E'!$A$13:$A$1001,RC_EXAM!$A145),'C-E'!$A$13:$J$1001,E$39,FALSE),\"\")","v":""},null,{"$f":"IFERROR(VLOOKUP(SMALL('C-E'!$A$13:$A$1001,RC_EXAM!$A145),'C-E'!$A$13:$J$1001,G$39,FALSE),\"\")","v":""}]
[105,{"$f":"IFERROR(VLOOKUP(SMALL('C-E'!$A$13:$A$1001,RC_EXAM!$A146),'C-E'!$A$13:$J$1001,B$39,FALSE),\"\")","v":""},{"$f":"IFERROR(VLOOKUP(SMALL('C-E'!$A$13:$A$1001,RC_EXAM!$A146),'C-E'!$A$13:$J$1001,C$39,FALSE),\"\")","v":""},{"$f":"IFERROR(VLOOKUP(SMALL('C-E'!$A$13:$A$1001,RC_EXAM!$A146),'C-E'!$A$13:$J$1001,D$39,FALSE),\"\")","v":""},{"$f":"IFERROR(VLOOKUP(SMALL('C-E'!$A$13:$A$1001,RC_EXAM!$A146),'C-E'!$A$13:$J$1001,E$39,FALSE),\"\")","v":""},null,{"$f":"IFERROR(VLOOKUP(SMALL('C-E'!$A$13:$A$1001,RC_EXAM!$A146),'C-E'!$A$13:$J$1001,G$39,FALSE),\"\")","v":""}]
[106,{"$f":"IFERROR(VLOOKUP(SMALL('C-E'!$A$13:$A$1001,RC_EXAM!$A147),'C-E'!$A$13:$J$1001,B$39,FALSE),\"\")","v":""},{"$f":"IFERROR(VLOOKUP(SMALL('C-E'!$A$13:$A$1001,RC_EXAM!$A147),'C-E'!$A$13:$J$1001,C$39,FALSE),\"\")","v":""},{"$f":"IFERROR(VLOOKUP(SMALL('C-E'!$A$13:$A$1001,RC_EXAM!$A147),'C-E'!$A$13:$J$1001,D$39,FALSE),\"\")","v":""},{"$f":"IFERROR(VLOOKUP(SMALL('C-E'!$A$13:$A$1001,RC_EXAM!$A147),'C-E'!$A$13:$J$1001,E$39,FALSE),\"\")","v":""},null,{"$f":"IFERROR(VLOOKUP(SMALL('C-E'!$A$13:$A$1001,RC_EXAM!$A147),'C-E'!$A$13:$J$1001,G$39,FALSE),\"\")","v":""}]
[107,{"$f":"IFERROR(VLOOKUP(SMALL('C-E'!$A$13:$A$1001,RC_EXAM!$A148),'C-E'!$A$13:$J$1001,B$39,FALSE),\"\")","v":""},{"$f":"IFERROR(VLOOKUP(SMALL('C-E'!$A$13:$A$1001,RC_EXAM!$A148),'C-E'!$A$13:$J$1001,C$39,FALSE),\"\")","v":""},{"$f":"IFERROR(VLOOKUP(SMALL('C-E'!$A$13:$A$1001,RC_EXAM!$A148),'C-E'!$A$13:$J$1001,D$39,FALSE),\"\")","v":""},{"$f":"IFERROR(VLOOKUP(SMALL('C-E'!$A$13:$A$1001,RC_EXAM!$A148),'C-E'!$A$13:$J$1001,E$39,FALSE),\"\")","v":""},null,{"$f":"IFERROR(VLOOKUP(SMALL('C-E'!$A$13:$A$1001,RC_EXAM!$A148),'C-E'!$A$13:$J$1001,G$39,FALSE),\"\")","v":""}]
[108,{"$f":"IFERROR(VLOOKUP(SMALL('C-E'!$A$13:$A$1001,RC_EXAM!$A149),'C-E'!$A$13:$J$1001,B$39,FALSE),\"\")","v":""},{"$f":"IFERROR(VLOOKUP(SMALL('C-E'!$A$13:$A$1001,RC_EXAM!$A149),'C-E'!$A$13:$J$1001,C$39,FALSE),\"\")","v":""},{"$f":"IFERROR(VLOOKUP(SMALL('C-E'!$A$13:$A$1001,RC_EXAM!$A149),'C-E'!$A$13:$J$1001,D$39,FALSE),\"\")","v":""},{"$f":"IFERROR(VLOOKUP(SMALL('C-E'!$A$13:$A$1001,RC_EXAM!$A149),'C-E'!$A$13:$J$1001,E$39,FALSE),\"\")","v":""},null,{"$f":"IFERROR(VLOOKUP(SMALL('C-E'!$A$13:$A$1001,RC_EXAM!$A149),'C-E'!$A$13:$J$1001,G$39,FALSE),\"\")","v":""}]
[109,{"$f":"IFERROR(VLOOKUP(SMALL('C-E'!$A$13:$A$1001,RC_EXAM!$A150),'C-E'!$A$13:$J$1001,B$39,FALSE),\"\")","v":""},{"$f":"IFERROR(VLOOKUP(SMALL('C-E'!$A$13:$A$1001,RC_EXAM!$A150),'C-E'!$A$13:$J$1001,C$39,FALSE),\"\")","v":""},{"$f":"IFERROR(VLOOKUP(SMALL('C-E'!$A$13:$A$1001,RC_EXAM!$A150),'C-E'!$A$13:$J$1001,D$39,FALSE),\"\")","v":""},{"$f":"IFERROR(VLOOKUP(SMALL('C-E'!$A$13:$A$1001,RC_EXAM!$A150),'C-E'!$A$13:$J$1001,E$39,FALSE),\"\")","v":""},null,{"$f":"IFERROR(VLOOKUP(SMALL('C-E'!$A$13:$A$1001,RC_EXAM!$A150),'C-E'!$A$13:$J$1001,G$39,FALSE),\"\")","v":""}]
[110,{"$f":"IFERROR(VLOOKUP(SMALL('C-E'!$A$13:$A$1001,RC_EXAM!$A151),'C-E'!$A$13:$J$1001,B$39,FALSE),\"\")","v":""},{"$f":"IFERROR(VLOOKUP(SMALL('C-E'!$A$13:$A$1001,RC_EXAM!$A151),'C-E'!$A$13:$J$1001,C$39,FALSE),\"\")","v":""},{"$f":"IFERROR(VLOOKUP(SMALL('C-E'!$A$13:$A$1001,RC_EXAM!$A151),'C-E'!$A$13:$J$1001,D$39,FALSE),\"\")","v":""},{"$f":"IFERROR(VLOOKUP(SMALL('C-E'!$A$13:$A$1001,RC_EXAM!$A151),'C-E'!$A$13:$J$1001,E$39,FALSE),\"\")","v":""},null,{"$f":"IFERROR(VLOOKUP(SMALL('C-E'!$A$13:$A$1001,RC_EXAM!$A151),'C-E'!$A$13:$J$1001,G$39,FALSE),\"\")","v":""}]
[111,{"$f":"IFERROR(VLOOKUP(SMALL('C-E'!$A$13:$A$1001,RC_EXAM!$A152),'C-E'!$A$13:$J$1001,B$39,FALSE),\"\")","v":""},{"$f":"IFERROR(VLOOKUP(SMALL('C-E'!$A$13:$A$1001,RC_EXAM!$A152),'C-E'!$A$13:$J$1001,C$39,FALSE),\"\")","v":""},{"$f":"IFERROR(VLOOKUP(SMALL('C-E'!$A$13:$A$1001,RC_EXAM!$A152),'C-E'!$A$13:$J$1001,D$39,FALSE),\"\")","v":""},{"$f":"IFERROR(VLOOKUP(SMALL('C-E'!$A$13:$A$1001,RC_EXAM!$A152),'C-E'!$A$13:$J$1001,E$39,FALSE),\"\")","v":""},null,{"$f":"IFERROR(VLOOKUP(SMALL('C-E'!$A$13:$A$1001,RC_EXAM!$A152),'C-E'!$A$13:$J$1001,G$39,FALSE),\"\")","v":""}]
[112,{"$f":"IFERROR(VLOOKUP(SMALL('C-E'!$A$13:$A$1001,RC_EXAM!$A153),'C-E'!$A$13:$J$1001,B$39,FALSE),\"\")","v":""},{"$f":"IFERROR(VLOOKUP(SMALL('C-E'!$A$13:$A$1001,RC_EXAM!$A153),'C-E'!$A$13:$J$1001,C$39,FALSE),\"\")","v":""},{"$f":"IFERROR(VLOOKUP(SMALL('C-E'!$A$13:$A$1001,RC_EXAM!$A153),'C-E'!$A$13:$J$1001,D$39,FALSE),\"\")","v":""},{"$f":"IFERROR(VLOOKUP(SMALL('C-E'!$A$13:$A$1001,RC_EXAM!$A153),'C-E'!$A$13:$J$1001,E$39,FALSE),\"\")","v":""},null,{"$f":"IFERROR(VLOOKUP(SMALL('C-E'!$A$13:$A$1001,RC_EXAM!$A153),'C-E'!$A$13:$J$1001,G$39,FALSE),\"\")","v":""}]
[113,{"$f":"IFERROR(VLOOKUP(SMALL('C-E'!$A$13:$A$1001,RC_EXAM!$A154),'C-E'!$A$13:$J$1001,B$39,FALSE),\"\")","v":""},{"$f":"IFERROR(VLOOKUP(SMALL('C-E'!$A$13:$A$1001,RC_EXAM!$A154),'C-E'!$A$13:$J$1001,C$39,FALSE),\"\")","v":""},{"$f":"IFERROR(VLOOKUP(SMALL('C-E'!$A$13:$A$1001,RC_EXAM!$A154),'C-E'!$A$13:$J$1001,D$39,FALSE),\"\")","v":""},{"$f":"IFERROR(VLOOKUP(SMALL('C-E'!$A$13:$A$1001,RC_EXAM!$A154),'C-E'!$A$13:$J$1001,E$39,FALSE),\"\")","v":""},null,{"$f":"IFERROR(VLOOKUP(SMALL('C-E'!$A$13:$A$1001,RC_EXAM!$A154),'C-E'!$A$13:$J$1001,G$39,FALSE),\"\")","v":""}]
[114,{"$f":"IFERROR(VLOOKUP(SMALL('C-E'!$A$13:$A$1001,RC_EXAM!$A155),'C-E'!$A$13:$J$1001,B$39,FALSE),\"\")","v":""},{"$f":"IFERROR(VLOOKUP(SMALL('C-E'!$A$13:$A$1001,RC_EXAM!$A155),'C-E'!$A$13:$J$1001,C$39,FALSE),\"\")","v":""},{"$f":"IFERROR(VLOOKUP(SMALL('C-E'!$A$13:$A$1001,RC_EXAM!$A155),'C-E'!$A$13:$J$1001,D$39,FALSE),\"\")","v":""},{"$f":"IFERROR(VLOOKUP(SMALL('C-E'!$A$13:$A$1001,RC_EXAM!$A155),'C-E'!$A$13:$J$1001,E$39,FALSE),\"\")","v":""},null,{"$f":"IFERROR(VLOOKUP(SMALL('C-E'!$A$13:$A$1001,RC_EXAM!$A155),'C-E'!$A$13:$J$1001,G$39,FALSE),\"\")","v":""}]
[115,{"$f":"IFERROR(VLOOKUP(SMALL('C-E'!$A$13:$A$1001,RC_EXAM!$A156),'C-E'!$A$13:$J$1001,B$39,FALSE),\"\")","v":""},{"$f":"IFERROR(VLOOKUP(SMALL('C-E'!$A$13:$A$1001,RC_EXAM!$A156),'C-E'!$A$13:$J$1001,C$39,FALSE),\"\")","v":""},{"$f":"IFERROR(VLOOKUP(SMALL('C-E'!$A$13:$A$1001,RC_EXAM!$A156),'C-E'!$A$13:$J$1001,D$39,FALSE),\"\")","v":""},{"$f":"IFERROR(VLOOKUP(SMALL('C-E'!$A$13:$A$1001,RC_EXAM!$A156),'C-E'!$A$13:$J$1001,E$39,FALSE),\"\")","v":""},null,{"$f":"IFERROR(VLOOKUP(SMALL('C-E'!$A$13:$A$1001,RC_EXAM!$A156),'C-E'!$A$13:$J$1001,G$39,FALSE),\"\")","v":""}]
[116,{"$f":"IFERROR(VLOOKUP(SMALL('C-E'!$A$13:$A$1001,RC_EXAM!$A157),'C-E'!$A$13:$J$1001,B$39,FALSE),\"\")","v":""},{"$f":"IFERROR(VLOOKUP(SMALL('C-E'!$A$13:$A$1001,RC_EXAM!$A157),'C-E'!$A$13:$J$1001,C$39,FALSE),\"\")","v":""},{"$f":"IFERROR(VLOOKUP(SMALL('C-E'!$A$13:$A$1001,RC_EXAM!$A157),'C-E'!$A$13:$J$1001,D$39,FALSE),\"\")","v":""},{"$f":"IFERROR(VLOOKUP(SMALL('C-E'!$A$13:$A$1001,RC_EXAM!$A157),'C-E'!$A$13:$J$1001,E$39,FALSE),\"\")","v":""},null,{"$f":"IFERROR(VLOOKUP(SMALL('C-E'!$A$13:$A$1001,RC_EXAM!$A157),'C-E'!$A$13:$J$1001,G$39,FALSE),\"\")","v":""}]
[117,{"$f":"IFERROR(VLOOKUP(SMALL('C-E'!$A$13:$A$1001,RC_EXAM!$A158),'C-E'!$A$13:$J$1001,B$39,FALSE),\"\")","v":""},{"$f":"IFERROR(VLOOKUP(SMALL('C-E'!$A$13:$A$1001,RC_EXAM!$A158),'C-E'!$A$13:$J$1001,C$39,FALSE),\"\")","v":""},{"$f":"IFERROR(VLOOKUP(SMALL('C-E'!$A$13:$A$1001,RC_EXAM!$A158),'C-E'!$A$13:$J$1001,D$39,FALSE),\"\")","v":""},{"$f":"IFERROR(VLOOKUP(SMALL('C-E'!$A$13:$A$1001,RC_EXAM!$A158),'C-E'!$A$13:$J$1001,E$39,FALSE),\"\")","v":""},null,{"$f":"IFERROR(VLOOKUP(SMALL('C-E'!$A$13:$A$1001,RC_EXAM!$A158),'C-E'!$A$13:$J$1001,G$39,FALSE),\"\")","v":""}]
[118,{"$f":"IFERROR(VLOOKUP(SMALL('C-E'!$A$13:$A$1001,RC_EXAM!$A159),'C-E'!$A$13:$J$1001,B$39,FALSE),\"\")","v":""},{"$f":"IFERROR(VLOOKUP(SMALL('C-E'!$A$13:$A$1001,RC_EXAM!$A159),'C-E'!$A$13:$J$1001,C$39,FALSE),\"\")","v":""},{"$f":"IFERROR(VLOOKUP(SMALL('C-E'!$A$13:$A$1001,RC_EXAM!$A159),'C-E'!$A$13:$J$1001,D$39,FALSE),\"\")","v":""},{"$f":"IFERROR(VLOOKUP(SMALL('C-E'!$A$13:$A$1001,RC_EXAM!$A159),'C-E'!$A$13:$J$1001,E$39,FALSE),\"\")","v":""},null,{"$f":"IFERROR(VLOOKUP(SMALL('C-E'!$A$13:$A$1001,RC_EXAM!$A159),'C-E'!$A$13:$J$1001,G$39,FALSE),\"\")","v":""}]
[119,{"$f":"IFERROR(VLOOKUP(SMALL('C-E'!$A$13:$A$1001,RC_EXAM!$A160),'C-E'!$A$13:$J$1001,B$39,FALSE),\"\")","v":""},{"$f":"IFERROR(VLOOKUP(SMALL('C-E'!$A$13:$A$1001,RC_EXAM!$A160),'C-E'!$A$13:$J$1001,C$39,FALSE),\"\")","v":""},{"$f":"IFERROR(VLOOKUP(SMALL('C-E'!$A$13:$A$1001,RC_EXAM!$A160),'C-E'!$A$13:$J$1001,D$39,FALSE),\"\")","v":""},{"$f":"IFERROR(VLOOKUP(SMALL('C-E'!$A$13:$A$1001,RC_EXAM!$A160),'C-E'!$A$13:$J$1001,E$39,FALSE),\"\")","v":""},null,{"$f":"IFERROR(VLOOKUP(SMALL('C-E'!$A$13:$A$1001,RC_EXAM!$A160),'C-E'!$A$13:$J$1001,G$39,FALSE),\"\")","v":""}]
[120,{"$f":"IFERROR(VLOOKUP(SMALL('C-E'!$A$13:$A$1001,RC_EXAM!$A161),'C-E'!$A$13:$J$1001,B$39,FALSE),\"\")","v":""},{"$f":"IFERROR(VLOOKUP(SMALL('C-E'!$A$13:$A$1001,RC_EXAM!$A161),'C-E'!$A$13:$J$1001,C$39,FALSE),\"\")","v":""},{"$f":"IFERROR(VLOOKUP(SMALL('C-E'!$A$13:$A$1001,RC_EXAM!$A161),'C-E'!$A$13:$J$1001,D$39,FALSE),\"\")","v":""},{"$f":"IFERROR(VLOOKUP(SMALL('C-E'!$A$13:$A$1001,RC_EXAM!$A161),'C-E'!$A$13:$J$1001,E$39,FALSE),\"\")","v":""},null,{"$f":"IFERROR(VLOOKUP(SMALL('C-E'!$A$13:$A$1001,RC_EXAM!$A161),'C-E'!$A$13:$J$1001,G$39,FALSE),\"\")","v":""}]
[121,{"$f":"IFERROR(VLOOKUP(SMALL('C-E'!$A$13:$A$1001,RC_EXAM!$A162),'C-E'!$A$13:$J$1001,B$39,FALSE),\"\")","v":""},{"$f":"IFERROR(VLOOKUP(SMALL('C-E'!$A$13:$A$1001,RC_EXAM!$A162),'C-E'!$A$13:$J$1001,C$39,FALSE),\"\")","v":""},{"$f":"IFERROR(VLOOKUP(SMALL('C-E'!$A$13:$A$1001,RC_EXAM!$A162),'C-E'!$A$13:$J$1001,D$39,FALSE),\"\")","v":""},{"$f":"IFERROR(VLOOKUP(SMALL('C-E'!$A$13:$A$1001,RC_EXAM!$A162),'C-E'!$A$13:$J$1001,E$39,FALSE),\"\")","v":""},null,{"$f":"IFERROR(VLOOKUP(SMALL('C-E'!$A$13:$A$1001,RC_EXAM!$A162),'C-E'!$A$13:$J$1001,G$39,FALSE),\"\")","v":""}]
[122,{"$f":"IFERROR(VLOOKUP(SMALL('C-E'!$A$13:$A$1001,RC_EXAM!$A163),'C-E'!$A$13:$J$1001,B$39,FALSE),\"\")","v":""},{"$f":"IFERROR(VLOOKUP(SMALL('C-E'!$A$13:$A$1001,RC_EXAM!$A163),'C-E'!$A$13:$J$1001,C$39,FALSE),\"\")","v":""},{"$f":"IFERROR(VLOOKUP(SMALL('C-E'!$A$13:$A$1001,RC_EXAM!$A163),'C-E'!$A$13:$J$1001,D$39,FALSE),\"\")","v":""},{"$f":"IFERROR(VLOOKUP(SMALL('C-E'!$A$13:$A$1001,RC_EXAM!$A163),'C-E'!$A$13:$J$1001,E$39,FALSE),\"\")","v":""},null,{"$f":"IFERROR(VLOOKUP(SMALL('C-E'!$A$13:$A$1001,RC_EXAM!$A163),'C-E'!$A$13:$J$1001,G$39,FALSE),\"\")","v":""}]
[123,{"$f":"IFERROR(VLOOKUP(SMALL('C-E'!$A$13:$A$1001,RC_EXAM!$A164),'C-E'!$A$13:$J$1001,B$39,FALSE),\"\")","v":""},{"$f":"IFERROR(VLOOKUP(SMALL('C-E'!$A$13:$A$1001,RC_EXAM!$A164),'C-E'!$A$13:$J$1001,C$39,FALSE),\"\")","v":""},{"$f":"IFERROR(VLOOKUP(SMALL('C-E'!$A$13:$A$1001,RC_EXAM!$A164),'C-E'!$A$13:$J$1001,D$39,FALSE),\"\")","v":""},{"$f":"IFERROR(VLOOKUP(SMALL('C-E'!$A$13:$A$1001,RC_EXAM!$A164),'C-E'!$A$13:$J$1001,E$39,FALSE),\"\")","v":""},null,{"$f":"IFERROR(VLOOKUP(SMALL('C-E'!$A$13:$A$1001,RC_EXAM!$A164),'C-E'!$A$13:$J$1001,G$39,FALSE),\"\")","v":""}]
[124,{"$f":"IFERROR(VLOOKUP(SMALL('C-E'!$A$13:$A$1001,RC_EXAM!$A165),'C-E'!$A$13:$J$1001,B$39,FALSE),\"\")","v":""},{"$f":"IFERROR(VLOOKUP(SMALL('C-E'!$A$13:$A$1001,RC_EXAM!$A165),'C-E'!$A$13:$J$1001,C$39,FALSE),\"\")","v":""},{"$f":"IFERROR(VLOOKUP(SMALL('C-E'!$A$13:$A$1001,RC_EXAM!$A165),'C-E'!$A$13:$J$1001,D$39,FALSE),\"\")","v":""},{"$f":"IFERROR(VLOOKUP(SMALL('C-E'!$A$13:$A$1001,RC_EXAM!$A165),'C-E'!$A$13:$J$1001,E$39,FALSE),\"\")","v":""},null,{"$f":"IFERROR(VLOOKUP(SMALL('C-E'!$A$13:$A$1001,RC_EXAM!$A165),'C-E'!$A$13:$J$1001,G$39,FALSE),\"\")","v":""}]
[125,{"$f":"IFERROR(VLOOKUP(SMALL('C-E'!$A$13:$A$1001,RC_EXAM!$A166),'C-E'!$A$13:$J$1001,B$39,FALSE),\"\")","v":""},{"$f":"IFERROR(VLOOKUP(SMALL('C-E'!$A$13:$A$1001,RC_EXAM!$A166),'C-E'!$A$13:$J$1001,C$39,FALSE),\"\")","v":""},{"$f":"IFERROR(VLOOKUP(SMALL('C-E'!$A$13:$A$1001,RC_EXAM!$A166),'C-E'!$A$13:$J$1001,D$39,FALSE),\"\")","v":""},{"$f":"IFERROR(VLOOKUP(SMALL('C-E'!$A$13:$A$1001,RC_EXAM!$A166),'C-E'!$A$13:$J$1001,E$39,FALSE),\"\")","v":""},null,{"$f":"IFERROR(VLOOKUP(SMALL('C-E'!$A$13:$A$1001,RC_EXAM!$A166),'C-E'!$A$13:$J$1001,G$39,FALSE),\"\")","v":""}]
[126,{"$f":"IFERROR(VLOOKUP(SMALL('C-E'!$A$13:$A$1001,RC_EXAM!$A167),'C-E'!$A$13:$J$1001,B$39,FALSE),\"\")","v":""},{"$f":"IFERROR(VLOOKUP(SMALL('C-E'!$A$13:$A$1001,RC_EXAM!$A167),'C-E'!$A$13:$J$1001,C$39,FALSE),\"\")","v":""},{"$f":"IFERROR(VLOOKUP(SMALL('C-E'!$A$13:$A$1001,RC_EXAM!$A167),'C-E'!$A$13:$J$1001,D$39,FALSE),\"\")","v":""},{"$f":"IFERROR(VLOOKUP(SMALL('C-E'!$A$13:$A$1001,RC_EXAM!$A167),'C-E'!$A$13:$J$1001,E$39,FALSE),\"\")","v":""},null,{"$f":"IFERROR(VLOOKUP(SMALL('C-E'!$A$13:$A$1001,RC_EXAM!$A167),'C-E'!$A$13:$J$1001,G$39,FALSE),\"\")","v":""}]
[127,{"$f":"IFERROR(VLOOKUP(SMALL('C-E'!$A$13:$A$1001,RC_EXAM!$A168),'C-E'!$A$13:$J$1001,B$39,FALSE),\"\")","v":""},{"$f":"IFERROR(VLOOKUP(SMALL('C-E'!$A$13:$A$1001,RC_EXAM!$A168),'C-E'!$A$13:$J$1001,C$39,FALSE),\"\")","v":""},{"$f":"IFERROR(VLOOKUP(SMALL('C-E'!$A$13:$A$1001,RC_EXAM!$A168),'C-E'!$A$13:$J$1001,D$39,FALSE),\"\")","v":""},{"$f":"IFERROR(VLOOKUP(SMALL('C-E'!$A$13:$A$1001,RC_EXAM!$A168),'C-E'!$A$13:$J$1001,E$39,FALSE),\"\")","v":""},null,{"$f":"IFERROR(VLOOKUP(SMALL('C-E'!$A$13:$A$1001,RC_EXAM!$A168),'C-E'!$A$13:$J$1001,G$39,FALSE),\"\")","v":""}]
[128,{"$f":"IFERROR(VLOOKUP(SMALL('C-E'!$A$13:$A$1001,RC_EXAM!$A169),'C-E'!$A$13:$J$1001,B$39,FALSE),\"\")","v":""},{"$f":"IFERROR(VLOOKUP(SMALL('C-E'!$A$13:$A$1001,RC_EXAM!$A169),'C-E'!$A$13:$J$1001,C$39,FALSE),\"\")","v":""},{"$f":"IFERROR(VLOOKUP(SMALL('C-E'!$A$13:$A$1001,RC_EXAM!$A169),'C-E'!$A$13:$J$1001,D$39,FALSE),\"\")","v":""},{"$f":"IFERROR(VLOOKUP(SMALL('C-E'!$A$13:$A$1001,RC_EXAM!$A169),'C-E'!$A$13:$J$1001,E$39,FALSE),\"\")","v":""},null,{"$f":"IFERROR(VLOOKUP(SMALL('C-E'!$A$13:$A$1001,RC_EXAM!$A169),'C-E'!$A$13:$J$1001,G$39,FALSE),\"\")","v":""}]
[129,{"$f":"IFERROR(VLOOKUP(SMALL('C-E'!$A$13:$A$1001,RC_EXAM!$A170),'C-E'!$A$13:$J$1001,B$39,FALSE),\"\")","v":""},{"$f":"IFERROR(VLOOKUP(SMALL('C-E'!$A$13:$A$1001,RC_EXAM!$A170),'C-E'!$A$13:$J$1001,C$39,FALSE),\"\")","v":""},{"$f":"IFERROR(VLOOKUP(SMALL('C-E'!$A$13:$A$1001,RC_EXAM!$A170),'C-E'!$A$13:$J$1001,D$39,FALSE),\"\")","v":""},{"$f":"IFERROR(VLOOKUP(SMALL('C-E'!$A$13:$A$1001,RC_EXAM!$A170),'C-E'!$A$13:$J$1001,E$39,FALSE),\"\")","v":""},null,{"$f":"IFERROR(VLOOKUP(SMALL('C-E'!$A$13:$A$1001,RC_EXAM!$A170),'C-E'!$A$13:$J$1001,G$39,FALSE),\"\")","v":""}]
[130,{"$f":"IFERROR(VLOOKUP(SMALL('C-E'!$A$13:$A$1001,RC_EXAM!$A171),'C-E'!$A$13:$J$1001,B$39,FALSE),\"\")","v":""},{"$f":"IFERROR(VLOOKUP(SMALL('C-E'!$A$13:$A$1001,RC_EXAM!$A171),'C-E'!$A$13:$J$1001,C$39,FALSE),\"\")","v":""},{"$f":"IFERROR(VLOOKUP(SMALL('C-E'!$A$13:$A$1001,RC_EXAM!$A171),'C-E'!$A$13:$J$1001,D$39,FALSE),\"\")","v":""},{"$f":"IFERROR(VLOOKUP(SMALL('C-E'!$A$13:$A$1001,RC_EXAM!$A171),'C-E'!$A$13:$J$1001,E$39,FALSE),\"\")","v":""},null,{"$f":"IFERROR(VLOOKUP(SMALL('C-E'!$A$13:$A$1001,RC_EXAM!$A171),'C-E'!$A$13:$J$1001,G$39,FALSE),\"\")","v":""}]
[131,{"$f":"IFERROR(VLOOKUP(SMALL('C-E'!$A$13:$A$1001,RC_EXAM!$A172),'C-E'!$A$13:$J$1001,B$39,FALSE),\"\")","v":""},{"$f":"IFERROR(VLOOKUP(SMALL('C-E'!$A$13:$A$1001,RC_EXAM!$A172),'C-E'!$A$13:$J$1001,C$39,FALSE),\"\")","v":""},{"$f":"IFERROR(VLOOKUP(SMALL('C-E'!$A$13:$A$1001,RC_EXAM!$A172),'C-E'!$A$13:$J$1001,D$39,FALSE),\"\")","v":""},{"$f":"IFERROR(VLOOKUP(SMALL('C-E'!$A$13:$A$1001,RC_EXAM!$A172),'C-E'!$A$13:$J$1001,E$39,FALSE),\"\")","v":""},null,{"$f":"IFERROR(VLOOKUP(SMALL('C-E'!$A$13:$A$1001,RC_EXAM!$A172),'C-E'!$A$13:$J$1001,G$39,FALSE),\"\")","v":""}]
[132,{"$f":"IFERROR(VLOOKUP(SMALL('C-E'!$A$13:$A$1001,RC_EXAM!$A173),'C-E'!$A$13:$J$1001,B$39,FALSE),\"\")","v":""},{"$f":"IFERROR(VLOOKUP(SMALL('C-E'!$A$13:$A$1001,RC_EXAM!$A173),'C-E'!$A$13:$J$1001,C$39,FALSE),\"\")","v":""},{"$f":"IFERROR(VLOOKUP(SMALL('C-E'!$A$13:$A$1001,RC_EXAM!$A173),'C-E'!$A$13:$J$1001,D$39,FALSE),\"\")","v":""},{"$f":"IFERROR(VLOOKUP(SMALL('C-E'!$A$13:$A$1001,RC_EXAM!$A173),'C-E'!$A$13:$J$1001,E$39,FALSE),\"\")","v":""},null,{"$f":"IFERROR(VLOOKUP(SMALL('C-E'!$A$13:$A$1001,RC_EXAM!$A173),'C-E'!$A$13:$J$1001,G$39,FALSE),\"\")","v":""}]
[133,{"$f":"IFERROR(VLOOKUP(SMALL('C-E'!$A$13:$A$1001,RC_EXAM!$A174),'C-E'!$A$13:$J$1001,B$39,FALSE),\"\")","v":""},{"$f":"IFERROR(VLOOKUP(SMALL('C-E'!$A$13:$A$1001,RC_EXAM!$A174),'C-E'!$A$13:$J$1001,C$39,FALSE),\"\")","v":""},{"$f":"IFERROR(VLOOKUP(SMALL('C-E'!$A$13:$A$1001,RC_EXAM!$A174),'C-E'!$A$13:$J$1001,D$39,FALSE),\"\")","v":""},{"$f":"IFERROR(VLOOKUP(SMALL('C-E'!$A$13:$A$1001,RC_EXAM!$A174),'C-E'!$A$13:$J$1001,E$39,FALSE),\"\")","v":""},null,{"$f":"IFERROR(VLOOKUP(SMALL('C-E'!$A$13:$A$1001,RC_EXAM!$A174),'C-E'!$A$13:$J$1001,G$39,FALSE),\"\")","v":""}]
[134,{"$f":"IFERROR(VLOOKUP(SMALL('C-E'!$A$13:$A$1001,RC_EXAM!$A175),'C-E'!$A$13:$J$1001,B$39,FALSE),\"\")","v":""},{"$f":"IFERROR(VLOOKUP(SMALL('C-E'!$A$13:$A$1001,RC_EXAM!$A175),'C-E'!$A$13:$J$1001,C$39,FALSE),\"\")","v":""},{"$f":"IFERROR(VLOOKUP(SMALL('C-E'!$A$13:$A$1001,RC_EXAM!$A175),'C-E'!$A$13:$J$1001,D$39,FALSE),\"\")","v":""},{"$f":"IFERROR(VLOOKUP(SMALL('C-E'!$A$13:$A$1001,RC_EXAM!$A175),'C-E'!$A$13:$J$1001,E$39,FALSE),\"\")","v":""},null,{"$f":"IFERROR(VLOOKUP(SMALL('C-E'!$A$13:$A$1001,RC_EXAM!$A175),'C-E'!$A$13:$J$1001,G$39,FALSE),\"\")","v":""}]
[135,{"$f":"IFERROR(VLOOKUP(SMALL('C-E'!$A$13:$A$1001,RC_EXAM!$A176),'C-E'!$A$13:$J$1001,B$39,FALSE),\"\")","v":""},{"$f":"IFERROR(VLOOKUP(SMALL('C-E'!$A$13:$A$1001,RC_EXAM!$A176),'C-E'!$A$13:$J$1001,C$39,FALSE),\"\")","v":""},{"$f":"IFERROR(VLOOKUP(SMALL('C-E'!$A$13:$A$1001,RC_EXAM!$A176),'C-E'!$A$13:$J$1001,D$39,FALSE),\"\")","v":""},{"$f":"IFERROR(VLOOKUP(SMALL('C-E'!$A$13:$A$1001,RC_EXAM!$A176),'C-E'!$A$13:$J$1001,E$39,FALSE),\"\")","v":""},null,{"$f":"IFERROR(VLOOKUP(SMALL('C-E'!$A$13:$A$1001,RC_EXAM!$A176),'C-E'!$A$13:$J$1001,G$39,FALSE),\"\")","v":""}]
[136,{"$f":"IFERROR(VLOOKUP(SMALL('C-E'!$A$13:$A$1001,RC_EXAM!$A177),'C-E'!$A$13:$J$1001,B$39,FALSE),\"\")","v":""},{"$f":"IFERROR(VLOOKUP(SMALL('C-E'!$A$13:$A$1001,RC_EXAM!$A177),'C-E'!$A$13:$J$1001,C$39,FALSE),\"\")","v":""},{"$f":"IFERROR(VLOOKUP(SMALL('C-E'!$A$13:$A$1001,RC_EXAM!$A177),'C-E'!$A$13:$J$1001,D$39,FALSE),\"\")","v":""},{"$f":"IFERROR(VLOOKUP(SMALL('C-E'!$A$13:$A$1001,RC_EXAM!$A177),'C-E'!$A$13:$J$1001,E$39,FALSE),\"\")","v":""},null,{"$f":"IFERROR(VLOOKUP(SMALL('C-E'!$A$13:$A$1001,RC_EXAM!$A177),'C-E'!$A$13:$J$1001,G$39,FALSE),\"\")","v":""}]
[137,{"$f":"IFERROR(VLOOKUP(SMALL('C-E'!$A$13:$A$1001,RC_EXAM!$A178),'C-E'!$A$13:$J$1001,B$39,FALSE),\"\")","v":""},{"$f":"IFERROR(VLOOKUP(SMALL('C-E'!$A$13:$A$1001,RC_EXAM!$A178),'C-E'!$A$13:$J$1001,C$39,FALSE),\"\")","v":""},{"$f":"IFERROR(VLOOKUP(SMALL('C-E'!$A$13:$A$1001,RC_EXAM!$A178),'C-E'!$A$13:$J$1001,D$39,FALSE),\"\")","v":""},{"$f":"IFERROR(VLOOKUP(SMALL('C-E'!$A$13:$A$1001,RC_EXAM!$A178),'C-E'!$A$13:$J$1001,E$39,FALSE),\"\")","v":""},null,{"$f":"IFERROR(VLOOKUP(SMALL('C-E'!$A$13:$A$1001,RC_EXAM!$A178),'C-E'!$A$13:$J$1001,G$39,FALSE),\"\")","v":""}]
[138,{"$f":"IFERROR(VLOOKUP(SMALL('C-E'!$A$13:$A$1001,RC_EXAM!$A179),'C-E'!$A$13:$J$1001,B$39,FALSE),\"\")","v":""},{"$f":"IFERROR(VLOOKUP(SMALL('C-E'!$A$13:$A$1001,RC_EXAM!$A179),'C-E'!$A$13:$J$1001,C$39,FALSE),\"\")","v":""},{"$f":"IFERROR(VLOOKUP(SMALL('C-E'!$A$13:$A$1001,RC_EXAM!$A179),'C-E'!$A$13:$J$1001,D$39,FALSE),\"\")","v":""},{"$f":"IFERROR(VLOOKUP(SMALL('C-E'!$A$13:$A$1001,RC_EXAM!$A179),'C-E'!$A$13:$J$1001,E$39,FALSE),\"\")","v":""},null,{"$f":"IFERROR(VLOOKUP(SMALL('C-E'!$A$13:$A$1001,RC_EXAM!$A179),'C-E'!$A$13:$J$1001,G$39,FALSE),\"\")","v":""}]
[139,{"$f":"IFERROR(VLOOKUP(SMALL('C-E'!$A$13:$A$1001,RC_EXAM!$A180),'C-E'!$A$13:$J$1001,B$39,FALSE),\"\")","v":""},{"$f":"IFERROR(VLOOKUP(SMALL('C-E'!$A$13:$A$1001,RC_EXAM!$A180),'C-E'!$A$13:$J$1001,C$39,FALSE),\"\")","v":""},{"$f":"IFERROR(VLOOKUP(SMALL('C-E'!$A$13:$A$1001,RC_EXAM!$A180),'C-E'!$A$13:$J$1001,D$39,FALSE),\"\")","v":""},{"$f":"IFERROR(VLOOKUP(SMALL('C-E'!$A$13:$A$1001,RC_EXAM!$A180),'C-E'!$A$13:$J$1001,E$39,FALSE),\"\")","v":""},null,{"$f":"IFERROR(VLOOKUP(SMALL('C-E'!$A$13:$A$1001,RC_EXAM!$A180),'C-E'!$A$13:$J$1001,G$39,FALSE),\"\")","v":""}]
[140,{"$f":"IFERROR(VLOOKUP(SMALL('C-E'!$A$13:$A$1001,RC_EXAM!$A181),'C-E'!$A$13:$J$1001,B$39,FALSE),\"\")","v":""},{"$f":"IFERROR(VLOOKUP(SMALL('C-E'!$A$13:$A$1001,RC_EXAM!$A181),'C-E'!$A$13:$J$1001,C$39,FALSE),\"\")","v":""},{"$f":"IFERROR(VLOOKUP(SMALL('C-E'!$A$13:$A$1001,RC_EXAM!$A181),'C-E'!$A$13:$J$1001,D$39,FALSE),\"\")","v":""},{"$f":"IFERROR(VLOOKUP(SMALL('C-E'!$A$13:$A$1001,RC_EXAM!$A181),'C-E'!$A$13:$J$1001,E$39,FALSE),\"\")","v":""},null,{"$f":"IFERROR(VLOOKUP(SMALL('C-E'!$A$13:$A$1001,RC_EXAM!$A181),'C-E'!$A$13:$J$1001,G$39,FALSE),\"\")","v":""}]
[141,{"$f":"IFERROR(VLOOKUP(SMALL('C-E'!$A$13:$A$1001,RC_EXAM!$A182),'C-E'!$A$13:$J$1001,B$39,FALSE),\"\")","v":""},{"$f":"IFERROR(VLOOKUP(SMALL('C-E'!$A$13:$A$1001,RC_EXAM!$A182),'C-E'!$A$13:$J$1001,C$39,FALSE),\"\")","v":""},{"$f":"IFERROR(VLOOKUP(SMALL('C-E'!$A$13:$A$1001,RC_EXAM!$A182),'C-E'!$A$13:$J$1001,D$39,FALSE),\"\")","v":""},{"$f":"IFERROR(VLOOKUP(SMALL('C-E'!$A$13:$A$1001,RC_EXAM!$A182),'C-E'!$A$13:$J$1001,E$39,FALSE),\"\")","v":""},null,{"$f":"IFERROR(VLOOKUP(SMALL('C-E'!$A$13:$A$1001,RC_EXAM!$A182),'C-E'!$A$13:$J$1001,G$39,FALSE),\"\")","v":""}]
[142,{"$f":"IFERROR(VLOOKUP(SMALL('C-E'!$A$13:$A$1001,RC_EXAM!$A183),'C-E'!$A$13:$J$1001,B$39,FALSE),\"\")","v":""},{"$f":"IFERROR(VLOOKUP(SMALL('C-E'!$A$13:$A$1001,RC_EXAM!$A183),'C-E'!$A$13:$J$1001,C$39,FALSE),\"\")","v":""},{"$f":"IFERROR(VLOOKUP(SMALL('C-E'!$A$13:$A$1001,RC_EXAM!$A183),'C-E'!$A$13:$J$1001,D$39,FALSE),\"\")","v":""},{"$f":"IFERROR(VLOOKUP(SMALL('C-E'!$A$13:$A$1001,RC_EXAM!$A183),'C-E'!$A$13:$J$1001,E$39,FALSE),\"\")","v":""},null,{"$f":"IFERROR(VLOOKUP(SMALL('C-E'!$A$13:$A$1001,RC_EXAM!$A183),'C-E'!$A$13:$J$1001,G$39,FALSE),\"\")","v":""}]
[143,{"$f":"IFERROR(VLOOKUP(SMALL('C-E'!$A$13:$A$1001,RC_EXAM!$A184),'C-E'!$A$13:$J$1001,B$39,FALSE),\"\")","v":""},{"$f":"IFERROR(VLOOKUP(SMALL('C-E'!$A$13:$A$1001,RC_EXAM!$A184),'C-E'!$A$13:$J$1001,C$39,FALSE),\"\")","v":""},{"$f":"IFERROR(VLOOKUP(SMALL('C-E'!$A$13:$A$1001,RC_EXAM!$A184),'C-E'!$A$13:$J$1001,D$39,FALSE),\"\")","v":""},{"$f":"IFERROR(VLOOKUP(SMALL('C-E'!$A$13:$A$1001,RC_EXAM!$A184),'C-E'!$A$13:$J$1001,E$39,FALSE),\"\")","v":""},null,{"$f":"IFERROR(VLOOKUP(SMALL('C-E'!$A$13:$A$1001,RC_EXAM!$A184),'C-E'!$A$13:$J$1001,G$39,FALSE),\"\")","v":""}]
[144,{"$f":"IFERROR(VLOOKUP(SMALL('C-E'!$A$13:$A$1001,RC_EXAM!$A185),'C-E'!$A$13:$J$1001,B$39,FALSE),\"\")","v":""},{"$f":"IFERROR(VLOOKUP(SMALL('C-E'!$A$13:$A$1001,RC_EXAM!$A185),'C-E'!$A$13:$J$1001,C$39,FALSE),\"\")","v":""},{"$f":"IFERROR(VLOOKUP(SMALL('C-E'!$A$13:$A$1001,RC_EXAM!$A185),'C-E'!$A$13:$J$1001,D$39,FALSE),\"\")","v":""},{"$f":"IFERROR(VLOOKUP(SMALL('C-E'!$A$13:$A$1001,RC_EXAM!$A185),'C-E'!$A$13:$J$1001,E$39,FALSE),\"\")","v":""},null,{"$f":"IFERROR(VLOOKUP(SMALL('C-E'!$A$13:$A$1001,RC_EXAM!$A185),'C-E'!$A$13:$J$1001,G$39,FALSE),\"\")","v":""}]
[145,{"$f":"IFERROR(VLOOKUP(SMALL('C-E'!$A$13:$A$1001,RC_EXAM!$A186),'C-E'!$A$13:$J$1001,B$39,FALSE),\"\")","v":""},{"$f":"IFERROR(VLOOKUP(SMALL('C-E'!$A$13:$A$1001,RC_EXAM!$A186),'C-E'!$A$13:$J$1001,C$39,FALSE),\"\")","v":""},{"$f":"IFERROR(VLOOKUP(SMALL('C-E'!$A$13:$A$1001,RC_EXAM!$A186),'C-E'!$A$13:$J$1001,D$39,FALSE),\"\")","v":""},{"$f":"IFERROR(VLOOKUP(SMALL('C-E'!$A$13:$A$1001,RC_EXAM!$A186),'C-E'!$A$13:$J$1001,E$39,FALSE),\"\")","v":""},null,{"$f":"IFERROR(VLOOKUP(SMALL('C-E'!$A$13:$A$1001,RC_EXAM!$A186),'C-E'!$A$13:$J$1001,G$39,FALSE),\"\")","v":""}]
[146,{"$f":"IFERROR(VLOOKUP(SMALL('C-E'!$A$13:$A$1001,RC_EXAM!$A187),'C-E'!$A$13:$J$1001,B$39,FALSE),\"\")","v":""},{"$f":"IFERROR(VLOOKUP(SMALL('C-E'!$A$13:$A$1001,RC_EXAM!$A187),'C-E'!$A$13:$J$1001,C$39,FALSE),\"\")","v":""},{"$f":"IFERROR(VLOOKUP(SMALL('C-E'!$A$13:$A$1001,RC_EXAM!$A187),'C-E'!$A$13:$J$1001,D$39,FALSE),\"\")","v":""},{"$f":"IFERROR(VLOOKUP(SMALL('C-E'!$A$13:$A$1001,RC_EXAM!$A187),'C-E'!$A$13:$J$1001,E$39,FALSE),\"\")","v":""},null,{"$f":"IFERROR(VLOOKUP(SMALL('C-E'!$A$13:$A$1001,RC_EXAM!$A187),'C-E'!$A$13:$J$1001,G$39,FALSE),\"\")","v":""}]
[147,{"$f":"IFERROR(VLOOKUP(SMALL('C-E'!$A$13:$A$1001,RC_EXAM!$A188),'C-E'!$A$13:$J$1001,B$39,FALSE),\"\")","v":""},{"$f":"IFERROR(VLOOKUP(SMALL('C-E'!$A$13:$A$1001,RC_EXAM!$A188),'C-E'!$A$13:$J$1001,C$39,FALSE),\"\")","v":""},{"$f":"IFERROR(VLOOKUP(SMALL('C-E'!$A$13:$A$1001,RC_EXAM!$A188),'C-E'!$A$13:$J$1001,D$39,FALSE),\"\")","v":""},{"$f":"IFERROR(VLOOKUP(SMALL('C-E'!$A$13:$A$1001,RC_EXAM!$A188),'C-E'!$A$13:$J$1001,E$39,FALSE),\"\")","v":""},null,{"$f":"IFERROR(VLOOKUP(SMALL('C-E'!$A$13:$A$1001,RC_EXAM!$A188),'C-E'!$A$13:$J$1001,G$39,FALSE),\"\")","v":""}]
[148,{"$f":"IFERROR(VLOOKUP(SMALL('C-E'!$A$13:$A$1001,RC_EXAM!$A189),'C-E'!$A$13:$J$1001,B$39,FALSE),\"\")","v":""},{"$f":"IFERROR(VLOOKUP(SMALL('C-E'!$A$13:$A$1001,RC_EXAM!$A189),'C-E'!$A$13:$J$1001,C$39,FALSE),\"\")","v":""},{"$f":"IFERROR(VLOOKUP(SMALL('C-E'!$A$13:$A$1001,RC_EXAM!$A189),'C-E'!$A$13:$J$1001,D$39,FALSE),\"\")","v":""},{"$f":"IFERROR(VLOOKUP(SMALL('C-E'!$A$13:$A$1001,RC_EXAM!$A189),'C-E'!$A$13:$J$1001,E$39,FALSE),\"\")","v":""},null,{"$f":"IFERROR(VLOOKUP(SMALL('C-E'!$A$13:$A$1001,RC_EXAM!$A189),'C-E'!$A$13:$J$1001,G$39,FALSE),\"\")","v":""}]
[149,{"$f":"IFERROR(VLOOKUP(SMALL('C-E'!$A$13:$A$1001,RC_EXAM!$A190),'C-E'!$A$13:$J$1001,B$39,FALSE),\"\")","v":""},{"$f":"IFERROR(VLOOKUP(SMALL('C-E'!$A$13:$A$1001,RC_EXAM!$A190),'C-E'!$A$13:$J$1001,C$39,FALSE),\"\")","v":""},{"$f":"IFERROR(VLOOKUP(SMALL('C-E'!$A$13:$A$1001,RC_EXAM!$A190),'C-E'!$A$13:$J$1001,D$39,FALSE),\"\")","v":""},{"$f":"IFERROR(VLOOKUP(SMALL('C-E'!$A$13:$A$1001,RC_EXAM!$A190),'C-E'!$A$13:$J$1001,E$39,FALSE),\"\")","v":""},null,{"$f":"IFERROR(VLOOKUP(SMALL('C-E'!$A$13:$A$1001,RC_EXAM!$A190),'C-E'!$A$13:$J$1001,G$39,FALSE),\"\")","v":""}]
[150,{"$f":"IFERROR(VLOOKUP(SMALL('C-E'!$A$13:$A$1001,RC_EXAM!$A191),'C-E'!$A$13:$J$1001,B$39,FALSE),\"\")","v":""},{"$f":"IFERROR(VLOOKUP(SMALL('C-E'!$A$13:$A$1001,RC_EXAM!$A191),'C-E'!$A$13:$J$1001,C$39,FALSE),\"\")","v":""},{"$f":"IFERROR(VLOOKUP(SMALL('C-E'!$A$13:$A$1001,RC_EXAM!$A191),'C-E'!$A$13:$J$1001,D$39,FALSE),\"\")","v":""},{"$f":"IFERROR(VLOOKUP(SMALL('C-E'!$A$13:$A$1001,RC_EXAM!$A191),'C-E'!$A$13:$J$1001,E$39,FALSE),\"\")","v":""},null,{"$f":"IFERROR(VLOOKUP(SMALL('C-E'!$A$13:$A$1001,RC_EXAM!$A191),'C-E'!$A$13:$J$1001,G$39,FALSE),\"\")","v":""}]
[151,{"$f":"IFERROR(VLOOKUP(SMALL('C-E'!$A$13:$A$1001,RC_EXAM!$A192),'C-E'!$A$13:$J$1001,B$39,FALSE),\"\")","v":""},{"$f":"IFERROR(VLOOKUP(SMALL('C-E'!$A$13:$A$1001,RC_EXAM!$A192),'C-E'!$A$13:$J$1001,C$39,FALSE),\"\")","v":""},{"$f":"IFERROR(VLOOKUP(SMALL('C-E'!$A$13:$A$1001,RC_EXAM!$A192),'C-E'!$A$13:$J$1001,D$39,FALSE),\"\")","v":""},{"$f":"IFERROR(VLOOKUP(SMALL('C-E'!$A$13:$A$1001,RC_EXAM!$A192),'C-E'!$A$13:$J$1001,E$39,FALSE),\"\")","v":""},null,{"$f":"IFERROR(VLOOKUP(SMALL('C-E'!$A$13:$A$1001,RC_EXAM!$A192),'C-E'!$A$13:$J$1001,G$39,FALSE),\"\")","v":""}]
[152,{"$f":"IFERROR(VLOOKUP(SMALL('C-E'!$A$13:$A$1001,RC_EXAM!$A193),'C-E'!$A$13:$J$1001,B$39,FALSE),\"\")","v":""},{"$f":"IFERROR(VLOOKUP(SMALL('C-E'!$A$13:$A$1001,RC_EXAM!$A193),'C-E'!$A$13:$J$1001,C$39,FALSE),\"\")","v":""},{"$f":"IFERROR(VLOOKUP(SMALL('C-E'!$A$13:$A$1001,RC_EXAM!$A193),'C-E'!$A$13:$J$1001,D$39,FALSE),\"\")","v":""},{"$f":"IFERROR(VLOOKUP(SMALL('C-E'!$A$13:$A$1001,RC_EXAM!$A193),'C-E'!$A$13:$J$1001,E$39,FALSE),\"\")","v":""},null,{"$f":"IFERROR(VLOOKUP(SMALL('C-E'!$A$13:$A$1001,RC_EXAM!$A193),'C-E'!$A$13:$J$1001,G$39,FALSE),\"\")","v":""}]
[153,{"$f":"IFERROR(VLOOKUP(SMALL('C-E'!$A$13:$A$1001,RC_EXAM!$A194),'C-E'!$A$13:$J$1001,B$39,FALSE),\"\")","v":""},{"$f":"IFERROR(VLOOKUP(SMALL('C-E'!$A$13:$A$1001,RC_EXAM!$A194),'C-E'!$A$13:$J$1001,C$39,FALSE),\"\")","v":""},{"$f":"IFERROR(VLOOKUP(SMALL('C-E'!$A$13:$A$1001,RC_EXAM!$A194),'C-E'!$A$13:$J$1001,D$39,FALSE),\"\")","v":""},{"$f":"IFERROR(VLOOKUP(SMALL('C-E'!$A$13:$A$1001,RC_EXAM!$A194),'C-E'!$A$13:$J$1001,E$39,FALSE),\"\")","v":""},null,{"$f":"IFERROR(VLOOKUP(SMALL('C-E'!$A$13:$A$1001,RC_EXAM!$A194),'C-E'!$A$13:$J$1001,G$39,FALSE),\"\")","v":""}]
[154,{"$f":"IFERROR(VLOOKUP(SMALL('C-E'!$A$13:$A$1001,RC_EXAM!$A195),'C-E'!$A$13:$J$1001,B$39,FALSE),\"\")","v":""},{"$f":"IFERROR(VLOOKUP(SMALL('C-E'!$A$13:$A$1001,RC_EXAM!$A195),'C-E'!$A$13:$J$1001,C$39,FALSE),\"\")","v":""},{"$f":"IFERROR(VLOOKUP(SMALL('C-E'!$A$13:$A$1001,RC_EXAM!$A195),'C-E'!$A$13:$J$1001,D$39,FALSE),\"\")","v":""},{"$f":"IFERROR(VLOOKUP(SMALL('C-E'!$A$13:$A$1001,RC_EXAM!$A195),'C-E'!$A$13:$J$1001,E$39,FALSE),\"\")","v":""},null,{"$f":"IFERROR(VLOOKUP(SMALL('C-E'!$A$13:$A$1001,RC_EXAM!$A195),'C-E'!$A$13:$J$1001,G$39,FALSE),\"\")","v":""}]
[155,{"$f":"IFERROR(VLOOKUP(SMALL('C-E'!$A$13:$A$1001,RC_EXAM!$A196),'C-E'!$A$13:$J$1001,B$39,FALSE),\"\")","v":""},{"$f":"IFERROR(VLOOKUP(SMALL('C-E'!$A$13:$A$1001,RC_EXAM!$A196),'C-E'!$A$13:$J$1001,C$39,FALSE),\"\")","v":""},{"$f":"IFERROR(VLOOKUP(SMALL('C-E'!$A$13:$A$1001,RC_EXAM!$A196),'C-E'!$A$13:$J$1001,D$39,FALSE),\"\")","v":""},{"$f":"IFERROR(VLOOKUP(SMALL('C-E'!$A$13:$A$1001,RC_EXAM!$A196),'C-E'!$A$13:$J$1001,E$39,FALSE),\"\")","v":""},null,{"$f":"IFERROR(VLOOKUP(SMALL('C-E'!$A$13:$A$1001,RC_EXAM!$A196),'C-E'!$A$13:$J$1001,G$39,FALSE),\"\")","v":""}]
[156,{"$f":"IFERROR(VLOOKUP(SMALL('C-E'!$A$13:$A$1001,RC_EXAM!$A197),'C-E'!$A$13:$J$1001,B$39,FALSE),\"\")","v":""},{"$f":"IFERROR(VLOOKUP(SMALL('C-E'!$A$13:$A$1001,RC_EXAM!$A197),'C-E'!$A$13:$J$1001,C$39,FALSE),\"\")","v":""},{"$f":"IFERROR(VLOOKUP(SMALL('C-E'!$A$13:$A$1001,RC_EXAM!$A197),'C-E'!$A$13:$J$1001,D$39,FALSE),\"\")","v":""},{"$f":"IFERROR(VLOOKUP(SMALL('C-E'!$A$13:$A$1001,RC_EXAM!$A197),'C-E'!$A$13:$J$1001,E$39,FALSE),\"\")","v":""},null,{"$f":"IFERROR(VLOOKUP(SMALL('C-E'!$A$13:$A$1001,RC_EXAM!$A197),'C-E'!$A$13:$J$1001,G$39,FALSE),\"\")","v":""}]
[157,{"$f":"IFERROR(VLOOKUP(SMALL('C-E'!$A$13:$A$1001,RC_EXAM!$A198),'C-E'!$A$13:$J$1001,B$39,FALSE),\"\")","v":""},{"$f":"IFERROR(VLOOKUP(SMALL('C-E'!$A$13:$A$1001,RC_EXAM!$A198),'C-E'!$A$13:$J$1001,C$39,FALSE),\"\")","v":""},{"$f":"IFERROR(VLOOKUP(SMALL('C-E'!$A$13:$A$1001,RC_EXAM!$A198),'C-E'!$A$13:$J$1001,D$39,FALSE),\"\")","v":""},{"$f":"IFERROR(VLOOKUP(SMALL('C-E'!$A$13:$A$1001,RC_EXAM!$A198),'C-E'!$A$13:$J$1001,E$39,FALSE),\"\")","v":""},null,{"$f":"IFERROR(VLOOKUP(SMALL('C-E'!$A$13:$A$1001,RC_EXAM!$A198),'C-E'!$A$13:$J$1001,G$39,FALSE),\"\")","v":""}]
[158,{"$f":"IFERROR(VLOOKUP(SMALL('C-E'!$A$13:$A$1001,RC_EXAM!$A199),'C-E'!$A$13:$J$1001,B$39,FALSE),\"\")","v":""},{"$f":"IFERROR(VLOOKUP(SMALL('C-E'!$A$13:$A$1001,RC_EXAM!$A199),'C-E'!$A$13:$J$1001,C$39,FALSE),\"\")","v":""},{"$f":"IFERROR(VLOOKUP(SMALL('C-E'!$A$13:$A$1001,RC_EXAM!$A199),'C-E'!$A$13:$J$1001,D$39,FALSE),\"\")","v":""},{"$f":"IFERROR(VLOOKUP(SMALL('C-E'!$A$13:$A$1001,RC_EXAM!$A199),'C-E'!$A$13:$J$1001,E$39,FALSE),\"\")","v":""},null,{"$f":"IFERROR(VLOOKUP(SMALL('C-E'!$A$13:$A$1001,RC_EXAM!$A199),'C-E'!$A$13:$J$1001,G$39,FALSE),\"\")","v":""}]
[159,{"$f":"IFERROR(VLOOKUP(SMALL('C-E'!$A$13:$A$1001,RC_EXAM!$A200),'C-E'!$A$13:$J$1001,B$39,FALSE),\"\")","v":""},{"$f":"IFERROR(VLOOKUP(SMALL('C-E'!$A$13:$A$1001,RC_EXAM!$A200),'C-E'!$A$13:$J$1001,C$39,FALSE),\"\")","v":""},{"$f":"IFERROR(VLOOKUP(SMALL('C-E'!$A$13:$A$1001,RC_EXAM!$A200),'C-E'!$A$13:$J$1001,D$39,FALSE),\"\")","v":""},{"$f":"IFERROR(VLOOKUP(SMALL('C-E'!$A$13:$A$1001,RC_EXAM!$A200),'C-E'!$A$13:$J$1001,E$39,FALSE),\"\")","v":""},null,{"$f":"IFERROR(VLOOKUP(SMALL('C-E'!$A$13:$A$1001,RC_EXAM!$A200),'C-E'!$A$13:$J$1001,G$39,FALSE),\"\")","v":""}]
[160,{"$f":"IFERROR(VLOOKUP(SMALL('C-E'!$A$13:$A$1001,RC_EXAM!$A201),'C-E'!$A$13:$J$1001,B$39,FALSE),\"\")","v":""},{"$f":"IFERROR(VLOOKUP(SMALL('C-E'!$A$13:$A$1001,RC_EXAM!$A201),'C-E'!$A$13:$J$1001,C$39,FALSE),\"\")","v":""},{"$f":"IFERROR(VLOOKUP(SMALL('C-E'!$A$13:$A$1001,RC_EXAM!$A201),'C-E'!$A$13:$J$1001,D$39,FALSE),\"\")","v":""},{"$f":"IFERROR(VLOOKUP(SMALL('C-E'!$A$13:$A$1001,RC_EXAM!$A201),'C-E'!$A$13:$J$1001,E$39,FALSE),\"\")","v":""},null,{"$f":"IFERROR(VLOOKUP(SMALL('C-E'!$A$13:$A$1001,RC_EXAM!$A201),'C-E'!$A$13:$J$1001,G$39,FALSE),\"\")","v":""}]
[161,{"$f":"IFERROR(VLOOKUP(SMALL('C-E'!$A$13:$A$1001,RC_EXAM!$A202),'C-E'!$A$13:$J$1001,B$39,FALSE),\"\")","v":""},{"$f":"IFERROR(VLOOKUP(SMALL('C-E'!$A$13:$A$1001,RC_EXAM!$A202),'C-E'!$A$13:$J$1001,C$39,FALSE),\"\")","v":""},{"$f":"IFERROR(VLOOKUP(SMALL('C-E'!$A$13:$A$1001,RC_EXAM!$A202),'C-E'!$A$13:$J$1001,D$39,FALSE),\"\")","v":""},{"$f":"IFERROR(VLOOKUP(SMALL('C-E'!$A$13:$A$1001,RC_EXAM!$A202),'C-E'!$A$13:$J$1001,E$39,FALSE),\"\")","v":""},null,{"$f":"IFERROR(VLOOKUP(SMALL('C-E'!$A$13:$A$1001,RC_EXAM!$A202),'C-E'!$A$13:$J$1001,G$39,FALSE),\"\")","v":""}]
[162,{"$f":"IFERROR(VLOOKUP(SMALL('C-E'!$A$13:$A$1001,RC_EXAM!$A203),'C-E'!$A$13:$J$1001,B$39,FALSE),\"\")","v":""},{"$f":"IFERROR(VLOOKUP(SMALL('C-E'!$A$13:$A$1001,RC_EXAM!$A203),'C-E'!$A$13:$J$1001,C$39,FALSE),\"\")","v":""},{"$f":"IFERROR(VLOOKUP(SMALL('C-E'!$A$13:$A$1001,RC_EXAM!$A203),'C-E'!$A$13:$J$1001,D$39,FALSE),\"\")","v":""},{"$f":"IFERROR(VLOOKUP(SMALL('C-E'!$A$13:$A$1001,RC_EXAM!$A203),'C-E'!$A$13:$J$1001,E$39,FALSE),\"\")","v":""},null,{"$f":"IFERROR(VLOOKUP(SMALL('C-E'!$A$13:$A$1001,RC_EXAM!$A203),'C-E'!$A$13:$J$1001,G$39,FALSE),\"\")","v":""}]
[163,{"$f":"IFERROR(VLOOKUP(SMALL('C-E'!$A$13:$A$1001,RC_EXAM!$A204),'C-E'!$A$13:$J$1001,B$39,FALSE),\"\")","v":""},{"$f":"IFERROR(VLOOKUP(SMALL('C-E'!$A$13:$A$1001,RC_EXAM!$A204),'C-E'!$A$13:$J$1001,C$39,FALSE),\"\")","v":""},{"$f":"IFERROR(VLOOKUP(SMALL('C-E'!$A$13:$A$1001,RC_EXAM!$A204),'C-E'!$A$13:$J$1001,D$39,FALSE),\"\")","v":""},{"$f":"IFERROR(VLOOKUP(SMALL('C-E'!$A$13:$A$1001,RC_EXAM!$A204),'C-E'!$A$13:$J$1001,E$39,FALSE),\"\")","v":""},null,{"$f":"IFERROR(VLOOKUP(SMALL('C-E'!$A$13:$A$1001,RC_EXAM!$A204),'C-E'!$A$13:$J$1001,G$39,FALSE),\"\")","v":""}]
[164,{"$f":"IFERROR(VLOOKUP(SMALL('C-E'!$A$13:$A$1001,RC_EXAM!$A205),'C-E'!$A$13:$J$1001,B$39,FALSE),\"\")","v":""},{"$f":"IFERROR(VLOOKUP(SMALL('C-E'!$A$13:$A$1001,RC_EXAM!$A205),'C-E'!$A$13:$J$1001,C$39,FALSE),\"\")","v":""},{"$f":"IFERROR(VLOOKUP(SMALL('C-E'!$A$13:$A$1001,RC_EXAM!$A205),'C-E'!$A$13:$J$1001,D$39,FALSE),\"\")","v":""},{"$f":"IFERROR(VLOOKUP(SMALL('C-E'!$A$13:$A$1001,RC_EXAM!$A205),'C-E'!$A$13:$J$1001,E$39,FALSE),\"\")","v":""},null,{"$f":"IFERROR(VLOOKUP(SMALL('C-E'!$A$13:$A$1001,RC_EXAM!$A205),'C-E'!$A$13:$J$1001,G$39,FALSE),\"\")","v":""}]
[165,{"$f":"IFERROR(VLOOKUP(SMALL('C-E'!$A$13:$A$1001,RC_EXAM!$A206),'C-E'!$A$13:$J$1001,B$39,FALSE),\"\")","v":""},{"$f":"IFERROR(VLOOKUP(SMALL('C-E'!$A$13:$A$1001,RC_EXAM!$A206),'C-E'!$A$13:$J$1001,C$39,FALSE),\"\")","v":""},{"$f":"IFERROR(VLOOKUP(SMALL('C-E'!$A$13:$A$1001,RC_EXAM!$A206),'C-E'!$A$13:$J$1001,D$39,FALSE),\"\")","v":""},{"$f":"IFERROR(VLOOKUP(SMALL('C-E'!$A$13:$A$1001,RC_EXAM!$A206),'C-E'!$A$13:$J$1001,E$39,FALSE),\"\")","v":""},null,{"$f":"IFERROR(VLOOKUP(SMALL('C-E'!$A$13:$A$1001,RC_EXAM!$A206),'C-E'!$A$13:$J$1001,G$39,FALSE),\"\")","v":""}]
[166,{"$f":"IFERROR(VLOOKUP(SMALL('C-E'!$A$13:$A$1001,RC_EXAM!$A207),'C-E'!$A$13:$J$1001,B$39,FALSE),\"\")","v":""},{"$f":"IFERROR(VLOOKUP(SMALL('C-E'!$A$13:$A$1001,RC_EXAM!$A207),'C-E'!$A$13:$J$1001,C$39,FALSE),\"\")","v":""},{"$f":"IFERROR(VLOOKUP(SMALL('C-E'!$A$13:$A$1001,RC_EXAM!$A207),'C-E'!$A$13:$J$1001,D$39,FALSE),\"\")","v":""},{"$f":"IFERROR(VLOOKUP(SMALL('C-E'!$A$13:$A$1001,RC_EXAM!$A207),'C-E'!$A$13:$J$1001,E$39,FALSE),\"\")","v":""},null,{"$f":"IFERROR(VLOOKUP(SMALL('C-E'!$A$13:$A$1001,RC_EXAM!$A207),'C-E'!$A$13:$J$1001,G$39,FALSE),\"\")","v":""}]
[167,{"$f":"IFERROR(VLOOKUP(SMALL('C-E'!$A$13:$A$1001,RC_EXAM!$A208),'C-E'!$A$13:$J$1001,B$39,FALSE),\"\")","v":""},{"$f":"IFERROR(VLOOKUP(SMALL('C-E'!$A$13:$A$1001,RC_EXAM!$A208),'C-E'!$A$13:$J$1001,C$39,FALSE),\"\")","v":""},{"$f":"IFERROR(VLOOKUP(SMALL('C-E'!$A$13:$A$1001,RC_EXAM!$A208),'C-E'!$A$13:$J$1001,D$39,FALSE),\"\")","v":""},{"$f":"IFERROR(VLOOKUP(SMALL('C-E'!$A$13:$A$1001,RC_EXAM!$A208),'C-E'!$A$13:$J$1001,E$39,FALSE),\"\")","v":""},null,{"$f":"IFERROR(VLOOKUP(SMALL('C-E'!$A$13:$A$1001,RC_EXAM!$A208),'C-E'!$A$13:$J$1001,G$39,FALSE),\"\")","v":""}]
[168,{"$f":"IFERROR(VLOOKUP(SMALL('C-E'!$A$13:$A$1001,RC_EXAM!$A209),'C-E'!$A$13:$J$1001,B$39,FALSE),\"\")","v":""},{"$f":"IFERROR(VLOOKUP(SMALL('C-E'!$A$13:$A$1001,RC_EXAM!$A209),'C-E'!$A$13:$J$1001,C$39,FALSE),\"\")","v":""},{"$f":"IFERROR(VLOOKUP(SMALL('C-E'!$A$13:$A$1001,RC_EXAM!$A209),'C-E'!$A$13:$J$1001,D$39,FALSE),\"\")","v":""},{"$f":"IFERROR(VLOOKUP(SMALL('C-E'!$A$13:$A$1001,RC_EXAM!$A209),'C-E'!$A$13:$J$1001,E$39,FALSE),\"\")","v":""},null,{"$f":"IFERROR(VLOOKUP(SMALL('C-E'!$A$13:$A$1001,RC_EXAM!$A209),'C-E'!$A$13:$J$1001,G$39,FALSE),\"\")","v":""}]
[169,{"$f":"IFERROR(VLOOKUP(SMALL('C-E'!$A$13:$A$1001,RC_EXAM!$A210),'C-E'!$A$13:$J$1001,B$39,FALSE),\"\")","v":""},{"$f":"IFERROR(VLOOKUP(SMALL('C-E'!$A$13:$A$1001,RC_EXAM!$A210),'C-E'!$A$13:$J$1001,C$39,FALSE),\"\")","v":""},{"$f":"IFERROR(VLOOKUP(SMALL('C-E'!$A$13:$A$1001,RC_EXAM!$A210),'C-E'!$A$13:$J$1001,D$39,FALSE),\"\")","v":""},{"$f":"IFERROR(VLOOKUP(SMALL('C-E'!$A$13:$A$1001,RC_EXAM!$A210),'C-E'!$A$13:$J$1001,E$39,FALSE),\"\")","v":""},null,{"$f":"IFERROR(VLOOKUP(SMALL('C-E'!$A$13:$A$1001,RC_EXAM!$A210),'C-E'!$A$13:$J$1001,G$39,FALSE),\"\")","v":""}]
[170,{"$f":"IFERROR(VLOOKUP(SMALL('C-E'!$A$13:$A$1001,RC_EXAM!$A211),'C-E'!$A$13:$J$1001,B$39,FALSE),\"\")","v":""},{"$f":"IFERROR(VLOOKUP(SMALL('C-E'!$A$13:$A$1001,RC_EXAM!$A211),'C-E'!$A$13:$J$1001,C$39,FALSE),\"\")","v":""},{"$f":"IFERROR(VLOOKUP(SMALL('C-E'!$A$13:$A$1001,RC_EXAM!$A211),'C-E'!$A$13:$J$1001,D$39,FALSE),\"\")","v":""},{"$f":"IFERROR(VLOOKUP(SMALL('C-E'!$A$13:$A$1001,RC_EXAM!$A211),'C-E'!$A$13:$J$1001,E$39,FALSE),\"\")","v":""},null,{"$f":"IFERROR(VLOOKUP(SMALL('C-E'!$A$13:$A$1001,RC_EXAM!$A211),'C-E'!$A$13:$J$1001,G$39,FALSE),\"\")","v":""}]
[171,{"$f":"IFERROR(VLOOKUP(SMALL('C-E'!$A$13:$A$1001,RC_EXAM!$A212),'C-E'!$A$13:$J$1001,B$39,FALSE),\"\")","v":""},{"$f":"IFERROR(VLOOKUP(SMALL('C-E'!$A$13:$A$1001,RC_EXAM!$A212),'C-E'!$A$13:$J$1001,C$39,FALSE),\"\")","v":""},{"$f":"IFERROR(VLOOKUP(SMALL('C-E'!$A$13:$A$1001,RC_EXAM!$A212),'C-E'!$A$13:$J$1001,D$39,FALSE),\"\")","v":""},{"$f":"IFERROR(VLOOKUP(SMALL('C-E'!$A$13:$A$1001,RC_EXAM!$A212),'C-E'!$A$13:$J$1001,E$39,FALSE),\"\")","v":""},null,{"$f":"IFERROR(VLOOKUP(SMALL('C-E'!$A$13:$A$1001,RC_EXAM!$A212),'C-E'!$A$13:$J$1001,G$39,FALSE),\"\")","v":""}]
[172,{"$f":"IFERROR(VLOOKUP(SMALL('C-E'!$A$13:$A$1001,RC_EXAM!$A213),'C-E'!$A$13:$J$1001,B$39,FALSE),\"\")","v":""},{"$f":"IFERROR(VLOOKUP(SMALL('C-E'!$A$13:$A$1001,RC_EXAM!$A213),'C-E'!$A$13:$J$1001,C$39,FALSE),\"\")","v":""},{"$f":"IFERROR(VLOOKUP(SMALL('C-E'!$A$13:$A$1001,RC_EXAM!$A213),'C-E'!$A$13:$J$1001,D$39,FALSE),\"\")","v":""},{"$f":"IFERROR(VLOOKUP(SMALL('C-E'!$A$13:$A$1001,RC_EXAM!$A213),'C-E'!$A$13:$J$1001,E$39,FALSE),\"\")","v":""},null,{"$f":"IFERROR(VLOOKUP(SMALL('C-E'!$A$13:$A$1001,RC_EXAM!$A213),'C-E'!$A$13:$J$1001,G$39,FALSE),\"\")","v":""}]
[173,{"$f":"IFERROR(VLOOKUP(SMALL('C-E'!$A$13:$A$1001,RC_EXAM!$A214),'C-E'!$A$13:$J$1001,B$39,FALSE),\"\")","v":""},{"$f":"IFERROR(VLOOKUP(SMALL('C-E'!$A$13:$A$1001,RC_EXAM!$A214),'C-E'!$A$13:$J$1001,C$39,FALSE),\"\")","v":""},{"$f":"IFERROR(VLOOKUP(SMALL('C-E'!$A$13:$A$1001,RC_EXAM!$A214),'C-E'!$A$13:$J$1001,D$39,FALSE),\"\")","v":""},{"$f":"IFERROR(VLOOKUP(SMALL('C-E'!$A$13:$A$1001,RC_EXAM!$A214),'C-E'!$A$13:$J$1001,E$39,FALSE),\"\")","v":""},null,{"$f":"IFERROR(VLOOKUP(SMALL('C-E'!$A$13:$A$1001,RC_EXAM!$A214),'C-E'!$A$13:$J$1001,G$39,FALSE),\"\")","v":""}]
[174,{"$f":"IFERROR(VLOOKUP(SMALL('C-E'!$A$13:$A$1001,RC_EXAM!$A215),'C-E'!$A$13:$J$1001,B$39,FALSE),\"\")","v":""},{"$f":"IFERROR(VLOOKUP(SMALL('C-E'!$A$13:$A$1001,RC_EXAM!$A215),'C-E'!$A$13:$J$1001,C$39,FALSE),\"\")","v":""},{"$f":"IFERROR(VLOOKUP(SMALL('C-E'!$A$13:$A$1001,RC_EXAM!$A215),'C-E'!$A$13:$J$1001,D$39,FALSE),\"\")","v":""},{"$f":"IFERROR(VLOOKUP(SMALL('C-E'!$A$13:$A$1001,RC_EXAM!$A215),'C-E'!$A$13:$J$1001,E$39,FALSE),\"\")","v":""},null,{"$f":"IFERROR(VLOOKUP(SMALL('C-E'!$A$13:$A$1001,RC_EXAM!$A215),'C-E'!$A$13:$J$1001,G$39,FALSE),\"\")","v":""}]
[175,{"$f":"IFERROR(VLOOKUP(SMALL('C-E'!$A$13:$A$1001,RC_EXAM!$A216),'C-E'!$A$13:$J$1001,B$39,FALSE),\"\")","v":""},{"$f":"IFERROR(VLOOKUP(SMALL('C-E'!$A$13:$A$1001,RC_EXAM!$A216),'C-E'!$A$13:$J$1001,C$39,FALSE),\"\")","v":""},{"$f":"IFERROR(VLOOKUP(SMALL('C-E'!$A$13:$A$1001,RC_EXAM!$A216),'C-E'!$A$13:$J$1001,D$39,FALSE),\"\")","v":""},{"$f":"IFERROR(VLOOKUP(SMALL('C-E'!$A$13:$A$1001,RC_EXAM!$A216),'C-E'!$A$13:$J$1001,E$39,FALSE),\"\")","v":""},null,{"$f":"IFERROR(VLOOKUP(SMALL('C-E'!$A$13:$A$1001,RC_EXAM!$A216),'C-E'!$A$13:$J$1001,G$39,FALSE),\"\")","v":""}]
[176,{"$f":"IFERROR(VLOOKUP(SMALL('C-E'!$A$13:$A$1001,RC_EXAM!$A217),'C-E'!$A$13:$J$1001,B$39,FALSE),\"\")","v":""},{"$f":"IFERROR(VLOOKUP(SMALL('C-E'!$A$13:$A$1001,RC_EXAM!$A217),'C-E'!$A$13:$J$1001,C$39,FALSE),\"\")","v":""},{"$f":"IFERROR(VLOOKUP(SMALL('C-E'!$A$13:$A$1001,RC_EXAM!$A217),'C-E'!$A$13:$J$1001,D$39,FALSE),\"\")","v":""},{"$f":"IFERROR(VLOOKUP(SMALL('C-E'!$A$13:$A$1001,RC_EXAM!$A217),'C-E'!$A$13:$J$1001,E$39,FALSE),\"\")","v":""},null,{"$f":"IFERROR(VLOOKUP(SMALL('C-E'!$A$13:$A$1001,RC_EXAM!$A217),'C-E'!$A$13:$J$1001,G$39,FALSE),\"\")","v":""}]
[177,{"$f":"IFERROR(VLOOKUP(SMALL('C-E'!$A$13:$A$1001,RC_EXAM!$A218),'C-E'!$A$13:$J$1001,B$39,FALSE),\"\")","v":""},{"$f":"IFERROR(VLOOKUP(SMALL('C-E'!$A$13:$A$1001,RC_EXAM!$A218),'C-E'!$A$13:$J$1001,C$39,FALSE),\"\")","v":""},{"$f":"IFERROR(VLOOKUP(SMALL('C-E'!$A$13:$A$1001,RC_EXAM!$A218),'C-E'!$A$13:$J$1001,D$39,FALSE),\"\")","v":""},{"$f":"IFERROR(VLOOKUP(SMALL('C-E'!$A$13:$A$1001,RC_EXAM!$A218),'C-E'!$A$13:$J$1001,E$39,FALSE),\"\")","v":""},null,{"$f":"IFERROR(VLOOKUP(SMALL('C-E'!$A$13:$A$1001,RC_EXAM!$A218),'C-E'!$A$13:$J$1001,G$39,FALSE),\"\")","v":""}]
[178,{"$f":"IFERROR(VLOOKUP(SMALL('C-E'!$A$13:$A$1001,RC_EXAM!$A219),'C-E'!$A$13:$J$1001,B$39,FALSE),\"\")","v":""},{"$f":"IFERROR(VLOOKUP(SMALL('C-E'!$A$13:$A$1001,RC_EXAM!$A219),'C-E'!$A$13:$J$1001,C$39,FALSE),\"\")","v":""},{"$f":"IFERROR(VLOOKUP(SMALL('C-E'!$A$13:$A$1001,RC_EXAM!$A219),'C-E'!$A$13:$J$1001,D$39,FALSE),\"\")","v":""},{"$f":"IFERROR(VLOOKUP(SMALL('C-E'!$A$13:$A$1001,RC_EXAM!$A219),'C-E'!$A$13:$J$1001,E$39,FALSE),\"\")","v":""},null,{"$f":"IFERROR(VLOOKUP(SMALL('C-E'!$A$13:$A$1001,RC_EXAM!$A219),'C-E'!$A$13:$J$1001,G$39,FALSE),\"\")","v":""}]
[179,{"$f":"IFERROR(VLOOKUP(SMALL('C-E'!$A$13:$A$1001,RC_EXAM!$A220),'C-E'!$A$13:$J$1001,B$39,FALSE),\"\")","v":""},{"$f":"IFERROR(VLOOKUP(SMALL('C-E'!$A$13:$A$1001,RC_EXAM!$A220),'C-E'!$A$13:$J$1001,C$39,FALSE),\"\")","v":""},{"$f":"IFERROR(VLOOKUP(SMALL('C-E'!$A$13:$A$1001,RC_EXAM!$A220),'C-E'!$A$13:$J$1001,D$39,FALSE),\"\")","v":""},{"$f":"IFERROR(VLOOKUP(SMALL('C-E'!$A$13:$A$1001,RC_EXAM!$A220),'C-E'!$A$13:$J$1001,E$39,FALSE),\"\")","v":""},null,{"$f":"IFERROR(VLOOKUP(SMALL('C-E'!$A$13:$A$1001,RC_EXAM!$A220),'C-E'!$A$13:$J$1001,G$39,FALSE),\"\")","v":""}]
[180,{"$f":"IFERROR(VLOOKUP(SMALL('C-E'!$A$13:$A$1001,RC_EXAM!$A221),'C-E'!$A$13:$J$1001,B$39,FALSE),\"\")","v":""},{"$f":"IFERROR(VLOOKUP(SMALL('C-E'!$A$13:$A$1001,RC_EXAM!$A221),'C-E'!$A$13:$J$1001,C$39,FALSE),\"\")","v":""},{"$f":"IFERROR(VLOOKUP(SMALL('C-E'!$A$13:$A$1001,RC_EXAM!$A221),'C-E'!$A$13:$J$1001,D$39,FALSE),\"\")","v":""},{"$f":"IFERROR(VLOOKUP(SMALL('C-E'!$A$13:$A$1001,RC_EXAM!$A221),'C-E'!$A$13:$J$1001,E$39,FALSE),\"\")","v":""},null,{"$f":"IFERROR(VLOOKUP(SMALL('C-E'!$A$13:$A$1001,RC_EXAM!$A221),'C-E'!$A$13:$J$1001,G$39,FALSE),\"\")","v":""}]
[181,{"$f":"IFERROR(VLOOKUP(SMALL('C-E'!$A$13:$A$1001,RC_EXAM!$A222),'C-E'!$A$13:$J$1001,B$39,FALSE),\"\")","v":""},{"$f":"IFERROR(VLOOKUP(SMALL('C-E'!$A$13:$A$1001,RC_EXAM!$A222),'C-E'!$A$13:$J$1001,C$39,FALSE),\"\")","v":""},{"$f":"IFERROR(VLOOKUP(SMALL('C-E'!$A$13:$A$1001,RC_EXAM!$A222),'C-E'!$A$13:$J$1001,D$39,FALSE),\"\")","v":""},{"$f":"IFERROR(VLOOKUP(SMALL('C-E'!$A$13:$A$1001,RC_EXAM!$A222),'C-E'!$A$13:$J$1001,E$39,FALSE),\"\")","v":""},null,{"$f":"IFERROR(VLOOKUP(SMALL('C-E'!$A$13:$A$1001,RC_EXAM!$A222),'C-E'!$A$13:$J$1001,G$39,FALSE),\"\")","v":""}]
[182,{"$f":"IFERROR(VLOOKUP(SMALL('C-E'!$A$13:$A$1001,RC_EXAM!$A223),'C-E'!$A$13:$J$1001,B$39,FALSE),\"\")","v":""},{"$f":"IFERROR(VLOOKUP(SMALL('C-E'!$A$13:$A$1001,RC_EXAM!$A223),'C-E'!$A$13:$J$1001,C$39,FALSE),\"\")","v":""},{"$f":"IFERROR(VLOOKUP(SMALL('C-E'!$A$13:$A$1001,RC_EXAM!$A223),'C-E'!$A$13:$J$1001,D$39,FALSE),\"\")","v":""},{"$f":"IFERROR(VLOOKUP(SMALL('C-E'!$A$13:$A$1001,RC_EXAM!$A223),'C-E'!$A$13:$J$1001,E$39,FALSE),\"\")","v":""},null,{"$f":"IFERROR(VLOOKUP(SMALL('C-E'!$A$13:$A$1001,RC_EXAM!$A223),'C-E'!$A$13:$J$1001,G$39,FALSE),\"\")","v":""}]
[183,{"$f":"IFERROR(VLOOKUP(SMALL('C-E'!$A$13:$A$1001,RC_EXAM!$A224),'C-E'!$A$13:$J$1001,B$39,FALSE),\"\")","v":""},{"$f":"IFERROR(VLOOKUP(SMALL('C-E'!$A$13:$A$1001,RC_EXAM!$A224),'C-E'!$A$13:$J$1001,C$39,FALSE),\"\")","v":""},{"$f":"IFERROR(VLOOKUP(SMALL('C-E'!$A$13:$A$1001,RC_EXAM!$A224),'C-E'!$A$13:$J$1001,D$39,FALSE),\"\")","v":""},{"$f":"IFERROR(VLOOKUP(SMALL('C-E'!$A$13:$A$1001,RC_EXAM!$A224),'C-E'!$A$13:$J$1001,E$39,FALSE),\"\")","v":""},null,{"$f":"IFERROR(VLOOKUP(SMALL('C-E'!$A$13:$A$1001,RC_EXAM!$A224),'C-E'!$A$13:$J$1001,G$39,FALSE),\"\")","v":""}]
[184,{"$f":"IFERROR(VLOOKUP(SMALL('C-E'!$A$13:$A$1001,RC_EXAM!$A225),'C-E'!$A$13:$J$1001,B$39,FALSE),\"\")","v":""},{"$f":"IFERROR(VLOOKUP(SMALL('C-E'!$A$13:$A$1001,RC_EXAM!$A225),'C-E'!$A$13:$J$1001,C$39,FALSE),\"\")","v":""},{"$f":"IFERROR(VLOOKUP(SMALL('C-E'!$A$13:$A$1001,RC_EXAM!$A225),'C-E'!$A$13:$J$1001,D$39,FALSE),\"\")","v":""},{"$f":"IFERROR(VLOOKUP(SMALL('C-E'!$A$13:$A$1001,RC_EXAM!$A225),'C-E'!$A$13:$J$1001,E$39,FALSE),\"\")","v":""},null,{"$f":"IFERROR(VLOOKUP(SMALL('C-E'!$A$13:$A$1001,RC_EXAM!$A225),'C-E'!$A$13:$J$1001,G$39,FALSE),\"\")","v":""}]
[185,{"$f":"IFERROR(VLOOKUP(SMALL('C-E'!$A$13:$A$1001,RC_EXAM!$A226),'C-E'!$A$13:$J$1001,B$39,FALSE),\"\")","v":""},{"$f":"IFERROR(VLOOKUP(SMALL('C-E'!$A$13:$A$1001,RC_EXAM!$A226),'C-E'!$A$13:$J$1001,C$39,FALSE),\"\")","v":""},{"$f":"IFERROR(VLOOKUP(SMALL('C-E'!$A$13:$A$1001,RC_EXAM!$A226),'C-E'!$A$13:$J$1001,D$39,FALSE),\"\")","v":""},{"$f":"IFERROR(VLOOKUP(SMALL('C-E'!$A$13:$A$1001,RC_EXAM!$A226),'C-E'!$A$13:$J$1001,E$39,FALSE),\"\")","v":""},null,{"$f":"IFERROR(VLOOKUP(SMALL('C-E'!$A$13:$A$1001,RC_EXAM!$A226),'C-E'!$A$13:$J$1001,G$39,FALSE),\"\")","v":""}]
[186,{"$f":"IFERROR(VLOOKUP(SMALL('C-E'!$A$13:$A$1001,RC_EXAM!$A227),'C-E'!$A$13:$J$1001,B$39,FALSE),\"\")","v":""},{"$f":"IFERROR(VLOOKUP(SMALL('C-E'!$A$13:$A$1001,RC_EXAM!$A227),'C-E'!$A$13:$J$1001,C$39,FALSE),\"\")","v":""},{"$f":"IFERROR(VLOOKUP(SMALL('C-E'!$A$13:$A$1001,RC_EXAM!$A227),'C-E'!$A$13:$J$1001,D$39,FALSE),\"\")","v":""},{"$f":"IFERROR(VLOOKUP(SMALL('C-E'!$A$13:$A$1001,RC_EXAM!$A227),'C-E'!$A$13:$J$1001,E$39,FALSE),\"\")","v":""},null,{"$f":"IFERROR(VLOOKUP(SMALL('C-E'!$A$13:$A$1001,RC_EXAM!$A227),'C-E'!$A$13:$J$1001,G$39,FALSE),\"\")","v":""}]
[187,{"$f":"IFERROR(VLOOKUP(SMALL('C-E'!$A$13:$A$1001,RC_EXAM!$A228),'C-E'!$A$13:$J$1001,B$39,FALSE),\"\")","v":""},{"$f":"IFERROR(VLOOKUP(SMALL('C-E'!$A$13:$A$1001,RC_EXAM!$A228),'C-E'!$A$13:$J$1001,C$39,FALSE),\"\")","v":""},{"$f":"IFERROR(VLOOKUP(SMALL('C-E'!$A$13:$A$1001,RC_EXAM!$A228),'C-E'!$A$13:$J$1001,D$39,FALSE),\"\")","v":""},{"$f":"IFERROR(VLOOKUP(SMALL('C-E'!$A$13:$A$1001,RC_EXAM!$A228),'C-E'!$A$13:$J$1001,E$39,FALSE),\"\")","v":""},null,{"$f":"IFERROR(VLOOKUP(SMALL('C-E'!$A$13:$A$1001,RC_EXAM!$A228),'C-E'!$A$13:$J$1001,G$39,FALSE),\"\")","v":""}]
[188,{"$f":"IFERROR(VLOOKUP(SMALL('C-E'!$A$13:$A$1001,RC_EXAM!$A229),'C-E'!$A$13:$J$1001,B$39,FALSE),\"\")","v":""},{"$f":"IFERROR(VLOOKUP(SMALL('C-E'!$A$13:$A$1001,RC_EXAM!$A229),'C-E'!$A$13:$J$1001,C$39,FALSE),\"\")","v":""},{"$f":"IFERROR(VLOOKUP(SMALL('C-E'!$A$13:$A$1001,RC_EXAM!$A229),'C-E'!$A$13:$J$1001,D$39,FALSE),\"\")","v":""},{"$f":"IFERROR(VLOOKUP(SMALL('C-E'!$A$13:$A$1001,RC_EXAM!$A229),'C-E'!$A$13:$J$1001,E$39,FALSE),\"\")","v":""},null,{"$f":"IFERROR(VLOOKUP(SMALL('C-E'!$A$13:$A$1001,RC_EXAM!$A229),'C-E'!$A$13:$J$1001,G$39,FALSE),\"\")","v":""}]
[189,{"$f":"IFERROR(VLOOKUP(SMALL('C-E'!$A$13:$A$1001,RC_EXAM!$A230),'C-E'!$A$13:$J$1001,B$39,FALSE),\"\")","v":""},{"$f":"IFERROR(VLOOKUP(SMALL('C-E'!$A$13:$A$1001,RC_EXAM!$A230),'C-E'!$A$13:$J$1001,C$39,FALSE),\"\")","v":""},{"$f":"IFERROR(VLOOKUP(SMALL('C-E'!$A$13:$A$1001,RC_EXAM!$A230),'C-E'!$A$13:$J$1001,D$39,FALSE),\"\")","v":""},{"$f":"IFERROR(VLOOKUP(SMALL('C-E'!$A$13:$A$1001,RC_EXAM!$A230),'C-E'!$A$13:$J$1001,E$39,FALSE),\"\")","v":""},null,{"$f":"IFERROR(VLOOKUP(SMALL('C-E'!$A$13:$A$1001,RC_EXAM!$A230),'C-E'!$A$13:$J$1001,G$39,FALSE),\"\")","v":""}]
[190,{"$f":"IFERROR(VLOOKUP(SMALL('C-E'!$A$13:$A$1001,RC_EXAM!$A231),'C-E'!$A$13:$J$1001,B$39,FALSE),\"\")","v":""},{"$f":"IFERROR(VLOOKUP(SMALL('C-E'!$A$13:$A$1001,RC_EXAM!$A231),'C-E'!$A$13:$J$1001,C$39,FALSE),\"\")","v":""},{"$f":"IFERROR(VLOOKUP(SMALL('C-E'!$A$13:$A$1001,RC_EXAM!$A231),'C-E'!$A$13:$J$1001,D$39,FALSE),\"\")","v":""},{"$f":"IFERROR(VLOOKUP(SMALL('C-E'!$A$13:$A$1001,RC_EXAM!$A231),'C-E'!$A$13:$J$1001,E$39,FALSE),\"\")","v":""},null,{"$f":"IFERROR(VLOOKUP(SMALL('C-E'!$A$13:$A$1001,RC_EXAM!$A231),'C-E'!$A$13:$J$1001,G$39,FALSE),\"\")","v":""}]
[191,{"$f":"IFERROR(VLOOKUP(SMALL('C-E'!$A$13:$A$1001,RC_EXAM!$A232),'C-E'!$A$13:$J$1001,B$39,FALSE),\"\")","v":""},{"$f":"IFERROR(VLOOKUP(SMALL('C-E'!$A$13:$A$1001,RC_EXAM!$A232),'C-E'!$A$13:$J$1001,C$39,FALSE),\"\")","v":""},{"$f":"IFERROR(VLOOKUP(SMALL('C-E'!$A$13:$A$1001,RC_EXAM!$A232),'C-E'!$A$13:$J$1001,D$39,FALSE),\"\")","v":""},{"$f":"IFERROR(VLOOKUP(SMALL('C-E'!$A$13:$A$1001,RC_EXAM!$A232),'C-E'!$A$13:$J$1001,E$39,FALSE),\"\")","v":""},null,{"$f":"IFERROR(VLOOKUP(SMALL('C-E'!$A$13:$A$1001,RC_EXAM!$A232),'C-E'!$A$13:$J$1001,G$39,FALSE),\"\")","v":""}]
[192,{"$f":"IFERROR(VLOOKUP(SMALL('C-E'!$A$13:$A$1001,RC_EXAM!$A233),'C-E'!$A$13:$J$1001,B$39,FALSE),\"\")","v":""},{"$f":"IFERROR(VLOOKUP(SMALL('C-E'!$A$13:$A$1001,RC_EXAM!$A233),'C-E'!$A$13:$J$1001,C$39,FALSE),\"\")","v":""},{"$f":"IFERROR(VLOOKUP(SMALL('C-E'!$A$13:$A$1001,RC_EXAM!$A233),'C-E'!$A$13:$J$1001,D$39,FALSE),\"\")","v":""},{"$f":"IFERROR(VLOOKUP(SMALL('C-E'!$A$13:$A$1001,RC_EXAM!$A233),'C-E'!$A$13:$J$1001,E$39,FALSE),\"\")","v":""},null,{"$f":"IFERROR(VLOOKUP(SMALL('C-E'!$A$13:$A$1001,RC_EXAM!$A233),'C-E'!$A$13:$J$1001,G$39,FALSE),\"\")","v":""}]
[193,{"$f":"IFERROR(VLOOKUP(SMALL('C-E'!$A$13:$A$1001,RC_EXAM!$A234),'C-E'!$A$13:$J$1001,B$39,FALSE),\"\")","v":""},{"$f":"IFERROR(VLOOKUP(SMALL('C-E'!$A$13:$A$1001,RC_EXAM!$A234),'C-E'!$A$13:$J$1001,C$39,FALSE),\"\")","v":""},{"$f":"IFERROR(VLOOKUP(SMALL('C-E'!$A$13:$A$1001,RC_EXAM!$A234),'C-E'!$A$13:$J$1001,D$39,FALSE),\"\")","v":""},{"$f":"IFERROR(VLOOKUP(SMALL('C-E'!$A$13:$A$1001,RC_EXAM!$A234),'C-E'!$A$13:$J$1001,E$39,FALSE),\"\")","v":""},null,{"$f":"IFERROR(VLOOKUP(SMALL('C-E'!$A$13:$A$1001,RC_EXAM!$A234),'C-E'!$A$13:$J$1001,G$39,FALSE),\"\")","v":""}]
[194,{"$f":"IFERROR(VLOOKUP(SMALL('C-E'!$A$13:$A$1001,RC_EXAM!$A235),'C-E'!$A$13:$J$1001,B$39,FALSE),\"\")","v":""},{"$f":"IFERROR(VLOOKUP(SMALL('C-E'!$A$13:$A$1001,RC_EXAM!$A235),'C-E'!$A$13:$J$1001,C$39,FALSE),\"\")","v":""},{"$f":"IFERROR(VLOOKUP(SMALL('C-E'!$A$13:$A$1001,RC_EXAM!$A235),'C-E'!$A$13:$J$1001,D$39,FALSE),\"\")","v":""},{"$f":"IFERROR(VLOOKUP(SMALL('C-E'!$A$13:$A$1001,RC_EXAM!$A235),'C-E'!$A$13:$J$1001,E$39,FALSE),\"\")","v":""},null,{"$f":"IFERROR(VLOOKUP(SMALL('C-E'!$A$13:$A$1001,RC_EXAM!$A235),'C-E'!$A$13:$J$1001,G$39,FALSE),\"\")","v":""}]
[195,{"$f":"IFERROR(VLOOKUP(SMALL('C-E'!$A$13:$A$1001,RC_EXAM!$A236),'C-E'!$A$13:$J$1001,B$39,FALSE),\"\")","v":""},{"$f":"IFERROR(VLOOKUP(SMALL('C-E'!$A$13:$A$1001,RC_EXAM!$A236),'C-E'!$A$13:$J$1001,C$39,FALSE),\"\")","v":""},{"$f":"IFERROR(VLOOKUP(SMALL('C-E'!$A$13:$A$1001,RC_EXAM!$A236),'C-E'!$A$13:$J$1001,D$39,FALSE),\"\")","v":""},{"$f":"IFERROR(VLOOKUP(SMALL('C-E'!$A$13:$A$1001,RC_EXAM!$A236),'C-E'!$A$13:$J$1001,E$39,FALSE),\"\")","v":""},null,{"$f":"IFERROR(VLOOKUP(SMALL('C-E'!$A$13:$A$1001,RC_EXAM!$A236),'C-E'!$A$13:$J$1001,G$39,FALSE),\"\")","v":""}]
[196,{"$f":"IFERROR(VLOOKUP(SMALL('C-E'!$A$13:$A$1001,RC_EXAM!$A237),'C-E'!$A$13:$J$1001,B$39,FALSE),\"\")","v":""},{"$f":"IFERROR(VLOOKUP(SMALL('C-E'!$A$13:$A$1001,RC_EXAM!$A237),'C-E'!$A$13:$J$1001,C$39,FALSE),\"\")","v":""},{"$f":"IFERROR(VLOOKUP(SMALL('C-E'!$A$13:$A$1001,RC_EXAM!$A237),'C-E'!$A$13:$J$1001,D$39,FALSE),\"\")","v":""},{"$f":"IFERROR(VLOOKUP(SMALL('C-E'!$A$13:$A$1001,RC_EXAM!$A237),'C-E'!$A$13:$J$1001,E$39,FALSE),\"\")","v":""},null,{"$f":"IFERROR(VLOOKUP(SMALL('C-E'!$A$13:$A$1001,RC_EXAM!$A237),'C-E'!$A$13:$J$1001,G$39,FALSE),\"\")","v":""}]
[197,{"$f":"IFERROR(VLOOKUP(SMALL('C-E'!$A$13:$A$1001,RC_EXAM!$A238),'C-E'!$A$13:$J$1001,B$39,FALSE),\"\")","v":""},{"$f":"IFERROR(VLOOKUP(SMALL('C-E'!$A$13:$A$1001,RC_EXAM!$A238),'C-E'!$A$13:$J$1001,C$39,FALSE),\"\")","v":""},{"$f":"IFERROR(VLOOKUP(SMALL('C-E'!$A$13:$A$1001,RC_EXAM!$A238),'C-E'!$A$13:$J$1001,D$39,FALSE),\"\")","v":""},{"$f":"IFERROR(VLOOKUP(SMALL('C-E'!$A$13:$A$1001,RC_EXAM!$A238),'C-E'!$A$13:$J$1001,E$39,FALSE),\"\")","v":""},null,{"$f":"IFERROR(VLOOKUP(SMALL('C-E'!$A$13:$A$1001,RC_EXAM!$A238),'C-E'!$A$13:$J$1001,G$39,FALSE),\"\")","v":""}]
[198,{"$f":"IFERROR(VLOOKUP(SMALL('C-E'!$A$13:$A$1001,RC_EXAM!$A239),'C-E'!$A$13:$J$1001,B$39,FALSE),\"\")","v":""},{"$f":"IFERROR(VLOOKUP(SMALL('C-E'!$A$13:$A$1001,RC_EXAM!$A239),'C-E'!$A$13:$J$1001,C$39,FALSE),\"\")","v":""},{"$f":"IFERROR(VLOOKUP(SMALL('C-E'!$A$13:$A$1001,RC_EXAM!$A239),'C-E'!$A$13:$J$1001,D$39,FALSE),\"\")","v":""},{"$f":"IFERROR(VLOOKUP(SMALL('C-E'!$A$13:$A$1001,RC_EXAM!$A239),'C-E'!$A$13:$J$1001,E$39,FALSE),\"\")","v":""},null,{"$f":"IFERROR(VLOOKUP(SMALL('C-E'!$A$13:$A$1001,RC_EXAM!$A239),'C-E'!$A$13:$J$1001,G$39,FALSE),\"\")","v":""}]
[199,{"$f":"IFERROR(VLOOKUP(SMALL('C-E'!$A$13:$A$1001,RC_EXAM!$A240),'C-E'!$A$13:$J$1001,B$39,FALSE),\"\")","v":""},{"$f":"IFERROR(VLOOKUP(SMALL('C-E'!$A$13:$A$1001,RC_EXAM!$A240),'C-E'!$A$13:$J$1001,C$39,FALSE),\"\")","v":""},{"$f":"IFERROR(VLOOKUP(SMALL('C-E'!$A$13:$A$1001,RC_EXAM!$A240),'C-E'!$A$13:$J$1001,D$39,FALSE),\"\")","v":""},{"$f":"IFERROR(VLOOKUP(SMALL('C-E'!$A$13:$A$1001,RC_EXAM!$A240),'C-E'!$A$13:$J$1001,E$39,FALSE),\"\")","v":""},null,{"$f":"IFERROR(VLOOKUP(SMALL('C-E'!$A$13:$A$1001,RC_EXAM!$A240),'C-E'!$A$13:$J$1001,G$39,FALSE),\"\")","v":""}]
[200,{"$f":"IFERROR(VLOOKUP(SMALL('C-E'!$A$13:$A$1001,RC_EXAM!$A241),'C-E'!$A$13:$J$1001,B$39,FALSE),\"\")","v":""},{"$f":"IFERROR(VLOOKUP(SMALL('C-E'!$A$13:$A$1001,RC_EXAM!$A241),'C-E'!$A$13:$J$1001,C$39,FALSE),\"\")","v":""},{"$f":"IFERROR(VLOOKUP(SMALL('C-E'!$A$13:$A$1001,RC_EXAM!$A241),'C-E'!$A$13:$J$1001,D$39,FALSE),\"\")","v":""},{"$f":"IFERROR(VLOOKUP(SMALL('C-E'!$A$13:$A$1001,RC_EXAM!$A241),'C-E'!$A$13:$J$1001,E$39,FALSE),\"\")","v":""},null,{"$f":"IFERROR(VLOOKUP(SMALL('C-E'!$A$13:$A$1001,RC_EXAM!$A241),'C-E'!$A$13:$J$1001,G$39,FALSE),\"\")","v":""}]
[201,{"$f":"IFERROR(VLOOKUP(SMALL('C-E'!$A$13:$A$1001,RC_EXAM!$A242),'C-E'!$A$13:$J$1001,B$39,FALSE),\"\")","v":""},{"$f":"IFERROR(VLOOKUP(SMALL('C-E'!$A$13:$A$1001,RC_EXAM!$A242),'C-E'!$A$13:$J$1001,C$39,FALSE),\"\")","v":""},{"$f":"IFERROR(VLOOKUP(SMALL('C-E'!$A$13:$A$1001,RC_EXAM!$A242),'C-E'!$A$13:$J$1001,D$39,FALSE),\"\")","v":""},{"$f":"IFERROR(VLOOKUP(SMALL('C-E'!$A$13:$A$1001,RC_EXAM!$A242),'C-E'!$A$13:$J$1001,E$39,FALSE),\"\")","v":""},null,{"$f":"IFERROR(VLOOKUP(SMALL('C-E'!$A$13:$A$1001,RC_EXAM!$A242),'C-E'!$A$13:$J$1001,G$39,FALSE),\"\")","v":""}]
[202,{"$f":"IFERROR(VLOOKUP(SMALL('C-E'!$A$13:$A$1001,RC_EXAM!$A243),'C-E'!$A$13:$J$1001,B$39,FALSE),\"\")","v":""},{"$f":"IFERROR(VLOOKUP(SMALL('C-E'!$A$13:$A$1001,RC_EXAM!$A243),'C-E'!$A$13:$J$1001,C$39,FALSE),\"\")","v":""},{"$f":"IFERROR(VLOOKUP(SMALL('C-E'!$A$13:$A$1001,RC_EXAM!$A243),'C-E'!$A$13:$J$1001,D$39,FALSE),\"\")","v":""},{"$f":"IFERROR(VLOOKUP(SMALL('C-E'!$A$13:$A$1001,RC_EXAM!$A243),'C-E'!$A$13:$J$1001,E$39,FALSE),\"\")","v":""},null,{"$f":"IFERROR(VLOOKUP(SMALL('C-E'!$A$13:$A$1001,RC_EXAM!$A243),'C-E'!$A$13:$J$1001,G$39,FALSE),\"\")","v":""}]
[203,{"$f":"IFERROR(VLOOKUP(SMALL('C-E'!$A$13:$A$1001,RC_EXAM!$A244),'C-E'!$A$13:$J$1001,B$39,FALSE),\"\")","v":""},{"$f":"IFERROR(VLOOKUP(SMALL('C-E'!$A$13:$A$1001,RC_EXAM!$A244),'C-E'!$A$13:$J$1001,C$39,FALSE),\"\")","v":""},{"$f":"IFERROR(VLOOKUP(SMALL('C-E'!$A$13:$A$1001,RC_EXAM!$A244),'C-E'!$A$13:$J$1001,D$39,FALSE),\"\")","v":""},{"$f":"IFERROR(VLOOKUP(SMALL('C-E'!$A$13:$A$1001,RC_EXAM!$A244),'C-E'!$A$13:$J$1001,E$39,FALSE),\"\")","v":""},null,{"$f":"IFERROR(VLOOKUP(SMALL('C-E'!$A$13:$A$1001,RC_EXAM!$A244),'C-E'!$A$13:$J$1001,G$39,FALSE),\"\")","v":""}]
[204,{"$f":"IFERROR(VLOOKUP(SMALL('C-E'!$A$13:$A$1001,RC_EXAM!$A245),'C-E'!$A$13:$J$1001,B$39,FALSE),\"\")","v":""},{"$f":"IFERROR(VLOOKUP(SMALL('C-E'!$A$13:$A$1001,RC_EXAM!$A245),'C-E'!$A$13:$J$1001,C$39,FALSE),\"\")","v":""},{"$f":"IFERROR(VLOOKUP(SMALL('C-E'!$A$13:$A$1001,RC_EXAM!$A245),'C-E'!$A$13:$J$1001,D$39,FALSE),\"\")","v":""},{"$f":"IFERROR(VLOOKUP(SMALL('C-E'!$A$13:$A$1001,RC_EXAM!$A245),'C-E'!$A$13:$J$1001,E$39,FALSE),\"\")","v":""},null,{"$f":"IFERROR(VLOOKUP(SMALL('C-E'!$A$13:$A$1001,RC_EXAM!$A245),'C-E'!$A$13:$J$1001,G$39,FALSE),\"\")","v":""}]
[205,{"$f":"IFERROR(VLOOKUP(SMALL('C-E'!$A$13:$A$1001,RC_EXAM!$A246),'C-E'!$A$13:$J$1001,B$39,FALSE),\"\")","v":""},{"$f":"IFERROR(VLOOKUP(SMALL('C-E'!$A$13:$A$1001,RC_EXAM!$A246),'C-E'!$A$13:$J$1001,C$39,FALSE),\"\")","v":""},{"$f":"IFERROR(VLOOKUP(SMALL('C-E'!$A$13:$A$1001,RC_EXAM!$A246),'C-E'!$A$13:$J$1001,D$39,FALSE),\"\")","v":""},{"$f":"IFERROR(VLOOKUP(SMALL('C-E'!$A$13:$A$1001,RC_EXAM!$A246),'C-E'!$A$13:$J$1001,E$39,FALSE),\"\")","v":""},null,{"$f":"IFERROR(VLOOKUP(SMALL('C-E'!$A$13:$A$1001,RC_EXAM!$A246),'C-E'!$A$13:$J$1001,G$39,FALSE),\"\")","v":""}]
[206,{"$f":"IFERROR(VLOOKUP(SMALL('C-E'!$A$13:$A$1001,RC_EXAM!$A247),'C-E'!$A$13:$J$1001,B$39,FALSE),\"\")","v":""},{"$f":"IFERROR(VLOOKUP(SMALL('C-E'!$A$13:$A$1001,RC_EXAM!$A247),'C-E'!$A$13:$J$1001,C$39,FALSE),\"\")","v":""},{"$f":"IFERROR(VLOOKUP(SMALL('C-E'!$A$13:$A$1001,RC_EXAM!$A247),'C-E'!$A$13:$J$1001,D$39,FALSE),\"\")","v":""},{"$f":"IFERROR(VLOOKUP(SMALL('C-E'!$A$13:$A$1001,RC_EXAM!$A247),'C-E'!$A$13:$J$1001,E$39,FALSE),\"\")","v":""},null,{"$f":"IFERROR(VLOOKUP(SMALL('C-E'!$A$13:$A$1001,RC_EXAM!$A247),'C-E'!$A$13:$J$1001,G$39,FALSE),\"\")","v":""}]
[207,{"$f":"IFERROR(VLOOKUP(SMALL('C-E'!$A$13:$A$1001,RC_EXAM!$A248),'C-E'!$A$13:$J$1001,B$39,FALSE),\"\")","v":""},{"$f":"IFERROR(VLOOKUP(SMALL('C-E'!$A$13:$A$1001,RC_EXAM!$A248),'C-E'!$A$13:$J$1001,C$39,FALSE),\"\")","v":""},{"$f":"IFERROR(VLOOKUP(SMALL('C-E'!$A$13:$A$1001,RC_EXAM!$A248),'C-E'!$A$13:$J$1001,D$39,FALSE),\"\")","v":""},{"$f":"IFERROR(VLOOKUP(SMALL('C-E'!$A$13:$A$1001,RC_EXAM!$A248),'C-E'!$A$13:$J$1001,E$39,FALSE),\"\")","v":""},null,{"$f":"IFERROR(VLOOKUP(SMALL('C-E'!$A$13:$A$1001,RC_EXAM!$A248),'C-E'!$A$13:$J$1001,G$39,FALSE),\"\")","v":""}]
[208,{"$f":"IFERROR(VLOOKUP(SMALL('C-E'!$A$13:$A$1001,RC_EXAM!$A249),'C-E'!$A$13:$J$1001,B$39,FALSE),\"\")","v":""},{"$f":"IFERROR(VLOOKUP(SMALL('C-E'!$A$13:$A$1001,RC_EXAM!$A249),'C-E'!$A$13:$J$1001,C$39,FALSE),\"\")","v":""},{"$f":"IFERROR(VLOOKUP(SMALL('C-E'!$A$13:$A$1001,RC_EXAM!$A249),'C-E'!$A$13:$J$1001,D$39,FALSE),\"\")","v":""},{"$f":"IFERROR(VLOOKUP(SMALL('C-E'!$A$13:$A$1001,RC_EXAM!$A249),'C-E'!$A$13:$J$1001,E$39,FALSE),\"\")","v":""},null,{"$f":"IFERROR(VLOOKUP(SMALL('C-E'!$A$13:$A$1001,RC_EXAM!$A249),'C-E'!$A$13:$J$1001,G$39,FALSE),\"\")","v":""}]
[209,{"$f":"IFERROR(VLOOKUP(SMALL('C-E'!$A$13:$A$1001,RC_EXAM!$A250),'C-E'!$A$13:$J$1001,B$39,FALSE),\"\")","v":""},{"$f":"IFERROR(VLOOKUP(SMALL('C-E'!$A$13:$A$1001,RC_EXAM!$A250),'C-E'!$A$13:$J$1001,C$39,FALSE),\"\")","v":""},{"$f":"IFERROR(VLOOKUP(SMALL('C-E'!$A$13:$A$1001,RC_EXAM!$A250),'C-E'!$A$13:$J$1001,D$39,FALSE),\"\")","v":""},{"$f":"IFERROR(VLOOKUP(SMALL('C-E'!$A$13:$A$1001,RC_EXAM!$A250),'C-E'!$A$13:$J$1001,E$39,FALSE),\"\")","v":""},null,{"$f":"IFERROR(VLOOKUP(SMALL('C-E'!$A$13:$A$1001,RC_EXAM!$A250),'C-E'!$A$13:$J$1001,G$39,FALSE),\"\")","v":""}]
[210,{"$f":"IFERROR(VLOOKUP(SMALL('C-E'!$A$13:$A$1001,RC_EXAM!$A251),'C-E'!$A$13:$J$1001,B$39,FALSE),\"\")","v":""},{"$f":"IFERROR(VLOOKUP(SMALL('C-E'!$A$13:$A$1001,RC_EXAM!$A251),'C-E'!$A$13:$J$1001,C$39,FALSE),\"\")","v":""},{"$f":"IFERROR(VLOOKUP(SMALL('C-E'!$A$13:$A$1001,RC_EXAM!$A251),'C-E'!$A$13:$J$1001,D$39,FALSE),\"\")","v":""},{"$f":"IFERROR(VLOOKUP(SMALL('C-E'!$A$13:$A$1001,RC_EXAM!$A251),'C-E'!$A$13:$J$1001,E$39,FALSE),\"\")","v":""},null,{"$f":"IFERROR(VLOOKUP(SMALL('C-E'!$A$13:$A$1001,RC_EXAM!$A251),'C-E'!$A$13:$J$1001,G$39,FALSE),\"\")","v":""}]
[211,{"$f":"IFERROR(VLOOKUP(SMALL('C-E'!$A$13:$A$1001,RC_EXAM!$A252),'C-E'!$A$13:$J$1001,B$39,FALSE),\"\")","v":""},{"$f":"IFERROR(VLOOKUP(SMALL('C-E'!$A$13:$A$1001,RC_EXAM!$A252),'C-E'!$A$13:$J$1001,C$39,FALSE),\"\")","v":""},{"$f":"IFERROR(VLOOKUP(SMALL('C-E'!$A$13:$A$1001,RC_EXAM!$A252),'C-E'!$A$13:$J$1001,D$39,FALSE),\"\")","v":""},{"$f":"IFERROR(VLOOKUP(SMALL('C-E'!$A$13:$A$1001,RC_EXAM!$A252),'C-E'!$A$13:$J$1001,E$39,FALSE),\"\")","v":""},null,{"$f":"IFERROR(VLOOKUP(SMALL('C-E'!$A$13:$A$1001,RC_EXAM!$A252),'C-E'!$A$13:$J$1001,G$39,FALSE),\"\")","v":""}]
[212,{"$f":"IFERROR(VLOOKUP(SMALL('C-E'!$A$13:$A$1001,RC_EXAM!$A253),'C-E'!$A$13:$J$1001,B$39,FALSE),\"\")","v":""},{"$f":"IFERROR(VLOOKUP(SMALL('C-E'!$A$13:$A$1001,RC_EXAM!$A253),'C-E'!$A$13:$J$1001,C$39,FALSE),\"\")","v":""},{"$f":"IFERROR(VLOOKUP(SMALL('C-E'!$A$13:$A$1001,RC_EXAM!$A253),'C-E'!$A$13:$J$1001,D$39,FALSE),\"\")","v":""},{"$f":"IFERROR(VLOOKUP(SMALL('C-E'!$A$13:$A$1001,RC_EXAM!$A253),'C-E'!$A$13:$J$1001,E$39,FALSE),\"\")","v":""},null,{"$f":"IFERROR(VLOOKUP(SMALL('C-E'!$A$13:$A$1001,RC_EXAM!$A253),'C-E'!$A$13:$J$1001,G$39,FALSE),\"\")","v":""}]
[213,{"$f":"IFERROR(VLOOKUP(SMALL('C-E'!$A$13:$A$1001,RC_EXAM!$A254),'C-E'!$A$13:$J$1001,B$39,FALSE),\"\")","v":""},{"$f":"IFERROR(VLOOKUP(SMALL('C-E'!$A$13:$A$1001,RC_EXAM!$A254),'C-E'!$A$13:$J$1001,C$39,FALSE),\"\")","v":""},{"$f":"IFERROR(VLOOKUP(SMALL('C-E'!$A$13:$A$1001,RC_EXAM!$A254),'C-E'!$A$13:$J$1001,D$39,FALSE),\"\")","v":""},{"$f":"IFERROR(VLOOKUP(SMALL('C-E'!$A$13:$A$1001,RC_EXAM!$A254),'C-E'!$A$13:$J$1001,E$39,FALSE),\"\")","v":""},null,{"$f":"IFERROR(VLOOKUP(SMALL('C-E'!$A$13:$A$1001,RC_EXAM!$A254),'C-E'!$A$13:$J$1001,G$39,FALSE),\"\")","v":""}]
[214,{"$f":"IFERROR(VLOOKUP(SMALL('C-E'!$A$13:$A$1001,RC_EXAM!$A255),'C-E'!$A$13:$J$1001,B$39,FALSE),\"\")","v":""},{"$f":"IFERROR(VLOOKUP(SMALL('C-E'!$A$13:$A$1001,RC_EXAM!$A255),'C-E'!$A$13:$J$1001,C$39,FALSE),\"\")","v":""},{"$f":"IFERROR(VLOOKUP(SMALL('C-E'!$A$13:$A$1001,RC_EXAM!$A255),'C-E'!$A$13:$J$1001,D$39,FALSE),\"\")","v":""},{"$f":"IFERROR(VLOOKUP(SMALL('C-E'!$A$13:$A$1001,RC_EXAM!$A255),'C-E'!$A$13:$J$1001,E$39,FALSE),\"\")","v":""},null,{"$f":"IFERROR(VLOOKUP(SMALL('C-E'!$A$13:$A$1001,RC_EXAM!$A255),'C-E'!$A$13:$J$1001,G$39,FALSE),\"\")","v":""}]
[215,{"$f":"IFERROR(VLOOKUP(SMALL('C-E'!$A$13:$A$1001,RC_EXAM!$A256),'C-E'!$A$13:$J$1001,B$39,FALSE),\"\")","v":""},{"$f":"IFERROR(VLOOKUP(SMALL('C-E'!$A$13:$A$1001,RC_EXAM!$A256),'C-E'!$A$13:$J$1001,C$39,FALSE),\"\")","v":""},{"$f":"IFERROR(VLOOKUP(SMALL('C-E'!$A$13:$A$1001,RC_EXAM!$A256),'C-E'!$A$13:$J$1001,D$39,FALSE),\"\")","v":""},{"$f":"IFERROR(VLOOKUP(SMALL('C-E'!$A$13:$A$1001,RC_EXAM!$A256),'C-E'!$A$13:$J$1001,E$39,FALSE),\"\")","v":""},null,{"$f":"IFERROR(VLOOKUP(SMALL('C-E'!$A$13:$A$1001,RC_EXAM!$A256),'C-E'!$A$13:$J$1001,G$39,FALSE),\"\")","v":""}]
[216,{"$f":"IFERROR(VLOOKUP(SMALL('C-E'!$A$13:$A$1001,RC_EXAM!$A257),'C-E'!$A$13:$J$1001,B$39,FALSE),\"\")","v":""},{"$f":"IFERROR(VLOOKUP(SMALL('C-E'!$A$13:$A$1001,RC_EXAM!$A257),'C-E'!$A$13:$J$1001,C$39,FALSE),\"\")","v":""},{"$f":"IFERROR(VLOOKUP(SMALL('C-E'!$A$13:$A$1001,RC_EXAM!$A257),'C-E'!$A$13:$J$1001,D$39,FALSE),\"\")","v":""},{"$f":"IFERROR(VLOOKUP(SMALL('C-E'!$A$13:$A$1001,RC_EXAM!$A257),'C-E'!$A$13:$J$1001,E$39,FALSE),\"\")","v":""},null,{"$f":"IFERROR(VLOOKUP(SMALL('C-E'!$A$13:$A$1001,RC_EXAM!$A257),'C-E'!$A$13:$J$1001,G$39,FALSE),\"\")","v":""}]
[217,{"$f":"IFERROR(VLOOKUP(SMALL('C-E'!$A$13:$A$1001,RC_EXAM!$A258),'C-E'!$A$13:$J$1001,B$39,FALSE),\"\")","v":""},{"$f":"IFERROR(VLOOKUP(SMALL('C-E'!$A$13:$A$1001,RC_EXAM!$A258),'C-E'!$A$13:$J$1001,C$39,FALSE),\"\")","v":""},{"$f":"IFERROR(VLOOKUP(SMALL('C-E'!$A$13:$A$1001,RC_EXAM!$A258),'C-E'!$A$13:$J$1001,D$39,FALSE),\"\")","v":""},{"$f":"IFERROR(VLOOKUP(SMALL('C-E'!$A$13:$A$1001,RC_EXAM!$A258),'C-E'!$A$13:$J$1001,E$39,FALSE),\"\")","v":""},null,{"$f":"IFERROR(VLOOKUP(SMALL('C-E'!$A$13:$A$1001,RC_EXAM!$A258),'C-E'!$A$13:$J$1001,G$39,FALSE),\"\")","v":""}]
[218,{"$f":"IFERROR(VLOOKUP(SMALL('C-E'!$A$13:$A$1001,RC_EXAM!$A259),'C-E'!$A$13:$J$1001,B$39,FALSE),\"\")","v":""},{"$f":"IFERROR(VLOOKUP(SMALL('C-E'!$A$13:$A$1001,RC_EXAM!$A259),'C-E'!$A$13:$J$1001,C$39,FALSE),\"\")","v":""},{"$f":"IFERROR(VLOOKUP(SMALL('C-E'!$A$13:$A$1001,RC_EXAM!$A259),'C-E'!$A$13:$J$1001,D$39,FALSE),\"\")","v":""},{"$f":"IFERROR(VLOOKUP(SMALL('C-E'!$A$13:$A$1001,RC_EXAM!$A259),'C-E'!$A$13:$J$1001,E$39,FALSE),\"\")","v":""},null,{"$f":"IFERROR(VLOOKUP(SMALL('C-E'!$A$13:$A$1001,RC_EXAM!$A259),'C-E'!$A$13:$J$1001,G$39,FALSE),\"\")","v":""}]
[219,{"$f":"IFERROR(VLOOKUP(SMALL('C-E'!$A$13:$A$1001,RC_EXAM!$A260),'C-E'!$A$13:$J$1001,B$39,FALSE),\"\")","v":""},{"$f":"IFERROR(VLOOKUP(SMALL('C-E'!$A$13:$A$1001,RC_EXAM!$A260),'C-E'!$A$13:$J$1001,C$39,FALSE),\"\")","v":""},{"$f":"IFERROR(VLOOKUP(SMALL('C-E'!$A$13:$A$1001,RC_EXAM!$A260),'C-E'!$A$13:$J$1001,D$39,FALSE),\"\")","v":""},{"$f":"IFERROR(VLOOKUP(SMALL('C-E'!$A$13:$A$1001,RC_EXAM!$A260),'C-E'!$A$13:$J$1001,E$39,FALSE),\"\")","v":""},null,{"$f":"IFERROR(VLOOKUP(SMALL('C-E'!$A$13:$A$1001,RC_EXAM!$A260),'C-E'!$A$13:$J$1001,G$39,FALSE),\"\")","v":""}]
[220,{"$f":"IFERROR(VLOOKUP(SMALL('C-E'!$A$13:$A$1001,RC_EXAM!$A261),'C-E'!$A$13:$J$1001,B$39,FALSE),\"\")","v":""},{"$f":"IFERROR(VLOOKUP(SMALL('C-E'!$A$13:$A$1001,RC_EXAM!$A261),'C-E'!$A$13:$J$1001,C$39,FALSE),\"\")","v":""},{"$f":"IFERROR(VLOOKUP(SMALL('C-E'!$A$13:$A$1001,RC_EXAM!$A261),'C-E'!$A$13:$J$1001,D$39,FALSE),\"\")","v":""},{"$f":"IFERROR(VLOOKUP(SMALL('C-E'!$A$13:$A$1001,RC_EXAM!$A261),'C-E'!$A$13:$J$1001,E$39,FALSE),\"\")","v":""},null,{"$f":"IFERROR(VLOOKUP(SMALL('C-E'!$A$13:$A$1001,RC_EXAM!$A261),'C-E'!$A$13:$J$1001,G$39,FALSE),\"\")","v":""}]
[221,{"$f":"IFERROR(VLOOKUP(SMALL('C-E'!$A$13:$A$1001,RC_EXAM!$A262),'C-E'!$A$13:$J$1001,B$39,FALSE),\"\")","v":""},{"$f":"IFERROR(VLOOKUP(SMALL('C-E'!$A$13:$A$1001,RC_EXAM!$A262),'C-E'!$A$13:$J$1001,C$39,FALSE),\"\")","v":""},{"$f":"IFERROR(VLOOKUP(SMALL('C-E'!$A$13:$A$1001,RC_EXAM!$A262),'C-E'!$A$13:$J$1001,D$39,FALSE),\"\")","v":""},{"$f":"IFERROR(VLOOKUP(SMALL('C-E'!$A$13:$A$1001,RC_EXAM!$A262),'C-E'!$A$13:$J$1001,E$39,FALSE),\"\")","v":""},null,{"$f":"IFERROR(VLOOKUP(SMALL('C-E'!$A$13:$A$1001,RC_EXAM!$A262),'C-E'!$A$13:$J$1001,G$39,FALSE),\"\")","v":""}]
[222,{"$f":"IFERROR(VLOOKUP(SMALL('C-E'!$A$13:$A$1001,RC_EXAM!$A263),'C-E'!$A$13:$J$1001,B$39,FALSE),\"\")","v":""},{"$f":"IFERROR(VLOOKUP(SMALL('C-E'!$A$13:$A$1001,RC_EXAM!$A263),'C-E'!$A$13:$J$1001,C$39,FALSE),\"\")","v":""},{"$f":"IFERROR(VLOOKUP(SMALL('C-E'!$A$13:$A$1001,RC_EXAM!$A263),'C-E'!$A$13:$J$1001,D$39,FALSE),\"\")","v":""},{"$f":"IFERROR(VLOOKUP(SMALL('C-E'!$A$13:$A$1001,RC_EXAM!$A263),'C-E'!$A$13:$J$1001,E$39,FALSE),\"\")","v":""},null,{"$f":"IFERROR(VLOOKUP(SMALL('C-E'!$A$13:$A$1001,RC_EXAM!$A263),'C-E'!$A$13:$J$1001,G$39,FALSE),\"\")","v":""}]
[223,{"$f":"IFERROR(VLOOKUP(SMALL('C-E'!$A$13:$A$1001,RC_EXAM!$A264),'C-E'!$A$13:$J$1001,B$39,FALSE),\"\")","v":""},{"$f":"IFERROR(VLOOKUP(SMALL('C-E'!$A$13:$A$1001,RC_EXAM!$A264),'C-E'!$A$13:$J$1001,C$39,FALSE),\"\")","v":""},{"$f":"IFERROR(VLOOKUP(SMALL('C-E'!$A$13:$A$1001,RC_EXAM!$A264),'C-E'!$A$13:$J$1001,D$39,FALSE),\"\")","v":""},{"$f":"IFERROR(VLOOKUP(SMALL('C-E'!$A$13:$A$1001,RC_EXAM!$A264),'C-E'!$A$13:$J$1001,E$39,FALSE),\"\")","v":""},null,{"$f":"IFERROR(VLOOKUP(SMALL('C-E'!$A$13:$A$1001,RC_EXAM!$A264),'C-E'!$A$13:$J$1001,G$39,FALSE),\"\")","v":""}]
[224,{"$f":"IFERROR(VLOOKUP(SMALL('C-E'!$A$13:$A$1001,RC_EXAM!$A265),'C-E'!$A$13:$J$1001,B$39,FALSE),\"\")","v":""},{"$f":"IFERROR(VLOOKUP(SMALL('C-E'!$A$13:$A$1001,RC_EXAM!$A265),'C-E'!$A$13:$J$1001,C$39,FALSE),\"\")","v":""},{"$f":"IFERROR(VLOOKUP(SMALL('C-E'!$A$13:$A$1001,RC_EXAM!$A265),'C-E'!$A$13:$J$1001,D$39,FALSE),\"\")","v":""},{"$f":"IFERROR(VLOOKUP(SMALL('C-E'!$A$13:$A$1001,RC_EXAM!$A265),'C-E'!$A$13:$J$1001,E$39,FALSE),\"\")","v":""},null,{"$f":"IFERROR(VLOOKUP(SMALL('C-E'!$A$13:$A$1001,RC_EXAM!$A265),'C-E'!$A$13:$J$1001,G$39,FALSE),\"\")","v":""}]
[225,{"$f":"IFERROR(VLOOKUP(SMALL('C-E'!$A$13:$A$1001,RC_EXAM!$A266),'C-E'!$A$13:$J$1001,B$39,FALSE),\"\")","v":""},{"$f":"IFERROR(VLOOKUP(SMALL('C-E'!$A$13:$A$1001,RC_EXAM!$A266),'C-E'!$A$13:$J$1001,C$39,FALSE),\"\")","v":""},{"$f":"IFERROR(VLOOKUP(SMALL('C-E'!$A$13:$A$1001,RC_EXAM!$A266),'C-E'!$A$13:$J$1001,D$39,FALSE),\"\")","v":""},{"$f":"IFERROR(VLOOKUP(SMALL('C-E'!$A$13:$A$1001,RC_EXAM!$A266),'C-E'!$A$13:$J$1001,E$39,FALSE),\"\")","v":""},null,{"$f":"IFERROR(VLOOKUP(SMALL('C-E'!$A$13:$A$1001,RC_EXAM!$A266),'C-E'!$A$13:$J$1001,G$39,FALSE),\"\")","v":""}]
[226,{"$f":"IFERROR(VLOOKUP(SMALL('C-E'!$A$13:$A$1001,RC_EXAM!$A267),'C-E'!$A$13:$J$1001,B$39,FALSE),\"\")","v":""},{"$f":"IFERROR(VLOOKUP(SMALL('C-E'!$A$13:$A$1001,RC_EXAM!$A267),'C-E'!$A$13:$J$1001,C$39,FALSE),\"\")","v":""},{"$f":"IFERROR(VLOOKUP(SMALL('C-E'!$A$13:$A$1001,RC_EXAM!$A267),'C-E'!$A$13:$J$1001,D$39,FALSE),\"\")","v":""},{"$f":"IFERROR(VLOOKUP(SMALL('C-E'!$A$13:$A$1001,RC_EXAM!$A267),'C-E'!$A$13:$J$1001,E$39,FALSE),\"\")","v":""},null,{"$f":"IFERROR(VLOOKUP(SMALL('C-E'!$A$13:$A$1001,RC_EXAM!$A267),'C-E'!$A$13:$J$1001,G$39,FALSE),\"\")","v":""}]
[227,{"$f":"IFERROR(VLOOKUP(SMALL('C-E'!$A$13:$A$1001,RC_EXAM!$A268),'C-E'!$A$13:$J$1001,B$39,FALSE),\"\")","v":""},{"$f":"IFERROR(VLOOKUP(SMALL('C-E'!$A$13:$A$1001,RC_EXAM!$A268),'C-E'!$A$13:$J$1001,C$39,FALSE),\"\")","v":""},{"$f":"IFERROR(VLOOKUP(SMALL('C-E'!$A$13:$A$1001,RC_EXAM!$A268),'C-E'!$A$13:$J$1001,D$39,FALSE),\"\")","v":""},{"$f":"IFERROR(VLOOKUP(SMALL('C-E'!$A$13:$A$1001,RC_EXAM!$A268),'C-E'!$A$13:$J$1001,E$39,FALSE),\"\")","v":""},null,{"$f":"IFERROR(VLOOKUP(SMALL('C-E'!$A$13:$A$1001,RC_EXAM!$A268),'C-E'!$A$13:$J$1001,G$39,FALSE),\"\")","v":""}]
[228,{"$f":"IFERROR(VLOOKUP(SMALL('C-E'!$A$13:$A$1001,RC_EXAM!$A269),'C-E'!$A$13:$J$1001,B$39,FALSE),\"\")","v":""},{"$f":"IFERROR(VLOOKUP(SMALL('C-E'!$A$13:$A$1001,RC_EXAM!$A269),'C-E'!$A$13:$J$1001,C$39,FALSE),\"\")","v":""},{"$f":"IFERROR(VLOOKUP(SMALL('C-E'!$A$13:$A$1001,RC_EXAM!$A269),'C-E'!$A$13:$J$1001,D$39,FALSE),\"\")","v":""},{"$f":"IFERROR(VLOOKUP(SMALL('C-E'!$A$13:$A$1001,RC_EXAM!$A269),'C-E'!$A$13:$J$1001,E$39,FALSE),\"\")","v":""},null,{"$f":"IFERROR(VLOOKUP(SMALL('C-E'!$A$13:$A$1001,RC_EXAM!$A269),'C-E'!$A$13:$J$1001,G$39,FALSE),\"\")","v":""}]
[229,{"$f":"IFERROR(VLOOKUP(SMALL('C-E'!$A$13:$A$1001,RC_EXAM!$A270),'C-E'!$A$13:$J$1001,B$39,FALSE),\"\")","v":""},{"$f":"IFERROR(VLOOKUP(SMALL('C-E'!$A$13:$A$1001,RC_EXAM!$A270),'C-E'!$A$13:$J$1001,C$39,FALSE),\"\")","v":""},{"$f":"IFERROR(VLOOKUP(SMALL('C-E'!$A$13:$A$1001,RC_EXAM!$A270),'C-E'!$A$13:$J$1001,D$39,FALSE),\"\")","v":""},{"$f":"IFERROR(VLOOKUP(SMALL('C-E'!$A$13:$A$1001,RC_EXAM!$A270),'C-E'!$A$13:$J$1001,E$39,FALSE),\"\")","v":""},null,{"$f":"IFERROR(VLOOKUP(SMALL('C-E'!$A$13:$A$1001,RC_EXAM!$A270),'C-E'!$A$13:$J$1001,G$39,FALSE),\"\")","v":""}]
[230,{"$f":"IFERROR(VLOOKUP(SMALL('C-E'!$A$13:$A$1001,RC_EXAM!$A271),'C-E'!$A$13:$J$1001,B$39,FALSE),\"\")","v":""},{"$f":"IFERROR(VLOOKUP(SMALL('C-E'!$A$13:$A$1001,RC_EXAM!$A271),'C-E'!$A$13:$J$1001,C$39,FALSE),\"\")","v":""},{"$f":"IFERROR(VLOOKUP(SMALL('C-E'!$A$13:$A$1001,RC_EXAM!$A271),'C-E'!$A$13:$J$1001,D$39,FALSE),\"\")","v":""},{"$f":"IFERROR(VLOOKUP(SMALL('C-E'!$A$13:$A$1001,RC_EXAM!$A271),'C-E'!$A$13:$J$1001,E$39,FALSE),\"\")","v":""},null,{"$f":"IFERROR(VLOOKUP(SMALL('C-E'!$A$13:$A$1001,RC_EXAM!$A271),'C-E'!$A$13:$J$1001,G$39,FALSE),\"\")","v":""}]
[231,{"$f":"IFERROR(VLOOKUP(SMALL('C-E'!$A$13:$A$1001,RC_EXAM!$A272),'C-E'!$A$13:$J$1001,B$39,FALSE),\"\")","v":""},{"$f":"IFERROR(VLOOKUP(SMALL('C-E'!$A$13:$A$1001,RC_EXAM!$A272),'C-E'!$A$13:$J$1001,C$39,FALSE),\"\")","v":""},{"$f":"IFERROR(VLOOKUP(SMALL('C-E'!$A$13:$A$1001,RC_EXAM!$A272),'C-E'!$A$13:$J$1001,D$39,FALSE),\"\")","v":""},{"$f":"IFERROR(VLOOKUP(SMALL('C-E'!$A$13:$A$1001,RC_EXAM!$A272),'C-E'!$A$13:$J$1001,E$39,FALSE),\"\")","v":""},null,{"$f":"IFERROR(VLOOKUP(SMALL('C-E'!$A$13:$A$1001,RC_EXAM!$A272),'C-E'!$A$13:$J$1001,G$39,FALSE),\"\")","v":""}]
[232,{"$f":"IFERROR(VLOOKUP(SMALL('C-E'!$A$13:$A$1001,RC_EXAM!$A273),'C-E'!$A$13:$J$1001,B$39,FALSE),\"\")","v":""},{"$f":"IFERROR(VLOOKUP(SMALL('C-E'!$A$13:$A$1001,RC_EXAM!$A273),'C-E'!$A$13:$J$1001,C$39,FALSE),\"\")","v":""},{"$f":"IFERROR(VLOOKUP(SMALL('C-E'!$A$13:$A$1001,RC_EXAM!$A273),'C-E'!$A$13:$J$1001,D$39,FALSE),\"\")","v":""},{"$f":"IFERROR(VLOOKUP(SMALL('C-E'!$A$13:$A$1001,RC_EXAM!$A273),'C-E'!$A$13:$J$1001,E$39,FALSE),\"\")","v":""},null,{"$f":"IFERROR(VLOOKUP(SMALL('C-E'!$A$13:$A$1001,RC_EXAM!$A273),'C-E'!$A$13:$J$1001,G$39,FALSE),\"\")","v":""}]
[233,{"$f":"IFERROR(VLOOKUP(SMALL('C-E'!$A$13:$A$1001,RC_EXAM!$A274),'C-E'!$A$13:$J$1001,B$39,FALSE),\"\")","v":""},{"$f":"IFERROR(VLOOKUP(SMALL('C-E'!$A$13:$A$1001,RC_EXAM!$A274),'C-E'!$A$13:$J$1001,C$39,FALSE),\"\")","v":""},{"$f":"IFERROR(VLOOKUP(SMALL('C-E'!$A$13:$A$1001,RC_EXAM!$A274),'C-E'!$A$13:$J$1001,D$39,FALSE),\"\")","v":""},{"$f":"IFERROR(VLOOKUP(SMALL('C-E'!$A$13:$A$1001,RC_EXAM!$A274),'C-E'!$A$13:$J$1001,E$39,FALSE),\"\")","v":""},null,{"$f":"IFERROR(VLOOKUP(SMALL('C-E'!$A$13:$A$1001,RC_EXAM!$A274),'C-E'!$A$13:$J$1001,G$39,FALSE),\"\")","v":""}]
[234,{"$f":"IFERROR(VLOOKUP(SMALL('C-E'!$A$13:$A$1001,RC_EXAM!$A275),'C-E'!$A$13:$J$1001,B$39,FALSE),\"\")","v":""},{"$f":"IFERROR(VLOOKUP(SMALL('C-E'!$A$13:$A$1001,RC_EXAM!$A275),'C-E'!$A$13:$J$1001,C$39,FALSE),\"\")","v":""},{"$f":"IFERROR(VLOOKUP(SMALL('C-E'!$A$13:$A$1001,RC_EXAM!$A275),'C-E'!$A$13:$J$1001,D$39,FALSE),\"\")","v":""},{"$f":"IFERROR(VLOOKUP(SMALL('C-E'!$A$13:$A$1001,RC_EXAM!$A275),'C-E'!$A$13:$J$1001,E$39,FALSE),\"\")","v":""},null,{"$f":"IFERROR(VLOOKUP(SMALL('C-E'!$A$13:$A$1001,RC_EXAM!$A275),'C-E'!$A$13:$J$1001,G$39,FALSE),\"\")","v":""}]
[235,{"$f":"IFERROR(VLOOKUP(SMALL('C-E'!$A$13:$A$1001,RC_EXAM!$A276),'C-E'!$A$13:$J$1001,B$39,FALSE),\"\")","v":""},{"$f":"IFERROR(VLOOKUP(SMALL('C-E'!$A$13:$A$1001,RC_EXAM!$A276),'C-E'!$A$13:$J$1001,C$39,FALSE),\"\")","v":""},{"$f":"IFERROR(VLOOKUP(SMALL('C-E'!$A$13:$A$1001,RC_EXAM!$A276),'C-E'!$A$13:$J$1001,D$39,FALSE),\"\")","v":""},{"$f":"IFERROR(VLOOKUP(SMALL('C-E'!$A$13:$A$1001,RC_EXAM!$A276),'C-E'!$A$13:$J$1001,E$39,FALSE),\"\")","v":""},null,{"$f":"IFERROR(VLOOKUP(SMALL('C-E'!$A$13:$A$1001,RC_EXAM!$A276),'C-E'!$A$13:$J$1001,G$39,FALSE),\"\")","v":""}]
[236,{"$f":"IFERROR(VLOOKUP(SMALL('C-E'!$A$13:$A$1001,RC_EXAM!$A277),'C-E'!$A$13:$J$1001,B$39,FALSE),\"\")","v":""},{"$f":"IFERROR(VLOOKUP(SMALL('C-E'!$A$13:$A$1001,RC_EXAM!$A277),'C-E'!$A$13:$J$1001,C$39,FALSE),\"\")","v":""},{"$f":"IFERROR(VLOOKUP(SMALL('C-E'!$A$13:$A$1001,RC_EXAM!$A277),'C-E'!$A$13:$J$1001,D$39,FALSE),\"\")","v":""},{"$f":"IFERROR(VLOOKUP(SMALL('C-E'!$A$13:$A$1001,RC_EXAM!$A277),'C-E'!$A$13:$J$1001,E$39,FALSE),\"\")","v":""},null,{"$f":"IFERROR(VLOOKUP(SMALL('C-E'!$A$13:$A$1001,RC_EXAM!$A277),'C-E'!$A$13:$J$1001,G$39,FALSE),\"\")","v":""}]
[237,{"$f":"IFERROR(VLOOKUP(SMALL('C-E'!$A$13:$A$1001,RC_EXAM!$A278),'C-E'!$A$13:$J$1001,B$39,FALSE),\"\")","v":""},{"$f":"IFERROR(VLOOKUP(SMALL('C-E'!$A$13:$A$1001,RC_EXAM!$A278),'C-E'!$A$13:$J$1001,C$39,FALSE),\"\")","v":""},{"$f":"IFERROR(VLOOKUP(SMALL('C-E'!$A$13:$A$1001,RC_EXAM!$A278),'C-E'!$A$13:$J$1001,D$39,FALSE),\"\")","v":""},{"$f":"IFERROR(VLOOKUP(SMALL('C-E'!$A$13:$A$1001,RC_EXAM!$A278),'C-E'!$A$13:$J$1001,E$39,FALSE),\"\")","v":""},null,{"$f":"IFERROR(VLOOKUP(SMALL('C-E'!$A$13:$A$1001,RC_EXAM!$A278),'C-E'!$A$13:$J$1001,G$39,FALSE),\"\")","v":""}]
[238,{"$f":"IFERROR(VLOOKUP(SMALL('C-E'!$A$13:$A$1001,RC_EXAM!$A279),'C-E'!$A$13:$J$1001,B$39,FALSE),\"\")","v":""},{"$f":"IFERROR(VLOOKUP(SMALL('C-E'!$A$13:$A$1001,RC_EXAM!$A279),'C-E'!$A$13:$J$1001,C$39,FALSE),\"\")","v":""},{"$f":"IFERROR(VLOOKUP(SMALL('C-E'!$A$13:$A$1001,RC_EXAM!$A279),'C-E'!$A$13:$J$1001,D$39,FALSE),\"\")","v":""},{"$f":"IFERROR(VLOOKUP(SMALL('C-E'!$A$13:$A$1001,RC_EXAM!$A279),'C-E'!$A$13:$J$1001,E$39,FALSE),\"\")","v":""},null,{"$f":"IFERROR(VLOOKUP(SMALL('C-E'!$A$13:$A$1001,RC_EXAM!$A279),'C-E'!$A$13:$J$1001,G$39,FALSE),\"\")","v":""}]
[239,{"$f":"IFERROR(VLOOKUP(SMALL('C-E'!$A$13:$A$1001,RC_EXAM!$A280),'C-E'!$A$13:$J$1001,B$39,FALSE),\"\")","v":""},{"$f":"IFERROR(VLOOKUP(SMALL('C-E'!$A$13:$A$1001,RC_EXAM!$A280),'C-E'!$A$13:$J$1001,C$39,FALSE),\"\")","v":""},{"$f":"IFERROR(VLOOKUP(SMALL('C-E'!$A$13:$A$1001,RC_EXAM!$A280),'C-E'!$A$13:$J$1001,D$39,FALSE),\"\")","v":""},{"$f":"IFERROR(VLOOKUP(SMALL('C-E'!$A$13:$A$1001,RC_EXAM!$A280),'C-E'!$A$13:$J$1001,E$39,FALSE),\"\")","v":""},null,{"$f":"IFERROR(VLOOKUP(SMALL('C-E'!$A$13:$A$1001,RC_EXAM!$A280),'C-E'!$A$13:$J$1001,G$39,FALSE),\"\")","v":""}]
[240,{"$f":"IFERROR(VLOOKUP(SMALL('C-E'!$A$13:$A$1001,RC_EXAM!$A281),'C-E'!$A$13:$J$1001,B$39,FALSE),\"\")","v":""},{"$f":"IFERROR(VLOOKUP(SMALL('C-E'!$A$13:$A$1001,RC_EXAM!$A281),'C-E'!$A$13:$J$1001,C$39,FALSE),\"\")","v":""},{"$f":"IFERROR(VLOOKUP(SMALL('C-E'!$A$13:$A$1001,RC_EXAM!$A281),'C-E'!$A$13:$J$1001,D$39,FALSE),\"\")","v":""},{"$f":"IFERROR(VLOOKUP(SMALL('C-E'!$A$13:$A$1001,RC_EXAM!$A281),'C-E'!$A$13:$J$1001,E$39,FALSE),\"\")","v":""},null,{"$f":"IFERROR(VLOOKUP(SMALL('C-E'!$A$13:$A$1001,RC_EXAM!$A281),'C-E'!$A$13:$J$1001,G$39,FALSE),\"\")","v":""}]
[241,{"$f":"IFERROR(VLOOKUP(SMALL('C-E'!$A$13:$A$1001,RC_EXAM!$A282),'C-E'!$A$13:$J$1001,B$39,FALSE),\"\")","v":""},{"$f":"IFERROR(VLOOKUP(SMALL('C-E'!$A$13:$A$1001,RC_EXAM!$A282),'C-E'!$A$13:$J$1001,C$39,FALSE),\"\")","v":""},{"$f":"IFERROR(VLOOKUP(SMALL('C-E'!$A$13:$A$1001,RC_EXAM!$A282),'C-E'!$A$13:$J$1001,D$39,FALSE),\"\")","v":""},{"$f":"IFERROR(VLOOKUP(SMALL('C-E'!$A$13:$A$1001,RC_EXAM!$A282),'C-E'!$A$13:$J$1001,E$39,FALSE),\"\")","v":""},null,{"$f":"IFERROR(VLOOKUP(SMALL('C-E'!$A$13:$A$1001,RC_EXAM!$A282),'C-E'!$A$13:$J$1001,G$39,FALSE),\"\")","v":""}]
[242,{"$f":"IFERROR(VLOOKUP(SMALL('C-E'!$A$13:$A$1001,RC_EXAM!$A283),'C-E'!$A$13:$J$1001,B$39,FALSE),\"\")","v":""},{"$f":"IFERROR(VLOOKUP(SMALL('C-E'!$A$13:$A$1001,RC_EXAM!$A283),'C-E'!$A$13:$J$1001,C$39,FALSE),\"\")","v":""},{"$f":"IFERROR(VLOOKUP(SMALL('C-E'!$A$13:$A$1001,RC_EXAM!$A283),'C-E'!$A$13:$J$1001,D$39,FALSE),\"\")","v":""},{"$f":"IFERROR(VLOOKUP(SMALL('C-E'!$A$13:$A$1001,RC_EXAM!$A283),'C-E'!$A$13:$J$1001,E$39,FALSE),\"\")","v":""},null,{"$f":"IFERROR(VLOOKUP(SMALL('C-E'!$A$13:$A$1001,RC_EXAM!$A283),'C-E'!$A$13:$J$1001,G$39,FALSE),\"\")","v":""}]
[243,{"$f":"IFERROR(VLOOKUP(SMALL('C-E'!$A$13:$A$1001,RC_EXAM!$A284),'C-E'!$A$13:$J$1001,B$39,FALSE),\"\")","v":""},{"$f":"IFERROR(VLOOKUP(SMALL('C-E'!$A$13:$A$1001,RC_EXAM!$A284),'C-E'!$A$13:$J$1001,C$39,FALSE),\"\")","v":""},{"$f":"IFERROR(VLOOKUP(SMALL('C-E'!$A$13:$A$1001,RC_EXAM!$A284),'C-E'!$A$13:$J$1001,D$39,FALSE),\"\")","v":""},{"$f":"IFERROR(VLOOKUP(SMALL('C-E'!$A$13:$A$1001,RC_EXAM!$A284),'C-E'!$A$13:$J$1001,E$39,FALSE),\"\")","v":""},null,{"$f":"IFERROR(VLOOKUP(SMALL('C-E'!$A$13:$A$1001,RC_EXAM!$A284),'C-E'!$A$13:$J$1001,G$39,FALSE),\"\")","v":""}]
[244,{"$f":"IFERROR(VLOOKUP(SMALL('C-E'!$A$13:$A$1001,RC_EXAM!$A285),'C-E'!$A$13:$J$1001,B$39,FALSE),\"\")","v":""},{"$f":"IFERROR(VLOOKUP(SMALL('C-E'!$A$13:$A$1001,RC_EXAM!$A285),'C-E'!$A$13:$J$1001,C$39,FALSE),\"\")","v":""},{"$f":"IFERROR(VLOOKUP(SMALL('C-E'!$A$13:$A$1001,RC_EXAM!$A285),'C-E'!$A$13:$J$1001,D$39,FALSE),\"\")","v":""},{"$f":"IFERROR(VLOOKUP(SMALL('C-E'!$A$13:$A$1001,RC_EXAM!$A285),'C-E'!$A$13:$J$1001,E$39,FALSE),\"\")","v":""},null,{"$f":"IFERROR(VLOOKUP(SMALL('C-E'!$A$13:$A$1001,RC_EXAM!$A285),'C-E'!$A$13:$J$1001,G$39,FALSE),\"\")","v":""}]
[245,{"$f":"IFERROR(VLOOKUP(SMALL('C-E'!$A$13:$A$1001,RC_EXAM!$A286),'C-E'!$A$13:$J$1001,B$39,FALSE),\"\")","v":""},{"$f":"IFERROR(VLOOKUP(SMALL('C-E'!$A$13:$A$1001,RC_EXAM!$A286),'C-E'!$A$13:$J$1001,C$39,FALSE),\"\")","v":""},{"$f":"IFERROR(VLOOKUP(SMALL('C-E'!$A$13:$A$1001,RC_EXAM!$A286),'C-E'!$A$13:$J$1001,D$39,FALSE),\"\")","v":""},{"$f":"IFERROR(VLOOKUP(SMALL('C-E'!$A$13:$A$1001,RC_EXAM!$A286),'C-E'!$A$13:$J$1001,E$39,FALSE),\"\")","v":""},null,{"$f":"IFERROR(VLOOKUP(SMALL('C-E'!$A$13:$A$1001,RC_EXAM!$A286),'C-E'!$A$13:$J$1001,G$39,FALSE),\"\")","v":""}]
[246,{"$f":"IFERROR(VLOOKUP(SMALL('C-E'!$A$13:$A$1001,RC_EXAM!$A287),'C-E'!$A$13:$J$1001,B$39,FALSE),\"\")","v":""},{"$f":"IFERROR(VLOOKUP(SMALL('C-E'!$A$13:$A$1001,RC_EXAM!$A287),'C-E'!$A$13:$J$1001,C$39,FALSE),\"\")","v":""},{"$f":"IFERROR(VLOOKUP(SMALL('C-E'!$A$13:$A$1001,RC_EXAM!$A287),'C-E'!$A$13:$J$1001,D$39,FALSE),\"\")","v":""},{"$f":"IFERROR(VLOOKUP(SMALL('C-E'!$A$13:$A$1001,RC_EXAM!$A287),'C-E'!$A$13:$J$1001,E$39,FALSE),\"\")","v":""},null,{"$f":"IFERROR(VLOOKUP(SMALL('C-E'!$A$13:$A$1001,RC_EXAM!$A287),'C-E'!$A$13:$J$1001,G$39,FALSE),\"\")","v":""}]
[247,{"$f":"IFERROR(VLOOKUP(SMALL('C-E'!$A$13:$A$1001,RC_EXAM!$A288),'C-E'!$A$13:$J$1001,B$39,FALSE),\"\")","v":""},{"$f":"IFERROR(VLOOKUP(SMALL('C-E'!$A$13:$A$1001,RC_EXAM!$A288),'C-E'!$A$13:$J$1001,C$39,FALSE),\"\")","v":""},{"$f":"IFERROR(VLOOKUP(SMALL('C-E'!$A$13:$A$1001,RC_EXAM!$A288),'C-E'!$A$13:$J$1001,D$39,FALSE),\"\")","v":""},{"$f":"IFERROR(VLOOKUP(SMALL('C-E'!$A$13:$A$1001,RC_EXAM!$A288),'C-E'!$A$13:$J$1001,E$39,FALSE),\"\")","v":""},null,{"$f":"IFERROR(VLOOKUP(SMALL('C-E'!$A$13:$A$1001,RC_EXAM!$A288),'C-E'!$A$13:$J$1001,G$39,FALSE),\"\")","v":""}]
[248,{"$f":"IFERROR(VLOOKUP(SMALL('C-E'!$A$13:$A$1001,RC_EXAM!$A289),'C-E'!$A$13:$J$1001,B$39,FALSE),\"\")","v":""},{"$f":"IFERROR(VLOOKUP(SMALL('C-E'!$A$13:$A$1001,RC_EXAM!$A289),'C-E'!$A$13:$J$1001,C$39,FALSE),\"\")","v":""},{"$f":"IFERROR(VLOOKUP(SMALL('C-E'!$A$13:$A$1001,RC_EXAM!$A289),'C-E'!$A$13:$J$1001,D$39,FALSE),\"\")","v":""},{"$f":"IFERROR(VLOOKUP(SMALL('C-E'!$A$13:$A$1001,RC_EXAM!$A289),'C-E'!$A$13:$J$1001,E$39,FALSE),\"\")","v":""},null,{"$f":"IFERROR(VLOOKUP(SMALL('C-E'!$A$13:$A$1001,RC_EXAM!$A289),'C-E'!$A$13:$J$1001,G$39,FALSE),\"\")","v":""}]
[249,{"$f":"IFERROR(VLOOKUP(SMALL('C-E'!$A$13:$A$1001,RC_EXAM!$A290),'C-E'!$A$13:$J$1001,B$39,FALSE),\"\")","v":""},{"$f":"IFERROR(VLOOKUP(SMALL('C-E'!$A$13:$A$1001,RC_EXAM!$A290),'C-E'!$A$13:$J$1001,C$39,FALSE),\"\")","v":""},{"$f":"IFERROR(VLOOKUP(SMALL('C-E'!$A$13:$A$1001,RC_EXAM!$A290),'C-E'!$A$13:$J$1001,D$39,FALSE),\"\")","v":""},{"$f":"IFERROR(VLOOKUP(SMALL('C-E'!$A$13:$A$1001,RC_EXAM!$A290),'C-E'!$A$13:$J$1001,E$39,FALSE),\"\")","v":""},null,{"$f":"IFERROR(VLOOKUP(SMALL('C-E'!$A$13:$A$1001,RC_EXAM!$A290),'C-E'!$A$13:$J$1001,G$39,FALSE),\"\")","v":""}]
[250,{"$f":"IFERROR(VLOOKUP(SMALL('C-E'!$A$13:$A$1001,RC_EXAM!$A291),'C-E'!$A$13:$J$1001,B$39,FALSE),\"\")","v":""},{"$f":"IFERROR(VLOOKUP(SMALL('C-E'!$A$13:$A$1001,RC_EXAM!$A291),'C-E'!$A$13:$J$1001,C$39,FALSE),\"\")","v":""},{"$f":"IFERROR(VLOOKUP(SMALL('C-E'!$A$13:$A$1001,RC_EXAM!$A291),'C-E'!$A$13:$J$1001,D$39,FALSE),\"\")","v":""},{"$f":"IFERROR(VLOOKUP(SMALL('C-E'!$A$13:$A$1001,RC_EXAM!$A291),'C-E'!$A$13:$J$1001,E$39,FALSE),\"\")","v":""},null,{"$f":"IFERROR(VLOOKUP(SMALL('C-E'!$A$13:$A$1001,RC_EXAM!$A291),'C-E'!$A$13:$J$1001,G$39,FALSE),\"\")","v":""}]
[251,{"$f":"IFERROR(VLOOKUP(SMALL('C-E'!$A$13:$A$1001,RC_EXAM!$A292),'C-E'!$A$13:$J$1001,B$39,FALSE),\"\")","v":""},{"$f":"IFERROR(VLOOKUP(SMALL('C-E'!$A$13:$A$1001,RC_EXAM!$A292),'C-E'!$A$13:$J$1001,C$39,FALSE),\"\")","v":""},{"$f":"IFERROR(VLOOKUP(SMALL('C-E'!$A$13:$A$1001,RC_EXAM!$A292),'C-E'!$A$13:$J$1001,D$39,FALSE),\"\")","v":""},{"$f":"IFERROR(VLOOKUP(SMALL('C-E'!$A$13:$A$1001,RC_EXAM!$A292),'C-E'!$A$13:$J$1001,E$39,FALSE),\"\")","v":""},null,{"$f":"IFERROR(VLOOKUP(SMALL('C-E'!$A$13:$A$1001,RC_EXAM!$A292),'C-E'!$A$13:$J$1001,G$39,FALSE),\"\")","v":""}]
[252,{"$f":"IFERROR(VLOOKUP(SMALL('C-E'!$A$13:$A$1001,RC_EXAM!$A293),'C-E'!$A$13:$J$1001,B$39,FALSE),\"\")","v":""},{"$f":"IFERROR(VLOOKUP(SMALL('C-E'!$A$13:$A$1001,RC_EXAM!$A293),'C-E'!$A$13:$J$1001,C$39,FALSE),\"\")","v":""},{"$f":"IFERROR(VLOOKUP(SMALL('C-E'!$A$13:$A$1001,RC_EXAM!$A293),'C-E'!$A$13:$J$1001,D$39,FALSE),\"\")","v":""},{"$f":"IFERROR(VLOOKUP(SMALL('C-E'!$A$13:$A$1001,RC_EXAM!$A293),'C-E'!$A$13:$J$1001,E$39,FALSE),\"\")","v":""},null,{"$f":"IFERROR(VLOOKUP(SMALL('C-E'!$A$13:$A$1001,RC_EXAM!$A293),'C-E'!$A$13:$J$1001,G$39,FALSE),\"\")","v":""}]
[253,{"$f":"IFERROR(VLOOKUP(SMALL('C-E'!$A$13:$A$1001,RC_EXAM!$A294),'C-E'!$A$13:$J$1001,B$39,FALSE),\"\")","v":""},{"$f":"IFERROR(VLOOKUP(SMALL('C-E'!$A$13:$A$1001,RC_EXAM!$A294),'C-E'!$A$13:$J$1001,C$39,FALSE),\"\")","v":""},{"$f":"IFERROR(VLOOKUP(SMALL('C-E'!$A$13:$A$1001,RC_EXAM!$A294),'C-E'!$A$13:$J$1001,D$39,FALSE),\"\")","v":""},{"$f":"IFERROR(VLOOKUP(SMALL('C-E'!$A$13:$A$1001,RC_EXAM!$A294),'C-E'!$A$13:$J$1001,E$39,FALSE),\"\")","v":""},null,{"$f":"IFERROR(VLOOKUP(SMALL('C-E'!$A$13:$A$1001,RC_EXAM!$A294),'C-E'!$A$13:$J$1001,G$39,FALSE),\"\")","v":""}]
[254,{"$f":"IFERROR(VLOOKUP(SMALL('C-E'!$A$13:$A$1001,RC_EXAM!$A295),'C-E'!$A$13:$J$1001,B$39,FALSE),\"\")","v":""},{"$f":"IFERROR(VLOOKUP(SMALL('C-E'!$A$13:$A$1001,RC_EXAM!$A295),'C-E'!$A$13:$J$1001,C$39,FALSE),\"\")","v":""},{"$f":"IFERROR(VLOOKUP(SMALL('C-E'!$A$13:$A$1001,RC_EXAM!$A295),'C-E'!$A$13:$J$1001,D$39,FALSE),\"\")","v":""},{"$f":"IFERROR(VLOOKUP(SMALL('C-E'!$A$13:$A$1001,RC_EXAM!$A295),'C-E'!$A$13:$J$1001,E$39,FALSE),\"\")","v":""},null,{"$f":"IFERROR(VLOOKUP(SMALL('C-E'!$A$13:$A$1001,RC_EXAM!$A295),'C-E'!$A$13:$J$1001,G$39,FALSE),\"\")","v":""}]
[255,{"$f":"IFERROR(VLOOKUP(SMALL('C-E'!$A$13:$A$1001,RC_EXAM!$A296),'C-E'!$A$13:$J$1001,B$39,FALSE),\"\")","v":""},{"$f":"IFERROR(VLOOKUP(SMALL('C-E'!$A$13:$A$1001,RC_EXAM!$A296),'C-E'!$A$13:$J$1001,C$39,FALSE),\"\")","v":""},{"$f":"IFERROR(VLOOKUP(SMALL('C-E'!$A$13:$A$1001,RC_EXAM!$A296),'C-E'!$A$13:$J$1001,D$39,FALSE),\"\")","v":""},{"$f":"IFERROR(VLOOKUP(SMALL('C-E'!$A$13:$A$1001,RC_EXAM!$A296),'C-E'!$A$13:$J$1001,E$39,FALSE),\"\")","v":""},null,{"$f":"IFERROR(VLOOKUP(SMALL('C-E'!$A$13:$A$1001,RC_EXAM!$A296),'C-E'!$A$13:$J$1001,G$39,FALSE),\"\")","v":""}]
[256,{"$f":"IFERROR(VLOOKUP(SMALL('C-E'!$A$13:$A$1001,RC_EXAM!$A297),'C-E'!$A$13:$J$1001,B$39,FALSE),\"\")","v":""},{"$f":"IFERROR(VLOOKUP(SMALL('C-E'!$A$13:$A$1001,RC_EXAM!$A297),'C-E'!$A$13:$J$1001,C$39,FALSE),\"\")","v":""},{"$f":"IFERROR(VLOOKUP(SMALL('C-E'!$A$13:$A$1001,RC_EXAM!$A297),'C-E'!$A$13:$J$1001,D$39,FALSE),\"\")","v":""},{"$f":"IFERROR(VLOOKUP(SMALL('C-E'!$A$13:$A$1001,RC_EXAM!$A297),'C-E'!$A$13:$J$1001,E$39,FALSE),\"\")","v":""},null,{"$f":"IFERROR(VLOOKUP(SMALL('C-E'!$A$13:$A$1001,RC_EXAM!$A297),'C-E'!$A$13:$J$1001,G$39,FALSE),\"\")","v":""}]
[257,{"$f":"IFERROR(VLOOKUP(SMALL('C-E'!$A$13:$A$1001,RC_EXAM!$A298),'C-E'!$A$13:$J$1001,B$39,FALSE),\"\")","v":""},{"$f":"IFERROR(VLOOKUP(SMALL('C-E'!$A$13:$A$1001,RC_EXAM!$A298),'C-E'!$A$13:$J$1001,C$39,FALSE),\"\")","v":""},{"$f":"IFERROR(VLOOKUP(SMALL('C-E'!$A$13:$A$1001,RC_EXAM!$A298),'C-E'!$A$13:$J$1001,D$39,FALSE),\"\")","v":""},{"$f":"IFERROR(VLOOKUP(SMALL('C-E'!$A$13:$A$1001,RC_EXAM!$A298),'C-E'!$A$13:$J$1001,E$39,FALSE),\"\")","v":""},null,{"$f":"IFERROR(VLOOKUP(SMALL('C-E'!$A$13:$A$1001,RC_EXAM!$A298),'C-E'!$A$13:$J$1001,G$39,FALSE),\"\")","v":""}]
[258,{"$f":"IFERROR(VLOOKUP(SMALL('C-E'!$A$13:$A$1001,RC_EXAM!$A299),'C-E'!$A$13:$J$1001,B$39,FALSE),\"\")","v":""},{"$f":"IFERROR(VLOOKUP(SMALL('C-E'!$A$13:$A$1001,RC_EXAM!$A299),'C-E'!$A$13:$J$1001,C$39,FALSE),\"\")","v":""},{"$f":"IFERROR(VLOOKUP(SMALL('C-E'!$A$13:$A$1001,RC_EXAM!$A299),'C-E'!$A$13:$J$1001,D$39,FALSE),\"\")","v":""},{"$f":"IFERROR(VLOOKUP(SMALL('C-E'!$A$13:$A$1001,RC_EXAM!$A299),'C-E'!$A$13:$J$1001,E$39,FALSE),\"\")","v":""},null,{"$f":"IFERROR(VLOOKUP(SMALL('C-E'!$A$13:$A$1001,RC_EXAM!$A299),'C-E'!$A$13:$J$1001,G$39,FALSE),\"\")","v":""}]
[259,{"$f":"IFERROR(VLOOKUP(SMALL('C-E'!$A$13:$A$1001,RC_EXAM!$A300),'C-E'!$A$13:$J$1001,B$39,FALSE),\"\")","v":""},{"$f":"IFERROR(VLOOKUP(SMALL('C-E'!$A$13:$A$1001,RC_EXAM!$A300),'C-E'!$A$13:$J$1001,C$39,FALSE),\"\")","v":""},{"$f":"IFERROR(VLOOKUP(SMALL('C-E'!$A$13:$A$1001,RC_EXAM!$A300),'C-E'!$A$13:$J$1001,D$39,FALSE),\"\")","v":""},{"$f":"IFERROR(VLOOKUP(SMALL('C-E'!$A$13:$A$1001,RC_EXAM!$A300),'C-E'!$A$13:$J$1001,E$39,FALSE),\"\")","v":""},null,{"$f":"IFERROR(VLOOKUP(SMALL('C-E'!$A$13:$A$1001,RC_EXAM!$A300),'C-E'!$A$13:$J$1001,G$39,FALSE),\"\")","v":""}]
[260,{"$f":"IFERROR(VLOOKUP(SMALL('C-E'!$A$13:$A$1001,RC_EXAM!$A301),'C-E'!$A$13:$J$1001,B$39,FALSE),\"\")","v":""},{"$f":"IFERROR(VLOOKUP(SMALL('C-E'!$A$13:$A$1001,RC_EXAM!$A301),'C-E'!$A$13:$J$1001,C$39,FALSE),\"\")","v":""},{"$f":"IFERROR(VLOOKUP(SMALL('C-E'!$A$13:$A$1001,RC_EXAM!$A301),'C-E'!$A$13:$J$1001,D$39,FALSE),\"\")","v":""},{"$f":"IFERROR(VLOOKUP(SMALL('C-E'!$A$13:$A$1001,RC_EXAM!$A301),'C-E'!$A$13:$J$1001,E$39,FALSE),\"\")","v":""},null,{"$f":"IFERROR(VLOOKUP(SMALL('C-E'!$A$13:$A$1001,RC_EXAM!$A301),'C-E'!$A$13:$J$1001,G$39,FALSE),\"\")","v":""}]
[261,{"$f":"IFERROR(VLOOKUP(SMALL('C-E'!$A$13:$A$1001,RC_EXAM!$A302),'C-E'!$A$13:$J$1001,B$39,FALSE),\"\")","v":""},{"$f":"IFERROR(VLOOKUP(SMALL('C-E'!$A$13:$A$1001,RC_EXAM!$A302),'C-E'!$A$13:$J$1001,C$39,FALSE),\"\")","v":""},{"$f":"IFERROR(VLOOKUP(SMALL('C-E'!$A$13:$A$1001,RC_EXAM!$A302),'C-E'!$A$13:$J$1001,D$39,FALSE),\"\")","v":""},{"$f":"IFERROR(VLOOKUP(SMALL('C-E'!$A$13:$A$1001,RC_EXAM!$A302),'C-E'!$A$13:$J$1001,E$39,FALSE),\"\")","v":""},null,{"$f":"IFERROR(VLOOKUP(SMALL('C-E'!$A$13:$A$1001,RC_EXAM!$A302),'C-E'!$A$13:$J$1001,G$39,FALSE),\"\")","v":""}]
[262,{"$f":"IFERROR(VLOOKUP(SMALL('C-E'!$A$13:$A$1001,RC_EXAM!$A303),'C-E'!$A$13:$J$1001,B$39,FALSE),\"\")","v":""},{"$f":"IFERROR(VLOOKUP(SMALL('C-E'!$A$13:$A$1001,RC_EXAM!$A303),'C-E'!$A$13:$J$1001,C$39,FALSE),\"\")","v":""},{"$f":"IFERROR(VLOOKUP(SMALL('C-E'!$A$13:$A$1001,RC_EXAM!$A303),'C-E'!$A$13:$J$1001,D$39,FALSE),\"\")","v":""},{"$f":"IFERROR(VLOOKUP(SMALL('C-E'!$A$13:$A$1001,RC_EXAM!$A303),'C-E'!$A$13:$J$1001,E$39,FALSE),\"\")","v":""},null,{"$f":"IFERROR(VLOOKUP(SMALL('C-E'!$A$13:$A$1001,RC_EXAM!$A303),'C-E'!$A$13:$J$1001,G$39,FALSE),\"\")","v":""}]
[263,{"$f":"IFERROR(VLOOKUP(SMALL('C-E'!$A$13:$A$1001,RC_EXAM!$A304),'C-E'!$A$13:$J$1001,B$39,FALSE),\"\")","v":""},{"$f":"IFERROR(VLOOKUP(SMALL('C-E'!$A$13:$A$1001,RC_EXAM!$A304),'C-E'!$A$13:$J$1001,C$39,FALSE),\"\")","v":""},{"$f":"IFERROR(VLOOKUP(SMALL('C-E'!$A$13:$A$1001,RC_EXAM!$A304),'C-E'!$A$13:$J$1001,D$39,FALSE),\"\")","v":""},{"$f":"IFERROR(VLOOKUP(SMALL('C-E'!$A$13:$A$1001,RC_EXAM!$A304),'C-E'!$A$13:$J$1001,E$39,FALSE),\"\")","v":""},null,{"$f":"IFERROR(VLOOKUP(SMALL('C-E'!$A$13:$A$1001,RC_EXAM!$A304),'C-E'!$A$13:$J$1001,G$39,FALSE),\"\")","v":""}]
[264,{"$f":"IFERROR(VLOOKUP(SMALL('C-E'!$A$13:$A$1001,RC_EXAM!$A305),'C-E'!$A$13:$J$1001,B$39,FALSE),\"\")","v":""},{"$f":"IFERROR(VLOOKUP(SMALL('C-E'!$A$13:$A$1001,RC_EXAM!$A305),'C-E'!$A$13:$J$1001,C$39,FALSE),\"\")","v":""},{"$f":"IFERROR(VLOOKUP(SMALL('C-E'!$A$13:$A$1001,RC_EXAM!$A305),'C-E'!$A$13:$J$1001,D$39,FALSE),\"\")","v":""},{"$f":"IFERROR(VLOOKUP(SMALL('C-E'!$A$13:$A$1001,RC_EXAM!$A305),'C-E'!$A$13:$J$1001,E$39,FALSE),\"\")","v":""},null,{"$f":"IFERROR(VLOOKUP(SMALL('C-E'!$A$13:$A$1001,RC_EXAM!$A305),'C-E'!$A$13:$J$1001,G$39,FALSE),\"\")","v":""}]
[265,{"$f":"IFERROR(VLOOKUP(SMALL('C-E'!$A$13:$A$1001,RC_EXAM!$A306),'C-E'!$A$13:$J$1001,B$39,FALSE),\"\")","v":""},{"$f":"IFERROR(VLOOKUP(SMALL('C-E'!$A$13:$A$1001,RC_EXAM!$A306),'C-E'!$A$13:$J$1001,C$39,FALSE),\"\")","v":""},{"$f":"IFERROR(VLOOKUP(SMALL('C-E'!$A$13:$A$1001,RC_EXAM!$A306),'C-E'!$A$13:$J$1001,D$39,FALSE),\"\")","v":""},{"$f":"IFERROR(VLOOKUP(SMALL('C-E'!$A$13:$A$1001,RC_EXAM!$A306),'C-E'!$A$13:$J$1001,E$39,FALSE),\"\")","v":""},null,{"$f":"IFERROR(VLOOKUP(SMALL('C-E'!$A$13:$A$1001,RC_EXAM!$A306),'C-E'!$A$13:$J$1001,G$39,FALSE),\"\")","v":""}]
[266,{"$f":"IFERROR(VLOOKUP(SMALL('C-E'!$A$13:$A$1001,RC_EXAM!$A307),'C-E'!$A$13:$J$1001,B$39,FALSE),\"\")","v":""},{"$f":"IFERROR(VLOOKUP(SMALL('C-E'!$A$13:$A$1001,RC_EXAM!$A307),'C-E'!$A$13:$J$1001,C$39,FALSE),\"\")","v":""},{"$f":"IFERROR(VLOOKUP(SMALL('C-E'!$A$13:$A$1001,RC_EXAM!$A307),'C-E'!$A$13:$J$1001,D$39,FALSE),\"\")","v":""},{"$f":"IFERROR(VLOOKUP(SMALL('C-E'!$A$13:$A$1001,RC_EXAM!$A307),'C-E'!$A$13:$J$1001,E$39,FALSE),\"\")","v":""},null,{"$f":"IFERROR(VLOOKUP(SMALL('C-E'!$A$13:$A$1001,RC_EXAM!$A307),'C-E'!$A$13:$J$1001,G$39,FALSE),\"\")","v":""}]
[267,{"$f":"IFERROR(VLOOKUP(SMALL('C-E'!$A$13:$A$1001,RC_EXAM!$A308),'C-E'!$A$13:$J$1001,B$39,FALSE),\"\")","v":""},{"$f":"IFERROR(VLOOKUP(SMALL('C-E'!$A$13:$A$1001,RC_EXAM!$A308),'C-E'!$A$13:$J$1001,C$39,FALSE),\"\")","v":""},{"$f":"IFERROR(VLOOKUP(SMALL('C-E'!$A$13:$A$1001,RC_EXAM!$A308),'C-E'!$A$13:$J$1001,D$39,FALSE),\"\")","v":""},{"$f":"IFERROR(VLOOKUP(SMALL('C-E'!$A$13:$A$1001,RC_EXAM!$A308),'C-E'!$A$13:$J$1001,E$39,FALSE),\"\")","v":""},null,{"$f":"IFERROR(VLOOKUP(SMALL('C-E'!$A$13:$A$1001,RC_EXAM!$A308),'C-E'!$A$13:$J$1001,G$39,FALSE),\"\")","v":""}]
[268,{"$f":"IFERROR(VLOOKUP(SMALL('C-E'!$A$13:$A$1001,RC_EXAM!$A309),'C-E'!$A$13:$J$1001,B$39,FALSE),\"\")","v":""},{"$f":"IFERROR(VLOOKUP(SMALL('C-E'!$A$13:$A$1001,RC_EXAM!$A309),'C-E'!$A$13:$J$1001,C$39,FALSE),\"\")","v":""},{"$f":"IFERROR(VLOOKUP(SMALL('C-E'!$A$13:$A$1001,RC_EXAM!$A309),'C-E'!$A$13:$J$1001,D$39,FALSE),\"\")","v":""},{"$f":"IFERROR(VLOOKUP(SMALL('C-E'!$A$13:$A$1001,RC_EXAM!$A309),'C-E'!$A$13:$J$1001,E$39,FALSE),\"\")","v":""},null,{"$f":"IFERROR(VLOOKUP(SMALL('C-E'!$A$13:$A$1001,RC_EXAM!$A309),'C-E'!$A$13:$J$1001,G$39,FALSE),\"\")","v":""}]
[269,{"$f":"IFERROR(VLOOKUP(SMALL('C-E'!$A$13:$A$1001,RC_EXAM!$A310),'C-E'!$A$13:$J$1001,B$39,FALSE),\"\")","v":""},{"$f":"IFERROR(VLOOKUP(SMALL('C-E'!$A$13:$A$1001,RC_EXAM!$A310),'C-E'!$A$13:$J$1001,C$39,FALSE),\"\")","v":""},{"$f":"IFERROR(VLOOKUP(SMALL('C-E'!$A$13:$A$1001,RC_EXAM!$A310),'C-E'!$A$13:$J$1001,D$39,FALSE),\"\")","v":""},{"$f":"IFERROR(VLOOKUP(SMALL('C-E'!$A$13:$A$1001,RC_EXAM!$A310),'C-E'!$A$13:$J$1001,E$39,FALSE),\"\")","v":""},null,{"$f":"IFERROR(VLOOKUP(SMALL('C-E'!$A$13:$A$1001,RC_EXAM!$A310),'C-E'!$A$13:$J$1001,G$39,FALSE),\"\")","v":""}]
[270,{"$f":"IFERROR(VLOOKUP(SMALL('C-E'!$A$13:$A$1001,RC_EXAM!$A311),'C-E'!$A$13:$J$1001,B$39,FALSE),\"\")","v":""},{"$f":"IFERROR(VLOOKUP(SMALL('C-E'!$A$13:$A$1001,RC_EXAM!$A311),'C-E'!$A$13:$J$1001,C$39,FALSE),\"\")","v":""},{"$f":"IFERROR(VLOOKUP(SMALL('C-E'!$A$13:$A$1001,RC_EXAM!$A311),'C-E'!$A$13:$J$1001,D$39,FALSE),\"\")","v":""},{"$f":"IFERROR(VLOOKUP(SMALL('C-E'!$A$13:$A$1001,RC_EXAM!$A311),'C-E'!$A$13:$J$1001,E$39,FALSE),\"\")","v":""},null,{"$f":"IFERROR(VLOOKUP(SMALL('C-E'!$A$13:$A$1001,RC_EXAM!$A311),'C-E'!$A$13:$J$1001,G$39,FALSE),\"\")","v":""}]
[271,{"$f":"IFERROR(VLOOKUP(SMALL('C-E'!$A$13:$A$1001,RC_EXAM!$A312),'C-E'!$A$13:$J$1001,B$39,FALSE),\"\")","v":""},{"$f":"IFERROR(VLOOKUP(SMALL('C-E'!$A$13:$A$1001,RC_EXAM!$A312),'C-E'!$A$13:$J$1001,C$39,FALSE),\"\")","v":""},{"$f":"IFERROR(VLOOKUP(SMALL('C-E'!$A$13:$A$1001,RC_EXAM!$A312),'C-E'!$A$13:$J$1001,D$39,FALSE),\"\")","v":""},{"$f":"IFERROR(VLOOKUP(SMALL('C-E'!$A$13:$A$1001,RC_EXAM!$A312),'C-E'!$A$13:$J$1001,E$39,FALSE),\"\")","v":""},null,{"$f":"IFERROR(VLOOKUP(SMALL('C-E'!$A$13:$A$1001,RC_EXAM!$A312),'C-E'!$A$13:$J$1001,G$39,FALSE),\"\")","v":""}]
[272,{"$f":"IFERROR(VLOOKUP(SMALL('C-E'!$A$13:$A$1001,RC_EXAM!$A313),'C-E'!$A$13:$J$1001,B$39,FALSE),\"\")","v":""},{"$f":"IFERROR(VLOOKUP(SMALL('C-E'!$A$13:$A$1001,RC_EXAM!$A313),'C-E'!$A$13:$J$1001,C$39,FALSE),\"\")","v":""},{"$f":"IFERROR(VLOOKUP(SMALL('C-E'!$A$13:$A$1001,RC_EXAM!$A313),'C-E'!$A$13:$J$1001,D$39,FALSE),\"\")","v":""},{"$f":"IFERROR(VLOOKUP(SMALL('C-E'!$A$13:$A$1001,RC_EXAM!$A313),'C-E'!$A$13:$J$1001,E$39,FALSE),\"\")","v":""},null,{"$f":"IFERROR(VLOOKUP(SMALL('C-E'!$A$13:$A$1001,RC_EXAM!$A313),'C-E'!$A$13:$J$1001,G$39,FALSE),\"\")","v":""}]
[273,{"$f":"IFERROR(VLOOKUP(SMALL('C-E'!$A$13:$A$1001,RC_EXAM!$A314),'C-E'!$A$13:$J$1001,B$39,FALSE),\"\")","v":""},{"$f":"IFERROR(VLOOKUP(SMALL('C-E'!$A$13:$A$1001,RC_EXAM!$A314),'C-E'!$A$13:$J$1001,C$39,FALSE),\"\")","v":""},{"$f":"IFERROR(VLOOKUP(SMALL('C-E'!$A$13:$A$1001,RC_EXAM!$A314),'C-E'!$A$13:$J$1001,D$39,FALSE),\"\")","v":""},{"$f":"IFERROR(VLOOKUP(SMALL('C-E'!$A$13:$A$1001,RC_EXAM!$A314),'C-E'!$A$13:$J$1001,E$39,FALSE),\"\")","v":""},null,{"$f":"IFERROR(VLOOKUP(SMALL('C-E'!$A$13:$A$1001,RC_EXAM!$A314),'C-E'!$A$13:$J$1001,G$39,FALSE),\"\")","v":""}]
[274,{"$f":"IFERROR(VLOOKUP(SMALL('C-E'!$A$13:$A$1001,RC_EXAM!$A315),'C-E'!$A$13:$J$1001,B$39,FALSE),\"\")","v":""},{"$f":"IFERROR(VLOOKUP(SMALL('C-E'!$A$13:$A$1001,RC_EXAM!$A315),'C-E'!$A$13:$J$1001,C$39,FALSE),\"\")","v":""},{"$f":"IFERROR(VLOOKUP(SMALL('C-E'!$A$13:$A$1001,RC_EXAM!$A315),'C-E'!$A$13:$J$1001,D$39,FALSE),\"\")","v":""},{"$f":"IFERROR(VLOOKUP(SMALL('C-E'!$A$13:$A$1001,RC_EXAM!$A315),'C-E'!$A$13:$J$1001,E$39,FALSE),\"\")","v":""},null,{"$f":"IFERROR(VLOOKUP(SMALL('C-E'!$A$13:$A$1001,RC_EXAM!$A315),'C-E'!$A$13:$J$1001,G$39,FALSE),\"\")","v":""}]
[275,{"$f":"IFERROR(VLOOKUP(SMALL('C-E'!$A$13:$A$1001,RC_EXAM!$A316),'C-E'!$A$13:$J$1001,B$39,FALSE),\"\")","v":""},{"$f":"IFERROR(VLOOKUP(SMALL('C-E'!$A$13:$A$1001,RC_EXAM!$A316),'C-E'!$A$13:$J$1001,C$39,FALSE),\"\")","v":""},{"$f":"IFERROR(VLOOKUP(SMALL('C-E'!$A$13:$A$1001,RC_EXAM!$A316),'C-E'!$A$13:$J$1001,D$39,FALSE),\"\")","v":""},{"$f":"IFERROR(VLOOKUP(SMALL('C-E'!$A$13:$A$1001,RC_EXAM!$A316),'C-E'!$A$13:$J$1001,E$39,FALSE),\"\")","v":""},null,{"$f":"IFERROR(VLOOKUP(SMALL('C-E'!$A$13:$A$1001,RC_EXAM!$A316),'C-E'!$A$13:$J$1001,G$39,FALSE),\"\")","v":""}]
[276,{"$f":"IFERROR(VLOOKUP(SMALL('C-E'!$A$13:$A$1001,RC_EXAM!$A317),'C-E'!$A$13:$J$1001,B$39,FALSE),\"\")","v":""},{"$f":"IFERROR(VLOOKUP(SMALL('C-E'!$A$13:$A$1001,RC_EXAM!$A317),'C-E'!$A$13:$J$1001,C$39,FALSE),\"\")","v":""},{"$f":"IFERROR(VLOOKUP(SMALL('C-E'!$A$13:$A$1001,RC_EXAM!$A317),'C-E'!$A$13:$J$1001,D$39,FALSE),\"\")","v":""},{"$f":"IFERROR(VLOOKUP(SMALL('C-E'!$A$13:$A$1001,RC_EXAM!$A317),'C-E'!$A$13:$J$1001,E$39,FALSE),\"\")","v":""},null,{"$f":"IFERROR(VLOOKUP(SMALL('C-E'!$A$13:$A$1001,RC_EXAM!$A317),'C-E'!$A$13:$J$1001,G$39,FALSE),\"\")","v":""}]
[277,{"$f":"IFERROR(VLOOKUP(SMALL('C-E'!$A$13:$A$1001,RC_EXAM!$A318),'C-E'!$A$13:$J$1001,B$39,FALSE),\"\")","v":""},{"$f":"IFERROR(VLOOKUP(SMALL('C-E'!$A$13:$A$1001,RC_EXAM!$A318),'C-E'!$A$13:$J$1001,C$39,FALSE),\"\")","v":""},{"$f":"IFERROR(VLOOKUP(SMALL('C-E'!$A$13:$A$1001,RC_EXAM!$A318),'C-E'!$A$13:$J$1001,D$39,FALSE),\"\")","v":""},{"$f":"IFERROR(VLOOKUP(SMALL('C-E'!$A$13:$A$1001,RC_EXAM!$A318),'C-E'!$A$13:$J$1001,E$39,FALSE),\"\")","v":""},null,{"$f":"IFERROR(VLOOKUP(SMALL('C-E'!$A$13:$A$1001,RC_EXAM!$A318),'C-E'!$A$13:$J$1001,G$39,FALSE),\"\")","v":""}]
[278,{"$f":"IFERROR(VLOOKUP(SMALL('C-E'!$A$13:$A$1001,RC_EXAM!$A319),'C-E'!$A$13:$J$1001,B$39,FALSE),\"\")","v":""},{"$f":"IFERROR(VLOOKUP(SMALL('C-E'!$A$13:$A$1001,RC_EXAM!$A319),'C-E'!$A$13:$J$1001,C$39,FALSE),\"\")","v":""},{"$f":"IFERROR(VLOOKUP(SMALL('C-E'!$A$13:$A$1001,RC_EXAM!$A319),'C-E'!$A$13:$J$1001,D$39,FALSE),\"\")","v":""},{"$f":"IFERROR(VLOOKUP(SMALL('C-E'!$A$13:$A$1001,RC_EXAM!$A319),'C-E'!$A$13:$J$1001,E$39,FALSE),\"\")","v":""},null,{"$f":"IFERROR(VLOOKUP(SMALL('C-E'!$A$13:$A$1001,RC_EXAM!$A319),'C-E'!$A$13:$J$1001,G$39,FALSE),\"\")","v":""}]
[279,{"$f":"IFERROR(VLOOKUP(SMALL('C-E'!$A$13:$A$1001,RC_EXAM!$A320),'C-E'!$A$13:$J$1001,B$39,FALSE),\"\")","v":""},{"$f":"IFERROR(VLOOKUP(SMALL('C-E'!$A$13:$A$1001,RC_EXAM!$A320),'C-E'!$A$13:$J$1001,C$39,FALSE),\"\")","v":""},{"$f":"IFERROR(VLOOKUP(SMALL('C-E'!$A$13:$A$1001,RC_EXAM!$A320),'C-E'!$A$13:$J$1001,D$39,FALSE),\"\")","v":""},{"$f":"IFERROR(VLOOKUP(SMALL('C-E'!$A$13:$A$1001,RC_EXAM!$A320),'C-E'!$A$13:$J$1001,E$39,FALSE),\"\")","v":""},null,{"$f":"IFERROR(VLOOKUP(SMALL('C-E'!$A$13:$A$1001,RC_EXAM!$A320),'C-E'!$A$13:$J$1001,G$39,FALSE),\"\")","v":""}]
[280,{"$f":"IFERROR(VLOOKUP(SMALL('C-E'!$A$13:$A$1001,RC_EXAM!$A321),'C-E'!$A$13:$J$1001,B$39,FALSE),\"\")","v":""},{"$f":"IFERROR(VLOOKUP(SMALL('C-E'!$A$13:$A$1001,RC_EXAM!$A321),'C-E'!$A$13:$J$1001,C$39,FALSE),\"\")","v":""},{"$f":"IFERROR(VLOOKUP(SMALL('C-E'!$A$13:$A$1001,RC_EXAM!$A321),'C-E'!$A$13:$J$1001,D$39,FALSE),\"\")","v":""},{"$f":"IFERROR(VLOOKUP(SMALL('C-E'!$A$13:$A$1001,RC_EXAM!$A321),'C-E'!$A$13:$J$1001,E$39,FALSE),\"\")","v":""},null,{"$f":"IFERROR(VLOOKUP(SMALL('C-E'!$A$13:$A$1001,RC_EXAM!$A321),'C-E'!$A$13:$J$1001,G$39,FALSE),\"\")","v":""}]
[281,{"$f":"IFERROR(VLOOKUP(SMALL('C-E'!$A$13:$A$1001,RC_EXAM!$A322),'C-E'!$A$13:$J$1001,B$39,FALSE),\"\")","v":""},{"$f":"IFERROR(VLOOKUP(SMALL('C-E'!$A$13:$A$1001,RC_EXAM!$A322),'C-E'!$A$13:$J$1001,C$39,FALSE),\"\")","v":""},{"$f":"IFERROR(VLOOKUP(SMALL('C-E'!$A$13:$A$1001,RC_EXAM!$A322),'C-E'!$A$13:$J$1001,D$39,FALSE),\"\")","v":""},{"$f":"IFERROR(VLOOKUP(SMALL('C-E'!$A$13:$A$1001,RC_EXAM!$A322),'C-E'!$A$13:$J$1001,E$39,FALSE),\"\")","v":""},null,{"$f":"IFERROR(VLOOKUP(SMALL('C-E'!$A$13:$A$1001,RC_EXAM!$A322),'C-E'!$A$13:$J$1001,G$39,FALSE),\"\")","v":""}]
[282,{"$f":"IFERROR(VLOOKUP(SMALL('C-E'!$A$13:$A$1001,RC_EXAM!$A323),'C-E'!$A$13:$J$1001,B$39,FALSE),\"\")","v":""},{"$f":"IFERROR(VLOOKUP(SMALL('C-E'!$A$13:$A$1001,RC_EXAM!$A323),'C-E'!$A$13:$J$1001,C$39,FALSE),\"\")","v":""},{"$f":"IFERROR(VLOOKUP(SMALL('C-E'!$A$13:$A$1001,RC_EXAM!$A323),'C-E'!$A$13:$J$1001,D$39,FALSE),\"\")","v":""},{"$f":"IFERROR(VLOOKUP(SMALL('C-E'!$A$13:$A$1001,RC_EXAM!$A323),'C-E'!$A$13:$J$1001,E$39,FALSE),\"\")","v":""},null,{"$f":"IFERROR(VLOOKUP(SMALL('C-E'!$A$13:$A$1001,RC_EXAM!$A323),'C-E'!$A$13:$J$1001,G$39,FALSE),\"\")","v":""}]
[283,{"$f":"IFERROR(VLOOKUP(SMALL('C-E'!$A$13:$A$1001,RC_EXAM!$A324),'C-E'!$A$13:$J$1001,B$39,FALSE),\"\")","v":""},{"$f":"IFERROR(VLOOKUP(SMALL('C-E'!$A$13:$A$1001,RC_EXAM!$A324),'C-E'!$A$13:$J$1001,C$39,FALSE),\"\")","v":""},{"$f":"IFERROR(VLOOKUP(SMALL('C-E'!$A$13:$A$1001,RC_EXAM!$A324),'C-E'!$A$13:$J$1001,D$39,FALSE),\"\")","v":""},{"$f":"IFERROR(VLOOKUP(SMALL('C-E'!$A$13:$A$1001,RC_EXAM!$A324),'C-E'!$A$13:$J$1001,E$39,FALSE),\"\")","v":""},null,{"$f":"IFERROR(VLOOKUP(SMALL('C-E'!$A$13:$A$1001,RC_EXAM!$A324),'C-E'!$A$13:$J$1001,G$39,FALSE),\"\")","v":""}]
[284,{"$f":"IFERROR(VLOOKUP(SMALL('C-E'!$A$13:$A$1001,RC_EXAM!$A325),'C-E'!$A$13:$J$1001,B$39,FALSE),\"\")","v":""},{"$f":"IFERROR(VLOOKUP(SMALL('C-E'!$A$13:$A$1001,RC_EXAM!$A325),'C-E'!$A$13:$J$1001,C$39,FALSE),\"\")","v":""},{"$f":"IFERROR(VLOOKUP(SMALL('C-E'!$A$13:$A$1001,RC_EXAM!$A325),'C-E'!$A$13:$J$1001,D$39,FALSE),\"\")","v":""},{"$f":"IFERROR(VLOOKUP(SMALL('C-E'!$A$13:$A$1001,RC_EXAM!$A325),'C-E'!$A$13:$J$1001,E$39,FALSE),\"\")","v":""},null,{"$f":"IFERROR(VLOOKUP(SMALL('C-E'!$A$13:$A$1001,RC_EXAM!$A325),'C-E'!$A$13:$J$1001,G$39,FALSE),\"\")","v":""}]
[285,{"$f":"IFERROR(VLOOKUP(SMALL('C-E'!$A$13:$A$1001,RC_EXAM!$A326),'C-E'!$A$13:$J$1001,B$39,FALSE),\"\")","v":""},{"$f":"IFERROR(VLOOKUP(SMALL('C-E'!$A$13:$A$1001,RC_EXAM!$A326),'C-E'!$A$13:$J$1001,C$39,FALSE),\"\")","v":""},{"$f":"IFERROR(VLOOKUP(SMALL('C-E'!$A$13:$A$1001,RC_EXAM!$A326),'C-E'!$A$13:$J$1001,D$39,FALSE),\"\")","v":""},{"$f":"IFERROR(VLOOKUP(SMALL('C-E'!$A$13:$A$1001,RC_EXAM!$A326),'C-E'!$A$13:$J$1001,E$39,FALSE),\"\")","v":""},null,{"$f":"IFERROR(VLOOKUP(SMALL('C-E'!$A$13:$A$1001,RC_EXAM!$A326),'C-E'!$A$13:$J$1001,G$39,FALSE),\"\")","v":""}]
[286,{"$f":"IFERROR(VLOOKUP(SMALL('C-E'!$A$13:$A$1001,RC_EXAM!$A327),'C-E'!$A$13:$J$1001,B$39,FALSE),\"\")","v":""},{"$f":"IFERROR(VLOOKUP(SMALL('C-E'!$A$13:$A$1001,RC_EXAM!$A327),'C-E'!$A$13:$J$1001,C$39,FALSE),\"\")","v":""},{"$f":"IFERROR(VLOOKUP(SMALL('C-E'!$A$13:$A$1001,RC_EXAM!$A327),'C-E'!$A$13:$J$1001,D$39,FALSE),\"\")","v":""},{"$f":"IFERROR(VLOOKUP(SMALL('C-E'!$A$13:$A$1001,RC_EXAM!$A327),'C-E'!$A$13:$J$1001,E$39,FALSE),\"\")","v":""},null,{"$f":"IFERROR(VLOOKUP(SMALL('C-E'!$A$13:$A$1001,RC_EXAM!$A327),'C-E'!$A$13:$J$1001,G$39,FALSE),\"\")","v":""}]
[287,{"$f":"IFERROR(VLOOKUP(SMALL('C-E'!$A$13:$A$1001,RC_EXAM!$A328),'C-E'!$A$13:$J$1001,B$39,FALSE),\"\")","v":""},{"$f":"IFERROR(VLOOKUP(SMALL('C-E'!$A$13:$A$1001,RC_EXAM!$A328),'C-E'!$A$13:$J$1001,C$39,FALSE),\"\")","v":""},{"$f":"IFERROR(VLOOKUP(SMALL('C-E'!$A$13:$A$1001,RC_EXAM!$A328),'C-E'!$A$13:$J$1001,D$39,FALSE),\"\")","v":""},{"$f":"IFERROR(VLOOKUP(SMALL('C-E'!$A$13:$A$1001,RC_EXAM!$A328),'C-E'!$A$13:$J$1001,E$39,FALSE),\"\")","v":""},null,{"$f":"IFERROR(VLOOKUP(SMALL('C-E'!$A$13:$A$1001,RC_EXAM!$A328),'C-E'!$A$13:$J$1001,G$39,FALSE),\"\")","v":""}]
[288,{"$f":"IFERROR(VLOOKUP(SMALL('C-E'!$A$13:$A$1001,RC_EXAM!$A329),'C-E'!$A$13:$J$1001,B$39,FALSE),\"\")","v":""},{"$f":"IFERROR(VLOOKUP(SMALL('C-E'!$A$13:$A$1001,RC_EXAM!$A329),'C-E'!$A$13:$J$1001,C$39,FALSE),\"\")","v":""},{"$f":"IFERROR(VLOOKUP(SMALL('C-E'!$A$13:$A$1001,RC_EXAM!$A329),'C-E'!$A$13:$J$1001,D$39,FALSE),\"\")","v":""},{"$f":"IFERROR(VLOOKUP(SMALL('C-E'!$A$13:$A$1001,RC_EXAM!$A329),'C-E'!$A$13:$J$1001,E$39,FALSE),\"\")","v":""},null,{"$f":"IFERROR(VLOOKUP(SMALL('C-E'!$A$13:$A$1001,RC_EXAM!$A329),'C-E'!$A$13:$J$1001,G$39,FALSE),\"\")","v":""}]
[289,{"$f":"IFERROR(VLOOKUP(SMALL('C-E'!$A$13:$A$1001,RC_EXAM!$A330),'C-E'!$A$13:$J$1001,B$39,FALSE),\"\")","v":""},{"$f":"IFERROR(VLOOKUP(SMALL('C-E'!$A$13:$A$1001,RC_EXAM!$A330),'C-E'!$A$13:$J$1001,C$39,FALSE),\"\")","v":""},{"$f":"IFERROR(VLOOKUP(SMALL('C-E'!$A$13:$A$1001,RC_EXAM!$A330),'C-E'!$A$13:$J$1001,D$39,FALSE),\"\")","v":""},{"$f":"IFERROR(VLOOKUP(SMALL('C-E'!$A$13:$A$1001,RC_EXAM!$A330),'C-E'!$A$13:$J$1001,E$39,FALSE),\"\")","v":""},null,{"$f":"IFERROR(VLOOKUP(SMALL('C-E'!$A$13:$A$1001,RC_EXAM!$A330),'C-E'!$A$13:$J$1001,G$39,FALSE),\"\")","v":""}]
[290,{"$f":"IFERROR(VLOOKUP(SMALL('C-E'!$A$13:$A$1001,RC_EXAM!$A331),'C-E'!$A$13:$J$1001,B$39,FALSE),\"\")","v":""},{"$f":"IFERROR(VLOOKUP(SMALL('C-E'!$A$13:$A$1001,RC_EXAM!$A331),'C-E'!$A$13:$J$1001,C$39,FALSE),\"\")","v":""},{"$f":"IFERROR(VLOOKUP(SMALL('C-E'!$A$13:$A$1001,RC_EXAM!$A331),'C-E'!$A$13:$J$1001,D$39,FALSE),\"\")","v":""},{"$f":"IFERROR(VLOOKUP(SMALL('C-E'!$A$13:$A$1001,RC_EXAM!$A331),'C-E'!$A$13:$J$1001,E$39,FALSE),\"\")","v":""},null,{"$f":"IFERROR(VLOOKUP(SMALL('C-E'!$A$13:$A$1001,RC_EXAM!$A331),'C-E'!$A$13:$J$1001,G$39,FALSE),\"\")","v":""}]
[291,{"$f":"IFERROR(VLOOKUP(SMALL('C-E'!$A$13:$A$1001,RC_EXAM!$A332),'C-E'!$A$13:$J$1001,B$39,FALSE),\"\")","v":""},{"$f":"IFERROR(VLOOKUP(SMALL('C-E'!$A$13:$A$1001,RC_EXAM!$A332),'C-E'!$A$13:$J$1001,C$39,FALSE),\"\")","v":""},{"$f":"IFERROR(VLOOKUP(SMALL('C-E'!$A$13:$A$1001,RC_EXAM!$A332),'C-E'!$A$13:$J$1001,D$39,FALSE),\"\")","v":""},{"$f":"IFERROR(VLOOKUP(SMALL('C-E'!$A$13:$A$1001,RC_EXAM!$A332),'C-E'!$A$13:$J$1001,E$39,FALSE),\"\")","v":""},null,{"$f":"IFERROR(VLOOKUP(SMALL('C-E'!$A$13:$A$1001,RC_EXAM!$A332),'C-E'!$A$13:$J$1001,G$39,FALSE),\"\")","v":""}]
[292,{"$f":"IFERROR(VLOOKUP(SMALL('C-E'!$A$13:$A$1001,RC_EXAM!$A333),'C-E'!$A$13:$J$1001,B$39,FALSE),\"\")","v":""},{"$f":"IFERROR(VLOOKUP(SMALL('C-E'!$A$13:$A$1001,RC_EXAM!$A333),'C-E'!$A$13:$J$1001,C$39,FALSE),\"\")","v":""},{"$f":"IFERROR(VLOOKUP(SMALL('C-E'!$A$13:$A$1001,RC_EXAM!$A333),'C-E'!$A$13:$J$1001,D$39,FALSE),\"\")","v":""},{"$f":"IFERROR(VLOOKUP(SMALL('C-E'!$A$13:$A$1001,RC_EXAM!$A333),'C-E'!$A$13:$J$1001,E$39,FALSE),\"\")","v":""},null,{"$f":"IFERROR(VLOOKUP(SMALL('C-E'!$A$13:$A$1001,RC_EXAM!$A333),'C-E'!$A$13:$J$1001,G$39,FALSE),\"\")","v":""}]
[293,{"$f":"IFERROR(VLOOKUP(SMALL('C-E'!$A$13:$A$1001,RC_EXAM!$A334),'C-E'!$A$13:$J$1001,B$39,FALSE),\"\")","v":""},{"$f":"IFERROR(VLOOKUP(SMALL('C-E'!$A$13:$A$1001,RC_EXAM!$A334),'C-E'!$A$13:$J$1001,C$39,FALSE),\"\")","v":""},{"$f":"IFERROR(VLOOKUP(SMALL('C-E'!$A$13:$A$1001,RC_EXAM!$A334),'C-E'!$A$13:$J$1001,D$39,FALSE),\"\")","v":""},{"$f":"IFERROR(VLOOKUP(SMALL('C-E'!$A$13:$A$1001,RC_EXAM!$A334),'C-E'!$A$13:$J$1001,E$39,FALSE),\"\")","v":""},null,{"$f":"IFERROR(VLOOKUP(SMALL('C-E'!$A$13:$A$1001,RC_EXAM!$A334),'C-E'!$A$13:$J$1001,G$39,FALSE),\"\")","v":""}]
[294,{"$f":"IFERROR(VLOOKUP(SMALL('C-E'!$A$13:$A$1001,RC_EXAM!$A335),'C-E'!$A$13:$J$1001,B$39,FALSE),\"\")","v":""},{"$f":"IFERROR(VLOOKUP(SMALL('C-E'!$A$13:$A$1001,RC_EXAM!$A335),'C-E'!$A$13:$J$1001,C$39,FALSE),\"\")","v":""},{"$f":"IFERROR(VLOOKUP(SMALL('C-E'!$A$13:$A$1001,RC_EXAM!$A335),'C-E'!$A$13:$J$1001,D$39,FALSE),\"\")","v":""},{"$f":"IFERROR(VLOOKUP(SMALL('C-E'!$A$13:$A$1001,RC_EXAM!$A335),'C-E'!$A$13:$J$1001,E$39,FALSE),\"\")","v":""},null,{"$f":"IFERROR(VLOOKUP(SMALL('C-E'!$A$13:$A$1001,RC_EXAM!$A335),'C-E'!$A$13:$J$1001,G$39,FALSE),\"\")","v":""}]
[295,{"$f":"IFERROR(VLOOKUP(SMALL('C-E'!$A$13:$A$1001,RC_EXAM!$A336),'C-E'!$A$13:$J$1001,B$39,FALSE),\"\")","v":""},{"$f":"IFERROR(VLOOKUP(SMALL('C-E'!$A$13:$A$1001,RC_EXAM!$A336),'C-E'!$A$13:$J$1001,C$39,FALSE),\"\")","v":""},{"$f":"IFERROR(VLOOKUP(SMALL('C-E'!$A$13:$A$1001,RC_EXAM!$A336),'C-E'!$A$13:$J$1001,D$39,FALSE),\"\")","v":""},{"$f":"IFERROR(VLOOKUP(SMALL('C-E'!$A$13:$A$1001,RC_EXAM!$A336),'C-E'!$A$13:$J$1001,E$39,FALSE),\"\")","v":""},null,{"$f":"IFERROR(VLOOKUP(SMALL('C-E'!$A$13:$A$1001,RC_EXAM!$A336),'C-E'!$A$13:$J$1001,G$39,FALSE),\"\")","v":""}]
[296,{"$f":"IFERROR(VLOOKUP(SMALL('C-E'!$A$13:$A$1001,RC_EXAM!$A337),'C-E'!$A$13:$J$1001,B$39,FALSE),\"\")","v":""},{"$f":"IFERROR(VLOOKUP(SMALL('C-E'!$A$13:$A$1001,RC_EXAM!$A337),'C-E'!$A$13:$J$1001,C$39,FALSE),\"\")","v":""},{"$f":"IFERROR(VLOOKUP(SMALL('C-E'!$A$13:$A$1001,RC_EXAM!$A337),'C-E'!$A$13:$J$1001,D$39,FALSE),\"\")","v":""},{"$f":"IFERROR(VLOOKUP(SMALL('C-E'!$A$13:$A$1001,RC_EXAM!$A337),'C-E'!$A$13:$J$1001,E$39,FALSE),\"\")","v":""},null,{"$f":"IFERROR(VLOOKUP(SMALL('C-E'!$A$13:$A$1001,RC_EXAM!$A337),'C-E'!$A$13:$J$1001,G$39,FALSE),\"\")","v":""}]
[297,{"$f":"IFERROR(VLOOKUP(SMALL('C-E'!$A$13:$A$1001,RC_EXAM!$A338),'C-E'!$A$13:$J$1001,B$39,FALSE),\"\")","v":""},{"$f":"IFERROR(VLOOKUP(SMALL('C-E'!$A$13:$A$1001,RC_EXAM!$A338),'C-E'!$A$13:$J$1001,C$39,FALSE),\"\")","v":""},{"$f":"IFERROR(VLOOKUP(SMALL('C-E'!$A$13:$A$1001,RC_EXAM!$A338),'C-E'!$A$13:$J$1001,D$39,FALSE),\"\")","v":""},{"$f":"IFERROR(VLOOKUP(SMALL('C-E'!$A$13:$A$1001,RC_EXAM!$A338),'C-E'!$A$13:$J$1001,E$39,FALSE),\"\")","v":""},null,{"$f":"IFERROR(VLOOKUP(SMALL('C-E'!$A$13:$A$1001,RC_EXAM!$A338),'C-E'!$A$13:$J$1001,G$39,FALSE),\"\")","v":""}]
[298,{"$f":"IFERROR(VLOOKUP(SMALL('C-E'!$A$13:$A$1001,RC_EXAM!$A339),'C-E'!$A$13:$J$1001,B$39,FALSE),\"\")","v":""},{"$f":"IFERROR(VLOOKUP(SMALL('C-E'!$A$13:$A$1001,RC_EXAM!$A339),'C-E'!$A$13:$J$1001,C$39,FALSE),\"\")","v":""},{"$f":"IFERROR(VLOOKUP(SMALL('C-E'!$A$13:$A$1001,RC_EXAM!$A339),'C-E'!$A$13:$J$1001,D$39,FALSE),\"\")","v":""},{"$f":"IFERROR(VLOOKUP(SMALL('C-E'!$A$13:$A$1001,RC_EXAM!$A339),'C-E'!$A$13:$J$1001,E$39,FALSE),\"\")","v":""},null,{"$f":"IFERROR(VLOOKUP(SMALL('C-E'!$A$13:$A$1001,RC_EXAM!$A339),'C-E'!$A$13:$J$1001,G$39,FALSE),\"\")","v":""}]
[299,{"$f":"IFERROR(VLOOKUP(SMALL('C-E'!$A$13:$A$1001,RC_EXAM!$A340),'C-E'!$A$13:$J$1001,B$39,FALSE),\"\")","v":""},{"$f":"IFERROR(VLOOKUP(SMALL('C-E'!$A$13:$A$1001,RC_EXAM!$A340),'C-E'!$A$13:$J$1001,C$39,FALSE),\"\")","v":""},{"$f":"IFERROR(VLOOKUP(SMALL('C-E'!$A$13:$A$1001,RC_EXAM!$A340),'C-E'!$A$13:$J$1001,D$39,FALSE),\"\")","v":""},{"$f":"IFERROR(VLOOKUP(SMALL('C-E'!$A$13:$A$1001,RC_EXAM!$A340),'C-E'!$A$13:$J$1001,E$39,FALSE),\"\")","v":""},null,{"$f":"IFERROR(VLOOKUP(SMALL('C-E'!$A$13:$A$1001,RC_EXAM!$A340),'C-E'!$A$13:$J$1001,G$39,FALSE),\"\")","v":""}]
[300,{"$f":"IFERROR(VLOOKUP(SMALL('C-E'!$A$13:$A$1001,RC_EXAM!$A341),'C-E'!$A$13:$J$1001,B$39,FALSE),\"\")","v":""},{"$f":"IFERROR(VLOOKUP(SMALL('C-E'!$A$13:$A$1001,RC_EXAM!$A341),'C-E'!$A$13:$J$1001,C$39,FALSE),\"\")","v":""},{"$f":"IFERROR(VLOOKUP(SMALL('C-E'!$A$13:$A$1001,RC_EXAM!$A341),'C-E'!$A$13:$J$1001,D$39,FALSE),\"\")","v":""},{"$f":"IFERROR(VLOOKUP(SMALL('C-E'!$A$13:$A$1001,RC_EXAM!$A341),'C-E'!$A$13:$J$1001,E$39,FALSE),\"\")","v":""},null,{"$f":"IFERROR(VLOOKUP(SMALL('C-E'!$A$13:$A$1001,RC_EXAM!$A341),'C-E'!$A$13:$J$1001,G$39,FALSE),\"\")","v":""}]
[301,{"$f":"IFERROR(VLOOKUP(SMALL('C-E'!$A$13:$A$1001,RC_EXAM!$A342),'C-E'!$A$13:$J$1001,B$39,FALSE),\"\")","v":""},{"$f":"IFERROR(VLOOKUP(SMALL('C-E'!$A$13:$A$1001,RC_EXAM!$A342),'C-E'!$A$13:$J$1001,C$39,FALSE),\"\")","v":""},{"$f":"IFERROR(VLOOKUP(SMALL('C-E'!$A$13:$A$1001,RC_EXAM!$A342),'C-E'!$A$13:$J$1001,D$39,FALSE),\"\")","v":""},{"$f":"IFERROR(VLOOKUP(SMALL('C-E'!$A$13:$A$1001,RC_EXAM!$A342),'C-E'!$A$13:$J$1001,E$39,FALSE),\"\")","v":""},null,{"$f":"IFERROR(VLOOKUP(SMALL('C-E'!$A$13:$A$1001,RC_EXAM!$A342),'C-E'!$A$13:$J$1001,G$39,FALSE),\"\")","v":""}]
[302,{"$f":"IFERROR(VLOOKUP(SMALL('C-E'!$A$13:$A$1001,RC_EXAM!$A343),'C-E'!$A$13:$J$1001,B$39,FALSE),\"\")","v":""},{"$f":"IFERROR(VLOOKUP(SMALL('C-E'!$A$13:$A$1001,RC_EXAM!$A343),'C-E'!$A$13:$J$1001,C$39,FALSE),\"\")","v":""},{"$f":"IFERROR(VLOOKUP(SMALL('C-E'!$A$13:$A$1001,RC_EXAM!$A343),'C-E'!$A$13:$J$1001,D$39,FALSE),\"\")","v":""},{"$f":"IFERROR(VLOOKUP(SMALL('C-E'!$A$13:$A$1001,RC_EXAM!$A343),'C-E'!$A$13:$J$1001,E$39,FALSE),\"\")","v":""},null,{"$f":"IFERROR(VLOOKUP(SMALL('C-E'!$A$13:$A$1001,RC_EXAM!$A343),'C-E'!$A$13:$J$1001,G$39,FALSE),\"\")","v":""}]
[303,{"$f":"IFERROR(VLOOKUP(SMALL('C-E'!$A$13:$A$1001,RC_EXAM!$A344),'C-E'!$A$13:$J$1001,B$39,FALSE),\"\")","v":""},{"$f":"IFERROR(VLOOKUP(SMALL('C-E'!$A$13:$A$1001,RC_EXAM!$A344),'C-E'!$A$13:$J$1001,C$39,FALSE),\"\")","v":""},{"$f":"IFERROR(VLOOKUP(SMALL('C-E'!$A$13:$A$1001,RC_EXAM!$A344),'C-E'!$A$13:$J$1001,D$39,FALSE),\"\")","v":""},{"$f":"IFERROR(VLOOKUP(SMALL('C-E'!$A$13:$A$1001,RC_EXAM!$A344),'C-E'!$A$13:$J$1001,E$39,FALSE),\"\")","v":""},null,{"$f":"IFERROR(VLOOKUP(SMALL('C-E'!$A$13:$A$1001,RC_EXAM!$A344),'C-E'!$A$13:$J$1001,G$39,FALSE),\"\")","v":""}]
[304,{"$f":"IFERROR(VLOOKUP(SMALL('C-E'!$A$13:$A$1001,RC_EXAM!$A345),'C-E'!$A$13:$J$1001,B$39,FALSE),\"\")","v":""},{"$f":"IFERROR(VLOOKUP(SMALL('C-E'!$A$13:$A$1001,RC_EXAM!$A345),'C-E'!$A$13:$J$1001,C$39,FALSE),\"\")","v":""},{"$f":"IFERROR(VLOOKUP(SMALL('C-E'!$A$13:$A$1001,RC_EXAM!$A345),'C-E'!$A$13:$J$1001,D$39,FALSE),\"\")","v":""},{"$f":"IFERROR(VLOOKUP(SMALL('C-E'!$A$13:$A$1001,RC_EXAM!$A345),'C-E'!$A$13:$J$1001,E$39,FALSE),\"\")","v":""},null,{"$f":"IFERROR(VLOOKUP(SMALL('C-E'!$A$13:$A$1001,RC_EXAM!$A345),'C-E'!$A$13:$J$1001,G$39,FALSE),\"\")","v":""}]
[305,{"$f":"IFERROR(VLOOKUP(SMALL('C-E'!$A$13:$A$1001,RC_EXAM!$A346),'C-E'!$A$13:$J$1001,B$39,FALSE),\"\")","v":""},{"$f":"IFERROR(VLOOKUP(SMALL('C-E'!$A$13:$A$1001,RC_EXAM!$A346),'C-E'!$A$13:$J$1001,C$39,FALSE),\"\")","v":""},{"$f":"IFERROR(VLOOKUP(SMALL('C-E'!$A$13:$A$1001,RC_EXAM!$A346),'C-E'!$A$13:$J$1001,D$39,FALSE),\"\")","v":""},{"$f":"IFERROR(VLOOKUP(SMALL('C-E'!$A$13:$A$1001,RC_EXAM!$A346),'C-E'!$A$13:$J$1001,E$39,FALSE),\"\")","v":""},null,{"$f":"IFERROR(VLOOKUP(SMALL('C-E'!$A$13:$A$1001,RC_EXAM!$A346),'C-E'!$A$13:$J$1001,G$39,FALSE),\"\")","v":""}]
[306,{"$f":"IFERROR(VLOOKUP(SMALL('C-E'!$A$13:$A$1001,RC_EXAM!$A347),'C-E'!$A$13:$J$1001,B$39,FALSE),\"\")","v":""},{"$f":"IFERROR(VLOOKUP(SMALL('C-E'!$A$13:$A$1001,RC_EXAM!$A347),'C-E'!$A$13:$J$1001,C$39,FALSE),\"\")","v":""},{"$f":"IFERROR(VLOOKUP(SMALL('C-E'!$A$13:$A$1001,RC_EXAM!$A347),'C-E'!$A$13:$J$1001,D$39,FALSE),\"\")","v":""},{"$f":"IFERROR(VLOOKUP(SMALL('C-E'!$A$13:$A$1001,RC_EXAM!$A347),'C-E'!$A$13:$J$1001,E$39,FALSE),\"\")","v":""},null,{"$f":"IFERROR(VLOOKUP(SMALL('C-E'!$A$13:$A$1001,RC_EXAM!$A347),'C-E'!$A$13:$J$1001,G$39,FALSE),\"\")","v":""}]
[307,{"$f":"IFERROR(VLOOKUP(SMALL('C-E'!$A$13:$A$1001,RC_EXAM!$A348),'C-E'!$A$13:$J$1001,B$39,FALSE),\"\")","v":""},{"$f":"IFERROR(VLOOKUP(SMALL('C-E'!$A$13:$A$1001,RC_EXAM!$A348),'C-E'!$A$13:$J$1001,C$39,FALSE),\"\")","v":""},{"$f":"IFERROR(VLOOKUP(SMALL('C-E'!$A$13:$A$1001,RC_EXAM!$A348),'C-E'!$A$13:$J$1001,D$39,FALSE),\"\")","v":""},{"$f":"IFERROR(VLOOKUP(SMALL('C-E'!$A$13:$A$1001,RC_EXAM!$A348),'C-E'!$A$13:$J$1001,E$39,FALSE),\"\")","v":""},null,{"$f":"IFERROR(VLOOKUP(SMALL('C-E'!$A$13:$A$1001,RC_EXAM!$A348),'C-E'!$A$13:$J$1001,G$39,FALSE),\"\")","v":""}]
[308,{"$f":"IFERROR(VLOOKUP(SMALL('C-E'!$A$13:$A$1001,RC_EXAM!$A349),'C-E'!$A$13:$J$1001,B$39,FALSE),\"\")","v":""},{"$f":"IFERROR(VLOOKUP(SMALL('C-E'!$A$13:$A$1001,RC_EXAM!$A349),'C-E'!$A$13:$J$1001,C$39,FALSE),\"\")","v":""},{"$f":"IFERROR(VLOOKUP(SMALL('C-E'!$A$13:$A$1001,RC_EXAM!$A349),'C-E'!$A$13:$J$1001,D$39,FALSE),\"\")","v":""},{"$f":"IFERROR(VLOOKUP(SMALL('C-E'!$A$13:$A$1001,RC_EXAM!$A349),'C-E'!$A$13:$J$1001,E$39,FALSE),\"\")","v":""},null,{"$f":"IFERROR(VLOOKUP(SMALL('C-E'!$A$13:$A$1001,RC_EXAM!$A349),'C-E'!$A$13:$J$1001,G$39,FALSE),\"\")","v":""}]
[309,{"$f":"IFERROR(VLOOKUP(SMALL('C-E'!$A$13:$A$1001,RC_EXAM!$A350),'C-E'!$A$13:$J$1001,B$39,FALSE),\"\")","v":""},{"$f":"IFERROR(VLOOKUP(SMALL('C-E'!$A$13:$A$1001,RC_EXAM!$A350),'C-E'!$A$13:$J$1001,C$39,FALSE),\"\")","v":""},{"$f":"IFERROR(VLOOKUP(SMALL('C-E'!$A$13:$A$1001,RC_EXAM!$A350),'C-E'!$A$13:$J$1001,D$39,FALSE),\"\")","v":""},{"$f":"IFERROR(VLOOKUP(SMALL('C-E'!$A$13:$A$1001,RC_EXAM!$A350),'C-E'!$A$13:$J$1001,E$39,FALSE),\"\")","v":""},null,{"$f":"IFERROR(VLOOKUP(SMALL('C-E'!$A$13:$A$1001,RC_EXAM!$A350),'C-E'!$A$13:$J$1001,G$39,FALSE),\"\")","v":""}]
[310,{"$f":"IFERROR(VLOOKUP(SMALL('C-E'!$A$13:$A$1001,RC_EXAM!$A351),'C-E'!$A$13:$J$1001,B$39,FALSE),\"\")","v":""},{"$f":"IFERROR(VLOOKUP(SMALL('C-E'!$A$13:$A$1001,RC_EXAM!$A351),'C-E'!$A$13:$J$1001,C$39,FALSE),\"\")","v":""},{"$f":"IFERROR(VLOOKUP(SMALL('C-E'!$A$13:$A$1001,RC_EXAM!$A351),'C-E'!$A$13:$J$1001,D$39,FALSE),\"\")","v":""},{"$f":"IFERROR(VLOOKUP(SMALL('C-E'!$A$13:$A$1001,RC_EXAM!$A351),'C-E'!$A$13:$J$1001,E$39,FALSE),\"\")","v":""},null,{"$f":"IFERROR(VLOOKUP(SMALL('C-E'!$A$13:$A$1001,RC_EXAM!$A351),'C-E'!$A$13:$J$1001,G$39,FALSE),\"\")","v":""}]
[311,{"$f":"IFERROR(VLOOKUP(SMALL('C-E'!$A$13:$A$1001,RC_EXAM!$A352),'C-E'!$A$13:$J$1001,B$39,FALSE),\"\")","v":""},{"$f":"IFERROR(VLOOKUP(SMALL('C-E'!$A$13:$A$1001,RC_EXAM!$A352),'C-E'!$A$13:$J$1001,C$39,FALSE),\"\")","v":""},{"$f":"IFERROR(VLOOKUP(SMALL('C-E'!$A$13:$A$1001,RC_EXAM!$A352),'C-E'!$A$13:$J$1001,D$39,FALSE),\"\")","v":""},{"$f":"IFERROR(VLOOKUP(SMALL('C-E'!$A$13:$A$1001,RC_EXAM!$A352),'C-E'!$A$13:$J$1001,E$39,FALSE),\"\")","v":""},null,{"$f":"IFERROR(VLOOKUP(SMALL('C-E'!$A$13:$A$1001,RC_EXAM!$A352),'C-E'!$A$13:$J$1001,G$39,FALSE),\"\")","v":""}]
[312,{"$f":"IFERROR(VLOOKUP(SMALL('C-E'!$A$13:$A$1001,RC_EXAM!$A353),'C-E'!$A$13:$J$1001,B$39,FALSE),\"\")","v":""},{"$f":"IFERROR(VLOOKUP(SMALL('C-E'!$A$13:$A$1001,RC_EXAM!$A353),'C-E'!$A$13:$J$1001,C$39,FALSE),\"\")","v":""},{"$f":"IFERROR(VLOOKUP(SMALL('C-E'!$A$13:$A$1001,RC_EXAM!$A353),'C-E'!$A$13:$J$1001,D$39,FALSE),\"\")","v":""},{"$f":"IFERROR(VLOOKUP(SMALL('C-E'!$A$13:$A$1001,RC_EXAM!$A353),'C-E'!$A$13:$J$1001,E$39,FALSE),\"\")","v":""},null,{"$f":"IFERROR(VLOOKUP(SMALL('C-E'!$A$13:$A$1001,RC_EXAM!$A353),'C-E'!$A$13:$J$1001,G$39,FALSE),\"\")","v":""}]
[313,{"$f":"IFERROR(VLOOKUP(SMALL('C-E'!$A$13:$A$1001,RC_EXAM!$A354),'C-E'!$A$13:$J$1001,B$39,FALSE),\"\")","v":""},{"$f":"IFERROR(VLOOKUP(SMALL('C-E'!$A$13:$A$1001,RC_EXAM!$A354),'C-E'!$A$13:$J$1001,C$39,FALSE),\"\")","v":""},{"$f":"IFERROR(VLOOKUP(SMALL('C-E'!$A$13:$A$1001,RC_EXAM!$A354),'C-E'!$A$13:$J$1001,D$39,FALSE),\"\")","v":""},{"$f":"IFERROR(VLOOKUP(SMALL('C-E'!$A$13:$A$1001,RC_EXAM!$A354),'C-E'!$A$13:$J$1001,E$39,FALSE),\"\")","v":""},null,{"$f":"IFERROR(VLOOKUP(SMALL('C-E'!$A$13:$A$1001,RC_EXAM!$A354),'C-E'!$A$13:$J$1001,G$39,FALSE),\"\")","v":""}]
[314,{"$f":"IFERROR(VLOOKUP(SMALL('C-E'!$A$13:$A$1001,RC_EXAM!$A355),'C-E'!$A$13:$J$1001,B$39,FALSE),\"\")","v":""},{"$f":"IFERROR(VLOOKUP(SMALL('C-E'!$A$13:$A$1001,RC_EXAM!$A355),'C-E'!$A$13:$J$1001,C$39,FALSE),\"\")","v":""},{"$f":"IFERROR(VLOOKUP(SMALL('C-E'!$A$13:$A$1001,RC_EXAM!$A355),'C-E'!$A$13:$J$1001,D$39,FALSE),\"\")","v":""},{"$f":"IFERROR(VLOOKUP(SMALL('C-E'!$A$13:$A$1001,RC_EXAM!$A355),'C-E'!$A$13:$J$1001,E$39,FALSE),\"\")","v":""},null,{"$f":"IFERROR(VLOOKUP(SMALL('C-E'!$A$13:$A$1001,RC_EXAM!$A355),'C-E'!$A$13:$J$1001,G$39,FALSE),\"\")","v":""}]
[315,{"$f":"IFERROR(VLOOKUP(SMALL('C-E'!$A$13:$A$1001,RC_EXAM!$A356),'C-E'!$A$13:$J$1001,B$39,FALSE),\"\")","v":""},{"$f":"IFERROR(VLOOKUP(SMALL('C-E'!$A$13:$A$1001,RC_EXAM!$A356),'C-E'!$A$13:$J$1001,C$39,FALSE),\"\")","v":""},{"$f":"IFERROR(VLOOKUP(SMALL('C-E'!$A$13:$A$1001,RC_EXAM!$A356),'C-E'!$A$13:$J$1001,D$39,FALSE),\"\")","v":""},{"$f":"IFERROR(VLOOKUP(SMALL('C-E'!$A$13:$A$1001,RC_EXAM!$A356),'C-E'!$A$13:$J$1001,E$39,FALSE),\"\")","v":""},null,{"$f":"IFERROR(VLOOKUP(SMALL('C-E'!$A$13:$A$1001,RC_EXAM!$A356),'C-E'!$A$13:$J$1001,G$39,FALSE),\"\")","v":""}]
[316,{"$f":"IFERROR(VLOOKUP(SMALL('C-E'!$A$13:$A$1001,RC_EXAM!$A357),'C-E'!$A$13:$J$1001,B$39,FALSE),\"\")","v":""},{"$f":"IFERROR(VLOOKUP(SMALL('C-E'!$A$13:$A$1001,RC_EXAM!$A357),'C-E'!$A$13:$J$1001,C$39,FALSE),\"\")","v":""},{"$f":"IFERROR(VLOOKUP(SMALL('C-E'!$A$13:$A$1001,RC_EXAM!$A357),'C-E'!$A$13:$J$1001,D$39,FALSE),\"\")","v":""},{"$f":"IFERROR(VLOOKUP(SMALL('C-E'!$A$13:$A$1001,RC_EXAM!$A357),'C-E'!$A$13:$J$1001,E$39,FALSE),\"\")","v":""},null,{"$f":"IFERROR(VLOOKUP(SMALL('C-E'!$A$13:$A$1001,RC_EXAM!$A357),'C-E'!$A$13:$J$1001,G$39,FALSE),\"\")","v":""}]
[317,{"$f":"IFERROR(VLOOKUP(SMALL('C-E'!$A$13:$A$1001,RC_EXAM!$A358),'C-E'!$A$13:$J$1001,B$39,FALSE),\"\")","v":""},{"$f":"IFERROR(VLOOKUP(SMALL('C-E'!$A$13:$A$1001,RC_EXAM!$A358),'C-E'!$A$13:$J$1001,C$39,FALSE),\"\")","v":""},{"$f":"IFERROR(VLOOKUP(SMALL('C-E'!$A$13:$A$1001,RC_EXAM!$A358),'C-E'!$A$13:$J$1001,D$39,FALSE),\"\")","v":""},{"$f":"IFERROR(VLOOKUP(SMALL('C-E'!$A$13:$A$1001,RC_EXAM!$A358),'C-E'!$A$13:$J$1001,E$39,FALSE),\"\")","v":""},null,{"$f":"IFERROR(VLOOKUP(SMALL('C-E'!$A$13:$A$1001,RC_EXAM!$A358),'C-E'!$A$13:$J$1001,G$39,FALSE),\"\")","v":""}]
[318,{"$f":"IFERROR(VLOOKUP(SMALL('C-E'!$A$13:$A$1001,RC_EXAM!$A359),'C-E'!$A$13:$J$1001,B$39,FALSE),\"\")","v":""},{"$f":"IFERROR(VLOOKUP(SMALL('C-E'!$A$13:$A$1001,RC_EXAM!$A359),'C-E'!$A$13:$J$1001,C$39,FALSE),\"\")","v":""},{"$f":"IFERROR(VLOOKUP(SMALL('C-E'!$A$13:$A$1001,RC_EXAM!$A359),'C-E'!$A$13:$J$1001,D$39,FALSE),\"\")","v":""},{"$f":"IFERROR(VLOOKUP(SMALL('C-E'!$A$13:$A$1001,RC_EXAM!$A359),'C-E'!$A$13:$J$1001,E$39,FALSE),\"\")","v":""},null,{"$f":"IFERROR(VLOOKUP(SMALL('C-E'!$A$13:$A$1001,RC_EXAM!$A359),'C-E'!$A$13:$J$1001,G$39,FALSE),\"\")","v":""}]
[319,{"$f":"IFERROR(VLOOKUP(SMALL('C-E'!$A$13:$A$1001,RC_EXAM!$A360),'C-E'!$A$13:$J$1001,B$39,FALSE),\"\")","v":""},{"$f":"IFERROR(VLOOKUP(SMALL('C-E'!$A$13:$A$1001,RC_EXAM!$A360),'C-E'!$A$13:$J$1001,C$39,FALSE),\"\")","v":""},{"$f":"IFERROR(VLOOKUP(SMALL('C-E'!$A$13:$A$1001,RC_EXAM!$A360),'C-E'!$A$13:$J$1001,D$39,FALSE),\"\")","v":""},{"$f":"IFERROR(VLOOKUP(SMALL('C-E'!$A$13:$A$1001,RC_EXAM!$A360),'C-E'!$A$13:$J$1001,E$39,FALSE),\"\")","v":""},null,{"$f":"IFERROR(VLOOKUP(SMALL('C-E'!$A$13:$A$1001,RC_EXAM!$A360),'C-E'!$A$13:$J$1001,G$39,FALSE),\"\")","v":""}]
[320,{"$f":"IFERROR(VLOOKUP(SMALL('C-E'!$A$13:$A$1001,RC_EXAM!$A361),'C-E'!$A$13:$J$1001,B$39,FALSE),\"\")","v":""},{"$f":"IFERROR(VLOOKUP(SMALL('C-E'!$A$13:$A$1001,RC_EXAM!$A361),'C-E'!$A$13:$J$1001,C$39,FALSE),\"\")","v":""},{"$f":"IFERROR(VLOOKUP(SMALL('C-E'!$A$13:$A$1001,RC_EXAM!$A361),'C-E'!$A$13:$J$1001,D$39,FALSE),\"\")","v":""},{"$f":"IFERROR(VLOOKUP(SMALL('C-E'!$A$13:$A$1001,RC_EXAM!$A361),'C-E'!$A$13:$J$1001,E$39,FALSE),\"\")","v":""},null,{"$f":"IFERROR(VLOOKUP(SMALL('C-E'!$A$13:$A$1001,RC_EXAM!$A361),'C-E'!$A$13:$J$1001,G$39,FALSE),\"\")","v":""}]
[321,{"$f":"IFERROR(VLOOKUP(SMALL('C-E'!$A$13:$A$1001,RC_EXAM!$A362),'C-E'!$A$13:$J$1001,B$39,FALSE),\"\")","v":""},{"$f":"IFERROR(VLOOKUP(SMALL('C-E'!$A$13:$A$1001,RC_EXAM!$A362),'C-E'!$A$13:$J$1001,C$39,FALSE),\"\")","v":""},{"$f":"IFERROR(VLOOKUP(SMALL('C-E'!$A$13:$A$1001,RC_EXAM!$A362),'C-E'!$A$13:$J$1001,D$39,FALSE),\"\")","v":""},{"$f":"IFERROR(VLOOKUP(SMALL('C-E'!$A$13:$A$1001,RC_EXAM!$A362),'C-E'!$A$13:$J$1001,E$39,FALSE),\"\")","v":""},null,{"$f":"IFERROR(VLOOKUP(SMALL('C-E'!$A$13:$A$1001,RC_EXAM!$A362),'C-E'!$A$13:$J$1001,G$39,FALSE),\"\")","v":""}]
[322,{"$f":"IFERROR(VLOOKUP(SMALL('C-E'!$A$13:$A$1001,RC_EXAM!$A363),'C-E'!$A$13:$J$1001,B$39,FALSE),\"\")","v":""},{"$f":"IFERROR(VLOOKUP(SMALL('C-E'!$A$13:$A$1001,RC_EXAM!$A363),'C-E'!$A$13:$J$1001,C$39,FALSE),\"\")","v":""},{"$f":"IFERROR(VLOOKUP(SMALL('C-E'!$A$13:$A$1001,RC_EXAM!$A363),'C-E'!$A$13:$J$1001,D$39,FALSE),\"\")","v":""},{"$f":"IFERROR(VLOOKUP(SMALL('C-E'!$A$13:$A$1001,RC_EXAM!$A363),'C-E'!$A$13:$J$1001,E$39,FALSE),\"\")","v":""},null,{"$f":"IFERROR(VLOOKUP(SMALL('C-E'!$A$13:$A$1001,RC_EXAM!$A363),'C-E'!$A$13:$J$1001,G$39,FALSE),\"\")","v":""}]
[323,{"$f":"IFERROR(VLOOKUP(SMALL('C-E'!$A$13:$A$1001,RC_EXAM!$A364),'C-E'!$A$13:$J$1001,B$39,FALSE),\"\")","v":""},{"$f":"IFERROR(VLOOKUP(SMALL('C-E'!$A$13:$A$1001,RC_EXAM!$A364),'C-E'!$A$13:$J$1001,C$39,FALSE),\"\")","v":""},{"$f":"IFERROR(VLOOKUP(SMALL('C-E'!$A$13:$A$1001,RC_EXAM!$A364),'C-E'!$A$13:$J$1001,D$39,FALSE),\"\")","v":""},{"$f":"IFERROR(VLOOKUP(SMALL('C-E'!$A$13:$A$1001,RC_EXAM!$A364),'C-E'!$A$13:$J$1001,E$39,FALSE),\"\")","v":""},null,{"$f":"IFERROR(VLOOKUP(SMALL('C-E'!$A$13:$A$1001,RC_EXAM!$A364),'C-E'!$A$13:$J$1001,G$39,FALSE),\"\")","v":""}]
[324,{"$f":"IFERROR(VLOOKUP(SMALL('C-E'!$A$13:$A$1001,RC_EXAM!$A365),'C-E'!$A$13:$J$1001,B$39,FALSE),\"\")","v":""},{"$f":"IFERROR(VLOOKUP(SMALL('C-E'!$A$13:$A$1001,RC_EXAM!$A365),'C-E'!$A$13:$J$1001,C$39,FALSE),\"\")","v":""},{"$f":"IFERROR(VLOOKUP(SMALL('C-E'!$A$13:$A$1001,RC_EXAM!$A365),'C-E'!$A$13:$J$1001,D$39,FALSE),\"\")","v":""},{"$f":"IFERROR(VLOOKUP(SMALL('C-E'!$A$13:$A$1001,RC_EXAM!$A365),'C-E'!$A$13:$J$1001,E$39,FALSE),\"\")","v":""},null,{"$f":"IFERROR(VLOOKUP(SMALL('C-E'!$A$13:$A$1001,RC_EXAM!$A365),'C-E'!$A$13:$J$1001,G$39,FALSE),\"\")","v":""}]
[325,{"$f":"IFERROR(VLOOKUP(SMALL('C-E'!$A$13:$A$1001,RC_EXAM!$A366),'C-E'!$A$13:$J$1001,B$39,FALSE),\"\")","v":""},{"$f":"IFERROR(VLOOKUP(SMALL('C-E'!$A$13:$A$1001,RC_EXAM!$A366),'C-E'!$A$13:$J$1001,C$39,FALSE),\"\")","v":""},{"$f":"IFERROR(VLOOKUP(SMALL('C-E'!$A$13:$A$1001,RC_EXAM!$A366),'C-E'!$A$13:$J$1001,D$39,FALSE),\"\")","v":""},{"$f":"IFERROR(VLOOKUP(SMALL('C-E'!$A$13:$A$1001,RC_EXAM!$A366),'C-E'!$A$13:$J$1001,E$39,FALSE),\"\")","v":""},null,{"$f":"IFERROR(VLOOKUP(SMALL('C-E'!$A$13:$A$1001,RC_EXAM!$A366),'C-E'!$A$13:$J$1001,G$39,FALSE),\"\")","v":""}]
[326,{"$f":"IFERROR(VLOOKUP(SMALL('C-E'!$A$13:$A$1001,RC_EXAM!$A367),'C-E'!$A$13:$J$1001,B$39,FALSE),\"\")","v":""},{"$f":"IFERROR(VLOOKUP(SMALL('C-E'!$A$13:$A$1001,RC_EXAM!$A367),'C-E'!$A$13:$J$1001,C$39,FALSE),\"\")","v":""},{"$f":"IFERROR(VLOOKUP(SMALL('C-E'!$A$13:$A$1001,RC_EXAM!$A367),'C-E'!$A$13:$J$1001,D$39,FALSE),\"\")","v":""},{"$f":"IFERROR(VLOOKUP(SMALL('C-E'!$A$13:$A$1001,RC_EXAM!$A367),'C-E'!$A$13:$J$1001,E$39,FALSE),\"\")","v":""},null,{"$f":"IFERROR(VLOOKUP(SMALL('C-E'!$A$13:$A$1001,RC_EXAM!$A367),'C-E'!$A$13:$J$1001,G$39,FALSE),\"\")","v":""}]
[327,{"$f":"IFERROR(VLOOKUP(SMALL('C-E'!$A$13:$A$1001,RC_EXAM!$A368),'C-E'!$A$13:$J$1001,B$39,FALSE),\"\")","v":""},{"$f":"IFERROR(VLOOKUP(SMALL('C-E'!$A$13:$A$1001,RC_EXAM!$A368),'C-E'!$A$13:$J$1001,C$39,FALSE),\"\")","v":""},{"$f":"IFERROR(VLOOKUP(SMALL('C-E'!$A$13:$A$1001,RC_EXAM!$A368),'C-E'!$A$13:$J$1001,D$39,FALSE),\"\")","v":""},{"$f":"IFERROR(VLOOKUP(SMALL('C-E'!$A$13:$A$1001,RC_EXAM!$A368),'C-E'!$A$13:$J$1001,E$39,FALSE),\"\")","v":""},null,{"$f":"IFERROR(VLOOKUP(SMALL('C-E'!$A$13:$A$1001,RC_EXAM!$A368),'C-E'!$A$13:$J$1001,G$39,FALSE),\"\")","v":""}]
[328,{"$f":"IFERROR(VLOOKUP(SMALL('C-E'!$A$13:$A$1001,RC_EXAM!$A369),'C-E'!$A$13:$J$1001,B$39,FALSE),\"\")","v":""},{"$f":"IFERROR(VLOOKUP(SMALL('C-E'!$A$13:$A$1001,RC_EXAM!$A369),'C-E'!$A$13:$J$1001,C$39,FALSE),\"\")","v":""},{"$f":"IFERROR(VLOOKUP(SMALL('C-E'!$A$13:$A$1001,RC_EXAM!$A369),'C-E'!$A$13:$J$1001,D$39,FALSE),\"\")","v":""},{"$f":"IFERROR(VLOOKUP(SMALL('C-E'!$A$13:$A$1001,RC_EXAM!$A369),'C-E'!$A$13:$J$1001,E$39,FALSE),\"\")","v":""},null,{"$f":"IFERROR(VLOOKUP(SMALL('C-E'!$A$13:$A$1001,RC_EXAM!$A369),'C-E'!$A$13:$J$1001,G$39,FALSE),\"\")","v":""}]
[329,{"$f":"IFERROR(VLOOKUP(SMALL('C-E'!$A$13:$A$1001,RC_EXAM!$A370),'C-E'!$A$13:$J$1001,B$39,FALSE),\"\")","v":""},{"$f":"IFERROR(VLOOKUP(SMALL('C-E'!$A$13:$A$1001,RC_EXAM!$A370),'C-E'!$A$13:$J$1001,C$39,FALSE),\"\")","v":""},{"$f":"IFERROR(VLOOKUP(SMALL('C-E'!$A$13:$A$1001,RC_EXAM!$A370),'C-E'!$A$13:$J$1001,D$39,FALSE),\"\")","v":""},{"$f":"IFERROR(VLOOKUP(SMALL('C-E'!$A$13:$A$1001,RC_EXAM!$A370),'C-E'!$A$13:$J$1001,E$39,FALSE),\"\")","v":""},null,{"$f":"IFERROR(VLOOKUP(SMALL('C-E'!$A$13:$A$1001,RC_EXAM!$A370),'C-E'!$A$13:$J$1001,G$39,FALSE),\"\")","v":""}]
[330,{"$f":"IFERROR(VLOOKUP(SMALL('C-E'!$A$13:$A$1001,RC_EXAM!$A371),'C-E'!$A$13:$J$1001,B$39,FALSE),\"\")","v":""},{"$f":"IFERROR(VLOOKUP(SMALL('C-E'!$A$13:$A$1001,RC_EXAM!$A371),'C-E'!$A$13:$J$1001,C$39,FALSE),\"\")","v":""},{"$f":"IFERROR(VLOOKUP(SMALL('C-E'!$A$13:$A$1001,RC_EXAM!$A371),'C-E'!$A$13:$J$1001,D$39,FALSE),\"\")","v":""},{"$f":"IFERROR(VLOOKUP(SMALL('C-E'!$A$13:$A$1001,RC_EXAM!$A371),'C-E'!$A$13:$J$1001,E$39,FALSE),\"\")","v":""},null,{"$f":"IFERROR(VLOOKUP(SMALL('C-E'!$A$13:$A$1001,RC_EXAM!$A371),'C-E'!$A$13:$J$1001,G$39,FALSE),\"\")","v":""}]
[331,{"$f":"IFERROR(VLOOKUP(SMALL('C-E'!$A$13:$A$1001,RC_EXAM!$A372),'C-E'!$A$13:$J$1001,B$39,FALSE),\"\")","v":""},{"$f":"IFERROR(VLOOKUP(SMALL('C-E'!$A$13:$A$1001,RC_EXAM!$A372),'C-E'!$A$13:$J$1001,C$39,FALSE),\"\")","v":""},{"$f":"IFERROR(VLOOKUP(SMALL('C-E'!$A$13:$A$1001,RC_EXAM!$A372),'C-E'!$A$13:$J$1001,D$39,FALSE),\"\")","v":""},{"$f":"IFERROR(VLOOKUP(SMALL('C-E'!$A$13:$A$1001,RC_EXAM!$A372),'C-E'!$A$13:$J$1001,E$39,FALSE),\"\")","v":""},null,{"$f":"IFERROR(VLOOKUP(SMALL('C-E'!$A$13:$A$1001,RC_EXAM!$A372),'C-E'!$A$13:$J$1001,G$39,FALSE),\"\")","v":""}]
[332,{"$f":"IFERROR(VLOOKUP(SMALL('C-E'!$A$13:$A$1001,RC_EXAM!$A373),'C-E'!$A$13:$J$1001,B$39,FALSE),\"\")","v":""},{"$f":"IFERROR(VLOOKUP(SMALL('C-E'!$A$13:$A$1001,RC_EXAM!$A373),'C-E'!$A$13:$J$1001,C$39,FALSE),\"\")","v":""},{"$f":"IFERROR(VLOOKUP(SMALL('C-E'!$A$13:$A$1001,RC_EXAM!$A373),'C-E'!$A$13:$J$1001,D$39,FALSE),\"\")","v":""},{"$f":"IFERROR(VLOOKUP(SMALL('C-E'!$A$13:$A$1001,RC_EXAM!$A373),'C-E'!$A$13:$J$1001,E$39,FALSE),\"\")","v":""},null,{"$f":"IFERROR(VLOOKUP(SMALL('C-E'!$A$13:$A$1001,RC_EXAM!$A373),'C-E'!$A$13:$J$1001,G$39,FALSE),\"\")","v":""}]
[333,{"$f":"IFERROR(VLOOKUP(SMALL('C-E'!$A$13:$A$1001,RC_EXAM!$A374),'C-E'!$A$13:$J$1001,B$39,FALSE),\"\")","v":""},{"$f":"IFERROR(VLOOKUP(SMALL('C-E'!$A$13:$A$1001,RC_EXAM!$A374),'C-E'!$A$13:$J$1001,C$39,FALSE),\"\")","v":""},{"$f":"IFERROR(VLOOKUP(SMALL('C-E'!$A$13:$A$1001,RC_EXAM!$A374),'C-E'!$A$13:$J$1001,D$39,FALSE),\"\")","v":""},{"$f":"IFERROR(VLOOKUP(SMALL('C-E'!$A$13:$A$1001,RC_EXAM!$A374),'C-E'!$A$13:$J$1001,E$39,FALSE),\"\")","v":""},null,{"$f":"IFERROR(VLOOKUP(SMALL('C-E'!$A$13:$A$1001,RC_EXAM!$A374),'C-E'!$A$13:$J$1001,G$39,FALSE),\"\")","v":""}]
[334,{"$f":"IFERROR(VLOOKUP(SMALL('C-E'!$A$13:$A$1001,RC_EXAM!$A375),'C-E'!$A$13:$J$1001,B$39,FALSE),\"\")","v":""},{"$f":"IFERROR(VLOOKUP(SMALL('C-E'!$A$13:$A$1001,RC_EXAM!$A375),'C-E'!$A$13:$J$1001,C$39,FALSE),\"\")","v":""},{"$f":"IFERROR(VLOOKUP(SMALL('C-E'!$A$13:$A$1001,RC_EXAM!$A375),'C-E'!$A$13:$J$1001,D$39,FALSE),\"\")","v":""},{"$f":"IFERROR(VLOOKUP(SMALL('C-E'!$A$13:$A$1001,RC_EXAM!$A375),'C-E'!$A$13:$J$1001,E$39,FALSE),\"\")","v":""},null,{"$f":"IFERROR(VLOOKUP(SMALL('C-E'!$A$13:$A$1001,RC_EXAM!$A375),'C-E'!$A$13:$J$1001,G$39,FALSE),\"\")","v":""}]
[335,{"$f":"IFERROR(VLOOKUP(SMALL('C-E'!$A$13:$A$1001,RC_EXAM!$A376),'C-E'!$A$13:$J$1001,B$39,FALSE),\"\")","v":""},{"$f":"IFERROR(VLOOKUP(SMALL('C-E'!$A$13:$A$1001,RC_EXAM!$A376),'C-E'!$A$13:$J$1001,C$39,FALSE),\"\")","v":""},{"$f":"IFERROR(VLOOKUP(SMALL('C-E'!$A$13:$A$1001,RC_EXAM!$A376),'C-E'!$A$13:$J$1001,D$39,FALSE),\"\")","v":""},{"$f":"IFERROR(VLOOKUP(SMALL('C-E'!$A$13:$A$1001,RC_EXAM!$A376),'C-E'!$A$13:$J$1001,E$39,FALSE),\"\")","v":""},null,{"$f":"IFERROR(VLOOKUP(SMALL('C-E'!$A$13:$A$1001,RC_EXAM!$A376),'C-E'!$A$13:$J$1001,G$39,FALSE),\"\")","v":""}]
[336,{"$f":"IFERROR(VLOOKUP(SMALL('C-E'!$A$13:$A$1001,RC_EXAM!$A377),'C-E'!$A$13:$J$1001,B$39,FALSE),\"\")","v":""},{"$f":"IFERROR(VLOOKUP(SMALL('C-E'!$A$13:$A$1001,RC_EXAM!$A377),'C-E'!$A$13:$J$1001,C$39,FALSE),\"\")","v":""},{"$f":"IFERROR(VLOOKUP(SMALL('C-E'!$A$13:$A$1001,RC_EXAM!$A377),'C-E'!$A$13:$J$1001,D$39,FALSE),\"\")","v":""},{"$f":"IFERROR(VLOOKUP(SMALL('C-E'!$A$13:$A$1001,RC_EXAM!$A377),'C-E'!$A$13:$J$1001,E$39,FALSE),\"\")","v":""},null,{"$f":"IFERROR(VLOOKUP(SMALL('C-E'!$A$13:$A$1001,RC_EXAM!$A377),'C-E'!$A$13:$J$1001,G$39,FALSE),\"\")","v":""}]
[337,{"$f":"IFERROR(VLOOKUP(SMALL('C-E'!$A$13:$A$1001,RC_EXAM!$A378),'C-E'!$A$13:$J$1001,B$39,FALSE),\"\")","v":""},{"$f":"IFERROR(VLOOKUP(SMALL('C-E'!$A$13:$A$1001,RC_EXAM!$A378),'C-E'!$A$13:$J$1001,C$39,FALSE),\"\")","v":""},{"$f":"IFERROR(VLOOKUP(SMALL('C-E'!$A$13:$A$1001,RC_EXAM!$A378),'C-E'!$A$13:$J$1001,D$39,FALSE),\"\")","v":""},{"$f":"IFERROR(VLOOKUP(SMALL('C-E'!$A$13:$A$1001,RC_EXAM!$A378),'C-E'!$A$13:$J$1001,E$39,FALSE),\"\")","v":""},null,{"$f":"IFERROR(VLOOKUP(SMALL('C-E'!$A$13:$A$1001,RC_EXAM!$A378),'C-E'!$A$13:$J$1001,G$39,FALSE),\"\")","v":""}]
[338,{"$f":"IFERROR(VLOOKUP(SMALL('C-E'!$A$13:$A$1001,RC_EXAM!$A379),'C-E'!$A$13:$J$1001,B$39,FALSE),\"\")","v":""},{"$f":"IFERROR(VLOOKUP(SMALL('C-E'!$A$13:$A$1001,RC_EXAM!$A379),'C-E'!$A$13:$J$1001,C$39,FALSE),\"\")","v":""},{"$f":"IFERROR(VLOOKUP(SMALL('C-E'!$A$13:$A$1001,RC_EXAM!$A379),'C-E'!$A$13:$J$1001,D$39,FALSE),\"\")","v":""},{"$f":"IFERROR(VLOOKUP(SMALL('C-E'!$A$13:$A$1001,RC_EXAM!$A379),'C-E'!$A$13:$J$1001,E$39,FALSE),\"\")","v":""},null,{"$f":"IFERROR(VLOOKUP(SMALL('C-E'!$A$13:$A$1001,RC_EXAM!$A379),'C-E'!$A$13:$J$1001,G$39,FALSE),\"\")","v":""}]
[339,{"$f":"IFERROR(VLOOKUP(SMALL('C-E'!$A$13:$A$1001,RC_EXAM!$A380),'C-E'!$A$13:$J$1001,B$39,FALSE),\"\")","v":""},{"$f":"IFERROR(VLOOKUP(SMALL('C-E'!$A$13:$A$1001,RC_EXAM!$A380),'C-E'!$A$13:$J$1001,C$39,FALSE),\"\")","v":""},{"$f":"IFERROR(VLOOKUP(SMALL('C-E'!$A$13:$A$1001,RC_EXAM!$A380),'C-E'!$A$13:$J$1001,D$39,FALSE),\"\")","v":""},{"$f":"IFERROR(VLOOKUP(SMALL('C-E'!$A$13:$A$1001,RC_EXAM!$A380),'C-E'!$A$13:$J$1001,E$39,FALSE),\"\")","v":""},null,{"$f":"IFERROR(VLOOKUP(SMALL('C-E'!$A$13:$A$1001,RC_EXAM!$A380),'C-E'!$A$13:$J$1001,G$39,FALSE),\"\")","v":""}]
[340,{"$f":"IFERROR(VLOOKUP(SMALL('C-E'!$A$13:$A$1001,RC_EXAM!$A381),'C-E'!$A$13:$J$1001,B$39,FALSE),\"\")","v":""},{"$f":"IFERROR(VLOOKUP(SMALL('C-E'!$A$13:$A$1001,RC_EXAM!$A381),'C-E'!$A$13:$J$1001,C$39,FALSE),\"\")","v":""},{"$f":"IFERROR(VLOOKUP(SMALL('C-E'!$A$13:$A$1001,RC_EXAM!$A381),'C-E'!$A$13:$J$1001,D$39,FALSE),\"\")","v":""},{"$f":"IFERROR(VLOOKUP(SMALL('C-E'!$A$13:$A$1001,RC_EXAM!$A381),'C-E'!$A$13:$J$1001,E$39,FALSE),\"\")","v":""},null,{"$f":"IFERROR(VLOOKUP(SMALL('C-E'!$A$13:$A$1001,RC_EXAM!$A381),'C-E'!$A$13:$J$1001,G$39,FALSE),\"\")","v":""}]
[341,{"$f":"IFERROR(VLOOKUP(SMALL('C-E'!$A$13:$A$1001,RC_EXAM!$A382),'C-E'!$A$13:$J$1001,B$39,FALSE),\"\")","v":""},{"$f":"IFERROR(VLOOKUP(SMALL('C-E'!$A$13:$A$1001,RC_EXAM!$A382),'C-E'!$A$13:$J$1001,C$39,FALSE),\"\")","v":""},{"$f":"IFERROR(VLOOKUP(SMALL('C-E'!$A$13:$A$1001,RC_EXAM!$A382),'C-E'!$A$13:$J$1001,D$39,FALSE),\"\")","v":""},{"$f":"IFERROR(VLOOKUP(SMALL('C-E'!$A$13:$A$1001,RC_EXAM!$A382),'C-E'!$A$13:$J$1001,E$39,FALSE),\"\")","v":""},null,{"$f":"IFERROR(VLOOKUP(SMALL('C-E'!$A$13:$A$1001,RC_EXAM!$A382),'C-E'!$A$13:$J$1001,G$39,FALSE),\"\")","v":""}]
[342,{"$f":"IFERROR(VLOOKUP(SMALL('C-E'!$A$13:$A$1001,RC_EXAM!$A383),'C-E'!$A$13:$J$1001,B$39,FALSE),\"\")","v":""},{"$f":"IFERROR(VLOOKUP(SMALL('C-E'!$A$13:$A$1001,RC_EXAM!$A383),'C-E'!$A$13:$J$1001,C$39,FALSE),\"\")","v":""},{"$f":"IFERROR(VLOOKUP(SMALL('C-E'!$A$13:$A$1001,RC_EXAM!$A383),'C-E'!$A$13:$J$1001,D$39,FALSE),\"\")","v":""},{"$f":"IFERROR(VLOOKUP(SMALL('C-E'!$A$13:$A$1001,RC_EXAM!$A383),'C-E'!$A$13:$J$1001,E$39,FALSE),\"\")","v":""},null,{"$f":"IFERROR(VLOOKUP(SMALL('C-E'!$A$13:$A$1001,RC_EXAM!$A383),'C-E'!$A$13:$J$1001,G$39,FALSE),\"\")","v":""}]
[343,{"$f":"IFERROR(VLOOKUP(SMALL('C-E'!$A$13:$A$1001,RC_EXAM!$A384),'C-E'!$A$13:$J$1001,B$39,FALSE),\"\")","v":""},{"$f":"IFERROR(VLOOKUP(SMALL('C-E'!$A$13:$A$1001,RC_EXAM!$A384),'C-E'!$A$13:$J$1001,C$39,FALSE),\"\")","v":""},{"$f":"IFERROR(VLOOKUP(SMALL('C-E'!$A$13:$A$1001,RC_EXAM!$A384),'C-E'!$A$13:$J$1001,D$39,FALSE),\"\")","v":""},{"$f":"IFERROR(VLOOKUP(SMALL('C-E'!$A$13:$A$1001,RC_EXAM!$A384),'C-E'!$A$13:$J$1001,E$39,FALSE),\"\")","v":""},null,{"$f":"IFERROR(VLOOKUP(SMALL('C-E'!$A$13:$A$1001,RC_EXAM!$A384),'C-E'!$A$13:$J$1001,G$39,FALSE),\"\")","v":""}]
[344,{"$f":"IFERROR(VLOOKUP(SMALL('C-E'!$A$13:$A$1001,RC_EXAM!$A385),'C-E'!$A$13:$J$1001,B$39,FALSE),\"\")","v":""},{"$f":"IFERROR(VLOOKUP(SMALL('C-E'!$A$13:$A$1001,RC_EXAM!$A385),'C-E'!$A$13:$J$1001,C$39,FALSE),\"\")","v":""},{"$f":"IFERROR(VLOOKUP(SMALL('C-E'!$A$13:$A$1001,RC_EXAM!$A385),'C-E'!$A$13:$J$1001,D$39,FALSE),\"\")","v":""},{"$f":"IFERROR(VLOOKUP(SMALL('C-E'!$A$13:$A$1001,RC_EXAM!$A385),'C-E'!$A$13:$J$1001,E$39,FALSE),\"\")","v":""},null,{"$f":"IFERROR(VLOOKUP(SMALL('C-E'!$A$13:$A$1001,RC_EXAM!$A385),'C-E'!$A$13:$J$1001,G$39,FALSE),\"\")","v":""}]
[345,{"$f":"IFERROR(VLOOKUP(SMALL('C-E'!$A$13:$A$1001,RC_EXAM!$A386),'C-E'!$A$13:$J$1001,B$39,FALSE),\"\")","v":""},{"$f":"IFERROR(VLOOKUP(SMALL('C-E'!$A$13:$A$1001,RC_EXAM!$A386),'C-E'!$A$13:$J$1001,C$39,FALSE),\"\")","v":""},{"$f":"IFERROR(VLOOKUP(SMALL('C-E'!$A$13:$A$1001,RC_EXAM!$A386),'C-E'!$A$13:$J$1001,D$39,FALSE),\"\")","v":""},{"$f":"IFERROR(VLOOKUP(SMALL('C-E'!$A$13:$A$1001,RC_EXAM!$A386),'C-E'!$A$13:$J$1001,E$39,FALSE),\"\")","v":""},null,{"$f":"IFERROR(VLOOKUP(SMALL('C-E'!$A$13:$A$1001,RC_EXAM!$A386),'C-E'!$A$13:$J$1001,G$39,FALSE),\"\")","v":""}]
[346,{"$f":"IFERROR(VLOOKUP(SMALL('C-E'!$A$13:$A$1001,RC_EXAM!$A387),'C-E'!$A$13:$J$1001,B$39,FALSE),\"\")","v":""},{"$f":"IFERROR(VLOOKUP(SMALL('C-E'!$A$13:$A$1001,RC_EXAM!$A387),'C-E'!$A$13:$J$1001,C$39,FALSE),\"\")","v":""},{"$f":"IFERROR(VLOOKUP(SMALL('C-E'!$A$13:$A$1001,RC_EXAM!$A387),'C-E'!$A$13:$J$1001,D$39,FALSE),\"\")","v":""},{"$f":"IFERROR(VLOOKUP(SMALL('C-E'!$A$13:$A$1001,RC_EXAM!$A387),'C-E'!$A$13:$J$1001,E$39,FALSE),\"\")","v":""},null,{"$f":"IFERROR(VLOOKUP(SMALL('C-E'!$A$13:$A$1001,RC_EXAM!$A387),'C-E'!$A$13:$J$1001,G$39,FALSE),\"\")","v":""}]
[347,{"$f":"IFERROR(VLOOKUP(SMALL('C-E'!$A$13:$A$1001,RC_EXAM!$A388),'C-E'!$A$13:$J$1001,B$39,FALSE),\"\")","v":""},{"$f":"IFERROR(VLOOKUP(SMALL('C-E'!$A$13:$A$1001,RC_EXAM!$A388),'C-E'!$A$13:$J$1001,C$39,FALSE),\"\")","v":""},{"$f":"IFERROR(VLOOKUP(SMALL('C-E'!$A$13:$A$1001,RC_EXAM!$A388),'C-E'!$A$13:$J$1001,D$39,FALSE),\"\")","v":""},{"$f":"IFERROR(VLOOKUP(SMALL('C-E'!$A$13:$A$1001,RC_EXAM!$A388),'C-E'!$A$13:$J$1001,E$39,FALSE),\"\")","v":""},null,{"$f":"IFERROR(VLOOKUP(SMALL('C-E'!$A$13:$A$1001,RC_EXAM!$A388),'C-E'!$A$13:$J$1001,G$39,FALSE),\"\")","v":""}]
[348,{"$f":"IFERROR(VLOOKUP(SMALL('C-E'!$A$13:$A$1001,RC_EXAM!$A389),'C-E'!$A$13:$J$1001,B$39,FALSE),\"\")","v":""},{"$f":"IFERROR(VLOOKUP(SMALL('C-E'!$A$13:$A$1001,RC_EXAM!$A389),'C-E'!$A$13:$J$1001,C$39,FALSE),\"\")","v":""},{"$f":"IFERROR(VLOOKUP(SMALL('C-E'!$A$13:$A$1001,RC_EXAM!$A389),'C-E'!$A$13:$J$1001,D$39,FALSE),\"\")","v":""},{"$f":"IFERROR(VLOOKUP(SMALL('C-E'!$A$13:$A$1001,RC_EXAM!$A389),'C-E'!$A$13:$J$1001,E$39,FALSE),\"\")","v":""},null,{"$f":"IFERROR(VLOOKUP(SMALL('C-E'!$A$13:$A$1001,RC_EXAM!$A389),'C-E'!$A$13:$J$1001,G$39,FALSE),\"\")","v":""}]
[349,{"$f":"IFERROR(VLOOKUP(SMALL('C-E'!$A$13:$A$1001,RC_EXAM!$A390),'C-E'!$A$13:$J$1001,B$39,FALSE),\"\")","v":""},{"$f":"IFERROR(VLOOKUP(SMALL('C-E'!$A$13:$A$1001,RC_EXAM!$A390),'C-E'!$A$13:$J$1001,C$39,FALSE),\"\")","v":""},{"$f":"IFERROR(VLOOKUP(SMALL('C-E'!$A$13:$A$1001,RC_EXAM!$A390),'C-E'!$A$13:$J$1001,D$39,FALSE),\"\")","v":""},{"$f":"IFERROR(VLOOKUP(SMALL('C-E'!$A$13:$A$1001,RC_EXAM!$A390),'C-E'!$A$13:$J$1001,E$39,FALSE),\"\")","v":""},null,{"$f":"IFERROR(VLOOKUP(SMALL('C-E'!$A$13:$A$1001,RC_EXAM!$A390),'C-E'!$A$13:$J$1001,G$39,FALSE),\"\")","v":""}]
[350,{"$f":"IFERROR(VLOOKUP(SMALL('C-E'!$A$13:$A$1001,RC_EXAM!$A391),'C-E'!$A$13:$J$1001,B$39,FALSE),\"\")","v":""},{"$f":"IFERROR(VLOOKUP(SMALL('C-E'!$A$13:$A$1001,RC_EXAM!$A391),'C-E'!$A$13:$J$1001,C$39,FALSE),\"\")","v":""},{"$f":"IFERROR(VLOOKUP(SMALL('C-E'!$A$13:$A$1001,RC_EXAM!$A391),'C-E'!$A$13:$J$1001,D$39,FALSE),\"\")","v":""},{"$f":"IFERROR(VLOOKUP(SMALL('C-E'!$A$13:$A$1001,RC_EXAM!$A391),'C-E'!$A$13:$J$1001,E$39,FALSE),\"\")","v":""},null,{"$f":"IFERROR(VLOOKUP(SMALL('C-E'!$A$13:$A$1001,RC_EXAM!$A391),'C-E'!$A$13:$J$1001,G$39,FALSE),\"\")","v":""}]
[351,{"$f":"IFERROR(VLOOKUP(SMALL('C-E'!$A$13:$A$1001,RC_EXAM!$A392),'C-E'!$A$13:$J$1001,B$39,FALSE),\"\")","v":""},{"$f":"IFERROR(VLOOKUP(SMALL('C-E'!$A$13:$A$1001,RC_EXAM!$A392),'C-E'!$A$13:$J$1001,C$39,FALSE),\"\")","v":""},{"$f":"IFERROR(VLOOKUP(SMALL('C-E'!$A$13:$A$1001,RC_EXAM!$A392),'C-E'!$A$13:$J$1001,D$39,FALSE),\"\")","v":""},{"$f":"IFERROR(VLOOKUP(SMALL('C-E'!$A$13:$A$1001,RC_EXAM!$A392),'C-E'!$A$13:$J$1001,E$39,FALSE),\"\")","v":""},null,{"$f":"IFERROR(VLOOKUP(SMALL('C-E'!$A$13:$A$1001,RC_EXAM!$A392),'C-E'!$A$13:$J$1001,G$39,FALSE),\"\")","v":""}]
[352,{"$f":"IFERROR(VLOOKUP(SMALL('C-E'!$A$13:$A$1001,RC_EXAM!$A393),'C-E'!$A$13:$J$1001,B$39,FALSE),\"\")","v":""},{"$f":"IFERROR(VLOOKUP(SMALL('C-E'!$A$13:$A$1001,RC_EXAM!$A393),'C-E'!$A$13:$J$1001,C$39,FALSE),\"\")","v":""},{"$f":"IFERROR(VLOOKUP(SMALL('C-E'!$A$13:$A$1001,RC_EXAM!$A393),'C-E'!$A$13:$J$1001,D$39,FALSE),\"\")","v":""},{"$f":"IFERROR(VLOOKUP(SMALL('C-E'!$A$13:$A$1001,RC_EXAM!$A393),'C-E'!$A$13:$J$1001,E$39,FALSE),\"\")","v":""},null,{"$f":"IFERROR(VLOOKUP(SMALL('C-E'!$A$13:$A$1001,RC_EXAM!$A393),'C-E'!$A$13:$J$1001,G$39,FALSE),\"\")","v":""}]
[353,{"$f":"IFERROR(VLOOKUP(SMALL('C-E'!$A$13:$A$1001,RC_EXAM!$A394),'C-E'!$A$13:$J$1001,B$39,FALSE),\"\")","v":""},{"$f":"IFERROR(VLOOKUP(SMALL('C-E'!$A$13:$A$1001,RC_EXAM!$A394),'C-E'!$A$13:$J$1001,C$39,FALSE),\"\")","v":""},{"$f":"IFERROR(VLOOKUP(SMALL('C-E'!$A$13:$A$1001,RC_EXAM!$A394),'C-E'!$A$13:$J$1001,D$39,FALSE),\"\")","v":""},{"$f":"IFERROR(VLOOKUP(SMALL('C-E'!$A$13:$A$1001,RC_EXAM!$A394),'C-E'!$A$13:$J$1001,E$39,FALSE),\"\")","v":""},null,{"$f":"IFERROR(VLOOKUP(SMALL('C-E'!$A$13:$A$1001,RC_EXAM!$A394),'C-E'!$A$13:$J$1001,G$39,FALSE),\"\")","v":""}]
[354,{"$f":"IFERROR(VLOOKUP(SMALL('C-E'!$A$13:$A$1001,RC_EXAM!$A395),'C-E'!$A$13:$J$1001,B$39,FALSE),\"\")","v":""},{"$f":"IFERROR(VLOOKUP(SMALL('C-E'!$A$13:$A$1001,RC_EXAM!$A395),'C-E'!$A$13:$J$1001,C$39,FALSE),\"\")","v":""},{"$f":"IFERROR(VLOOKUP(SMALL('C-E'!$A$13:$A$1001,RC_EXAM!$A395),'C-E'!$A$13:$J$1001,D$39,FALSE),\"\")","v":""},{"$f":"IFERROR(VLOOKUP(SMALL('C-E'!$A$13:$A$1001,RC_EXAM!$A395),'C-E'!$A$13:$J$1001,E$39,FALSE),\"\")","v":""},null,{"$f":"IFERROR(VLOOKUP(SMALL('C-E'!$A$13:$A$1001,RC_EXAM!$A395),'C-E'!$A$13:$J$1001,G$39,FALSE),\"\")","v":""}]
[355,{"$f":"IFERROR(VLOOKUP(SMALL('C-E'!$A$13:$A$1001,RC_EXAM!$A396),'C-E'!$A$13:$J$1001,B$39,FALSE),\"\")","v":""},{"$f":"IFERROR(VLOOKUP(SMALL('C-E'!$A$13:$A$1001,RC_EXAM!$A396),'C-E'!$A$13:$J$1001,C$39,FALSE),\"\")","v":""},{"$f":"IFERROR(VLOOKUP(SMALL('C-E'!$A$13:$A$1001,RC_EXAM!$A396),'C-E'!$A$13:$J$1001,D$39,FALSE),\"\")","v":""},{"$f":"IFERROR(VLOOKUP(SMALL('C-E'!$A$13:$A$1001,RC_EXAM!$A396),'C-E'!$A$13:$J$1001,E$39,FALSE),\"\")","v":""},null,{"$f":"IFERROR(VLOOKUP(SMALL('C-E'!$A$13:$A$1001,RC_EXAM!$A396),'C-E'!$A$13:$J$1001,G$39,FALSE),\"\")","v":""}]
[356,{"$f":"IFERROR(VLOOKUP(SMALL('C-E'!$A$13:$A$1001,RC_EXAM!$A397),'C-E'!$A$13:$J$1001,B$39,FALSE),\"\")","v":""},{"$f":"IFERROR(VLOOKUP(SMALL('C-E'!$A$13:$A$1001,RC_EXAM!$A397),'C-E'!$A$13:$J$1001,C$39,FALSE),\"\")","v":""},{"$f":"IFERROR(VLOOKUP(SMALL('C-E'!$A$13:$A$1001,RC_EXAM!$A397),'C-E'!$A$13:$J$1001,D$39,FALSE),\"\")","v":""},{"$f":"IFERROR(VLOOKUP(SMALL('C-E'!$A$13:$A$1001,RC_EXAM!$A397),'C-E'!$A$13:$J$1001,E$39,FALSE),\"\")","v":""},null,{"$f":"IFERROR(VLOOKUP(SMALL('C-E'!$A$13:$A$1001,RC_EXAM!$A397),'C-E'!$A$13:$J$1001,G$39,FALSE),\"\")","v":""}]
[357,{"$f":"IFERROR(VLOOKUP(SMALL('C-E'!$A$13:$A$1001,RC_EXAM!$A398),'C-E'!$A$13:$J$1001,B$39,FALSE),\"\")","v":""},{"$f":"IFERROR(VLOOKUP(SMALL('C-E'!$A$13:$A$1001,RC_EXAM!$A398),'C-E'!$A$13:$J$1001,C$39,FALSE),\"\")","v":""},{"$f":"IFERROR(VLOOKUP(SMALL('C-E'!$A$13:$A$1001,RC_EXAM!$A398),'C-E'!$A$13:$J$1001,D$39,FALSE),\"\")","v":""},{"$f":"IFERROR(VLOOKUP(SMALL('C-E'!$A$13:$A$1001,RC_EXAM!$A398),'C-E'!$A$13:$J$1001,E$39,FALSE),\"\")","v":""},null,{"$f":"IFERROR(VLOOKUP(SMALL('C-E'!$A$13:$A$1001,RC_EXAM!$A398),'C-E'!$A$13:$J$1001,G$39,FALSE),\"\")","v":""}]
[358,{"$f":"IFERROR(VLOOKUP(SMALL('C-E'!$A$13:$A$1001,RC_EXAM!$A399),'C-E'!$A$13:$J$1001,B$39,FALSE),\"\")","v":""},{"$f":"IFERROR(VLOOKUP(SMALL('C-E'!$A$13:$A$1001,RC_EXAM!$A399),'C-E'!$A$13:$J$1001,C$39,FALSE),\"\")","v":""},{"$f":"IFERROR(VLOOKUP(SMALL('C-E'!$A$13:$A$1001,RC_EXAM!$A399),'C-E'!$A$13:$J$1001,D$39,FALSE),\"\")","v":""},{"$f":"IFERROR(VLOOKUP(SMALL('C-E'!$A$13:$A$1001,RC_EXAM!$A399),'C-E'!$A$13:$J$1001,E$39,FALSE),\"\")","v":""},null,{"$f":"IFERROR(VLOOKUP(SMALL('C-E'!$A$13:$A$1001,RC_EXAM!$A399),'C-E'!$A$13:$J$1001,G$39,FALSE),\"\")","v":""}]
[359,{"$f":"IFERROR(VLOOKUP(SMALL('C-E'!$A$13:$A$1001,RC_EXAM!$A400),'C-E'!$A$13:$J$1001,B$39,FALSE),\"\")","v":""},{"$f":"IFERROR(VLOOKUP(SMALL('C-E'!$A$13:$A$1001,RC_EXAM!$A400),'C-E'!$A$13:$J$1001,C$39,FALSE),\"\")","v":""},{"$f":"IFERROR(VLOOKUP(SMALL('C-E'!$A$13:$A$1001,RC_EXAM!$A400),'C-E'!$A$13:$J$1001,D$39,FALSE),\"\")","v":""},{"$f":"IFERROR(VLOOKUP(SMALL('C-E'!$A$13:$A$1001,RC_EXAM!$A400),'C-E'!$A$13:$J$1001,E$39,FALSE),\"\")","v":""},null,{"$f":"IFERROR(VLOOKUP(SMALL('C-E'!$A$13:$A$1001,RC_EXAM!$A400),'C-E'!$A$13:$J$1001,G$39,FALSE),\"\")","v":""}]
[360,{"$f":"IFERROR(VLOOKUP(SMALL('C-E'!$A$13:$A$1001,RC_EXAM!$A401),'C-E'!$A$13:$J$1001,B$39,FALSE),\"\")","v":""},{"$f":"IFERROR(VLOOKUP(SMALL('C-E'!$A$13:$A$1001,RC_EXAM!$A401),'C-E'!$A$13:$J$1001,C$39,FALSE),\"\")","v":""},{"$f":"IFERROR(VLOOKUP(SMALL('C-E'!$A$13:$A$1001,RC_EXAM!$A401),'C-E'!$A$13:$J$1001,D$39,FALSE),\"\")","v":""},{"$f":"IFERROR(VLOOKUP(SMALL('C-E'!$A$13:$A$1001,RC_EXAM!$A401),'C-E'!$A$13:$J$1001,E$39,FALSE),\"\")","v":""},null,{"$f":"IFERROR(VLOOKUP(SMALL('C-E'!$A$13:$A$1001,RC_EXAM!$A401),'C-E'!$A$13:$J$1001,G$39,FALSE),\"\")","v":""}]
[361,{"$f":"IFERROR(VLOOKUP(SMALL('C-E'!$A$13:$A$1001,RC_EXAM!$A402),'C-E'!$A$13:$J$1001,B$39,FALSE),\"\")","v":""},{"$f":"IFERROR(VLOOKUP(SMALL('C-E'!$A$13:$A$1001,RC_EXAM!$A402),'C-E'!$A$13:$J$1001,C$39,FALSE),\"\")","v":""},{"$f":"IFERROR(VLOOKUP(SMALL('C-E'!$A$13:$A$1001,RC_EXAM!$A402),'C-E'!$A$13:$J$1001,D$39,FALSE),\"\")","v":""},{"$f":"IFERROR(VLOOKUP(SMALL('C-E'!$A$13:$A$1001,RC_EXAM!$A402),'C-E'!$A$13:$J$1001,E$39,FALSE),\"\")","v":""},null,{"$f":"IFERROR(VLOOKUP(SMALL('C-E'!$A$13:$A$1001,RC_EXAM!$A402),'C-E'!$A$13:$J$1001,G$39,FALSE),\"\")","v":""}]
[362,{"$f":"IFERROR(VLOOKUP(SMALL('C-E'!$A$13:$A$1001,RC_EXAM!$A403),'C-E'!$A$13:$J$1001,B$39,FALSE),\"\")","v":""},{"$f":"IFERROR(VLOOKUP(SMALL('C-E'!$A$13:$A$1001,RC_EXAM!$A403),'C-E'!$A$13:$J$1001,C$39,FALSE),\"\")","v":""},{"$f":"IFERROR(VLOOKUP(SMALL('C-E'!$A$13:$A$1001,RC_EXAM!$A403),'C-E'!$A$13:$J$1001,D$39,FALSE),\"\")","v":""},{"$f":"IFERROR(VLOOKUP(SMALL('C-E'!$A$13:$A$1001,RC_EXAM!$A403),'C-E'!$A$13:$J$1001,E$39,FALSE),\"\")","v":""},null,{"$f":"IFERROR(VLOOKUP(SMALL('C-E'!$A$13:$A$1001,RC_EXAM!$A403),'C-E'!$A$13:$J$1001,G$39,FALSE),\"\")","v":""}]
[363,{"$f":"IFERROR(VLOOKUP(SMALL('C-E'!$A$13:$A$1001,RC_EXAM!$A404),'C-E'!$A$13:$J$1001,B$39,FALSE),\"\")","v":""},{"$f":"IFERROR(VLOOKUP(SMALL('C-E'!$A$13:$A$1001,RC_EXAM!$A404),'C-E'!$A$13:$J$1001,C$39,FALSE),\"\")","v":""},{"$f":"IFERROR(VLOOKUP(SMALL('C-E'!$A$13:$A$1001,RC_EXAM!$A404),'C-E'!$A$13:$J$1001,D$39,FALSE),\"\")","v":""},{"$f":"IFERROR(VLOOKUP(SMALL('C-E'!$A$13:$A$1001,RC_EXAM!$A404),'C-E'!$A$13:$J$1001,E$39,FALSE),\"\")","v":""},null,{"$f":"IFERROR(VLOOKUP(SMALL('C-E'!$A$13:$A$1001,RC_EXAM!$A404),'C-E'!$A$13:$J$1001,G$39,FALSE),\"\")","v":""}]
[364,{"$f":"IFERROR(VLOOKUP(SMALL('C-E'!$A$13:$A$1001,RC_EXAM!$A405),'C-E'!$A$13:$J$1001,B$39,FALSE),\"\")","v":""},{"$f":"IFERROR(VLOOKUP(SMALL('C-E'!$A$13:$A$1001,RC_EXAM!$A405),'C-E'!$A$13:$J$1001,C$39,FALSE),\"\")","v":""},{"$f":"IFERROR(VLOOKUP(SMALL('C-E'!$A$13:$A$1001,RC_EXAM!$A405),'C-E'!$A$13:$J$1001,D$39,FALSE),\"\")","v":""},{"$f":"IFERROR(VLOOKUP(SMALL('C-E'!$A$13:$A$1001,RC_EXAM!$A405),'C-E'!$A$13:$J$1001,E$39,FALSE),\"\")","v":""},null,{"$f":"IFERROR(VLOOKUP(SMALL('C-E'!$A$13:$A$1001,RC_EXAM!$A405),'C-E'!$A$13:$J$1001,G$39,FALSE),\"\")","v":""}]
[365,{"$f":"IFERROR(VLOOKUP(SMALL('C-E'!$A$13:$A$1001,RC_EXAM!$A406),'C-E'!$A$13:$J$1001,B$39,FALSE),\"\")","v":""},{"$f":"IFERROR(VLOOKUP(SMALL('C-E'!$A$13:$A$1001,RC_EXAM!$A406),'C-E'!$A$13:$J$1001,C$39,FALSE),\"\")","v":""},{"$f":"IFERROR(VLOOKUP(SMALL('C-E'!$A$13:$A$1001,RC_EXAM!$A406),'C-E'!$A$13:$J$1001,D$39,FALSE),\"\")","v":""},{"$f":"IFERROR(VLOOKUP(SMALL('C-E'!$A$13:$A$1001,RC_EXAM!$A406),'C-E'!$A$13:$J$1001,E$39,FALSE),\"\")","v":""},null,{"$f":"IFERROR(VLOOKUP(SMALL('C-E'!$A$13:$A$1001,RC_EXAM!$A406),'C-E'!$A$13:$J$1001,G$39,FALSE),\"\")","v":""}]
[366,{"$f":"IFERROR(VLOOKUP(SMALL('C-E'!$A$13:$A$1001,RC_EXAM!$A407),'C-E'!$A$13:$J$1001,B$39,FALSE),\"\")","v":""},{"$f":"IFERROR(VLOOKUP(SMALL('C-E'!$A$13:$A$1001,RC_EXAM!$A407),'C-E'!$A$13:$J$1001,C$39,FALSE),\"\")","v":""},{"$f":"IFERROR(VLOOKUP(SMALL('C-E'!$A$13:$A$1001,RC_EXAM!$A407),'C-E'!$A$13:$J$1001,D$39,FALSE),\"\")","v":""},{"$f":"IFERROR(VLOOKUP(SMALL('C-E'!$A$13:$A$1001,RC_EXAM!$A407),'C-E'!$A$13:$J$1001,E$39,FALSE),\"\")","v":""},null,{"$f":"IFERROR(VLOOKUP(SMALL('C-E'!$A$13:$A$1001,RC_EXAM!$A407),'C-E'!$A$13:$J$1001,G$39,FALSE),\"\")","v":""}]
[367,{"$f":"IFERROR(VLOOKUP(SMALL('C-E'!$A$13:$A$1001,RC_EXAM!$A408),'C-E'!$A$13:$J$1001,B$39,FALSE),\"\")","v":""},{"$f":"IFERROR(VLOOKUP(SMALL('C-E'!$A$13:$A$1001,RC_EXAM!$A408),'C-E'!$A$13:$J$1001,C$39,FALSE),\"\")","v":""},{"$f":"IFERROR(VLOOKUP(SMALL('C-E'!$A$13:$A$1001,RC_EXAM!$A408),'C-E'!$A$13:$J$1001,D$39,FALSE),\"\")","v":""},{"$f":"IFERROR(VLOOKUP(SMALL('C-E'!$A$13:$A$1001,RC_EXAM!$A408),'C-E'!$A$13:$J$1001,E$39,FALSE),\"\")","v":""},null,{"$f":"IFERROR(VLOOKUP(SMALL('C-E'!$A$13:$A$1001,RC_EXAM!$A408),'C-E'!$A$13:$J$1001,G$39,FALSE),\"\")","v":""}]
[368,{"$f":"IFERROR(VLOOKUP(SMALL('C-E'!$A$13:$A$1001,RC_EXAM!$A409),'C-E'!$A$13:$J$1001,B$39,FALSE),\"\")","v":""},{"$f":"IFERROR(VLOOKUP(SMALL('C-E'!$A$13:$A$1001,RC_EXAM!$A409),'C-E'!$A$13:$J$1001,C$39,FALSE),\"\")","v":""},{"$f":"IFERROR(VLOOKUP(SMALL('C-E'!$A$13:$A$1001,RC_EXAM!$A409),'C-E'!$A$13:$J$1001,D$39,FALSE),\"\")","v":""},{"$f":"IFERROR(VLOOKUP(SMALL('C-E'!$A$13:$A$1001,RC_EXAM!$A409),'C-E'!$A$13:$J$1001,E$39,FALSE),\"\")","v":""},null,{"$f":"IFERROR(VLOOKUP(SMALL('C-E'!$A$13:$A$1001,RC_EXAM!$A409),'C-E'!$A$13:$J$1001,G$39,FALSE),\"\")","v":""}]
[369,{"$f":"IFERROR(VLOOKUP(SMALL('C-E'!$A$13:$A$1001,RC_EXAM!$A410),'C-E'!$A$13:$J$1001,B$39,FALSE),\"\")","v":""},{"$f":"IFERROR(VLOOKUP(SMALL('C-E'!$A$13:$A$1001,RC_EXAM!$A410),'C-E'!$A$13:$J$1001,C$39,FALSE),\"\")","v":""},{"$f":"IFERROR(VLOOKUP(SMALL('C-E'!$A$13:$A$1001,RC_EXAM!$A410),'C-E'!$A$13:$J$1001,D$39,FALSE),\"\")","v":""},{"$f":"IFERROR(VLOOKUP(SMALL('C-E'!$A$13:$A$1001,RC_EXAM!$A410),'C-E'!$A$13:$J$1001,E$39,FALSE),\"\")","v":""},null,{"$f":"IFERROR(VLOOKUP(SMALL('C-E'!$A$13:$A$1001,RC_EXAM!$A410),'C-E'!$A$13:$J$1001,G$39,FALSE),\"\")","v":""}]
[370,{"$f":"IFERROR(VLOOKUP(SMALL('C-E'!$A$13:$A$1001,RC_EXAM!$A411),'C-E'!$A$13:$J$1001,B$39,FALSE),\"\")","v":""},{"$f":"IFERROR(VLOOKUP(SMALL('C-E'!$A$13:$A$1001,RC_EXAM!$A411),'C-E'!$A$13:$J$1001,C$39,FALSE),\"\")","v":""},{"$f":"IFERROR(VLOOKUP(SMALL('C-E'!$A$13:$A$1001,RC_EXAM!$A411),'C-E'!$A$13:$J$1001,D$39,FALSE),\"\")","v":""},{"$f":"IFERROR(VLOOKUP(SMALL('C-E'!$A$13:$A$1001,RC_EXAM!$A411),'C-E'!$A$13:$J$1001,E$39,FALSE),\"\")","v":""},null,{"$f":"IFERROR(VLOOKUP(SMALL('C-E'!$A$13:$A$1001,RC_EXAM!$A411),'C-E'!$A$13:$J$1001,G$39,FALSE),\"\")","v":""}]
[371,{"$f":"IFERROR(VLOOKUP(SMALL('C-E'!$A$13:$A$1001,RC_EXAM!$A412),'C-E'!$A$13:$J$1001,B$39,FALSE),\"\")","v":""},{"$f":"IFERROR(VLOOKUP(SMALL('C-E'!$A$13:$A$1001,RC_EXAM!$A412),'C-E'!$A$13:$J$1001,C$39,FALSE),\"\")","v":""},{"$f":"IFERROR(VLOOKUP(SMALL('C-E'!$A$13:$A$1001,RC_EXAM!$A412),'C-E'!$A$13:$J$1001,D$39,FALSE),\"\")","v":""},{"$f":"IFERROR(VLOOKUP(SMALL('C-E'!$A$13:$A$1001,RC_EXAM!$A412),'C-E'!$A$13:$J$1001,E$39,FALSE),\"\")","v":""},null,{"$f":"IFERROR(VLOOKUP(SMALL('C-E'!$A$13:$A$1001,RC_EXAM!$A412),'C-E'!$A$13:$J$1001,G$39,FALSE),\"\")","v":""}]
[372,{"$f":"IFERROR(VLOOKUP(SMALL('C-E'!$A$13:$A$1001,RC_EXAM!$A413),'C-E'!$A$13:$J$1001,B$39,FALSE),\"\")","v":""},{"$f":"IFERROR(VLOOKUP(SMALL('C-E'!$A$13:$A$1001,RC_EXAM!$A413),'C-E'!$A$13:$J$1001,C$39,FALSE),\"\")","v":""},{"$f":"IFERROR(VLOOKUP(SMALL('C-E'!$A$13:$A$1001,RC_EXAM!$A413),'C-E'!$A$13:$J$1001,D$39,FALSE),\"\")","v":""},{"$f":"IFERROR(VLOOKUP(SMALL('C-E'!$A$13:$A$1001,RC_EXAM!$A413),'C-E'!$A$13:$J$1001,E$39,FALSE),\"\")","v":""},null,{"$f":"IFERROR(VLOOKUP(SMALL('C-E'!$A$13:$A$1001,RC_EXAM!$A413),'C-E'!$A$13:$J$1001,G$39,FALSE),\"\")","v":""}]
[373,{"$f":"IFERROR(VLOOKUP(SMALL('C-E'!$A$13:$A$1001,RC_EXAM!$A414),'C-E'!$A$13:$J$1001,B$39,FALSE),\"\")","v":""},{"$f":"IFERROR(VLOOKUP(SMALL('C-E'!$A$13:$A$1001,RC_EXAM!$A414),'C-E'!$A$13:$J$1001,C$39,FALSE),\"\")","v":""},{"$f":"IFERROR(VLOOKUP(SMALL('C-E'!$A$13:$A$1001,RC_EXAM!$A414),'C-E'!$A$13:$J$1001,D$39,FALSE),\"\")","v":""},{"$f":"IFERROR(VLOOKUP(SMALL('C-E'!$A$13:$A$1001,RC_EXAM!$A414),'C-E'!$A$13:$J$1001,E$39,FALSE),\"\")","v":""},null,{"$f":"IFERROR(VLOOKUP(SMALL('C-E'!$A$13:$A$1001,RC_EXAM!$A414),'C-E'!$A$13:$J$1001,G$39,FALSE),\"\")","v":""}]
[374,{"$f":"IFERROR(VLOOKUP(SMALL('C-E'!$A$13:$A$1001,RC_EXAM!$A415),'C-E'!$A$13:$J$1001,B$39,FALSE),\"\")","v":""},{"$f":"IFERROR(VLOOKUP(SMALL('C-E'!$A$13:$A$1001,RC_EXAM!$A415),'C-E'!$A$13:$J$1001,C$39,FALSE),\"\")","v":""},{"$f":"IFERROR(VLOOKUP(SMALL('C-E'!$A$13:$A$1001,RC_EXAM!$A415),'C-E'!$A$13:$J$1001,D$39,FALSE),\"\")","v":""},{"$f":"IFERROR(VLOOKUP(SMALL('C-E'!$A$13:$A$1001,RC_EXAM!$A415),'C-E'!$A$13:$J$1001,E$39,FALSE),\"\")","v":""},null,{"$f":"IFERROR(VLOOKUP(SMALL('C-E'!$A$13:$A$1001,RC_EXAM!$A415),'C-E'!$A$13:$J$1001,G$39,FALSE),\"\")","v":""}]
[375,{"$f":"IFERROR(VLOOKUP(SMALL('C-E'!$A$13:$A$1001,RC_EXAM!$A416),'C-E'!$A$13:$J$1001,B$39,FALSE),\"\")","v":""},{"$f":"IFERROR(VLOOKUP(SMALL('C-E'!$A$13:$A$1001,RC_EXAM!$A416),'C-E'!$A$13:$J$1001,C$39,FALSE),\"\")","v":""},{"$f":"IFERROR(VLOOKUP(SMALL('C-E'!$A$13:$A$1001,RC_EXAM!$A416),'C-E'!$A$13:$J$1001,D$39,FALSE),\"\")","v":""},{"$f":"IFERROR(VLOOKUP(SMALL('C-E'!$A$13:$A$1001,RC_EXAM!$A416),'C-E'!$A$13:$J$1001,E$39,FALSE),\"\")","v":""},null,{"$f":"IFERROR(VLOOKUP(SMALL('C-E'!$A$13:$A$1001,RC_EXAM!$A416),'C-E'!$A$13:$J$1001,G$39,FALSE),\"\")","v":""}]
[376,{"$f":"IFERROR(VLOOKUP(SMALL('C-E'!$A$13:$A$1001,RC_EXAM!$A417),'C-E'!$A$13:$J$1001,B$39,FALSE),\"\")","v":""},{"$f":"IFERROR(VLOOKUP(SMALL('C-E'!$A$13:$A$1001,RC_EXAM!$A417),'C-E'!$A$13:$J$1001,C$39,FALSE),\"\")","v":""},{"$f":"IFERROR(VLOOKUP(SMALL('C-E'!$A$13:$A$1001,RC_EXAM!$A417),'C-E'!$A$13:$J$1001,D$39,FALSE),\"\")","v":""},{"$f":"IFERROR(VLOOKUP(SMALL('C-E'!$A$13:$A$1001,RC_EXAM!$A417),'C-E'!$A$13:$J$1001,E$39,FALSE),\"\")","v":""},null,{"$f":"IFERROR(VLOOKUP(SMALL('C-E'!$A$13:$A$1001,RC_EXAM!$A417),'C-E'!$A$13:$J$1001,G$39,FALSE),\"\")","v":""}]
[377,{"$f":"IFERROR(VLOOKUP(SMALL('C-E'!$A$13:$A$1001,RC_EXAM!$A418),'C-E'!$A$13:$J$1001,B$39,FALSE),\"\")","v":""},{"$f":"IFERROR(VLOOKUP(SMALL('C-E'!$A$13:$A$1001,RC_EXAM!$A418),'C-E'!$A$13:$J$1001,C$39,FALSE),\"\")","v":""},{"$f":"IFERROR(VLOOKUP(SMALL('C-E'!$A$13:$A$1001,RC_EXAM!$A418),'C-E'!$A$13:$J$1001,D$39,FALSE),\"\")","v":""},{"$f":"IFERROR(VLOOKUP(SMALL('C-E'!$A$13:$A$1001,RC_EXAM!$A418),'C-E'!$A$13:$J$1001,E$39,FALSE),\"\")","v":""},null,{"$f":"IFERROR(VLOOKUP(SMALL('C-E'!$A$13:$A$1001,RC_EXAM!$A418),'C-E'!$A$13:$J$1001,G$39,FALSE),\"\")","v":""}]
[378,{"$f":"IFERROR(VLOOKUP(SMALL('C-E'!$A$13:$A$1001,RC_EXAM!$A419),'C-E'!$A$13:$J$1001,B$39,FALSE),\"\")","v":""},{"$f":"IFERROR(VLOOKUP(SMALL('C-E'!$A$13:$A$1001,RC_EXAM!$A419),'C-E'!$A$13:$J$1001,C$39,FALSE),\"\")","v":""},{"$f":"IFERROR(VLOOKUP(SMALL('C-E'!$A$13:$A$1001,RC_EXAM!$A419),'C-E'!$A$13:$J$1001,D$39,FALSE),\"\")","v":""},{"$f":"IFERROR(VLOOKUP(SMALL('C-E'!$A$13:$A$1001,RC_EXAM!$A419),'C-E'!$A$13:$J$1001,E$39,FALSE),\"\")","v":""},null,{"$f":"IFERROR(VLOOKUP(SMALL('C-E'!$A$13:$A$1001,RC_EXAM!$A419),'C-E'!$A$13:$J$1001,G$39,FALSE),\"\")","v":""}]
[379,{"$f":"IFERROR(VLOOKUP(SMALL('C-E'!$A$13:$A$1001,RC_EXAM!$A420),'C-E'!$A$13:$J$1001,B$39,FALSE),\"\")","v":""},{"$f":"IFERROR(VLOOKUP(SMALL('C-E'!$A$13:$A$1001,RC_EXAM!$A420),'C-E'!$A$13:$J$1001,C$39,FALSE),\"\")","v":""},{"$f":"IFERROR(VLOOKUP(SMALL('C-E'!$A$13:$A$1001,RC_EXAM!$A420),'C-E'!$A$13:$J$1001,D$39,FALSE),\"\")","v":""},{"$f":"IFERROR(VLOOKUP(SMALL('C-E'!$A$13:$A$1001,RC_EXAM!$A420),'C-E'!$A$13:$J$1001,E$39,FALSE),\"\")","v":""},null,{"$f":"IFERROR(VLOOKUP(SMALL('C-E'!$A$13:$A$1001,RC_EXAM!$A420),'C-E'!$A$13:$J$1001,G$39,FALSE),\"\")","v":""}]
[380,{"$f":"IFERROR(VLOOKUP(SMALL('C-E'!$A$13:$A$1001,RC_EXAM!$A421),'C-E'!$A$13:$J$1001,B$39,FALSE),\"\")","v":""},{"$f":"IFERROR(VLOOKUP(SMALL('C-E'!$A$13:$A$1001,RC_EXAM!$A421),'C-E'!$A$13:$J$1001,C$39,FALSE),\"\")","v":""},{"$f":"IFERROR(VLOOKUP(SMALL('C-E'!$A$13:$A$1001,RC_EXAM!$A421),'C-E'!$A$13:$J$1001,D$39,FALSE),\"\")","v":""},{"$f":"IFERROR(VLOOKUP(SMALL('C-E'!$A$13:$A$1001,RC_EXAM!$A421),'C-E'!$A$13:$J$1001,E$39,FALSE),\"\")","v":""},null,{"$f":"IFERROR(VLOOKUP(SMALL('C-E'!$A$13:$A$1001,RC_EXAM!$A421),'C-E'!$A$13:$J$1001,G$39,FALSE),\"\")","v":""}]
[381,{"$f":"IFERROR(VLOOKUP(SMALL('C-E'!$A$13:$A$1001,RC_EXAM!$A422),'C-E'!$A$13:$J$1001,B$39,FALSE),\"\")","v":""},{"$f":"IFERROR(VLOOKUP(SMALL('C-E'!$A$13:$A$1001,RC_EXAM!$A422),'C-E'!$A$13:$J$1001,C$39,FALSE),\"\")","v":""},{"$f":"IFERROR(VLOOKUP(SMALL('C-E'!$A$13:$A$1001,RC_EXAM!$A422),'C-E'!$A$13:$J$1001,D$39,FALSE),\"\")","v":""},{"$f":"IFERROR(VLOOKUP(SMALL('C-E'!$A$13:$A$1001,RC_EXAM!$A422),'C-E'!$A$13:$J$1001,E$39,FALSE),\"\")","v":""},null,{"$f":"IFERROR(VLOOKUP(SMALL('C-E'!$A$13:$A$1001,RC_EXAM!$A422),'C-E'!$A$13:$J$1001,G$39,FALSE),\"\")","v":""}]
[382,{"$f":"IFERROR(VLOOKUP(SMALL('C-E'!$A$13:$A$1001,RC_EXAM!$A423),'C-E'!$A$13:$J$1001,B$39,FALSE),\"\")","v":""},{"$f":"IFERROR(VLOOKUP(SMALL('C-E'!$A$13:$A$1001,RC_EXAM!$A423),'C-E'!$A$13:$J$1001,C$39,FALSE),\"\")","v":""},{"$f":"IFERROR(VLOOKUP(SMALL('C-E'!$A$13:$A$1001,RC_EXAM!$A423),'C-E'!$A$13:$J$1001,D$39,FALSE),\"\")","v":""},{"$f":"IFERROR(VLOOKUP(SMALL('C-E'!$A$13:$A$1001,RC_EXAM!$A423),'C-E'!$A$13:$J$1001,E$39,FALSE),\"\")","v":""},null,{"$f":"IFERROR(VLOOKUP(SMALL('C-E'!$A$13:$A$1001,RC_EXAM!$A423),'C-E'!$A$13:$J$1001,G$39,FALSE),\"\")","v":""}]
[383,{"$f":"IFERROR(VLOOKUP(SMALL('C-E'!$A$13:$A$1001,RC_EXAM!$A424),'C-E'!$A$13:$J$1001,B$39,FALSE),\"\")","v":""},{"$f":"IFERROR(VLOOKUP(SMALL('C-E'!$A$13:$A$1001,RC_EXAM!$A424),'C-E'!$A$13:$J$1001,C$39,FALSE),\"\")","v":""},{"$f":"IFERROR(VLOOKUP(SMALL('C-E'!$A$13:$A$1001,RC_EXAM!$A424),'C-E'!$A$13:$J$1001,D$39,FALSE),\"\")","v":""},{"$f":"IFERROR(VLOOKUP(SMALL('C-E'!$A$13:$A$1001,RC_EXAM!$A424),'C-E'!$A$13:$J$1001,E$39,FALSE),\"\")","v":""},null,{"$f":"IFERROR(VLOOKUP(SMALL('C-E'!$A$13:$A$1001,RC_EXAM!$A424),'C-E'!$A$13:$J$1001,G$39,FALSE),\"\")","v":""}]
[384,{"$f":"IFERROR(VLOOKUP(SMALL('C-E'!$A$13:$A$1001,RC_EXAM!$A425),'C-E'!$A$13:$J$1001,B$39,FALSE),\"\")","v":""},{"$f":"IFERROR(VLOOKUP(SMALL('C-E'!$A$13:$A$1001,RC_EXAM!$A425),'C-E'!$A$13:$J$1001,C$39,FALSE),\"\")","v":""},{"$f":"IFERROR(VLOOKUP(SMALL('C-E'!$A$13:$A$1001,RC_EXAM!$A425),'C-E'!$A$13:$J$1001,D$39,FALSE),\"\")","v":""},{"$f":"IFERROR(VLOOKUP(SMALL('C-E'!$A$13:$A$1001,RC_EXAM!$A425),'C-E'!$A$13:$J$1001,E$39,FALSE),\"\")","v":""},null,{"$f":"IFERROR(VLOOKUP(SMALL('C-E'!$A$13:$A$1001,RC_EXAM!$A425),'C-E'!$A$13:$J$1001,G$39,FALSE),\"\")","v":""}]
[385,{"$f":"IFERROR(VLOOKUP(SMALL('C-E'!$A$13:$A$1001,RC_EXAM!$A426),'C-E'!$A$13:$J$1001,B$39,FALSE),\"\")","v":""},{"$f":"IFERROR(VLOOKUP(SMALL('C-E'!$A$13:$A$1001,RC_EXAM!$A426),'C-E'!$A$13:$J$1001,C$39,FALSE),\"\")","v":""},{"$f":"IFERROR(VLOOKUP(SMALL('C-E'!$A$13:$A$1001,RC_EXAM!$A426),'C-E'!$A$13:$J$1001,D$39,FALSE),\"\")","v":""},{"$f":"IFERROR(VLOOKUP(SMALL('C-E'!$A$13:$A$1001,RC_EXAM!$A426),'C-E'!$A$13:$J$1001,E$39,FALSE),\"\")","v":""},null,{"$f":"IFERROR(VLOOKUP(SMALL('C-E'!$A$13:$A$1001,RC_EXAM!$A426),'C-E'!$A$13:$J$1001,G$39,FALSE),\"\")","v":""}]
[386,{"$f":"IFERROR(VLOOKUP(SMALL('C-E'!$A$13:$A$1001,RC_EXAM!$A427),'C-E'!$A$13:$J$1001,B$39,FALSE),\"\")","v":""},{"$f":"IFERROR(VLOOKUP(SMALL('C-E'!$A$13:$A$1001,RC_EXAM!$A427),'C-E'!$A$13:$J$1001,C$39,FALSE),\"\")","v":""},{"$f":"IFERROR(VLOOKUP(SMALL('C-E'!$A$13:$A$1001,RC_EXAM!$A427),'C-E'!$A$13:$J$1001,D$39,FALSE),\"\")","v":""},{"$f":"IFERROR(VLOOKUP(SMALL('C-E'!$A$13:$A$1001,RC_EXAM!$A427),'C-E'!$A$13:$J$1001,E$39,FALSE),\"\")","v":""},null,{"$f":"IFERROR(VLOOKUP(SMALL('C-E'!$A$13:$A$1001,RC_EXAM!$A427),'C-E'!$A$13:$J$1001,G$39,FALSE),\"\")","v":""}]
[387,{"$f":"IFERROR(VLOOKUP(SMALL('C-E'!$A$13:$A$1001,RC_EXAM!$A428),'C-E'!$A$13:$J$1001,B$39,FALSE),\"\")","v":""},{"$f":"IFERROR(VLOOKUP(SMALL('C-E'!$A$13:$A$1001,RC_EXAM!$A428),'C-E'!$A$13:$J$1001,C$39,FALSE),\"\")","v":""},{"$f":"IFERROR(VLOOKUP(SMALL('C-E'!$A$13:$A$1001,RC_EXAM!$A428),'C-E'!$A$13:$J$1001,D$39,FALSE),\"\")","v":""},{"$f":"IFERROR(VLOOKUP(SMALL('C-E'!$A$13:$A$1001,RC_EXAM!$A428),'C-E'!$A$13:$J$1001,E$39,FALSE),\"\")","v":""},null,{"$f":"IFERROR(VLOOKUP(SMALL('C-E'!$A$13:$A$1001,RC_EXAM!$A428),'C-E'!$A$13:$J$1001,G$39,FALSE),\"\")","v":""}]
[388,{"$f":"IFERROR(VLOOKUP(SMALL('C-E'!$A$13:$A$1001,RC_EXAM!$A429),'C-E'!$A$13:$J$1001,B$39,FALSE),\"\")","v":""},{"$f":"IFERROR(VLOOKUP(SMALL('C-E'!$A$13:$A$1001,RC_EXAM!$A429),'C-E'!$A$13:$J$1001,C$39,FALSE),\"\")","v":""},{"$f":"IFERROR(VLOOKUP(SMALL('C-E'!$A$13:$A$1001,RC_EXAM!$A429),'C-E'!$A$13:$J$1001,D$39,FALSE),\"\")","v":""},{"$f":"IFERROR(VLOOKUP(SMALL('C-E'!$A$13:$A$1001,RC_EXAM!$A429),'C-E'!$A$13:$J$1001,E$39,FALSE),\"\")","v":""},null,{"$f":"IFERROR(VLOOKUP(SMALL('C-E'!$A$13:$A$1001,RC_EXAM!$A429),'C-E'!$A$13:$J$1001,G$39,FALSE),\"\")","v":""}]
[389,{"$f":"IFERROR(VLOOKUP(SMALL('C-E'!$A$13:$A$1001,RC_EXAM!$A430),'C-E'!$A$13:$J$1001,B$39,FALSE),\"\")","v":""},{"$f":"IFERROR(VLOOKUP(SMALL('C-E'!$A$13:$A$1001,RC_EXAM!$A430),'C-E'!$A$13:$J$1001,C$39,FALSE),\"\")","v":""},{"$f":"IFERROR(VLOOKUP(SMALL('C-E'!$A$13:$A$1001,RC_EXAM!$A430),'C-E'!$A$13:$J$1001,D$39,FALSE),\"\")","v":""},{"$f":"IFERROR(VLOOKUP(SMALL('C-E'!$A$13:$A$1001,RC_EXAM!$A430),'C-E'!$A$13:$J$1001,E$39,FALSE),\"\")","v":""},null,{"$f":"IFERROR(VLOOKUP(SMALL('C-E'!$A$13:$A$1001,RC_EXAM!$A430),'C-E'!$A$13:$J$1001,G$39,FALSE),\"\")","v":""}]
[390,{"$f":"IFERROR(VLOOKUP(SMALL('C-E'!$A$13:$A$1001,RC_EXAM!$A431),'C-E'!$A$13:$J$1001,B$39,FALSE),\"\")","v":""},{"$f":"IFERROR(VLOOKUP(SMALL('C-E'!$A$13:$A$1001,RC_EXAM!$A431),'C-E'!$A$13:$J$1001,C$39,FALSE),\"\")","v":""},{"$f":"IFERROR(VLOOKUP(SMALL('C-E'!$A$13:$A$1001,RC_EXAM!$A431),'C-E'!$A$13:$J$1001,D$39,FALSE),\"\")","v":""},{"$f":"IFERROR(VLOOKUP(SMALL('C-E'!$A$13:$A$1001,RC_EXAM!$A431),'C-E'!$A$13:$J$1001,E$39,FALSE),\"\")","v":""},null,{"$f":"IFERROR(VLOOKUP(SMALL('C-E'!$A$13:$A$1001,RC_EXAM!$A431),'C-E'!$A$13:$J$1001,G$39,FALSE),\"\")","v":""}]
[391,{"$f":"IFERROR(VLOOKUP(SMALL('C-E'!$A$13:$A$1001,RC_EXAM!$A432),'C-E'!$A$13:$J$1001,B$39,FALSE),\"\")","v":""},{"$f":"IFERROR(VLOOKUP(SMALL('C-E'!$A$13:$A$1001,RC_EXAM!$A432),'C-E'!$A$13:$J$1001,C$39,FALSE),\"\")","v":""},{"$f":"IFERROR(VLOOKUP(SMALL('C-E'!$A$13:$A$1001,RC_EXAM!$A432),'C-E'!$A$13:$J$1001,D$39,FALSE),\"\")","v":""},{"$f":"IFERROR(VLOOKUP(SMALL('C-E'!$A$13:$A$1001,RC_EXAM!$A432),'C-E'!$A$13:$J$1001,E$39,FALSE),\"\")","v":""},null,{"$f":"IFERROR(VLOOKUP(SMALL('C-E'!$A$13:$A$1001,RC_EXAM!$A432),'C-E'!$A$13:$J$1001,G$39,FALSE),\"\")","v":""}]
[392,{"$f":"IFERROR(VLOOKUP(SMALL('C-E'!$A$13:$A$1001,RC_EXAM!$A433),'C-E'!$A$13:$J$1001,B$39,FALSE),\"\")","v":""},{"$f":"IFERROR(VLOOKUP(SMALL('C-E'!$A$13:$A$1001,RC_EXAM!$A433),'C-E'!$A$13:$J$1001,C$39,FALSE),\"\")","v":""},{"$f":"IFERROR(VLOOKUP(SMALL('C-E'!$A$13:$A$1001,RC_EXAM!$A433),'C-E'!$A$13:$J$1001,D$39,FALSE),\"\")","v":""},{"$f":"IFERROR(VLOOKUP(SMALL('C-E'!$A$13:$A$1001,RC_EXAM!$A433),'C-E'!$A$13:$J$1001,E$39,FALSE),\"\")","v":""},null,{"$f":"IFERROR(VLOOKUP(SMALL('C-E'!$A$13:$A$1001,RC_EXAM!$A433),'C-E'!$A$13:$J$1001,G$39,FALSE),\"\")","v":""}]
[393,{"$f":"IFERROR(VLOOKUP(SMALL('C-E'!$A$13:$A$1001,RC_EXAM!$A434),'C-E'!$A$13:$J$1001,B$39,FALSE),\"\")","v":""},{"$f":"IFERROR(VLOOKUP(SMALL('C-E'!$A$13:$A$1001,RC_EXAM!$A434),'C-E'!$A$13:$J$1001,C$39,FALSE),\"\")","v":""},{"$f":"IFERROR(VLOOKUP(SMALL('C-E'!$A$13:$A$1001,RC_EXAM!$A434),'C-E'!$A$13:$J$1001,D$39,FALSE),\"\")","v":""},{"$f":"IFERROR(VLOOKUP(SMALL('C-E'!$A$13:$A$1001,RC_EXAM!$A434),'C-E'!$A$13:$J$1001,E$39,FALSE),\"\")","v":""},null,{"$f":"IFERROR(VLOOKUP(SMALL('C-E'!$A$13:$A$1001,RC_EXAM!$A434),'C-E'!$A$13:$J$1001,G$39,FALSE),\"\")","v":""}]
[394,{"$f":"IFERROR(VLOOKUP(SMALL('C-E'!$A$13:$A$1001,RC_EXAM!$A435),'C-E'!$A$13:$J$1001,B$39,FALSE),\"\")","v":""},{"$f":"IFERROR(VLOOKUP(SMALL('C-E'!$A$13:$A$1001,RC_EXAM!$A435),'C-E'!$A$13:$J$1001,C$39,FALSE),\"\")","v":""},{"$f":"IFERROR(VLOOKUP(SMALL('C-E'!$A$13:$A$1001,RC_EXAM!$A435),'C-E'!$A$13:$J$1001,D$39,FALSE),\"\")","v":""},{"$f":"IFERROR(VLOOKUP(SMALL('C-E'!$A$13:$A$1001,RC_EXAM!$A435),'C-E'!$A$13:$J$1001,E$39,FALSE),\"\")","v":""},null,{"$f":"IFERROR(VLOOKUP(SMALL('C-E'!$A$13:$A$1001,RC_EXAM!$A435),'C-E'!$A$13:$J$1001,G$39,FALSE),\"\")","v":""}]
[395,{"$f":"IFERROR(VLOOKUP(SMALL('C-E'!$A$13:$A$1001,RC_EXAM!$A436),'C-E'!$A$13:$J$1001,B$39,FALSE),\"\")","v":""},{"$f":"IFERROR(VLOOKUP(SMALL('C-E'!$A$13:$A$1001,RC_EXAM!$A436),'C-E'!$A$13:$J$1001,C$39,FALSE),\"\")","v":""},{"$f":"IFERROR(VLOOKUP(SMALL('C-E'!$A$13:$A$1001,RC_EXAM!$A436),'C-E'!$A$13:$J$1001,D$39,FALSE),\"\")","v":""},{"$f":"IFERROR(VLOOKUP(SMALL('C-E'!$A$13:$A$1001,RC_EXAM!$A436),'C-E'!$A$13:$J$1001,E$39,FALSE),\"\")","v":""},null,{"$f":"IFERROR(VLOOKUP(SMALL('C-E'!$A$13:$A$1001,RC_EXAM!$A436),'C-E'!$A$13:$J$1001,G$39,FALSE),\"\")","v":""}]
[396,{"$f":"IFERROR(VLOOKUP(SMALL('C-E'!$A$13:$A$1001,RC_EXAM!$A437),'C-E'!$A$13:$J$1001,B$39,FALSE),\"\")","v":""},{"$f":"IFERROR(VLOOKUP(SMALL('C-E'!$A$13:$A$1001,RC_EXAM!$A437),'C-E'!$A$13:$J$1001,C$39,FALSE),\"\")","v":""},{"$f":"IFERROR(VLOOKUP(SMALL('C-E'!$A$13:$A$1001,RC_EXAM!$A437),'C-E'!$A$13:$J$1001,D$39,FALSE),\"\")","v":""},{"$f":"IFERROR(VLOOKUP(SMALL('C-E'!$A$13:$A$1001,RC_EXAM!$A437),'C-E'!$A$13:$J$1001,E$39,FALSE),\"\")","v":""},null,{"$f":"IFERROR(VLOOKUP(SMALL('C-E'!$A$13:$A$1001,RC_EXAM!$A437),'C-E'!$A$13:$J$1001,G$39,FALSE),\"\")","v":""}]
[397,{"$f":"IFERROR(VLOOKUP(SMALL('C-E'!$A$13:$A$1001,RC_EXAM!$A438),'C-E'!$A$13:$J$1001,B$39,FALSE),\"\")","v":""},{"$f":"IFERROR(VLOOKUP(SMALL('C-E'!$A$13:$A$1001,RC_EXAM!$A438),'C-E'!$A$13:$J$1001,C$39,FALSE),\"\")","v":""},{"$f":"IFERROR(VLOOKUP(SMALL('C-E'!$A$13:$A$1001,RC_EXAM!$A438),'C-E'!$A$13:$J$1001,D$39,FALSE),\"\")","v":""},{"$f":"IFERROR(VLOOKUP(SMALL('C-E'!$A$13:$A$1001,RC_EXAM!$A438),'C-E'!$A$13:$J$1001,E$39,FALSE),\"\")","v":""},null,{"$f":"IFERROR(VLOOKUP(SMALL('C-E'!$A$13:$A$1001,RC_EXAM!$A438),'C-E'!$A$13:$J$1001,G$39,FALSE),\"\")","v":""}]
[398,{"$f":"IFERROR(VLOOKUP(SMALL('C-E'!$A$13:$A$1001,RC_EXAM!$A439),'C-E'!$A$13:$J$1001,B$39,FALSE),\"\")","v":""},{"$f":"IFERROR(VLOOKUP(SMALL('C-E'!$A$13:$A$1001,RC_EXAM!$A439),'C-E'!$A$13:$J$1001,C$39,FALSE),\"\")","v":""},{"$f":"IFERROR(VLOOKUP(SMALL('C-E'!$A$13:$A$1001,RC_EXAM!$A439),'C-E'!$A$13:$J$1001,D$39,FALSE),\"\")","v":""},{"$f":"IFERROR(VLOOKUP(SMALL('C-E'!$A$13:$A$1001,RC_EXAM!$A439),'C-E'!$A$13:$J$1001,E$39,FALSE),\"\")","v":""},null,{"$f":"IFERROR(VLOOKUP(SMALL('C-E'!$A$13:$A$1001,RC_EXAM!$A439),'C-E'!$A$13:$J$1001,G$39,FALSE),\"\")","v":""}]
[399,{"$f":"IFERROR(VLOOKUP(SMALL('C-E'!$A$13:$A$1001,RC_EXAM!$A440),'C-E'!$A$13:$J$1001,B$39,FALSE),\"\")","v":""},{"$f":"IFERROR(VLOOKUP(SMALL('C-E'!$A$13:$A$1001,RC_EXAM!$A440),'C-E'!$A$13:$J$1001,C$39,FALSE),\"\")","v":""},{"$f":"IFERROR(VLOOKUP(SMALL('C-E'!$A$13:$A$1001,RC_EXAM!$A440),'C-E'!$A$13:$J$1001,D$39,FALSE),\"\")","v":""},{"$f":"IFERROR(VLOOKUP(SMALL('C-E'!$A$13:$A$1001,RC_EXAM!$A440),'C-E'!$A$13:$J$1001,E$39,FALSE),\"\")","v":""},null,{"$f":"IFERROR(VLOOKUP(SMALL('C-E'!$A$13:$A$1001,RC_EXAM!$A440),'C-E'!$A$13:$J$1001,G$39,FALSE),\"\")","v":""}]
[400,{"$f":"IFERROR(VLOOKUP(SMALL('C-E'!$A$13:$A$1001,RC_EXAM!$A441),'C-E'!$A$13:$J$1001,B$39,FALSE),\"\")","v":""},{"$f":"IFERROR(VLOOKUP(SMALL('C-E'!$A$13:$A$1001,RC_EXAM!$A441),'C-E'!$A$13:$J$1001,C$39,FALSE),\"\")","v":""},{"$f":"IFERROR(VLOOKUP(SMALL('C-E'!$A$13:$A$1001,RC_EXAM!$A441),'C-E'!$A$13:$J$1001,D$39,FALSE),\"\")","v":""},{"$f":"IFERROR(VLOOKUP(SMALL('C-E'!$A$13:$A$1001,RC_EXAM!$A441),'C-E'!$A$13:$J$1001,E$39,FALSE),\"\")","v":""},null,{"$f":"IFERROR(VLOOKUP(SMALL('C-E'!$A$13:$A$1001,RC_EXAM!$A441),'C-E'!$A$13:$J$1001,G$39,FALSE),\"\")","v":""}]
[401,{"$f":"IFERROR(VLOOKUP(SMALL('C-E'!$A$13:$A$1001,RC_EXAM!$A442),'C-E'!$A$13:$J$1001,B$39,FALSE),\"\")","v":""},{"$f":"IFERROR(VLOOKUP(SMALL('C-E'!$A$13:$A$1001,RC_EXAM!$A442),'C-E'!$A$13:$J$1001,C$39,FALSE),\"\")","v":""},{"$f":"IFERROR(VLOOKUP(SMALL('C-E'!$A$13:$A$1001,RC_EXAM!$A442),'C-E'!$A$13:$J$1001,D$39,FALSE),\"\")","v":""},{"$f":"IFERROR(VLOOKUP(SMALL('C-E'!$A$13:$A$1001,RC_EXAM!$A442),'C-E'!$A$13:$J$1001,E$39,FALSE),\"\")","v":""},null,{"$f":"IFERROR(VLOOKUP(SMALL('C-E'!$A$13:$A$1001,RC_EXAM!$A442),'C-E'!$A$13:$J$1001,G$39,FALSE),\"\")","v":""}]
[402,{"$f":"IFERROR(VLOOKUP(SMALL('C-E'!$A$13:$A$1001,RC_EXAM!$A443),'C-E'!$A$13:$J$1001,B$39,FALSE),\"\")","v":""},{"$f":"IFERROR(VLOOKUP(SMALL('C-E'!$A$13:$A$1001,RC_EXAM!$A443),'C-E'!$A$13:$J$1001,C$39,FALSE),\"\")","v":""},{"$f":"IFERROR(VLOOKUP(SMALL('C-E'!$A$13:$A$1001,RC_EXAM!$A443),'C-E'!$A$13:$J$1001,D$39,FALSE),\"\")","v":""},{"$f":"IFERROR(VLOOKUP(SMALL('C-E'!$A$13:$A$1001,RC_EXAM!$A443),'C-E'!$A$13:$J$1001,E$39,FALSE),\"\")","v":""},null,{"$f":"IFERROR(VLOOKUP(SMALL('C-E'!$A$13:$A$1001,RC_EXAM!$A443),'C-E'!$A$13:$J$1001,G$39,FALSE),\"\")","v":""}]
[403,{"$f":"IFERROR(VLOOKUP(SMALL('C-E'!$A$13:$A$1001,RC_EXAM!$A444),'C-E'!$A$13:$J$1001,B$39,FALSE),\"\")","v":""},{"$f":"IFERROR(VLOOKUP(SMALL('C-E'!$A$13:$A$1001,RC_EXAM!$A444),'C-E'!$A$13:$J$1001,C$39,FALSE),\"\")","v":""},{"$f":"IFERROR(VLOOKUP(SMALL('C-E'!$A$13:$A$1001,RC_EXAM!$A444),'C-E'!$A$13:$J$1001,D$39,FALSE),\"\")","v":""},{"$f":"IFERROR(VLOOKUP(SMALL('C-E'!$A$13:$A$1001,RC_EXAM!$A444),'C-E'!$A$13:$J$1001,E$39,FALSE),\"\")","v":""},null,{"$f":"IFERROR(VLOOKUP(SMALL('C-E'!$A$13:$A$1001,RC_EXAM!$A444),'C-E'!$A$13:$J$1001,G$39,FALSE),\"\")","v":""}]
[404,{"$f":"IFERROR(VLOOKUP(SMALL('C-E'!$A$13:$A$1001,RC_EXAM!$A445),'C-E'!$A$13:$J$1001,B$39,FALSE),\"\")","v":""},{"$f":"IFERROR(VLOOKUP(SMALL('C-E'!$A$13:$A$1001,RC_EXAM!$A445),'C-E'!$A$13:$J$1001,C$39,FALSE),\"\")","v":""},{"$f":"IFERROR(VLOOKUP(SMALL('C-E'!$A$13:$A$1001,RC_EXAM!$A445),'C-E'!$A$13:$J$1001,D$39,FALSE),\"\")","v":""},{"$f":"IFERROR(VLOOKUP(SMALL('C-E'!$A$13:$A$1001,RC_EXAM!$A445),'C-E'!$A$13:$J$1001,E$39,FALSE),\"\")","v":""},null,{"$f":"IFERROR(VLOOKUP(SMALL('C-E'!$A$13:$A$1001,RC_EXAM!$A445),'C-E'!$A$13:$J$1001,G$39,FALSE),\"\")","v":""}]
[405,{"$f":"IFERROR(VLOOKUP(SMALL('C-E'!$A$13:$A$1001,RC_EXAM!$A446),'C-E'!$A$13:$J$1001,B$39,FALSE),\"\")","v":""},{"$f":"IFERROR(VLOOKUP(SMALL('C-E'!$A$13:$A$1001,RC_EXAM!$A446),'C-E'!$A$13:$J$1001,C$39,FALSE),\"\")","v":""},{"$f":"IFERROR(VLOOKUP(SMALL('C-E'!$A$13:$A$1001,RC_EXAM!$A446),'C-E'!$A$13:$J$1001,D$39,FALSE),\"\")","v":""},{"$f":"IFERROR(VLOOKUP(SMALL('C-E'!$A$13:$A$1001,RC_EXAM!$A446),'C-E'!$A$13:$J$1001,E$39,FALSE),\"\")","v":""},null,{"$f":"IFERROR(VLOOKUP(SMALL('C-E'!$A$13:$A$1001,RC_EXAM!$A446),'C-E'!$A$13:$J$1001,G$39,FALSE),\"\")","v":""}]
[406,{"$f":"IFERROR(VLOOKUP(SMALL('C-E'!$A$13:$A$1001,RC_EXAM!$A447),'C-E'!$A$13:$J$1001,B$39,FALSE),\"\")","v":""},{"$f":"IFERROR(VLOOKUP(SMALL('C-E'!$A$13:$A$1001,RC_EXAM!$A447),'C-E'!$A$13:$J$1001,C$39,FALSE),\"\")","v":""},{"$f":"IFERROR(VLOOKUP(SMALL('C-E'!$A$13:$A$1001,RC_EXAM!$A447),'C-E'!$A$13:$J$1001,D$39,FALSE),\"\")","v":""},{"$f":"IFERROR(VLOOKUP(SMALL('C-E'!$A$13:$A$1001,RC_EXAM!$A447),'C-E'!$A$13:$J$1001,E$39,FALSE),\"\")","v":""},null,{"$f":"IFERROR(VLOOKUP(SMALL('C-E'!$A$13:$A$1001,RC_EXAM!$A447),'C-E'!$A$13:$J$1001,G$39,FALSE),\"\")","v":""}]
[407,{"$f":"IFERROR(VLOOKUP(SMALL('C-E'!$A$13:$A$1001,RC_EXAM!$A448),'C-E'!$A$13:$J$1001,B$39,FALSE),\"\")","v":""},{"$f":"IFERROR(VLOOKUP(SMALL('C-E'!$A$13:$A$1001,RC_EXAM!$A448),'C-E'!$A$13:$J$1001,C$39,FALSE),\"\")","v":""},{"$f":"IFERROR(VLOOKUP(SMALL('C-E'!$A$13:$A$1001,RC_EXAM!$A448),'C-E'!$A$13:$J$1001,D$39,FALSE),\"\")","v":""},{"$f":"IFERROR(VLOOKUP(SMALL('C-E'!$A$13:$A$1001,RC_EXAM!$A448),'C-E'!$A$13:$J$1001,E$39,FALSE),\"\")","v":""},null,{"$f":"IFERROR(VLOOKUP(SMALL('C-E'!$A$13:$A$1001,RC_EXAM!$A448),'C-E'!$A$13:$J$1001,G$39,FALSE),\"\")","v":""}]
[408,{"$f":"IFERROR(VLOOKUP(SMALL('C-E'!$A$13:$A$1001,RC_EXAM!$A449),'C-E'!$A$13:$J$1001,B$39,FALSE),\"\")","v":""},{"$f":"IFERROR(VLOOKUP(SMALL('C-E'!$A$13:$A$1001,RC_EXAM!$A449),'C-E'!$A$13:$J$1001,C$39,FALSE),\"\")","v":""},{"$f":"IFERROR(VLOOKUP(SMALL('C-E'!$A$13:$A$1001,RC_EXAM!$A449),'C-E'!$A$13:$J$1001,D$39,FALSE),\"\")","v":""},{"$f":"IFERROR(VLOOKUP(SMALL('C-E'!$A$13:$A$1001,RC_EXAM!$A449),'C-E'!$A$13:$J$1001,E$39,FALSE),\"\")","v":""},null,{"$f":"IFERROR(VLOOKUP(SMALL('C-E'!$A$13:$A$1001,RC_EXAM!$A449),'C-E'!$A$13:$J$1001,G$39,FALSE),\"\")","v":""}]
[409,{"$f":"IFERROR(VLOOKUP(SMALL('C-E'!$A$13:$A$1001,RC_EXAM!$A450),'C-E'!$A$13:$J$1001,B$39,FALSE),\"\")","v":""},{"$f":"IFERROR(VLOOKUP(SMALL('C-E'!$A$13:$A$1001,RC_EXAM!$A450),'C-E'!$A$13:$J$1001,C$39,FALSE),\"\")","v":""},{"$f":"IFERROR(VLOOKUP(SMALL('C-E'!$A$13:$A$1001,RC_EXAM!$A450),'C-E'!$A$13:$J$1001,D$39,FALSE),\"\")","v":""},{"$f":"IFERROR(VLOOKUP(SMALL('C-E'!$A$13:$A$1001,RC_EXAM!$A450),'C-E'!$A$13:$J$1001,E$39,FALSE),\"\")","v":""},null,{"$f":"IFERROR(VLOOKUP(SMALL('C-E'!$A$13:$A$1001,RC_EXAM!$A450),'C-E'!$A$13:$J$1001,G$39,FALSE),\"\")","v":""}]
[410,{"$f":"IFERROR(VLOOKUP(SMALL('C-E'!$A$13:$A$1001,RC_EXAM!$A451),'C-E'!$A$13:$J$1001,B$39,FALSE),\"\")","v":""},{"$f":"IFERROR(VLOOKUP(SMALL('C-E'!$A$13:$A$1001,RC_EXAM!$A451),'C-E'!$A$13:$J$1001,C$39,FALSE),\"\")","v":""},{"$f":"IFERROR(VLOOKUP(SMALL('C-E'!$A$13:$A$1001,RC_EXAM!$A451),'C-E'!$A$13:$J$1001,D$39,FALSE),\"\")","v":""},{"$f":"IFERROR(VLOOKUP(SMALL('C-E'!$A$13:$A$1001,RC_EXAM!$A451),'C-E'!$A$13:$J$1001,E$39,FALSE),\"\")","v":""},null,{"$f":"IFERROR(VLOOKUP(SMALL('C-E'!$A$13:$A$1001,RC_EXAM!$A451),'C-E'!$A$13:$J$1001,G$39,FALSE),\"\")","v":""}]
[411,{"$f":"IFERROR(VLOOKUP(SMALL('C-E'!$A$13:$A$1001,RC_EXAM!$A452),'C-E'!$A$13:$J$1001,B$39,FALSE),\"\")","v":""},{"$f":"IFERROR(VLOOKUP(SMALL('C-E'!$A$13:$A$1001,RC_EXAM!$A452),'C-E'!$A$13:$J$1001,C$39,FALSE),\"\")","v":""},{"$f":"IFERROR(VLOOKUP(SMALL('C-E'!$A$13:$A$1001,RC_EXAM!$A452),'C-E'!$A$13:$J$1001,D$39,FALSE),\"\")","v":""},{"$f":"IFERROR(VLOOKUP(SMALL('C-E'!$A$13:$A$1001,RC_EXAM!$A452),'C-E'!$A$13:$J$1001,E$39,FALSE),\"\")","v":""},null,{"$f":"IFERROR(VLOOKUP(SMALL('C-E'!$A$13:$A$1001,RC_EXAM!$A452),'C-E'!$A$13:$J$1001,G$39,FALSE),\"\")","v":""}]
[412,{"$f":"IFERROR(VLOOKUP(SMALL('C-E'!$A$13:$A$1001,RC_EXAM!$A453),'C-E'!$A$13:$J$1001,B$39,FALSE),\"\")","v":""},{"$f":"IFERROR(VLOOKUP(SMALL('C-E'!$A$13:$A$1001,RC_EXAM!$A453),'C-E'!$A$13:$J$1001,C$39,FALSE),\"\")","v":""},{"$f":"IFERROR(VLOOKUP(SMALL('C-E'!$A$13:$A$1001,RC_EXAM!$A453),'C-E'!$A$13:$J$1001,D$39,FALSE),\"\")","v":""},{"$f":"IFERROR(VLOOKUP(SMALL('C-E'!$A$13:$A$1001,RC_EXAM!$A453),'C-E'!$A$13:$J$1001,E$39,FALSE),\"\")","v":""},null,{"$f":"IFERROR(VLOOKUP(SMALL('C-E'!$A$13:$A$1001,RC_EXAM!$A453),'C-E'!$A$13:$J$1001,G$39,FALSE),\"\")","v":""}]
[413,{"$f":"IFERROR(VLOOKUP(SMALL('C-E'!$A$13:$A$1001,RC_EXAM!$A454),'C-E'!$A$13:$J$1001,B$39,FALSE),\"\")","v":""},{"$f":"IFERROR(VLOOKUP(SMALL('C-E'!$A$13:$A$1001,RC_EXAM!$A454),'C-E'!$A$13:$J$1001,C$39,FALSE),\"\")","v":""},{"$f":"IFERROR(VLOOKUP(SMALL('C-E'!$A$13:$A$1001,RC_EXAM!$A454),'C-E'!$A$13:$J$1001,D$39,FALSE),\"\")","v":""},{"$f":"IFERROR(VLOOKUP(SMALL('C-E'!$A$13:$A$1001,RC_EXAM!$A454),'C-E'!$A$13:$J$1001,E$39,FALSE),\"\")","v":""},null,{"$f":"IFERROR(VLOOKUP(SMALL('C-E'!$A$13:$A$1001,RC_EXAM!$A454),'C-E'!$A$13:$J$1001,G$39,FALSE),\"\")","v":""}]
[414,{"$f":"IFERROR(VLOOKUP(SMALL('C-E'!$A$13:$A$1001,RC_EXAM!$A455),'C-E'!$A$13:$J$1001,B$39,FALSE),\"\")","v":""},{"$f":"IFERROR(VLOOKUP(SMALL('C-E'!$A$13:$A$1001,RC_EXAM!$A455),'C-E'!$A$13:$J$1001,C$39,FALSE),\"\")","v":""},{"$f":"IFERROR(VLOOKUP(SMALL('C-E'!$A$13:$A$1001,RC_EXAM!$A455),'C-E'!$A$13:$J$1001,D$39,FALSE),\"\")","v":""},{"$f":"IFERROR(VLOOKUP(SMALL('C-E'!$A$13:$A$1001,RC_EXAM!$A455),'C-E'!$A$13:$J$1001,E$39,FALSE),\"\")","v":""},null,{"$f":"IFERROR(VLOOKUP(SMALL('C-E'!$A$13:$A$1001,RC_EXAM!$A455),'C-E'!$A$13:$J$1001,G$39,FALSE),\"\")","v":""}]
[415,{"$f":"IFERROR(VLOOKUP(SMALL('C-E'!$A$13:$A$1001,RC_EXAM!$A456),'C-E'!$A$13:$J$1001,B$39,FALSE),\"\")","v":""},{"$f":"IFERROR(VLOOKUP(SMALL('C-E'!$A$13:$A$1001,RC_EXAM!$A456),'C-E'!$A$13:$J$1001,C$39,FALSE),\"\")","v":""},{"$f":"IFERROR(VLOOKUP(SMALL('C-E'!$A$13:$A$1001,RC_EXAM!$A456),'C-E'!$A$13:$J$1001,D$39,FALSE),\"\")","v":""},{"$f":"IFERROR(VLOOKUP(SMALL('C-E'!$A$13:$A$1001,RC_EXAM!$A456),'C-E'!$A$13:$J$1001,E$39,FALSE),\"\")","v":""},null,{"$f":"IFERROR(VLOOKUP(SMALL('C-E'!$A$13:$A$1001,RC_EXAM!$A456),'C-E'!$A$13:$J$1001,G$39,FALSE),\"\")","v":""}]
[416,{"$f":"IFERROR(VLOOKUP(SMALL('C-E'!$A$13:$A$1001,RC_EXAM!$A457),'C-E'!$A$13:$J$1001,B$39,FALSE),\"\")","v":""},{"$f":"IFERROR(VLOOKUP(SMALL('C-E'!$A$13:$A$1001,RC_EXAM!$A457),'C-E'!$A$13:$J$1001,C$39,FALSE),\"\")","v":""},{"$f":"IFERROR(VLOOKUP(SMALL('C-E'!$A$13:$A$1001,RC_EXAM!$A457),'C-E'!$A$13:$J$1001,D$39,FALSE),\"\")","v":""},{"$f":"IFERROR(VLOOKUP(SMALL('C-E'!$A$13:$A$1001,RC_EXAM!$A457),'C-E'!$A$13:$J$1001,E$39,FALSE),\"\")","v":""},null,{"$f":"IFERROR(VLOOKUP(SMALL('C-E'!$A$13:$A$1001,RC_EXAM!$A457),'C-E'!$A$13:$J$1001,G$39,FALSE),\"\")","v":""}]
[417,{"$f":"IFERROR(VLOOKUP(SMALL('C-E'!$A$13:$A$1001,RC_EXAM!$A458),'C-E'!$A$13:$J$1001,B$39,FALSE),\"\")","v":""},{"$f":"IFERROR(VLOOKUP(SMALL('C-E'!$A$13:$A$1001,RC_EXAM!$A458),'C-E'!$A$13:$J$1001,C$39,FALSE),\"\")","v":""},{"$f":"IFERROR(VLOOKUP(SMALL('C-E'!$A$13:$A$1001,RC_EXAM!$A458),'C-E'!$A$13:$J$1001,D$39,FALSE),\"\")","v":""},{"$f":"IFERROR(VLOOKUP(SMALL('C-E'!$A$13:$A$1001,RC_EXAM!$A458),'C-E'!$A$13:$J$1001,E$39,FALSE),\"\")","v":""},null,{"$f":"IFERROR(VLOOKUP(SMALL('C-E'!$A$13:$A$1001,RC_EXAM!$A458),'C-E'!$A$13:$J$1001,G$39,FALSE),\"\")","v":""}]
[418,{"$f":"IFERROR(VLOOKUP(SMALL('C-E'!$A$13:$A$1001,RC_EXAM!$A459),'C-E'!$A$13:$J$1001,B$39,FALSE),\"\")","v":""},{"$f":"IFERROR(VLOOKUP(SMALL('C-E'!$A$13:$A$1001,RC_EXAM!$A459),'C-E'!$A$13:$J$1001,C$39,FALSE),\"\")","v":""},{"$f":"IFERROR(VLOOKUP(SMALL('C-E'!$A$13:$A$1001,RC_EXAM!$A459),'C-E'!$A$13:$J$1001,D$39,FALSE),\"\")","v":""},{"$f":"IFERROR(VLOOKUP(SMALL('C-E'!$A$13:$A$1001,RC_EXAM!$A459),'C-E'!$A$13:$J$1001,E$39,FALSE),\"\")","v":""},null,{"$f":"IFERROR(VLOOKUP(SMALL('C-E'!$A$13:$A$1001,RC_EXAM!$A459),'C-E'!$A$13:$J$1001,G$39,FALSE),\"\")","v":""}]
[419,{"$f":"IFERROR(VLOOKUP(SMALL('C-E'!$A$13:$A$1001,RC_EXAM!$A460),'C-E'!$A$13:$J$1001,B$39,FALSE),\"\")","v":""},{"$f":"IFERROR(VLOOKUP(SMALL('C-E'!$A$13:$A$1001,RC_EXAM!$A460),'C-E'!$A$13:$J$1001,C$39,FALSE),\"\")","v":""},{"$f":"IFERROR(VLOOKUP(SMALL('C-E'!$A$13:$A$1001,RC_EXAM!$A460),'C-E'!$A$13:$J$1001,D$39,FALSE),\"\")","v":""},{"$f":"IFERROR(VLOOKUP(SMALL('C-E'!$A$13:$A$1001,RC_EXAM!$A460),'C-E'!$A$13:$J$1001,E$39,FALSE),\"\")","v":""},null,{"$f":"IFERROR(VLOOKUP(SMALL('C-E'!$A$13:$A$1001,RC_EXAM!$A460),'C-E'!$A$13:$J$1001,G$39,FALSE),\"\")","v":""}]
[420,{"$f":"IFERROR(VLOOKUP(SMALL('C-E'!$A$13:$A$1001,RC_EXAM!$A461),'C-E'!$A$13:$J$1001,B$39,FALSE),\"\")","v":""},{"$f":"IFERROR(VLOOKUP(SMALL('C-E'!$A$13:$A$1001,RC_EXAM!$A461),'C-E'!$A$13:$J$1001,C$39,FALSE),\"\")","v":""},{"$f":"IFERROR(VLOOKUP(SMALL('C-E'!$A$13:$A$1001,RC_EXAM!$A461),'C-E'!$A$13:$J$1001,D$39,FALSE),\"\")","v":""},{"$f":"IFERROR(VLOOKUP(SMALL('C-E'!$A$13:$A$1001,RC_EXAM!$A461),'C-E'!$A$13:$J$1001,E$39,FALSE),\"\")","v":""},null,{"$f":"IFERROR(VLOOKUP(SMALL('C-E'!$A$13:$A$1001,RC_EXAM!$A461),'C-E'!$A$13:$J$1001,G$39,FALSE),\"\")","v":""}]
[421,{"$f":"IFERROR(VLOOKUP(SMALL('C-E'!$A$13:$A$1001,RC_EXAM!$A462),'C-E'!$A$13:$J$1001,B$39,FALSE),\"\")","v":""},{"$f":"IFERROR(VLOOKUP(SMALL('C-E'!$A$13:$A$1001,RC_EXAM!$A462),'C-E'!$A$13:$J$1001,C$39,FALSE),\"\")","v":""},{"$f":"IFERROR(VLOOKUP(SMALL('C-E'!$A$13:$A$1001,RC_EXAM!$A462),'C-E'!$A$13:$J$1001,D$39,FALSE),\"\")","v":""},{"$f":"IFERROR(VLOOKUP(SMALL('C-E'!$A$13:$A$1001,RC_EXAM!$A462),'C-E'!$A$13:$J$1001,E$39,FALSE),\"\")","v":""},null,{"$f":"IFERROR(VLOOKUP(SMALL('C-E'!$A$13:$A$1001,RC_EXAM!$A462),'C-E'!$A$13:$J$1001,G$39,FALSE),\"\")","v":""}]
[422,{"$f":"IFERROR(VLOOKUP(SMALL('C-E'!$A$13:$A$1001,RC_EXAM!$A463),'C-E'!$A$13:$J$1001,B$39,FALSE),\"\")","v":""},{"$f":"IFERROR(VLOOKUP(SMALL('C-E'!$A$13:$A$1001,RC_EXAM!$A463),'C-E'!$A$13:$J$1001,C$39,FALSE),\"\")","v":""},{"$f":"IFERROR(VLOOKUP(SMALL('C-E'!$A$13:$A$1001,RC_EXAM!$A463),'C-E'!$A$13:$J$1001,D$39,FALSE),\"\")","v":""},{"$f":"IFERROR(VLOOKUP(SMALL('C-E'!$A$13:$A$1001,RC_EXAM!$A463),'C-E'!$A$13:$J$1001,E$39,FALSE),\"\")","v":""},null,{"$f":"IFERROR(VLOOKUP(SMALL('C-E'!$A$13:$A$1001,RC_EXAM!$A463),'C-E'!$A$13:$J$1001,G$39,FALSE),\"\")","v":""}]
[423,{"$f":"IFERROR(VLOOKUP(SMALL('C-E'!$A$13:$A$1001,RC_EXAM!$A464),'C-E'!$A$13:$J$1001,B$39,FALSE),\"\")","v":""},{"$f":"IFERROR(VLOOKUP(SMALL('C-E'!$A$13:$A$1001,RC_EXAM!$A464),'C-E'!$A$13:$J$1001,C$39,FALSE),\"\")","v":""},{"$f":"IFERROR(VLOOKUP(SMALL('C-E'!$A$13:$A$1001,RC_EXAM!$A464),'C-E'!$A$13:$J$1001,D$39,FALSE),\"\")","v":""},{"$f":"IFERROR(VLOOKUP(SMALL('C-E'!$A$13:$A$1001,RC_EXAM!$A464),'C-E'!$A$13:$J$1001,E$39,FALSE),\"\")","v":""},null,{"$f":"IFERROR(VLOOKUP(SMALL('C-E'!$A$13:$A$1001,RC_EXAM!$A464),'C-E'!$A$13:$J$1001,G$39,FALSE),\"\")","v":""}]
[424,{"$f":"IFERROR(VLOOKUP(SMALL('C-E'!$A$13:$A$1001,RC_EXAM!$A465),'C-E'!$A$13:$J$1001,B$39,FALSE),\"\")","v":""},{"$f":"IFERROR(VLOOKUP(SMALL('C-E'!$A$13:$A$1001,RC_EXAM!$A465),'C-E'!$A$13:$J$1001,C$39,FALSE),\"\")","v":""},{"$f":"IFERROR(VLOOKUP(SMALL('C-E'!$A$13:$A$1001,RC_EXAM!$A465),'C-E'!$A$13:$J$1001,D$39,FALSE),\"\")","v":""},{"$f":"IFERROR(VLOOKUP(SMALL('C-E'!$A$13:$A$1001,RC_EXAM!$A465),'C-E'!$A$13:$J$1001,E$39,FALSE),\"\")","v":""},null,{"$f":"IFERROR(VLOOKUP(SMALL('C-E'!$A$13:$A$1001,RC_EXAM!$A465),'C-E'!$A$13:$J$1001,G$39,FALSE),\"\")","v":""}]
[425,{"$f":"IFERROR(VLOOKUP(SMALL('C-E'!$A$13:$A$1001,RC_EXAM!$A466),'C-E'!$A$13:$J$1001,B$39,FALSE),\"\")","v":""},{"$f":"IFERROR(VLOOKUP(SMALL('C-E'!$A$13:$A$1001,RC_EXAM!$A466),'C-E'!$A$13:$J$1001,C$39,FALSE),\"\")","v":""},{"$f":"IFERROR(VLOOKUP(SMALL('C-E'!$A$13:$A$1001,RC_EXAM!$A466),'C-E'!$A$13:$J$1001,D$39,FALSE),\"\")","v":""},{"$f":"IFERROR(VLOOKUP(SMALL('C-E'!$A$13:$A$1001,RC_EXAM!$A466),'C-E'!$A$13:$J$1001,E$39,FALSE),\"\")","v":""},null,{"$f":"IFERROR(VLOOKUP(SMALL('C-E'!$A$13:$A$1001,RC_EXAM!$A466),'C-E'!$A$13:$J$1001,G$39,FALSE),\"\")","v":""}]
[426,{"$f":"IFERROR(VLOOKUP(SMALL('C-E'!$A$13:$A$1001,RC_EXAM!$A467),'C-E'!$A$13:$J$1001,B$39,FALSE),\"\")","v":""},{"$f":"IFERROR(VLOOKUP(SMALL('C-E'!$A$13:$A$1001,RC_EXAM!$A467),'C-E'!$A$13:$J$1001,C$39,FALSE),\"\")","v":""},{"$f":"IFERROR(VLOOKUP(SMALL('C-E'!$A$13:$A$1001,RC_EXAM!$A467),'C-E'!$A$13:$J$1001,D$39,FALSE),\"\")","v":""},{"$f":"IFERROR(VLOOKUP(SMALL('C-E'!$A$13:$A$1001,RC_EXAM!$A467),'C-E'!$A$13:$J$1001,E$39,FALSE),\"\")","v":""},null,{"$f":"IFERROR(VLOOKUP(SMALL('C-E'!$A$13:$A$1001,RC_EXAM!$A467),'C-E'!$A$13:$J$1001,G$39,FALSE),\"\")","v":""}]
[427,{"$f":"IFERROR(VLOOKUP(SMALL('C-E'!$A$13:$A$1001,RC_EXAM!$A468),'C-E'!$A$13:$J$1001,B$39,FALSE),\"\")","v":""},{"$f":"IFERROR(VLOOKUP(SMALL('C-E'!$A$13:$A$1001,RC_EXAM!$A468),'C-E'!$A$13:$J$1001,C$39,FALSE),\"\")","v":""},{"$f":"IFERROR(VLOOKUP(SMALL('C-E'!$A$13:$A$1001,RC_EXAM!$A468),'C-E'!$A$13:$J$1001,D$39,FALSE),\"\")","v":""},{"$f":"IFERROR(VLOOKUP(SMALL('C-E'!$A$13:$A$1001,RC_EXAM!$A468),'C-E'!$A$13:$J$1001,E$39,FALSE),\"\")","v":""},null,{"$f":"IFERROR(VLOOKUP(SMALL('C-E'!$A$13:$A$1001,RC_EXAM!$A468),'C-E'!$A$13:$J$1001,G$39,FALSE),\"\")","v":""}]
[428,{"$f":"IFERROR(VLOOKUP(SMALL('C-E'!$A$13:$A$1001,RC_EXAM!$A469),'C-E'!$A$13:$J$1001,B$39,FALSE),\"\")","v":""},{"$f":"IFERROR(VLOOKUP(SMALL('C-E'!$A$13:$A$1001,RC_EXAM!$A469),'C-E'!$A$13:$J$1001,C$39,FALSE),\"\")","v":""},{"$f":"IFERROR(VLOOKUP(SMALL('C-E'!$A$13:$A$1001,RC_EXAM!$A469),'C-E'!$A$13:$J$1001,D$39,FALSE),\"\")","v":""},{"$f":"IFERROR(VLOOKUP(SMALL('C-E'!$A$13:$A$1001,RC_EXAM!$A469),'C-E'!$A$13:$J$1001,E$39,FALSE),\"\")","v":""},null,{"$f":"IFERROR(VLOOKUP(SMALL('C-E'!$A$13:$A$1001,RC_EXAM!$A469),'C-E'!$A$13:$J$1001,G$39,FALSE),\"\")","v":""}]
[429,{"$f":"IFERROR(VLOOKUP(SMALL('C-E'!$A$13:$A$1001,RC_EXAM!$A470),'C-E'!$A$13:$J$1001,B$39,FALSE),\"\")","v":""},{"$f":"IFERROR(VLOOKUP(SMALL('C-E'!$A$13:$A$1001,RC_EXAM!$A470),'C-E'!$A$13:$J$1001,C$39,FALSE),\"\")","v":""},{"$f":"IFERROR(VLOOKUP(SMALL('C-E'!$A$13:$A$1001,RC_EXAM!$A470),'C-E'!$A$13:$J$1001,D$39,FALSE),\"\")","v":""},{"$f":"IFERROR(VLOOKUP(SMALL('C-E'!$A$13:$A$1001,RC_EXAM!$A470),'C-E'!$A$13:$J$1001,E$39,FALSE),\"\")","v":""},null,{"$f":"IFERROR(VLOOKUP(SMALL('C-E'!$A$13:$A$1001,RC_EXAM!$A470),'C-E'!$A$13:$J$1001,G$39,FALSE),\"\")","v":""}]
[430,{"$f":"IFERROR(VLOOKUP(SMALL('C-E'!$A$13:$A$1001,RC_EXAM!$A471),'C-E'!$A$13:$J$1001,B$39,FALSE),\"\")","v":""},{"$f":"IFERROR(VLOOKUP(SMALL('C-E'!$A$13:$A$1001,RC_EXAM!$A471),'C-E'!$A$13:$J$1001,C$39,FALSE),\"\")","v":""},{"$f":"IFERROR(VLOOKUP(SMALL('C-E'!$A$13:$A$1001,RC_EXAM!$A471),'C-E'!$A$13:$J$1001,D$39,FALSE),\"\")","v":""},{"$f":"IFERROR(VLOOKUP(SMALL('C-E'!$A$13:$A$1001,RC_EXAM!$A471),'C-E'!$A$13:$J$1001,E$39,FALSE),\"\")","v":""},null,{"$f":"IFERROR(VLOOKUP(SMALL('C-E'!$A$13:$A$1001,RC_EXAM!$A471),'C-E'!$A$13:$J$1001,G$39,FALSE),\"\")","v":""}]
[431,{"$f":"IFERROR(VLOOKUP(SMALL('C-E'!$A$13:$A$1001,RC_EXAM!$A472),'C-E'!$A$13:$J$1001,B$39,FALSE),\"\")","v":""},{"$f":"IFERROR(VLOOKUP(SMALL('C-E'!$A$13:$A$1001,RC_EXAM!$A472),'C-E'!$A$13:$J$1001,C$39,FALSE),\"\")","v":""},{"$f":"IFERROR(VLOOKUP(SMALL('C-E'!$A$13:$A$1001,RC_EXAM!$A472),'C-E'!$A$13:$J$1001,D$39,FALSE),\"\")","v":""},{"$f":"IFERROR(VLOOKUP(SMALL('C-E'!$A$13:$A$1001,RC_EXAM!$A472),'C-E'!$A$13:$J$1001,E$39,FALSE),\"\")","v":""},null,{"$f":"IFERROR(VLOOKUP(SMALL('C-E'!$A$13:$A$1001,RC_EXAM!$A472),'C-E'!$A$13:$J$1001,G$39,FALSE),\"\")","v":""}]
[432,{"$f":"IFERROR(VLOOKUP(SMALL('C-E'!$A$13:$A$1001,RC_EXAM!$A473),'C-E'!$A$13:$J$1001,B$39,FALSE),\"\")","v":""},{"$f":"IFERROR(VLOOKUP(SMALL('C-E'!$A$13:$A$1001,RC_EXAM!$A473),'C-E'!$A$13:$J$1001,C$39,FALSE),\"\")","v":""},{"$f":"IFERROR(VLOOKUP(SMALL('C-E'!$A$13:$A$1001,RC_EXAM!$A473),'C-E'!$A$13:$J$1001,D$39,FALSE),\"\")","v":""},{"$f":"IFERROR(VLOOKUP(SMALL('C-E'!$A$13:$A$1001,RC_EXAM!$A473),'C-E'!$A$13:$J$1001,E$39,FALSE),\"\")","v":""},null,{"$f":"IFERROR(VLOOKUP(SMALL('C-E'!$A$13:$A$1001,RC_EXAM!$A473),'C-E'!$A$13:$J$1001,G$39,FALSE),\"\")","v":""}]
[433,{"$f":"IFERROR(VLOOKUP(SMALL('C-E'!$A$13:$A$1001,RC_EXAM!$A474),'C-E'!$A$13:$J$1001,B$39,FALSE),\"\")","v":""},{"$f":"IFERROR(VLOOKUP(SMALL('C-E'!$A$13:$A$1001,RC_EXAM!$A474),'C-E'!$A$13:$J$1001,C$39,FALSE),\"\")","v":""},{"$f":"IFERROR(VLOOKUP(SMALL('C-E'!$A$13:$A$1001,RC_EXAM!$A474),'C-E'!$A$13:$J$1001,D$39,FALSE),\"\")","v":""},{"$f":"IFERROR(VLOOKUP(SMALL('C-E'!$A$13:$A$1001,RC_EXAM!$A474),'C-E'!$A$13:$J$1001,E$39,FALSE),\"\")","v":""},null,{"$f":"IFERROR(VLOOKUP(SMALL('C-E'!$A$13:$A$1001,RC_EXAM!$A474),'C-E'!$A$13:$J$1001,G$39,FALSE),\"\")","v":""}]
[434,{"$f":"IFERROR(VLOOKUP(SMALL('C-E'!$A$13:$A$1001,RC_EXAM!$A475),'C-E'!$A$13:$J$1001,B$39,FALSE),\"\")","v":""},{"$f":"IFERROR(VLOOKUP(SMALL('C-E'!$A$13:$A$1001,RC_EXAM!$A475),'C-E'!$A$13:$J$1001,C$39,FALSE),\"\")","v":""},{"$f":"IFERROR(VLOOKUP(SMALL('C-E'!$A$13:$A$1001,RC_EXAM!$A475),'C-E'!$A$13:$J$1001,D$39,FALSE),\"\")","v":""},{"$f":"IFERROR(VLOOKUP(SMALL('C-E'!$A$13:$A$1001,RC_EXAM!$A475),'C-E'!$A$13:$J$1001,E$39,FALSE),\"\")","v":""},null,{"$f":"IFERROR(VLOOKUP(SMALL('C-E'!$A$13:$A$1001,RC_EXAM!$A475),'C-E'!$A$13:$J$1001,G$39,FALSE),\"\")","v":""}]
[435,{"$f":"IFERROR(VLOOKUP(SMALL('C-E'!$A$13:$A$1001,RC_EXAM!$A476),'C-E'!$A$13:$J$1001,B$39,FALSE),\"\")","v":""},{"$f":"IFERROR(VLOOKUP(SMALL('C-E'!$A$13:$A$1001,RC_EXAM!$A476),'C-E'!$A$13:$J$1001,C$39,FALSE),\"\")","v":""},{"$f":"IFERROR(VLOOKUP(SMALL('C-E'!$A$13:$A$1001,RC_EXAM!$A476),'C-E'!$A$13:$J$1001,D$39,FALSE),\"\")","v":""},{"$f":"IFERROR(VLOOKUP(SMALL('C-E'!$A$13:$A$1001,RC_EXAM!$A476),'C-E'!$A$13:$J$1001,E$39,FALSE),\"\")","v":""},null,{"$f":"IFERROR(VLOOKUP(SMALL('C-E'!$A$13:$A$1001,RC_EXAM!$A476),'C-E'!$A$13:$J$1001,G$39,FALSE),\"\")","v":""}]
[436,{"$f":"IFERROR(VLOOKUP(SMALL('C-E'!$A$13:$A$1001,RC_EXAM!$A477),'C-E'!$A$13:$J$1001,B$39,FALSE),\"\")","v":""},{"$f":"IFERROR(VLOOKUP(SMALL('C-E'!$A$13:$A$1001,RC_EXAM!$A477),'C-E'!$A$13:$J$1001,C$39,FALSE),\"\")","v":""},{"$f":"IFERROR(VLOOKUP(SMALL('C-E'!$A$13:$A$1001,RC_EXAM!$A477),'C-E'!$A$13:$J$1001,D$39,FALSE),\"\")","v":""},{"$f":"IFERROR(VLOOKUP(SMALL('C-E'!$A$13:$A$1001,RC_EXAM!$A477),'C-E'!$A$13:$J$1001,E$39,FALSE),\"\")","v":""},null,{"$f":"IFERROR(VLOOKUP(SMALL('C-E'!$A$13:$A$1001,RC_EXAM!$A477),'C-E'!$A$13:$J$1001,G$39,FALSE),\"\")","v":""}]
[437,{"$f":"IFERROR(VLOOKUP(SMALL('C-E'!$A$13:$A$1001,RC_EXAM!$A478),'C-E'!$A$13:$J$1001,B$39,FALSE),\"\")","v":""},{"$f":"IFERROR(VLOOKUP(SMALL('C-E'!$A$13:$A$1001,RC_EXAM!$A478),'C-E'!$A$13:$J$1001,C$39,FALSE),\"\")","v":""},{"$f":"IFERROR(VLOOKUP(SMALL('C-E'!$A$13:$A$1001,RC_EXAM!$A478),'C-E'!$A$13:$J$1001,D$39,FALSE),\"\")","v":""},{"$f":"IFERROR(VLOOKUP(SMALL('C-E'!$A$13:$A$1001,RC_EXAM!$A478),'C-E'!$A$13:$J$1001,E$39,FALSE),\"\")","v":""},null,{"$f":"IFERROR(VLOOKUP(SMALL('C-E'!$A$13:$A$1001,RC_EXAM!$A478),'C-E'!$A$13:$J$1001,G$39,FALSE),\"\")","v":""}]
[438,{"$f":"IFERROR(VLOOKUP(SMALL('C-E'!$A$13:$A$1001,RC_EXAM!$A479),'C-E'!$A$13:$J$1001,B$39,FALSE),\"\")","v":""},{"$f":"IFERROR(VLOOKUP(SMALL('C-E'!$A$13:$A$1001,RC_EXAM!$A479),'C-E'!$A$13:$J$1001,C$39,FALSE),\"\")","v":""},{"$f":"IFERROR(VLOOKUP(SMALL('C-E'!$A$13:$A$1001,RC_EXAM!$A479),'C-E'!$A$13:$J$1001,D$39,FALSE),\"\")","v":""},{"$f":"IFERROR(VLOOKUP(SMALL('C-E'!$A$13:$A$1001,RC_EXAM!$A479),'C-E'!$A$13:$J$1001,E$39,FALSE),\"\")","v":""},null,{"$f":"IFERROR(VLOOKUP(SMALL('C-E'!$A$13:$A$1001,RC_EXAM!$A479),'C-E'!$A$13:$J$1001,G$39,FALSE),\"\")","v":""}]
[439,{"$f":"IFERROR(VLOOKUP(SMALL('C-E'!$A$13:$A$1001,RC_EXAM!$A480),'C-E'!$A$13:$J$1001,B$39,FALSE),\"\")","v":""},{"$f":"IFERROR(VLOOKUP(SMALL('C-E'!$A$13:$A$1001,RC_EXAM!$A480),'C-E'!$A$13:$J$1001,C$39,FALSE),\"\")","v":""},{"$f":"IFERROR(VLOOKUP(SMALL('C-E'!$A$13:$A$1001,RC_EXAM!$A480),'C-E'!$A$13:$J$1001,D$39,FALSE),\"\")","v":""},{"$f":"IFERROR(VLOOKUP(SMALL('C-E'!$A$13:$A$1001,RC_EXAM!$A480),'C-E'!$A$13:$J$1001,E$39,FALSE),\"\")","v":""},null,{"$f":"IFERROR(VLOOKUP(SMALL('C-E'!$A$13:$A$1001,RC_EXAM!$A480),'C-E'!$A$13:$J$1001,G$39,FALSE),\"\")","v":""}]
[440,{"$f":"IFERROR(VLOOKUP(SMALL('C-E'!$A$13:$A$1001,RC_EXAM!$A481),'C-E'!$A$13:$J$1001,B$39,FALSE),\"\")","v":""},{"$f":"IFERROR(VLOOKUP(SMALL('C-E'!$A$13:$A$1001,RC_EXAM!$A481),'C-E'!$A$13:$J$1001,C$39,FALSE),\"\")","v":""},{"$f":"IFERROR(VLOOKUP(SMALL('C-E'!$A$13:$A$1001,RC_EXAM!$A481),'C-E'!$A$13:$J$1001,D$39,FALSE),\"\")","v":""},{"$f":"IFERROR(VLOOKUP(SMALL('C-E'!$A$13:$A$1001,RC_EXAM!$A481),'C-E'!$A$13:$J$1001,E$39,FALSE),\"\")","v":""},null,{"$f":"IFERROR(VLOOKUP(SMALL('C-E'!$A$13:$A$1001,RC_EXAM!$A481),'C-E'!$A$13:$J$1001,G$39,FALSE),\"\")","v":""}]
[441,{"$f":"IFERROR(VLOOKUP(SMALL('C-E'!$A$13:$A$1001,RC_EXAM!$A482),'C-E'!$A$13:$J$1001,B$39,FALSE),\"\")","v":""},{"$f":"IFERROR(VLOOKUP(SMALL('C-E'!$A$13:$A$1001,RC_EXAM!$A482),'C-E'!$A$13:$J$1001,C$39,FALSE),\"\")","v":""},{"$f":"IFERROR(VLOOKUP(SMALL('C-E'!$A$13:$A$1001,RC_EXAM!$A482),'C-E'!$A$13:$J$1001,D$39,FALSE),\"\")","v":""},{"$f":"IFERROR(VLOOKUP(SMALL('C-E'!$A$13:$A$1001,RC_EXAM!$A482),'C-E'!$A$13:$J$1001,E$39,FALSE),\"\")","v":""},null,{"$f":"IFERROR(VLOOKUP(SMALL('C-E'!$A$13:$A$1001,RC_EXAM!$A482),'C-E'!$A$13:$J$1001,G$39,FALSE),\"\")","v":""}]
[442,{"$f":"IFERROR(VLOOKUP(SMALL('C-E'!$A$13:$A$1001,RC_EXAM!$A483),'C-E'!$A$13:$J$1001,B$39,FALSE),\"\")","v":""},{"$f":"IFERROR(VLOOKUP(SMALL('C-E'!$A$13:$A$1001,RC_EXAM!$A483),'C-E'!$A$13:$J$1001,C$39,FALSE),\"\")","v":""},{"$f":"IFERROR(VLOOKUP(SMALL('C-E'!$A$13:$A$1001,RC_EXAM!$A483),'C-E'!$A$13:$J$1001,D$39,FALSE),\"\")","v":""},{"$f":"IFERROR(VLOOKUP(SMALL('C-E'!$A$13:$A$1001,RC_EXAM!$A483),'C-E'!$A$13:$J$1001,E$39,FALSE),\"\")","v":""},null,{"$f":"IFERROR(VLOOKUP(SMALL('C-E'!$A$13:$A$1001,RC_EXAM!$A483),'C-E'!$A$13:$J$1001,G$39,FALSE),\"\")","v":""}]
[443,{"$f":"IFERROR(VLOOKUP(SMALL('C-E'!$A$13:$A$1001,RC_EXAM!$A484),'C-E'!$A$13:$J$1001,B$39,FALSE),\"\")","v":""},{"$f":"IFERROR(VLOOKUP(SMALL('C-E'!$A$13:$A$1001,RC_EXAM!$A484),'C-E'!$A$13:$J$1001,C$39,FALSE),\"\")","v":""},{"$f":"IFERROR(VLOOKUP(SMALL('C-E'!$A$13:$A$1001,RC_EXAM!$A484),'C-E'!$A$13:$J$1001,D$39,FALSE),\"\")","v":""},{"$f":"IFERROR(VLOOKUP(SMALL('C-E'!$A$13:$A$1001,RC_EXAM!$A484),'C-E'!$A$13:$J$1001,E$39,FALSE),\"\")","v":""},null,{"$f":"IFERROR(VLOOKUP(SMALL('C-E'!$A$13:$A$1001,RC_EXAM!$A484),'C-E'!$A$13:$J$1001,G$39,FALSE),\"\")","v":""}]
[444,{"$f":"IFERROR(VLOOKUP(SMALL('C-E'!$A$13:$A$1001,RC_EXAM!$A485),'C-E'!$A$13:$J$1001,B$39,FALSE),\"\")","v":""},{"$f":"IFERROR(VLOOKUP(SMALL('C-E'!$A$13:$A$1001,RC_EXAM!$A485),'C-E'!$A$13:$J$1001,C$39,FALSE),\"\")","v":""},{"$f":"IFERROR(VLOOKUP(SMALL('C-E'!$A$13:$A$1001,RC_EXAM!$A485),'C-E'!$A$13:$J$1001,D$39,FALSE),\"\")","v":""},{"$f":"IFERROR(VLOOKUP(SMALL('C-E'!$A$13:$A$1001,RC_EXAM!$A485),'C-E'!$A$13:$J$1001,E$39,FALSE),\"\")","v":""},null,{"$f":"IFERROR(VLOOKUP(SMALL('C-E'!$A$13:$A$1001,RC_EXAM!$A485),'C-E'!$A$13:$J$1001,G$39,FALSE),\"\")","v":""}]
[445,{"$f":"IFERROR(VLOOKUP(SMALL('C-E'!$A$13:$A$1001,RC_EXAM!$A486),'C-E'!$A$13:$J$1001,B$39,FALSE),\"\")","v":""},{"$f":"IFERROR(VLOOKUP(SMALL('C-E'!$A$13:$A$1001,RC_EXAM!$A486),'C-E'!$A$13:$J$1001,C$39,FALSE),\"\")","v":""},{"$f":"IFERROR(VLOOKUP(SMALL('C-E'!$A$13:$A$1001,RC_EXAM!$A486),'C-E'!$A$13:$J$1001,D$39,FALSE),\"\")","v":""},{"$f":"IFERROR(VLOOKUP(SMALL('C-E'!$A$13:$A$1001,RC_EXAM!$A486),'C-E'!$A$13:$J$1001,E$39,FALSE),\"\")","v":""},null,{"$f":"IFERROR(VLOOKUP(SMALL('C-E'!$A$13:$A$1001,RC_EXAM!$A486),'C-E'!$A$13:$J$1001,G$39,FALSE),\"\")","v":""}]
[446,{"$f":"IFERROR(VLOOKUP(SMALL('C-E'!$A$13:$A$1001,RC_EXAM!$A487),'C-E'!$A$13:$J$1001,B$39,FALSE),\"\")","v":""},{"$f":"IFERROR(VLOOKUP(SMALL('C-E'!$A$13:$A$1001,RC_EXAM!$A487),'C-E'!$A$13:$J$1001,C$39,FALSE),\"\")","v":""},{"$f":"IFERROR(VLOOKUP(SMALL('C-E'!$A$13:$A$1001,RC_EXAM!$A487),'C-E'!$A$13:$J$1001,D$39,FALSE),\"\")","v":""},{"$f":"IFERROR(VLOOKUP(SMALL('C-E'!$A$13:$A$1001,RC_EXAM!$A487),'C-E'!$A$13:$J$1001,E$39,FALSE),\"\")","v":""},null,{"$f":"IFERROR(VLOOKUP(SMALL('C-E'!$A$13:$A$1001,RC_EXAM!$A487),'C-E'!$A$13:$J$1001,G$39,FALSE),\"\")","v":""}]
[447,{"$f":"IFERROR(VLOOKUP(SMALL('C-E'!$A$13:$A$1001,RC_EXAM!$A488),'C-E'!$A$13:$J$1001,B$39,FALSE),\"\")","v":""},{"$f":"IFERROR(VLOOKUP(SMALL('C-E'!$A$13:$A$1001,RC_EXAM!$A488),'C-E'!$A$13:$J$1001,C$39,FALSE),\"\")","v":""},{"$f":"IFERROR(VLOOKUP(SMALL('C-E'!$A$13:$A$1001,RC_EXAM!$A488),'C-E'!$A$13:$J$1001,D$39,FALSE),\"\")","v":""},{"$f":"IFERROR(VLOOKUP(SMALL('C-E'!$A$13:$A$1001,RC_EXAM!$A488),'C-E'!$A$13:$J$1001,E$39,FALSE),\"\")","v":""},null,{"$f":"IFERROR(VLOOKUP(SMALL('C-E'!$A$13:$A$1001,RC_EXAM!$A488),'C-E'!$A$13:$J$1001,G$39,FALSE),\"\")","v":""}]
[448,{"$f":"IFERROR(VLOOKUP(SMALL('C-E'!$A$13:$A$1001,RC_EXAM!$A489),'C-E'!$A$13:$J$1001,B$39,FALSE),\"\")","v":""},{"$f":"IFERROR(VLOOKUP(SMALL('C-E'!$A$13:$A$1001,RC_EXAM!$A489),'C-E'!$A$13:$J$1001,C$39,FALSE),\"\")","v":""},{"$f":"IFERROR(VLOOKUP(SMALL('C-E'!$A$13:$A$1001,RC_EXAM!$A489),'C-E'!$A$13:$J$1001,D$39,FALSE),\"\")","v":""},{"$f":"IFERROR(VLOOKUP(SMALL('C-E'!$A$13:$A$1001,RC_EXAM!$A489),'C-E'!$A$13:$J$1001,E$39,FALSE),\"\")","v":""},null,{"$f":"IFERROR(VLOOKUP(SMALL('C-E'!$A$13:$A$1001,RC_EXAM!$A489),'C-E'!$A$13:$J$1001,G$39,FALSE),\"\")","v":""}]
[449,{"$f":"IFERROR(VLOOKUP(SMALL('C-E'!$A$13:$A$1001,RC_EXAM!$A490),'C-E'!$A$13:$J$1001,B$39,FALSE),\"\")","v":""},{"$f":"IFERROR(VLOOKUP(SMALL('C-E'!$A$13:$A$1001,RC_EXAM!$A490),'C-E'!$A$13:$J$1001,C$39,FALSE),\"\")","v":""},{"$f":"IFERROR(VLOOKUP(SMALL('C-E'!$A$13:$A$1001,RC_EXAM!$A490),'C-E'!$A$13:$J$1001,D$39,FALSE),\"\")","v":""},{"$f":"IFERROR(VLOOKUP(SMALL('C-E'!$A$13:$A$1001,RC_EXAM!$A490),'C-E'!$A$13:$J$1001,E$39,FALSE),\"\")","v":""},null,{"$f":"IFERROR(VLOOKUP(SMALL('C-E'!$A$13:$A$1001,RC_EXAM!$A490),'C-E'!$A$13:$J$1001,G$39,FALSE),\"\")","v":""}]
[450,{"$f":"IFERROR(VLOOKUP(SMALL('C-E'!$A$13:$A$1001,RC_EXAM!$A491),'C-E'!$A$13:$J$1001,B$39,FALSE),\"\")","v":""},{"$f":"IFERROR(VLOOKUP(SMALL('C-E'!$A$13:$A$1001,RC_EXAM!$A491),'C-E'!$A$13:$J$1001,C$39,FALSE),\"\")","v":""},{"$f":"IFERROR(VLOOKUP(SMALL('C-E'!$A$13:$A$1001,RC_EXAM!$A491),'C-E'!$A$13:$J$1001,D$39,FALSE),\"\")","v":""},{"$f":"IFERROR(VLOOKUP(SMALL('C-E'!$A$13:$A$1001,RC_EXAM!$A491),'C-E'!$A$13:$J$1001,E$39,FALSE),\"\")","v":""},null,{"$f":"IFERROR(VLOOKUP(SMALL('C-E'!$A$13:$A$1001,RC_EXAM!$A491),'C-E'!$A$13:$J$1001,G$39,FALSE),\"\")","v":""}]
[451,{"$f":"IFERROR(VLOOKUP(SMALL('C-E'!$A$13:$A$1001,RC_EXAM!$A492),'C-E'!$A$13:$J$1001,B$39,FALSE),\"\")","v":""},{"$f":"IFERROR(VLOOKUP(SMALL('C-E'!$A$13:$A$1001,RC_EXAM!$A492),'C-E'!$A$13:$J$1001,C$39,FALSE),\"\")","v":""},{"$f":"IFERROR(VLOOKUP(SMALL('C-E'!$A$13:$A$1001,RC_EXAM!$A492),'C-E'!$A$13:$J$1001,D$39,FALSE),\"\")","v":""},{"$f":"IFERROR(VLOOKUP(SMALL('C-E'!$A$13:$A$1001,RC_EXAM!$A492),'C-E'!$A$13:$J$1001,E$39,FALSE),\"\")","v":""},null,{"$f":"IFERROR(VLOOKUP(SMALL('C-E'!$A$13:$A$1001,RC_EXAM!$A492),'C-E'!$A$13:$J$1001,G$39,FALSE),\"\")","v":""}]
[452,{"$f":"IFERROR(VLOOKUP(SMALL('C-E'!$A$13:$A$1001,RC_EXAM!$A493),'C-E'!$A$13:$J$1001,B$39,FALSE),\"\")","v":""},{"$f":"IFERROR(VLOOKUP(SMALL('C-E'!$A$13:$A$1001,RC_EXAM!$A493),'C-E'!$A$13:$J$1001,C$39,FALSE),\"\")","v":""},{"$f":"IFERROR(VLOOKUP(SMALL('C-E'!$A$13:$A$1001,RC_EXAM!$A493),'C-E'!$A$13:$J$1001,D$39,FALSE),\"\")","v":""},{"$f":"IFERROR(VLOOKUP(SMALL('C-E'!$A$13:$A$1001,RC_EXAM!$A493),'C-E'!$A$13:$J$1001,E$39,FALSE),\"\")","v":""},null,{"$f":"IFERROR(VLOOKUP(SMALL('C-E'!$A$13:$A$1001,RC_EXAM!$A493),'C-E'!$A$13:$J$1001,G$39,FALSE),\"\")","v":""}]
[453,{"$f":"IFERROR(VLOOKUP(SMALL('C-E'!$A$13:$A$1001,RC_EXAM!$A494),'C-E'!$A$13:$J$1001,B$39,FALSE),\"\")","v":""},{"$f":"IFERROR(VLOOKUP(SMALL('C-E'!$A$13:$A$1001,RC_EXAM!$A494),'C-E'!$A$13:$J$1001,C$39,FALSE),\"\")","v":""},{"$f":"IFERROR(VLOOKUP(SMALL('C-E'!$A$13:$A$1001,RC_EXAM!$A494),'C-E'!$A$13:$J$1001,D$39,FALSE),\"\")","v":""},{"$f":"IFERROR(VLOOKUP(SMALL('C-E'!$A$13:$A$1001,RC_EXAM!$A494),'C-E'!$A$13:$J$1001,E$39,FALSE),\"\")","v":""},null,{"$f":"IFERROR(VLOOKUP(SMALL('C-E'!$A$13:$A$1001,RC_EXAM!$A494),'C-E'!$A$13:$J$1001,G$39,FALSE),\"\")","v":""}]
[454,{"$f":"IFERROR(VLOOKUP(SMALL('C-E'!$A$13:$A$1001,RC_EXAM!$A495),'C-E'!$A$13:$J$1001,B$39,FALSE),\"\")","v":""},{"$f":"IFERROR(VLOOKUP(SMALL('C-E'!$A$13:$A$1001,RC_EXAM!$A495),'C-E'!$A$13:$J$1001,C$39,FALSE),\"\")","v":""},{"$f":"IFERROR(VLOOKUP(SMALL('C-E'!$A$13:$A$1001,RC_EXAM!$A495),'C-E'!$A$13:$J$1001,D$39,FALSE),\"\")","v":""},{"$f":"IFERROR(VLOOKUP(SMALL('C-E'!$A$13:$A$1001,RC_EXAM!$A495),'C-E'!$A$13:$J$1001,E$39,FALSE),\"\")","v":""},null,{"$f":"IFERROR(VLOOKUP(SMALL('C-E'!$A$13:$A$1001,RC_EXAM!$A495),'C-E'!$A$13:$J$1001,G$39,FALSE),\"\")","v":""}]
[455,{"$f":"IFERROR(VLOOKUP(SMALL('C-E'!$A$13:$A$1001,RC_EXAM!$A496),'C-E'!$A$13:$J$1001,B$39,FALSE),\"\")","v":""},{"$f":"IFERROR(VLOOKUP(SMALL('C-E'!$A$13:$A$1001,RC_EXAM!$A496),'C-E'!$A$13:$J$1001,C$39,FALSE),\"\")","v":""},{"$f":"IFERROR(VLOOKUP(SMALL('C-E'!$A$13:$A$1001,RC_EXAM!$A496),'C-E'!$A$13:$J$1001,D$39,FALSE),\"\")","v":""},{"$f":"IFERROR(VLOOKUP(SMALL('C-E'!$A$13:$A$1001,RC_EXAM!$A496),'C-E'!$A$13:$J$1001,E$39,FALSE),\"\")","v":""},null,{"$f":"IFERROR(VLOOKUP(SMALL('C-E'!$A$13:$A$1001,RC_EXAM!$A496),'C-E'!$A$13:$J$1001,G$39,FALSE),\"\")","v":""}]
[456,{"$f":"IFERROR(VLOOKUP(SMALL('C-E'!$A$13:$A$1001,RC_EXAM!$A497),'C-E'!$A$13:$J$1001,B$39,FALSE),\"\")","v":""},{"$f":"IFERROR(VLOOKUP(SMALL('C-E'!$A$13:$A$1001,RC_EXAM!$A497),'C-E'!$A$13:$J$1001,C$39,FALSE),\"\")","v":""},{"$f":"IFERROR(VLOOKUP(SMALL('C-E'!$A$13:$A$1001,RC_EXAM!$A497),'C-E'!$A$13:$J$1001,D$39,FALSE),\"\")","v":""},{"$f":"IFERROR(VLOOKUP(SMALL('C-E'!$A$13:$A$1001,RC_EXAM!$A497),'C-E'!$A$13:$J$1001,E$39,FALSE),\"\")","v":""},null,{"$f":"IFERROR(VLOOKUP(SMALL('C-E'!$A$13:$A$1001,RC_EXAM!$A497),'C-E'!$A$13:$J$1001,G$39,FALSE),\"\")","v":""}]
[457,{"$f":"IFERROR(VLOOKUP(SMALL('C-E'!$A$13:$A$1001,RC_EXAM!$A498),'C-E'!$A$13:$J$1001,B$39,FALSE),\"\")","v":""},{"$f":"IFERROR(VLOOKUP(SMALL('C-E'!$A$13:$A$1001,RC_EXAM!$A498),'C-E'!$A$13:$J$1001,C$39,FALSE),\"\")","v":""},{"$f":"IFERROR(VLOOKUP(SMALL('C-E'!$A$13:$A$1001,RC_EXAM!$A498),'C-E'!$A$13:$J$1001,D$39,FALSE),\"\")","v":""},{"$f":"IFERROR(VLOOKUP(SMALL('C-E'!$A$13:$A$1001,RC_EXAM!$A498),'C-E'!$A$13:$J$1001,E$39,FALSE),\"\")","v":""},null,{"$f":"IFERROR(VLOOKUP(SMALL('C-E'!$A$13:$A$1001,RC_EXAM!$A498),'C-E'!$A$13:$J$1001,G$39,FALSE),\"\")","v":""}]
[458,{"$f":"IFERROR(VLOOKUP(SMALL('C-E'!$A$13:$A$1001,RC_EXAM!$A499),'C-E'!$A$13:$J$1001,B$39,FALSE),\"\")","v":""},{"$f":"IFERROR(VLOOKUP(SMALL('C-E'!$A$13:$A$1001,RC_EXAM!$A499),'C-E'!$A$13:$J$1001,C$39,FALSE),\"\")","v":""},{"$f":"IFERROR(VLOOKUP(SMALL('C-E'!$A$13:$A$1001,RC_EXAM!$A499),'C-E'!$A$13:$J$1001,D$39,FALSE),\"\")","v":""},{"$f":"IFERROR(VLOOKUP(SMALL('C-E'!$A$13:$A$1001,RC_EXAM!$A499),'C-E'!$A$13:$J$1001,E$39,FALSE),\"\")","v":""},null,{"$f":"IFERROR(VLOOKUP(SMALL('C-E'!$A$13:$A$1001,RC_EXAM!$A499),'C-E'!$A$13:$J$1001,G$39,FALSE),\"\")","v":""}]
[459,{"$f":"IFERROR(VLOOKUP(SMALL('C-E'!$A$13:$A$1001,RC_EXAM!$A500),'C-E'!$A$13:$J$1001,B$39,FALSE),\"\")","v":""},{"$f":"IFERROR(VLOOKUP(SMALL('C-E'!$A$13:$A$1001,RC_EXAM!$A500),'C-E'!$A$13:$J$1001,C$39,FALSE),\"\")","v":""},{"$f":"IFERROR(VLOOKUP(SMALL('C-E'!$A$13:$A$1001,RC_EXAM!$A500),'C-E'!$A$13:$J$1001,D$39,FALSE),\"\")","v":""},{"$f":"IFERROR(VLOOKUP(SMALL('C-E'!$A$13:$A$1001,RC_EXAM!$A500),'C-E'!$A$13:$J$1001,E$39,FALSE),\"\")","v":""},null,{"$f":"IFERROR(VLOOKUP(SMALL('C-E'!$A$13:$A$1001,RC_EXAM!$A500),'C-E'!$A$13:$J$1001,G$39,FALSE),\"\")","v":""}]
[460,{"$f":"IFERROR(VLOOKUP(SMALL('C-E'!$A$13:$A$1001,RC_EXAM!$A501),'C-E'!$A$13:$J$1001,B$39,FALSE),\"\")","v":""},{"$f":"IFERROR(VLOOKUP(SMALL('C-E'!$A$13:$A$1001,RC_EXAM!$A501),'C-E'!$A$13:$J$1001,C$39,FALSE),\"\")","v":""},{"$f":"IFERROR(VLOOKUP(SMALL('C-E'!$A$13:$A$1001,RC_EXAM!$A501),'C-E'!$A$13:$J$1001,D$39,FALSE),\"\")","v":""},{"$f":"IFERROR(VLOOKUP(SMALL('C-E'!$A$13:$A$1001,RC_EXAM!$A501),'C-E'!$A$13:$J$1001,E$39,FALSE),\"\")","v":""},null,{"$f":"IFERROR(VLOOKUP(SMALL('C-E'!$A$13:$A$1001,RC_EXAM!$A501),'C-E'!$A$13:$J$1001,G$39,FALSE),\"\")","v":""}]
[461,{"$f":"IFERROR(VLOOKUP(SMALL('C-E'!$A$13:$A$1001,RC_EXAM!$A502),'C-E'!$A$13:$J$1001,B$39,FALSE),\"\")","v":""},{"$f":"IFERROR(VLOOKUP(SMALL('C-E'!$A$13:$A$1001,RC_EXAM!$A502),'C-E'!$A$13:$J$1001,C$39,FALSE),\"\")","v":""},{"$f":"IFERROR(VLOOKUP(SMALL('C-E'!$A$13:$A$1001,RC_EXAM!$A502),'C-E'!$A$13:$J$1001,D$39,FALSE),\"\")","v":""},{"$f":"IFERROR(VLOOKUP(SMALL('C-E'!$A$13:$A$1001,RC_EXAM!$A502),'C-E'!$A$13:$J$1001,E$39,FALSE),\"\")","v":""},null,{"$f":"IFERROR(VLOOKUP(SMALL('C-E'!$A$13:$A$1001,RC_EXAM!$A502),'C-E'!$A$13:$J$1001,G$39,FALSE),\"\")","v":""}]
[462,{"$f":"IFERROR(VLOOKUP(SMALL('C-E'!$A$13:$A$1001,RC_EXAM!$A503),'C-E'!$A$13:$J$1001,B$39,FALSE),\"\")","v":""},{"$f":"IFERROR(VLOOKUP(SMALL('C-E'!$A$13:$A$1001,RC_EXAM!$A503),'C-E'!$A$13:$J$1001,C$39,FALSE),\"\")","v":""},{"$f":"IFERROR(VLOOKUP(SMALL('C-E'!$A$13:$A$1001,RC_EXAM!$A503),'C-E'!$A$13:$J$1001,D$39,FALSE),\"\")","v":""},{"$f":"IFERROR(VLOOKUP(SMALL('C-E'!$A$13:$A$1001,RC_EXAM!$A503),'C-E'!$A$13:$J$1001,E$39,FALSE),\"\")","v":""},null,{"$f":"IFERROR(VLOOKUP(SMALL('C-E'!$A$13:$A$1001,RC_EXAM!$A503),'C-E'!$A$13:$J$1001,G$39,FALSE),\"\")","v":""}]
[463,{"$f":"IFERROR(VLOOKUP(SMALL('C-E'!$A$13:$A$1001,RC_EXAM!$A504),'C-E'!$A$13:$J$1001,B$39,FALSE),\"\")","v":""},{"$f":"IFERROR(VLOOKUP(SMALL('C-E'!$A$13:$A$1001,RC_EXAM!$A504),'C-E'!$A$13:$J$1001,C$39,FALSE),\"\")","v":""},{"$f":"IFERROR(VLOOKUP(SMALL('C-E'!$A$13:$A$1001,RC_EXAM!$A504),'C-E'!$A$13:$J$1001,D$39,FALSE),\"\")","v":""},{"$f":"IFERROR(VLOOKUP(SMALL('C-E'!$A$13:$A$1001,RC_EXAM!$A504),'C-E'!$A$13:$J$1001,E$39,FALSE),\"\")","v":""},null,{"$f":"IFERROR(VLOOKUP(SMALL('C-E'!$A$13:$A$1001,RC_EXAM!$A504),'C-E'!$A$13:$J$1001,G$39,FALSE),\"\")","v":""}]
[464,{"$f":"IFERROR(VLOOKUP(SMALL('C-E'!$A$13:$A$1001,RC_EXAM!$A505),'C-E'!$A$13:$J$1001,B$39,FALSE),\"\")","v":""},{"$f":"IFERROR(VLOOKUP(SMALL('C-E'!$A$13:$A$1001,RC_EXAM!$A505),'C-E'!$A$13:$J$1001,C$39,FALSE),\"\")","v":""},{"$f":"IFERROR(VLOOKUP(SMALL('C-E'!$A$13:$A$1001,RC_EXAM!$A505),'C-E'!$A$13:$J$1001,D$39,FALSE),\"\")","v":""},{"$f":"IFERROR(VLOOKUP(SMALL('C-E'!$A$13:$A$1001,RC_EXAM!$A505),'C-E'!$A$13:$J$1001,E$39,FALSE),\"\")","v":""},null,{"$f":"IFERROR(VLOOKUP(SMALL('C-E'!$A$13:$A$1001,RC_EXAM!$A505),'C-E'!$A$13:$J$1001,G$39,FALSE),\"\")","v":""}]
[465,{"$f":"IFERROR(VLOOKUP(SMALL('C-E'!$A$13:$A$1001,RC_EXAM!$A506),'C-E'!$A$13:$J$1001,B$39,FALSE),\"\")","v":""},{"$f":"IFERROR(VLOOKUP(SMALL('C-E'!$A$13:$A$1001,RC_EXAM!$A506),'C-E'!$A$13:$J$1001,C$39,FALSE),\"\")","v":""},{"$f":"IFERROR(VLOOKUP(SMALL('C-E'!$A$13:$A$1001,RC_EXAM!$A506),'C-E'!$A$13:$J$1001,D$39,FALSE),\"\")","v":""},{"$f":"IFERROR(VLOOKUP(SMALL('C-E'!$A$13:$A$1001,RC_EXAM!$A506),'C-E'!$A$13:$J$1001,E$39,FALSE),\"\")","v":""},null,{"$f":"IFERROR(VLOOKUP(SMALL('C-E'!$A$13:$A$1001,RC_EXAM!$A506),'C-E'!$A$13:$J$1001,G$39,FALSE),\"\")","v":""}]
[466,{"$f":"IFERROR(VLOOKUP(SMALL('C-E'!$A$13:$A$1001,RC_EXAM!$A507),'C-E'!$A$13:$J$1001,B$39,FALSE),\"\")","v":""},{"$f":"IFERROR(VLOOKUP(SMALL('C-E'!$A$13:$A$1001,RC_EXAM!$A507),'C-E'!$A$13:$J$1001,C$39,FALSE),\"\")","v":""},{"$f":"IFERROR(VLOOKUP(SMALL('C-E'!$A$13:$A$1001,RC_EXAM!$A507),'C-E'!$A$13:$J$1001,D$39,FALSE),\"\")","v":""},{"$f":"IFERROR(VLOOKUP(SMALL('C-E'!$A$13:$A$1001,RC_EXAM!$A507),'C-E'!$A$13:$J$1001,E$39,FALSE),\"\")","v":""},null,{"$f":"IFERROR(VLOOKUP(SMALL('C-E'!$A$13:$A$1001,RC_EXAM!$A507),'C-E'!$A$13:$J$1001,G$39,FALSE),\"\")","v":""}]
[467,{"$f":"IFERROR(VLOOKUP(SMALL('C-E'!$A$13:$A$1001,RC_EXAM!$A508),'C-E'!$A$13:$J$1001,B$39,FALSE),\"\")","v":""},{"$f":"IFERROR(VLOOKUP(SMALL('C-E'!$A$13:$A$1001,RC_EXAM!$A508),'C-E'!$A$13:$J$1001,C$39,FALSE),\"\")","v":""},{"$f":"IFERROR(VLOOKUP(SMALL('C-E'!$A$13:$A$1001,RC_EXAM!$A508),'C-E'!$A$13:$J$1001,D$39,FALSE),\"\")","v":""},{"$f":"IFERROR(VLOOKUP(SMALL('C-E'!$A$13:$A$1001,RC_EXAM!$A508),'C-E'!$A$13:$J$1001,E$39,FALSE),\"\")","v":""},null,{"$f":"IFERROR(VLOOKUP(SMALL('C-E'!$A$13:$A$1001,RC_EXAM!$A508),'C-E'!$A$13:$J$1001,G$39,FALSE),\"\")","v":""}]
[468,{"$f":"IFERROR(VLOOKUP(SMALL('C-E'!$A$13:$A$1001,RC_EXAM!$A509),'C-E'!$A$13:$J$1001,B$39,FALSE),\"\")","v":""},{"$f":"IFERROR(VLOOKUP(SMALL('C-E'!$A$13:$A$1001,RC_EXAM!$A509),'C-E'!$A$13:$J$1001,C$39,FALSE),\"\")","v":""},{"$f":"IFERROR(VLOOKUP(SMALL('C-E'!$A$13:$A$1001,RC_EXAM!$A509),'C-E'!$A$13:$J$1001,D$39,FALSE),\"\")","v":""},{"$f":"IFERROR(VLOOKUP(SMALL('C-E'!$A$13:$A$1001,RC_EXAM!$A509),'C-E'!$A$13:$J$1001,E$39,FALSE),\"\")","v":""},null,{"$f":"IFERROR(VLOOKUP(SMALL('C-E'!$A$13:$A$1001,RC_EXAM!$A509),'C-E'!$A$13:$J$1001,G$39,FALSE),\"\")","v":""}]
[469,{"$f":"IFERROR(VLOOKUP(SMALL('C-E'!$A$13:$A$1001,RC_EXAM!$A510),'C-E'!$A$13:$J$1001,B$39,FALSE),\"\")","v":""},{"$f":"IFERROR(VLOOKUP(SMALL('C-E'!$A$13:$A$1001,RC_EXAM!$A510),'C-E'!$A$13:$J$1001,C$39,FALSE),\"\")","v":""},{"$f":"IFERROR(VLOOKUP(SMALL('C-E'!$A$13:$A$1001,RC_EXAM!$A510),'C-E'!$A$13:$J$1001,D$39,FALSE),\"\")","v":""},{"$f":"IFERROR(VLOOKUP(SMALL('C-E'!$A$13:$A$1001,RC_EXAM!$A510),'C-E'!$A$13:$J$1001,E$39,FALSE),\"\")","v":""},null,{"$f":"IFERROR(VLOOKUP(SMALL('C-E'!$A$13:$A$1001,RC_EXAM!$A510),'C-E'!$A$13:$J$1001,G$39,FALSE),\"\")","v":""}]
[470,{"$f":"IFERROR(VLOOKUP(SMALL('C-E'!$A$13:$A$1001,RC_EXAM!$A511),'C-E'!$A$13:$J$1001,B$39,FALSE),\"\")","v":""},{"$f":"IFERROR(VLOOKUP(SMALL('C-E'!$A$13:$A$1001,RC_EXAM!$A511),'C-E'!$A$13:$J$1001,C$39,FALSE),\"\")","v":""},{"$f":"IFERROR(VLOOKUP(SMALL('C-E'!$A$13:$A$1001,RC_EXAM!$A511),'C-E'!$A$13:$J$1001,D$39,FALSE),\"\")","v":""},{"$f":"IFERROR(VLOOKUP(SMALL('C-E'!$A$13:$A$1001,RC_EXAM!$A511),'C-E'!$A$13:$J$1001,E$39,FALSE),\"\")","v":""},null,{"$f":"IFERROR(VLOOKUP(SMALL('C-E'!$A$13:$A$1001,RC_EXAM!$A511),'C-E'!$A$13:$J$1001,G$39,FALSE),\"\")","v":""}]
[471,{"$f":"IFERROR(VLOOKUP(SMALL('C-E'!$A$13:$A$1001,RC_EXAM!$A512),'C-E'!$A$13:$J$1001,B$39,FALSE),\"\")","v":""},{"$f":"IFERROR(VLOOKUP(SMALL('C-E'!$A$13:$A$1001,RC_EXAM!$A512),'C-E'!$A$13:$J$1001,C$39,FALSE),\"\")","v":""},{"$f":"IFERROR(VLOOKUP(SMALL('C-E'!$A$13:$A$1001,RC_EXAM!$A512),'C-E'!$A$13:$J$1001,D$39,FALSE),\"\")","v":""},{"$f":"IFERROR(VLOOKUP(SMALL('C-E'!$A$13:$A$1001,RC_EXAM!$A512),'C-E'!$A$13:$J$1001,E$39,FALSE),\"\")","v":""},null,{"$f":"IFERROR(VLOOKUP(SMALL('C-E'!$A$13:$A$1001,RC_EXAM!$A512),'C-E'!$A$13:$J$1001,G$39,FALSE),\"\")","v":""}]
[472,{"$f":"IFERROR(VLOOKUP(SMALL('C-E'!$A$13:$A$1001,RC_EXAM!$A513),'C-E'!$A$13:$J$1001,B$39,FALSE),\"\")","v":""},{"$f":"IFERROR(VLOOKUP(SMALL('C-E'!$A$13:$A$1001,RC_EXAM!$A513),'C-E'!$A$13:$J$1001,C$39,FALSE),\"\")","v":""},{"$f":"IFERROR(VLOOKUP(SMALL('C-E'!$A$13:$A$1001,RC_EXAM!$A513),'C-E'!$A$13:$J$1001,D$39,FALSE),\"\")","v":""},{"$f":"IFERROR(VLOOKUP(SMALL('C-E'!$A$13:$A$1001,RC_EXAM!$A513),'C-E'!$A$13:$J$1001,E$39,FALSE),\"\")","v":""},null,{"$f":"IFERROR(VLOOKUP(SMALL('C-E'!$A$13:$A$1001,RC_EXAM!$A513),'C-E'!$A$13:$J$1001,G$39,FALSE),\"\")","v":""}]
[473,{"$f":"IFERROR(VLOOKUP(SMALL('C-E'!$A$13:$A$1001,RC_EXAM!$A514),'C-E'!$A$13:$J$1001,B$39,FALSE),\"\")","v":""},{"$f":"IFERROR(VLOOKUP(SMALL('C-E'!$A$13:$A$1001,RC_EXAM!$A514),'C-E'!$A$13:$J$1001,C$39,FALSE),\"\")","v":""},{"$f":"IFERROR(VLOOKUP(SMALL('C-E'!$A$13:$A$1001,RC_EXAM!$A514),'C-E'!$A$13:$J$1001,D$39,FALSE),\"\")","v":""},{"$f":"IFERROR(VLOOKUP(SMALL('C-E'!$A$13:$A$1001,RC_EXAM!$A514),'C-E'!$A$13:$J$1001,E$39,FALSE),\"\")","v":""},null,{"$f":"IFERROR(VLOOKUP(SMALL('C-E'!$A$13:$A$1001,RC_EXAM!$A514),'C-E'!$A$13:$J$1001,G$39,FALSE),\"\")","v":""}]
[474,{"$f":"IFERROR(VLOOKUP(SMALL('C-E'!$A$13:$A$1001,RC_EXAM!$A515),'C-E'!$A$13:$J$1001,B$39,FALSE),\"\")","v":""},{"$f":"IFERROR(VLOOKUP(SMALL('C-E'!$A$13:$A$1001,RC_EXAM!$A515),'C-E'!$A$13:$J$1001,C$39,FALSE),\"\")","v":""},{"$f":"IFERROR(VLOOKUP(SMALL('C-E'!$A$13:$A$1001,RC_EXAM!$A515),'C-E'!$A$13:$J$1001,D$39,FALSE),\"\")","v":""},{"$f":"IFERROR(VLOOKUP(SMALL('C-E'!$A$13:$A$1001,RC_EXAM!$A515),'C-E'!$A$13:$J$1001,E$39,FALSE),\"\")","v":""},null,{"$f":"IFERROR(VLOOKUP(SMALL('C-E'!$A$13:$A$1001,RC_EXAM!$A515),'C-E'!$A$13:$J$1001,G$39,FALSE),\"\")","v":""}]
[475,{"$f":"IFERROR(VLOOKUP(SMALL('C-E'!$A$13:$A$1001,RC_EXAM!$A516),'C-E'!$A$13:$J$1001,B$39,FALSE),\"\")","v":""},{"$f":"IFERROR(VLOOKUP(SMALL('C-E'!$A$13:$A$1001,RC_EXAM!$A516),'C-E'!$A$13:$J$1001,C$39,FALSE),\"\")","v":""},{"$f":"IFERROR(VLOOKUP(SMALL('C-E'!$A$13:$A$1001,RC_EXAM!$A516),'C-E'!$A$13:$J$1001,D$39,FALSE),\"\")","v":""},{"$f":"IFERROR(VLOOKUP(SMALL('C-E'!$A$13:$A$1001,RC_EXAM!$A516),'C-E'!$A$13:$J$1001,E$39,FALSE),\"\")","v":""},null,{"$f":"IFERROR(VLOOKUP(SMALL('C-E'!$A$13:$A$1001,RC_EXAM!$A516),'C-E'!$A$13:$J$1001,G$39,FALSE),\"\")","v":""}]
[476,{"$f":"IFERROR(VLOOKUP(SMALL('C-E'!$A$13:$A$1001,RC_EXAM!$A517),'C-E'!$A$13:$J$1001,B$39,FALSE),\"\")","v":""},{"$f":"IFERROR(VLOOKUP(SMALL('C-E'!$A$13:$A$1001,RC_EXAM!$A517),'C-E'!$A$13:$J$1001,C$39,FALSE),\"\")","v":""},{"$f":"IFERROR(VLOOKUP(SMALL('C-E'!$A$13:$A$1001,RC_EXAM!$A517),'C-E'!$A$13:$J$1001,D$39,FALSE),\"\")","v":""},{"$f":"IFERROR(VLOOKUP(SMALL('C-E'!$A$13:$A$1001,RC_EXAM!$A517),'C-E'!$A$13:$J$1001,E$39,FALSE),\"\")","v":""},null,{"$f":"IFERROR(VLOOKUP(SMALL('C-E'!$A$13:$A$1001,RC_EXAM!$A517),'C-E'!$A$13:$J$1001,G$39,FALSE),\"\")","v":""}]
[477,{"$f":"IFERROR(VLOOKUP(SMALL('C-E'!$A$13:$A$1001,RC_EXAM!$A518),'C-E'!$A$13:$J$1001,B$39,FALSE),\"\")","v":""},{"$f":"IFERROR(VLOOKUP(SMALL('C-E'!$A$13:$A$1001,RC_EXAM!$A518),'C-E'!$A$13:$J$1001,C$39,FALSE),\"\")","v":""},{"$f":"IFERROR(VLOOKUP(SMALL('C-E'!$A$13:$A$1001,RC_EXAM!$A518),'C-E'!$A$13:$J$1001,D$39,FALSE),\"\")","v":""},{"$f":"IFERROR(VLOOKUP(SMALL('C-E'!$A$13:$A$1001,RC_EXAM!$A518),'C-E'!$A$13:$J$1001,E$39,FALSE),\"\")","v":""},null,{"$f":"IFERROR(VLOOKUP(SMALL('C-E'!$A$13:$A$1001,RC_EXAM!$A518),'C-E'!$A$13:$J$1001,G$39,FALSE),\"\")","v":""}]
[478,{"$f":"IFERROR(VLOOKUP(SMALL('C-E'!$A$13:$A$1001,RC_EXAM!$A519),'C-E'!$A$13:$J$1001,B$39,FALSE),\"\")","v":""},{"$f":"IFERROR(VLOOKUP(SMALL('C-E'!$A$13:$A$1001,RC_EXAM!$A519),'C-E'!$A$13:$J$1001,C$39,FALSE),\"\")","v":""},{"$f":"IFERROR(VLOOKUP(SMALL('C-E'!$A$13:$A$1001,RC_EXAM!$A519),'C-E'!$A$13:$J$1001,D$39,FALSE),\"\")","v":""},{"$f":"IFERROR(VLOOKUP(SMALL('C-E'!$A$13:$A$1001,RC_EXAM!$A519),'C-E'!$A$13:$J$1001,E$39,FALSE),\"\")","v":""},null,{"$f":"IFERROR(VLOOKUP(SMALL('C-E'!$A$13:$A$1001,RC_EXAM!$A519),'C-E'!$A$13:$J$1001,G$39,FALSE),\"\")","v":""}]
[479,{"$f":"IFERROR(VLOOKUP(SMALL('C-E'!$A$13:$A$1001,RC_EXAM!$A520),'C-E'!$A$13:$J$1001,B$39,FALSE),\"\")","v":""},{"$f":"IFERROR(VLOOKUP(SMALL('C-E'!$A$13:$A$1001,RC_EXAM!$A520),'C-E'!$A$13:$J$1001,C$39,FALSE),\"\")","v":""},{"$f":"IFERROR(VLOOKUP(SMALL('C-E'!$A$13:$A$1001,RC_EXAM!$A520),'C-E'!$A$13:$J$1001,D$39,FALSE),\"\")","v":""},{"$f":"IFERROR(VLOOKUP(SMALL('C-E'!$A$13:$A$1001,RC_EXAM!$A520),'C-E'!$A$13:$J$1001,E$39,FALSE),\"\")","v":""},null,{"$f":"IFERROR(VLOOKUP(SMALL('C-E'!$A$13:$A$1001,RC_EXAM!$A520),'C-E'!$A$13:$J$1001,G$39,FALSE),\"\")","v":""}]
[480,{"$f":"IFERROR(VLOOKUP(SMALL('C-E'!$A$13:$A$1001,RC_EXAM!$A521),'C-E'!$A$13:$J$1001,B$39,FALSE),\"\")","v":""},{"$f":"IFERROR(VLOOKUP(SMALL('C-E'!$A$13:$A$1001,RC_EXAM!$A521),'C-E'!$A$13:$J$1001,C$39,FALSE),\"\")","v":""},{"$f":"IFERROR(VLOOKUP(SMALL('C-E'!$A$13:$A$1001,RC_EXAM!$A521),'C-E'!$A$13:$J$1001,D$39,FALSE),\"\")","v":""},{"$f":"IFERROR(VLOOKUP(SMALL('C-E'!$A$13:$A$1001,RC_EXAM!$A521),'C-E'!$A$13:$J$1001,E$39,FALSE),\"\")","v":""},null,{"$f":"IFERROR(VLOOKUP(SMALL('C-E'!$A$13:$A$1001,RC_EXAM!$A521),'C-E'!$A$13:$J$1001,G$39,FALSE),\"\")","v":""}]
[481,{"$f":"IFERROR(VLOOKUP(SMALL('C-E'!$A$13:$A$1001,RC_EXAM!$A522),'C-E'!$A$13:$J$1001,B$39,FALSE),\"\")","v":""},{"$f":"IFERROR(VLOOKUP(SMALL('C-E'!$A$13:$A$1001,RC_EXAM!$A522),'C-E'!$A$13:$J$1001,C$39,FALSE),\"\")","v":""},{"$f":"IFERROR(VLOOKUP(SMALL('C-E'!$A$13:$A$1001,RC_EXAM!$A522),'C-E'!$A$13:$J$1001,D$39,FALSE),\"\")","v":""},{"$f":"IFERROR(VLOOKUP(SMALL('C-E'!$A$13:$A$1001,RC_EXAM!$A522),'C-E'!$A$13:$J$1001,E$39,FALSE),\"\")","v":""},null,{"$f":"IFERROR(VLOOKUP(SMALL('C-E'!$A$13:$A$1001,RC_EXAM!$A522),'C-E'!$A$13:$J$1001,G$39,FALSE),\"\")","v":""}]
[482,{"$f":"IFERROR(VLOOKUP(SMALL('C-E'!$A$13:$A$1001,RC_EXAM!$A523),'C-E'!$A$13:$J$1001,B$39,FALSE),\"\")","v":""},{"$f":"IFERROR(VLOOKUP(SMALL('C-E'!$A$13:$A$1001,RC_EXAM!$A523),'C-E'!$A$13:$J$1001,C$39,FALSE),\"\")","v":""},{"$f":"IFERROR(VLOOKUP(SMALL('C-E'!$A$13:$A$1001,RC_EXAM!$A523),'C-E'!$A$13:$J$1001,D$39,FALSE),\"\")","v":""},{"$f":"IFERROR(VLOOKUP(SMALL('C-E'!$A$13:$A$1001,RC_EXAM!$A523),'C-E'!$A$13:$J$1001,E$39,FALSE),\"\")","v":""},null,{"$f":"IFERROR(VLOOKUP(SMALL('C-E'!$A$13:$A$1001,RC_EXAM!$A523),'C-E'!$A$13:$J$1001,G$39,FALSE),\"\")","v":""}]
[483,{"$f":"IFERROR(VLOOKUP(SMALL('C-E'!$A$13:$A$1001,RC_EXAM!$A524),'C-E'!$A$13:$J$1001,B$39,FALSE),\"\")","v":""},{"$f":"IFERROR(VLOOKUP(SMALL('C-E'!$A$13:$A$1001,RC_EXAM!$A524),'C-E'!$A$13:$J$1001,C$39,FALSE),\"\")","v":""},{"$f":"IFERROR(VLOOKUP(SMALL('C-E'!$A$13:$A$1001,RC_EXAM!$A524),'C-E'!$A$13:$J$1001,D$39,FALSE),\"\")","v":""},{"$f":"IFERROR(VLOOKUP(SMALL('C-E'!$A$13:$A$1001,RC_EXAM!$A524),'C-E'!$A$13:$J$1001,E$39,FALSE),\"\")","v":""},null,{"$f":"IFERROR(VLOOKUP(SMALL('C-E'!$A$13:$A$1001,RC_EXAM!$A524),'C-E'!$A$13:$J$1001,G$39,FALSE),\"\")","v":""}]
[484,{"$f":"IFERROR(VLOOKUP(SMALL('C-E'!$A$13:$A$1001,RC_EXAM!$A525),'C-E'!$A$13:$J$1001,B$39,FALSE),\"\")","v":""},{"$f":"IFERROR(VLOOKUP(SMALL('C-E'!$A$13:$A$1001,RC_EXAM!$A525),'C-E'!$A$13:$J$1001,C$39,FALSE),\"\")","v":""},{"$f":"IFERROR(VLOOKUP(SMALL('C-E'!$A$13:$A$1001,RC_EXAM!$A525),'C-E'!$A$13:$J$1001,D$39,FALSE),\"\")","v":""},{"$f":"IFERROR(VLOOKUP(SMALL('C-E'!$A$13:$A$1001,RC_EXAM!$A525),'C-E'!$A$13:$J$1001,E$39,FALSE),\"\")","v":""},null,{"$f":"IFERROR(VLOOKUP(SMALL('C-E'!$A$13:$A$1001,RC_EXAM!$A525),'C-E'!$A$13:$J$1001,G$39,FALSE),\"\")","v":""}]
[485,{"$f":"IFERROR(VLOOKUP(SMALL('C-E'!$A$13:$A$1001,RC_EXAM!$A526),'C-E'!$A$13:$J$1001,B$39,FALSE),\"\")","v":""},{"$f":"IFERROR(VLOOKUP(SMALL('C-E'!$A$13:$A$1001,RC_EXAM!$A526),'C-E'!$A$13:$J$1001,C$39,FALSE),\"\")","v":""},{"$f":"IFERROR(VLOOKUP(SMALL('C-E'!$A$13:$A$1001,RC_EXAM!$A526),'C-E'!$A$13:$J$1001,D$39,FALSE),\"\")","v":""},{"$f":"IFERROR(VLOOKUP(SMALL('C-E'!$A$13:$A$1001,RC_EXAM!$A526),'C-E'!$A$13:$J$1001,E$39,FALSE),\"\")","v":""},null,{"$f":"IFERROR(VLOOKUP(SMALL('C-E'!$A$13:$A$1001,RC_EXAM!$A526),'C-E'!$A$13:$J$1001,G$39,FALSE),\"\")","v":""}]
[486,{"$f":"IFERROR(VLOOKUP(SMALL('C-E'!$A$13:$A$1001,RC_EXAM!$A527),'C-E'!$A$13:$J$1001,B$39,FALSE),\"\")","v":""},{"$f":"IFERROR(VLOOKUP(SMALL('C-E'!$A$13:$A$1001,RC_EXAM!$A527),'C-E'!$A$13:$J$1001,C$39,FALSE),\"\")","v":""},{"$f":"IFERROR(VLOOKUP(SMALL('C-E'!$A$13:$A$1001,RC_EXAM!$A527),'C-E'!$A$13:$J$1001,D$39,FALSE),\"\")","v":""},{"$f":"IFERROR(VLOOKUP(SMALL('C-E'!$A$13:$A$1001,RC_EXAM!$A527),'C-E'!$A$13:$J$1001,E$39,FALSE),\"\")","v":""},null,{"$f":"IFERROR(VLOOKUP(SMALL('C-E'!$A$13:$A$1001,RC_EXAM!$A527),'C-E'!$A$13:$J$1001,G$39,FALSE),\"\")","v":""}]
[487,{"$f":"IFERROR(VLOOKUP(SMALL('C-E'!$A$13:$A$1001,RC_EXAM!$A528),'C-E'!$A$13:$J$1001,B$39,FALSE),\"\")","v":""},{"$f":"IFERROR(VLOOKUP(SMALL('C-E'!$A$13:$A$1001,RC_EXAM!$A528),'C-E'!$A$13:$J$1001,C$39,FALSE),\"\")","v":""},{"$f":"IFERROR(VLOOKUP(SMALL('C-E'!$A$13:$A$1001,RC_EXAM!$A528),'C-E'!$A$13:$J$1001,D$39,FALSE),\"\")","v":""},{"$f":"IFERROR(VLOOKUP(SMALL('C-E'!$A$13:$A$1001,RC_EXAM!$A528),'C-E'!$A$13:$J$1001,E$39,FALSE),\"\")","v":""},null,{"$f":"IFERROR(VLOOKUP(SMALL('C-E'!$A$13:$A$1001,RC_EXAM!$A528),'C-E'!$A$13:$J$1001,G$39,FALSE),\"\")","v":""}]
[488,{"$f":"IFERROR(VLOOKUP(SMALL('C-E'!$A$13:$A$1001,RC_EXAM!$A529),'C-E'!$A$13:$J$1001,B$39,FALSE),\"\")","v":""},{"$f":"IFERROR(VLOOKUP(SMALL('C-E'!$A$13:$A$1001,RC_EXAM!$A529),'C-E'!$A$13:$J$1001,C$39,FALSE),\"\")","v":""},{"$f":"IFERROR(VLOOKUP(SMALL('C-E'!$A$13:$A$1001,RC_EXAM!$A529),'C-E'!$A$13:$J$1001,D$39,FALSE),\"\")","v":""},{"$f":"IFERROR(VLOOKUP(SMALL('C-E'!$A$13:$A$1001,RC_EXAM!$A529),'C-E'!$A$13:$J$1001,E$39,FALSE),\"\")","v":""},null,{"$f":"IFERROR(VLOOKUP(SMALL('C-E'!$A$13:$A$1001,RC_EXAM!$A529),'C-E'!$A$13:$J$1001,G$39,FALSE),\"\")","v":""}]
[489,{"$f":"IFERROR(VLOOKUP(SMALL('C-E'!$A$13:$A$1001,RC_EXAM!$A530),'C-E'!$A$13:$J$1001,B$39,FALSE),\"\")","v":""},{"$f":"IFERROR(VLOOKUP(SMALL('C-E'!$A$13:$A$1001,RC_EXAM!$A530),'C-E'!$A$13:$J$1001,C$39,FALSE),\"\")","v":""},{"$f":"IFERROR(VLOOKUP(SMALL('C-E'!$A$13:$A$1001,RC_EXAM!$A530),'C-E'!$A$13:$J$1001,D$39,FALSE),\"\")","v":""},{"$f":"IFERROR(VLOOKUP(SMALL('C-E'!$A$13:$A$1001,RC_EXAM!$A530),'C-E'!$A$13:$J$1001,E$39,FALSE),\"\")","v":""},null,{"$f":"IFERROR(VLOOKUP(SMALL('C-E'!$A$13:$A$1001,RC_EXAM!$A530),'C-E'!$A$13:$J$1001,G$39,FALSE),\"\")","v":""}]
[490,{"$f":"IFERROR(VLOOKUP(SMALL('C-E'!$A$13:$A$1001,RC_EXAM!$A531),'C-E'!$A$13:$J$1001,B$39,FALSE),\"\")","v":""},{"$f":"IFERROR(VLOOKUP(SMALL('C-E'!$A$13:$A$1001,RC_EXAM!$A531),'C-E'!$A$13:$J$1001,C$39,FALSE),\"\")","v":""},{"$f":"IFERROR(VLOOKUP(SMALL('C-E'!$A$13:$A$1001,RC_EXAM!$A531),'C-E'!$A$13:$J$1001,D$39,FALSE),\"\")","v":""},{"$f":"IFERROR(VLOOKUP(SMALL('C-E'!$A$13:$A$1001,RC_EXAM!$A531),'C-E'!$A$13:$J$1001,E$39,FALSE),\"\")","v":""},null,{"$f":"IFERROR(VLOOKUP(SMALL('C-E'!$A$13:$A$1001,RC_EXAM!$A531),'C-E'!$A$13:$J$1001,G$39,FALSE),\"\")","v":""}]
[491,{"$f":"IFERROR(VLOOKUP(SMALL('C-E'!$A$13:$A$1001,RC_EXAM!$A532),'C-E'!$A$13:$J$1001,B$39,FALSE),\"\")","v":""},{"$f":"IFERROR(VLOOKUP(SMALL('C-E'!$A$13:$A$1001,RC_EXAM!$A532),'C-E'!$A$13:$J$1001,C$39,FALSE),\"\")","v":""},{"$f":"IFERROR(VLOOKUP(SMALL('C-E'!$A$13:$A$1001,RC_EXAM!$A532),'C-E'!$A$13:$J$1001,D$39,FALSE),\"\")","v":""},{"$f":"IFERROR(VLOOKUP(SMALL('C-E'!$A$13:$A$1001,RC_EXAM!$A532),'C-E'!$A$13:$J$1001,E$39,FALSE),\"\")","v":""},null,{"$f":"IFERROR(VLOOKUP(SMALL('C-E'!$A$13:$A$1001,RC_EXAM!$A532),'C-E'!$A$13:$J$1001,G$39,FALSE),\"\")","v":""}]
[492,{"$f":"IFERROR(VLOOKUP(SMALL('C-E'!$A$13:$A$1001,RC_EXAM!$A533),'C-E'!$A$13:$J$1001,B$39,FALSE),\"\")","v":""},{"$f":"IFERROR(VLOOKUP(SMALL('C-E'!$A$13:$A$1001,RC_EXAM!$A533),'C-E'!$A$13:$J$1001,C$39,FALSE),\"\")","v":""},{"$f":"IFERROR(VLOOKUP(SMALL('C-E'!$A$13:$A$1001,RC_EXAM!$A533),'C-E'!$A$13:$J$1001,D$39,FALSE),\"\")","v":""},{"$f":"IFERROR(VLOOKUP(SMALL('C-E'!$A$13:$A$1001,RC_EXAM!$A533),'C-E'!$A$13:$J$1001,E$39,FALSE),\"\")","v":""},null,{"$f":"IFERROR(VLOOKUP(SMALL('C-E'!$A$13:$A$1001,RC_EXAM!$A533),'C-E'!$A$13:$J$1001,G$39,FALSE),\"\")","v":""}]
[493,{"$f":"IFERROR(VLOOKUP(SMALL('C-E'!$A$13:$A$1001,RC_EXAM!$A534),'C-E'!$A$13:$J$1001,B$39,FALSE),\"\")","v":""},{"$f":"IFERROR(VLOOKUP(SMALL('C-E'!$A$13:$A$1001,RC_EXAM!$A534),'C-E'!$A$13:$J$1001,C$39,FALSE),\"\")","v":""},{"$f":"IFERROR(VLOOKUP(SMALL('C-E'!$A$13:$A$1001,RC_EXAM!$A534),'C-E'!$A$13:$J$1001,D$39,FALSE),\"\")","v":""},{"$f":"IFERROR(VLOOKUP(SMALL('C-E'!$A$13:$A$1001,RC_EXAM!$A534),'C-E'!$A$13:$J$1001,E$39,FALSE),\"\")","v":""},null,{"$f":"IFERROR(VLOOKUP(SMALL('C-E'!$A$13:$A$1001,RC_EXAM!$A534),'C-E'!$A$13:$J$1001,G$39,FALSE),\"\")","v":""}]
[494,{"$f":"IFERROR(VLOOKUP(SMALL('C-E'!$A$13:$A$1001,RC_EXAM!$A535),'C-E'!$A$13:$J$1001,B$39,FALSE),\"\")","v":""},{"$f":"IFERROR(VLOOKUP(SMALL('C-E'!$A$13:$A$1001,RC_EXAM!$A535),'C-E'!$A$13:$J$1001,C$39,FALSE),\"\")","v":""},{"$f":"IFERROR(VLOOKUP(SMALL('C-E'!$A$13:$A$1001,RC_EXAM!$A535),'C-E'!$A$13:$J$1001,D$39,FALSE),\"\")","v":""},{"$f":"IFERROR(VLOOKUP(SMALL('C-E'!$A$13:$A$1001,RC_EXAM!$A535),'C-E'!$A$13:$J$1001,E$39,FALSE),\"\")","v":""},null,{"$f":"IFERROR(VLOOKUP(SMALL('C-E'!$A$13:$A$1001,RC_EXAM!$A535),'C-E'!$A$13:$J$1001,G$39,FALSE),\"\")","v":""}]
[495,{"$f":"IFERROR(VLOOKUP(SMALL('C-E'!$A$13:$A$1001,RC_EXAM!$A536),'C-E'!$A$13:$J$1001,B$39,FALSE),\"\")","v":""},{"$f":"IFERROR(VLOOKUP(SMALL('C-E'!$A$13:$A$1001,RC_EXAM!$A536),'C-E'!$A$13:$J$1001,C$39,FALSE),\"\")","v":""},{"$f":"IFERROR(VLOOKUP(SMALL('C-E'!$A$13:$A$1001,RC_EXAM!$A536),'C-E'!$A$13:$J$1001,D$39,FALSE),\"\")","v":""},{"$f":"IFERROR(VLOOKUP(SMALL('C-E'!$A$13:$A$1001,RC_EXAM!$A536),'C-E'!$A$13:$J$1001,E$39,FALSE),\"\")","v":""},null,{"$f":"IFERROR(VLOOKUP(SMALL('C-E'!$A$13:$A$1001,RC_EXAM!$A536),'C-E'!$A$13:$J$1001,G$39,FALSE),\"\")","v":""}]
[496,{"$f":"IFERROR(VLOOKUP(SMALL('C-E'!$A$13:$A$1001,RC_EXAM!$A537),'C-E'!$A$13:$J$1001,B$39,FALSE),\"\")","v":""},{"$f":"IFERROR(VLOOKUP(SMALL('C-E'!$A$13:$A$1001,RC_EXAM!$A537),'C-E'!$A$13:$J$1001,C$39,FALSE),\"\")","v":""},{"$f":"IFERROR(VLOOKUP(SMALL('C-E'!$A$13:$A$1001,RC_EXAM!$A537),'C-E'!$A$13:$J$1001,D$39,FALSE),\"\")","v":""},{"$f":"IFERROR(VLOOKUP(SMALL('C-E'!$A$13:$A$1001,RC_EXAM!$A537),'C-E'!$A$13:$J$1001,E$39,FALSE),\"\")","v":""},null,{"$f":"IFERROR(VLOOKUP(SMALL('C-E'!$A$13:$A$1001,RC_EXAM!$A537),'C-E'!$A$13:$J$1001,G$39,FALSE),\"\")","v":""}]
[497,{"$f":"IFERROR(VLOOKUP(SMALL('C-E'!$A$13:$A$1001,RC_EXAM!$A538),'C-E'!$A$13:$J$1001,B$39,FALSE),\"\")","v":""},{"$f":"IFERROR(VLOOKUP(SMALL('C-E'!$A$13:$A$1001,RC_EXAM!$A538),'C-E'!$A$13:$J$1001,C$39,FALSE),\"\")","v":""},{"$f":"IFERROR(VLOOKUP(SMALL('C-E'!$A$13:$A$1001,RC_EXAM!$A538),'C-E'!$A$13:$J$1001,D$39,FALSE),\"\")","v":""},{"$f":"IFERROR(VLOOKUP(SMALL('C-E'!$A$13:$A$1001,RC_EXAM!$A538),'C-E'!$A$13:$J$1001,E$39,FALSE),\"\")","v":""},null,{"$f":"IFERROR(VLOOKUP(SMALL('C-E'!$A$13:$A$1001,RC_EXAM!$A538),'C-E'!$A$13:$J$1001,G$39,FALSE),\"\")","v":""}]
[498,{"$f":"IFERROR(VLOOKUP(SMALL('C-E'!$A$13:$A$1001,RC_EXAM!$A539),'C-E'!$A$13:$J$1001,B$39,FALSE),\"\")","v":""},{"$f":"IFERROR(VLOOKUP(SMALL('C-E'!$A$13:$A$1001,RC_EXAM!$A539),'C-E'!$A$13:$J$1001,C$39,FALSE),\"\")","v":""},{"$f":"IFERROR(VLOOKUP(SMALL('C-E'!$A$13:$A$1001,RC_EXAM!$A539),'C-E'!$A$13:$J$1001,D$39,FALSE),\"\")","v":""},{"$f":"IFERROR(VLOOKUP(SMALL('C-E'!$A$13:$A$1001,RC_EXAM!$A539),'C-E'!$A$13:$J$1001,E$39,FALSE),\"\")","v":""},null,{"$f":"IFERROR(VLOOKUP(SMALL('C-E'!$A$13:$A$1001,RC_EXAM!$A539),'C-E'!$A$13:$J$1001,G$39,FALSE),\"\")","v":""}]
[499,{"$f":"IFERROR(VLOOKUP(SMALL('C-E'!$A$13:$A$1001,RC_EXAM!$A540),'C-E'!$A$13:$J$1001,B$39,FALSE),\"\")","v":""},{"$f":"IFERROR(VLOOKUP(SMALL('C-E'!$A$13:$A$1001,RC_EXAM!$A540),'C-E'!$A$13:$J$1001,C$39,FALSE),\"\")","v":""},{"$f":"IFERROR(VLOOKUP(SMALL('C-E'!$A$13:$A$1001,RC_EXAM!$A540),'C-E'!$A$13:$J$1001,D$39,FALSE),\"\")","v":""},{"$f":"IFERROR(VLOOKUP(SMALL('C-E'!$A$13:$A$1001,RC_EXAM!$A540),'C-E'!$A$13:$J$1001,E$39,FALSE),\"\")","v":""},null,{"$f":"IFERROR(VLOOKUP(SMALL('C-E'!$A$13:$A$1001,RC_EXAM!$A540),'C-E'!$A$13:$J$1001,G$39,FALSE),\"\")","v":""}]
[500,{"$f":"IFERROR(VLOOKUP(SMALL('C-E'!$A$13:$A$1001,RC_EXAM!$A541),'C-E'!$A$13:$J$1001,B$39,FALSE),\"\")","v":""},{"$f":"IFERROR(VLOOKUP(SMALL('C-E'!$A$13:$A$1001,RC_EXAM!$A541),'C-E'!$A$13:$J$1001,C$39,FALSE),\"\")","v":""},{"$f":"IFERROR(VLOOKUP(SMALL('C-E'!$A$13:$A$1001,RC_EXAM!$A541),'C-E'!$A$13:$J$1001,D$39,FALSE),\"\")","v":""},{"$f":"IFERROR(VLOOKUP(SMALL('C-E'!$A$13:$A$1001,RC_EXAM!$A541),'C-E'!$A$13:$J$1001,E$39,FALSE),\"\")","v":""},null,{"$f":"IFERROR(VLOOKUP(SMALL('C-E'!$A$13:$A$1001,RC_EXAM!$A541),'C-E'!$A$13:$J$1001,G$39,FALSE),\"\")","v":""}]
["a","a","a","a","a","a","a","a"]

{"sheet":"GRAF_ACID","index":9,"n_rows":22,"n_cols":12,"rows_kept":22,"cut":false,"hidden":false,"merged":[]}
[]
[]
[]
[]
[]
[]
[]
[]
[]
[]
[]
[null,"TOP 5 ÁREAS MAIS PERIGOSAS",null,null,null,null,null,null,null,null,null,"TOP 5 ÁREAS COM MAIS ACIDENTES"]
[]
[]
[]
[]
[]
[]
[]
[]
[]
[null,"ANÁLISE MENSAL DOS ACIDENTES"]

{"sheet":"GRAF_EXAM","index":10,"n_rows":22,"n_cols":12,"rows_kept":22,"cut":false,"hidden":false,"merged":[]}
[]
[]
[]
[]
[]
[]
[]
[]
[]
[]
[]
[null,"TOP 5 EXAMES MAIS REALIZADOS",null,null,null,null,null,null,null,null,null,"TOP 5 ÁREAS COM MAIS EXAMES REALIZADOS"]
[]
[]
[]
[]
[]
[]
[]
[]
[]
[null,"ANÁLISE MENSAL DA REALIZAÇÃO DE EXAMES"]

{"sheet":"Instruções","index":11,"n_rows":0,"n_cols":0,"rows_kept":0,"cut":false,"hidden":false,"merged":[]}